{"text_format":"1","workbook":"xlsx","n_sheets":14,"sheets":["Welcome","Data Input","P1 Hidden Data Tables","P2 Hidden Data Tables","Pupil Summary","Pupil Report","Cohort Summary","Strand Summary","P1 Questions by Strand","P2 Questions by Strand","P1 Questions by Correct","P2 Questions by Correct","P1 Questions by Sub Type","P2 Questions by Sub Type"],"not_rendered":{"charts":10,"images":1,"macros":1,"external_links":0,"defined_names":14,"comments":1,"pivot_tables":0},"unopened":[],"bounds":{"document_bytes":16777216,"sheet_cells":100000,"rows_first":2000,"rows_last":500,"rows_between":2000,"halvings":0,"cell_chars":16384,"cell_head_chars":4096},"cells_cut":0,"cells_raw":0,"read":"whole","date_system":"1900"}

{"sheet":"Welcome","index":0,"n_rows":23,"n_cols":11,"rows_kept":23,"cut":false,"hidden":false,"merged":[[1,3,1,12]]}
[]
[null,null,null,"KS2 Level 3 to 5 Grammar, Punctuation and Spelling Papers 1&2 (2014) Analysis"]
[]
[]
[]
[]
[]
[]
[]
[]
[]
[]
[]
[]
[]
[]
[]
[]
[]
[]
[]
[]
[null,null,null,null,null,null,null,null,null,null,"© 2014 Primary Tools.co.uk"]

{"sheet":"Data Input","index":1,"n_rows":8,"n_cols":73,"rows_kept":8,"cut":false,"hidden":false,"merged":[[0,1,4,1],[0,52,4,52]]}
["Question","Short Answer",1,2,3,4,5,6,7,8,9,10,11,12,13,14,15,16,17,18,19,20,21,22,23,24,25,26,27,28,29,30,31,32,33,34,35,36,37,38,39,40,41,42,43,44,45,46,47,48,49,50,"Spelling",1,2,3,4,5,6,7,8,9,10,11,12,13,14,15,16,17,18,19,20]
["Group Correct",null,{"$f":"COUNTIF(C10:C278,1)","v":0},{"$f":"COUNTIF(D10:D278,1)","v":0},0,0,0,0,0,0,0,0,0,0,0,0,0,0,0,0,0,0,0,0,0,0,0,0,0,0,{"$f":"COUNTIF(AE10:AE278,1)","v":0},0,0,0,0,0,0,0,0,0,{"$f":"COUNTIF(AO10:AO278,1)","v":0},0,0,0,0,0,0,0,0,0,0,0,null,{"$f":"COUNTIF(BB10:BB278,1)","v":0},0,0,0,0,0,0,0,0,0,0,0,0,0,0,0,0,0,0,0]
["Group Incorrect",null,{"$f":"COUNTIF(C10:C278,0)","v":0},{"$f":"COUNTIF(D10:D278,0)","v":0},0,0,0,0,0,0,0,0,0,0,0,0,0,0,0,0,0,0,0,0,0,0,0,0,0,0,{"$f":"COUNTIF(AE10:AE278,0)","v":0},0,0,0,0,0,0,0,0,0,{"$f":"COUNTIF(AO10:AO278,0)","v":0},0,0,0,0,0,0,0,0,0,0,0,null,{"$f":"COUNTIF(BB10:BB278,0)","v":0},0,0,0,0,0,0,0,0,0,0,0,0,0,0,0,0,0,0,0]
["Group Unanswered",null,{"$f":"COUNTA($A$10:$A$278)-(SUM(C2:C3))","v":0},0,0,0,0,0,0,0,0,{"$f":"COUNTA($A$10:$A$278)-(SUM(L2:L3))","v":0},{"$f":"COUNTA($A$10:$A$278)-(SUM(M2:M3))","v":0},0,0,0,0,0,0,0,0,0,0,0,0,0,0,0,0,0,0,0,0,0,0,0,0,0,0,0,{"$f":"COUNTA($A$10:$A$278)-(SUM(AO2:AO3))","v":0},0,0,0,0,0,0,0,0,0,0,0,null,{"$f":"COUNTA($A$10:$A$278)-(SUM(BB2:BB3))","v":0},0,0,0,0,0,0,0,0,0,0,0,0,0,0,0,0,0,0,0]
["Incorrect or unanswered",null,{"$f":"SUM(C3,C4)","v":0},{"$f":"SUM(D3,D4)","v":0},0,0,0,0,0,0,0,0,0,0,0,0,0,0,0,0,0,0,0,0,0,0,0,0,0,0,0,0,0,0,0,0,0,0,0,0,{"$f":"SUM(AO3,AO4)","v":0},0,0,0,0,0,0,0,0,0,0,0,null,{"$f":"SUM(BB3,BB4)","v":0},0,0,0,0,0,0,0,0,0,0,0,0,0,0,0,0,0,0,0]
["Enter 1 for correct answer, 0 for incorrect or unanswered question\nCS: Comples Sentences\nSE: Standard English\nP: Punctuation\nFS: Features of Sentences\nGT: Grammar Terms & Word\nClasses\nV: Vocabulary\nF/I: Formal / Informal\nSp: Spelling",null,"Word meaning","Adverbs","Adverbs","Connectives","Connectives","Subordinating connectives","Commands","Synonyms","Question marks","Ellipses","Question marks","Vocabulary in context","Inverted commas","Tense agreement","Commas in lists","Verbs/nouns","Questions","Tense agreement","Capital letters and full stops","Adjectives","Adjectives","Full stops","Exclamation marks","Full stops and capital letters","Subordinating connectives","Full stops","Connectives","Subject-verb agreement","Commas in lists","Articles","Brackets","Pronouns","Contractions","Nouns","Adverbs/verb/noun/article","Commas with phrases/clauses","Verb tense","Contractions","Clauses","Phrases/clauses","Verb tense","Nouns","Antonyms","Singular/plural","Commas in lists","Suffixes","Apostrophes","Tense agreement","Use of 'I' and 'me'","Nouns",null,"welcome","untidy","message","highest","rubbed","field","engine","comfort","guitar","copied","suggested","crystal","whistling","instructor","expression","mammals","alterations","anxious","gradually","journalist"]
[null,"code","ga7.1","ga1.6","ga1.6","ga1.4","ga1.4","ga3.3","sg2.3","ga7.4","ga6.3","ga6.10","p6.3","ga7.2","p6.7","sg4.1","ga6.5","sg1.2","ga2.2","ga4.1","ga6.1","ga1.3","ga1.3","p6.2","p6.4","ga6.2","sg3.3","ga6.2","sg1.4","sg4.2","ga6.5","ga1.8","ga6.9","ga1.5","ga5.4","sg1.1","sg1.6","ga6.6","sg1.2","sg5.4","sg3.1","ga3.2","sg1.2","sg1.1","ga7.5","ga7.9","ga6.5","ga7.8","ga6.8","ga4.1","ga4.4","sg1.1","code","-","-","-","-","-","-","-","-","-","-","-","-","-","-","-","-","-","-","-","-"]
["Name:         Prime Strand:","Area","V","GT","GT","GT","GT","CS","FS","V","P","P","P","V","P","SE","P","GT","FS","SE","P","GT","GT","P","P","P","CS","P","GT","SE","P","GT","P","GT","F/I","GT","GT","P","GT","F/I","CS","CS","GT","GT","V","V","P","V","P","SE","SE","GT","Prime","Sp","Sp","Sp","Sp","Sp","Sp","Sp","Sp","Sp","Sp","Sp","Sp","Sp","Sp","Sp","Sp","Sp","Sp","Sp","Sp"]

{"sheet":"P1 Hidden Data Tables","index":2,"n_rows":172,"n_cols":22,"rows_kept":172,"cut":false,"hidden":true,"merged":[]}
[null,"Sorted by Strand"]
[null,"Strand","Question Number","Sub Category","Short Q","Correct","Incorrect or Unanswered","Incorrect","Unanswered"]
[null,{"$f":"'Data Input'!$H$8","v":"CS"},{"$f":"'Data Input'!$H$1","v":6},{"$f":"'Data Input'!$H$7","v":"ga3.3"},{"$f":"'Data Input'!$H$6","v":"Subordinating connectives"},{"$f":"'Data Input'!$H$2","v":0},{"$f":"'Data Input'!$H$5","v":0},{"$f":"'Data Input'!$H$3","v":0},{"$f":"'Data Input'!$H$4","v":0},null,null,null,"Codes"]
[null,{"$f":"'Data Input'!$AA$8","v":"CS"},{"$f":"'Data Input'!$AA$1","v":25},{"$f":"'Data Input'!$AA$7","v":"sg3.3"},{"$f":"'Data Input'!$AA$6","v":"Subordinating connectives"},{"$f":"'Data Input'!$AA$2","v":0},{"$f":"'Data Input'!$AA$5","v":0},{"$f":"'Data Input'!$AA$3","v":0},{"$f":"'Data Input'!$AA$4","v":0}]
[null,{"$f":"'Data Input'!$AO$8","v":"CS"},{"$f":"'Data Input'!$AO$1","v":39},{"$f":"'Data Input'!$AO$7","v":"sg3.1"},{"$f":"'Data Input'!$AO$6","v":"Clauses"},{"$f":"'Data Input'!$AO$2","v":0},{"$f":"'Data Input'!$AO$5","v":0},{"$f":"'Data Input'!$AO$3","v":0},{"$f":"'Data Input'!$AO$4","v":0}]
[null,{"$f":"'Data Input'!$AP$8","v":"CS"},{"$f":"'Data Input'!$AP$1","v":40},{"$f":"'Data Input'!$AP$7","v":"ga3.2"},{"$f":"'Data Input'!$AP$6","v":"Phrases/clauses"},{"$f":"'Data Input'!$AP$2","v":0},{"$f":"'Data Input'!$AP$5","v":0},{"$f":"'Data Input'!$AP$3","v":0},{"$f":"'Data Input'!$AP$4","v":0}]
[]
[null,{"$f":"'Data Input'!$AI$8","v":"F/I"},{"$f":"'Data Input'!$AI$1","v":33},{"$f":"'Data Input'!$AI$7","v":"ga5.4"},{"$f":"'Data Input'!$AI$6","v":"Contractions"},{"$f":"'Data Input'!$AI$2","v":0},{"$f":"'Data Input'!$AI$5","v":0},{"$f":"'Data Input'!$AI$3","v":0},{"$f":"'Data Input'!$AI$4","v":0}]
[null,{"$f":"'Data Input'!$AN$8","v":"F/I"},{"$f":"'Data Input'!$AN$1","v":38},{"$f":"'Data Input'!$AN$7","v":"sg5.4"},{"$f":"'Data Input'!$AN$6","v":"Contractions"},{"$f":"'Data Input'!$AN$2","v":0},{"$f":"'Data Input'!$AN$5","v":0},{"$f":"'Data Input'!$AN$3","v":0},{"$f":"'Data Input'!$AN$4","v":0}]
[]
[null,{"$f":"'Data Input'!$I$8","v":"FS"},{"$f":"'Data Input'!$I$1","v":7},{"$f":"'Data Input'!$I$7","v":"sg2.3"},{"$f":"'Data Input'!$I$6","v":"Commands"},{"$f":"'Data Input'!$I$2","v":0},{"$f":"'Data Input'!$I$5","v":0},{"$f":"'Data Input'!$I$3","v":0},{"$f":"'Data Input'!$I$4","v":0}]
[null,{"$f":"'Data Input'!$S$8","v":"FS"},{"$f":"'Data Input'!$S$1","v":17},{"$f":"'Data Input'!$S$7","v":"ga2.2"},{"$f":"'Data Input'!$S$6","v":"Questions"},{"$f":"'Data Input'!$S$2","v":0},{"$f":"'Data Input'!$S$5","v":0},{"$f":"'Data Input'!$S$3","v":0},{"$f":"'Data Input'!$S$4","v":0}]
[]
[null,{"$f":"'Data Input'!$D$8","v":"GT"},{"$f":"'Data Input'!$D$1","v":2},{"$f":"'Data Input'!$D$7","v":"ga1.6"},{"$f":"'Data Input'!$D$6","v":"Adverbs"},{"$f":"'Data Input'!$D$2","v":0},{"$f":"'Data Input'!$D$5","v":0},{"$f":"'Data Input'!$D$3","v":0},{"$f":"'Data Input'!$D$4","v":0}]
[null,{"$f":"'Data Input'!$E$8","v":"GT"},{"$f":"'Data Input'!$E$1","v":3},{"$f":"'Data Input'!$E$7","v":"ga1.6"},{"$f":"'Data Input'!$E$6","v":"Adverbs"},{"$f":"'Data Input'!$E$2","v":0},{"$f":"'Data Input'!$E$5","v":0},{"$f":"'Data Input'!$E$3","v":0},{"$f":"'Data Input'!$E$4","v":0}]
[null,{"$f":"'Data Input'!$F$8","v":"GT"},{"$f":"'Data Input'!$F$1","v":4},{"$f":"'Data Input'!$F$7","v":"ga1.4"},{"$f":"'Data Input'!$F$6","v":"Connectives"},{"$f":"'Data Input'!$F$2","v":0},{"$f":"'Data Input'!$F$5","v":0},{"$f":"'Data Input'!$F$3","v":0},{"$f":"'Data Input'!$F$4","v":0}]
[null,{"$f":"'Data Input'!$G$8","v":"GT"},{"$f":"'Data Input'!$G$1","v":5},{"$f":"'Data Input'!$G$7","v":"ga1.4"},{"$f":"'Data Input'!$G$6","v":"Connectives"},{"$f":"'Data Input'!$G$2","v":0},{"$f":"'Data Input'!$G$5","v":0},{"$f":"'Data Input'!$G$3","v":0},{"$f":"'Data Input'!$G$4","v":0}]
[null,{"$f":"'Data Input'!$R$8","v":"GT"},{"$f":"'Data Input'!$R$1","v":16},{"$f":"'Data Input'!$R$7","v":"sg1.2"},{"$f":"'Data Input'!$R$6","v":"Verbs/nouns"},{"$f":"'Data Input'!$R$2","v":0},{"$f":"'Data Input'!$R$5","v":0},{"$f":"'Data Input'!$R$3","v":0},{"$f":"'Data Input'!$R$4","v":0}]
[null,{"$f":"'Data Input'!$V$8","v":"GT"},{"$f":"'Data Input'!$V$1","v":20},{"$f":"'Data Input'!$V$7","v":"ga1.3"},{"$f":"'Data Input'!$V$6","v":"Adjectives"},{"$f":"'Data Input'!$V$2","v":0},{"$f":"'Data Input'!$V$5","v":0},{"$f":"'Data Input'!$V$3","v":0},{"$f":"'Data Input'!$V$4","v":0}]
[null,{"$f":"'Data Input'!$W$8","v":"GT"},{"$f":"'Data Input'!$W$1","v":21},{"$f":"'Data Input'!$W$7","v":"ga1.3"},{"$f":"'Data Input'!$W$6","v":"Adjectives"},{"$f":"'Data Input'!$W$2","v":0},{"$f":"'Data Input'!$W$5","v":0},{"$f":"'Data Input'!$W$3","v":0},{"$f":"'Data Input'!$W$4","v":0}]
[null,{"$f":"'Data Input'!$AC$8","v":"GT"},{"$f":"'Data Input'!$AC$1","v":27},{"$f":"'Data Input'!$AC$7","v":"sg1.4"},{"$f":"'Data Input'!$AC$6","v":"Connectives"},{"$f":"'Data Input'!$AC$2","v":0},{"$f":"'Data Input'!$AC$5","v":0},{"$f":"'Data Input'!$AC$3","v":0},{"$f":"'Data Input'!$AC$4","v":0}]
[null,{"$f":"'Data Input'!$AF$8","v":"GT"},{"$f":"'Data Input'!$AF$1","v":30},{"$f":"'Data Input'!$AF$7","v":"ga1.8"},{"$f":"'Data Input'!$AF$6","v":"Articles"},{"$f":"'Data Input'!$AF$2","v":0},{"$f":"'Data Input'!$AF$5","v":0},{"$f":"'Data Input'!$AF$3","v":0},{"$f":"'Data Input'!$AF$4","v":0}]
[null,{"$f":"'Data Input'!$AH$8","v":"GT"},{"$f":"'Data Input'!$AH$1","v":32},{"$f":"'Data Input'!$AH$7","v":"ga1.5"},{"$f":"'Data Input'!$AH$6","v":"Pronouns"},{"$f":"'Data Input'!$AH$2","v":0},{"$f":"'Data Input'!$AH$5","v":0},{"$f":"'Data Input'!$AH$3","v":0},{"$f":"'Data Input'!$AH$4","v":0}]
[null,{"$f":"'Data Input'!$AJ$8","v":"GT"},{"$f":"'Data Input'!$AJ$1","v":34},{"$f":"'Data Input'!$AJ$7","v":"sg1.1"},{"$f":"'Data Input'!$AJ$6","v":"Nouns"},{"$f":"'Data Input'!$AJ$2","v":0},{"$f":"'Data Input'!$AJ$5","v":0},{"$f":"'Data Input'!$AJ$3","v":0},{"$f":"'Data Input'!$AJ$4","v":0}]
[null,{"$f":"'Data Input'!$AK$8","v":"GT"},{"$f":"'Data Input'!$AK$1","v":35},{"$f":"'Data Input'!$AK$7","v":"sg1.6"},{"$f":"'Data Input'!$AK$6","v":"Adverbs/verb/noun/article"},{"$f":"'Data Input'!$AK$2","v":0},{"$f":"'Data Input'!$AK$5","v":0},{"$f":"'Data Input'!$AK$3","v":0},{"$f":"'Data Input'!$AK$4","v":0}]
[null,{"$f":"'Data Input'!$AM$8","v":"GT"},{"$f":"'Data Input'!$AM$1","v":37},{"$f":"'Data Input'!$AM$7","v":"sg1.2"},{"$f":"'Data Input'!$AM$6","v":"Verb tense"},{"$f":"'Data Input'!$AM$2","v":0},{"$f":"'Data Input'!$AM$5","v":0},{"$f":"'Data Input'!$AM$3","v":0},{"$f":"'Data Input'!$AM$4","v":0}]
[null,{"$f":"'Data Input'!$AQ$8","v":"GT"},{"$f":"'Data Input'!$AQ$1","v":41},{"$f":"'Data Input'!$AQ$7","v":"sg1.2"},{"$f":"'Data Input'!$AQ$6","v":"Verb tense"},{"$f":"'Data Input'!$AQ$2","v":0},{"$f":"'Data Input'!$AQ$5","v":0},{"$f":"'Data Input'!$AQ$3","v":0},{"$f":"'Data Input'!$AQ$4","v":0}]
[null,{"$f":"'Data Input'!$AR$8","v":"GT"},{"$f":"'Data Input'!$AR$1","v":42},{"$f":"'Data Input'!$AR$7","v":"sg1.1"},{"$f":"'Data Input'!$AR$6","v":"Nouns"},{"$f":"'Data Input'!$AR$2","v":0},{"$f":"'Data Input'!$AR$5","v":0},{"$f":"'Data Input'!$AR$3","v":0},{"$f":"'Data Input'!$AR$4","v":0}]
[null,{"$f":"'Data Input'!$AZ$8","v":"GT"},{"$f":"'Data Input'!$AZ$1","v":50},{"$f":"'Data Input'!$AZ$7","v":"sg1.1"},{"$f":"'Data Input'!$AZ$6","v":"Nouns"},{"$f":"'Data Input'!$AZ$2","v":0},{"$f":"'Data Input'!$AZ$5","v":0},{"$f":"'Data Input'!$AZ$3","v":0},{"$f":"'Data Input'!$AZ$4","v":0}]
[]
[null,{"$f":"'Data Input'!$K$8","v":"P"},{"$f":"'Data Input'!$K$1","v":9},{"$f":"'Data Input'!$K$7","v":"ga6.3"},{"$f":"'Data Input'!$K$6","v":"Question marks"},{"$f":"'Data Input'!$K$2","v":0},{"$f":"'Data Input'!$K$5","v":0},{"$f":"'Data Input'!$K$3","v":0},{"$f":"'Data Input'!$K$4","v":0}]
[null,{"$f":"'Data Input'!$L$8","v":"P"},{"$f":"'Data Input'!$L$1","v":10},{"$f":"'Data Input'!$L$7","v":"ga6.10"},{"$f":"'Data Input'!$L$6","v":"Ellipses"},{"$f":"'Data Input'!$L$2","v":0},{"$f":"'Data Input'!$L$5","v":0},{"$f":"'Data Input'!$L$3","v":0},{"$f":"'Data Input'!$L$4","v":0}]
[null,{"$f":"'Data Input'!$M$8","v":"P"},{"$f":"'Data Input'!$M$1","v":11},{"$f":"'Data Input'!$M$7","v":"p6.3"},{"$f":"'Data Input'!$M$6","v":"Question marks"},{"$f":"'Data Input'!$M$2","v":0},{"$f":"'Data Input'!$M$5","v":0},{"$f":"'Data Input'!$M$3","v":0},{"$f":"'Data Input'!$M$4","v":0}]
[null,{"$f":"'Data Input'!$O$8","v":"P"},{"$f":"'Data Input'!$O$1","v":13},{"$f":"'Data Input'!$O$7","v":"p6.7"},{"$f":"'Data Input'!$O$6","v":"Inverted commas"},{"$f":"'Data Input'!$O$2","v":0},{"$f":"'Data Input'!$O$5","v":0},{"$f":"'Data Input'!$O$3","v":0},{"$f":"'Data Input'!$O$4","v":0}]
[null,{"$f":"'Data Input'!$Q$8","v":"P"},{"$f":"'Data Input'!$Q$1","v":15},{"$f":"'Data Input'!$Q$7","v":"ga6.5"},{"$f":"'Data Input'!$Q$6","v":"Commas in lists"},{"$f":"'Data Input'!$Q$2","v":0},{"$f":"'Data Input'!$Q$5","v":0},{"$f":"'Data Input'!$Q$3","v":0},{"$f":"'Data Input'!$Q$4","v":0}]
[null,{"$f":"'Data Input'!$U$8","v":"P"},{"$f":"'Data Input'!$U$1","v":19},{"$f":"'Data Input'!$U$7","v":"ga6.1"},{"$f":"'Data Input'!$U$6","v":"Capital letters and full stops"},{"$f":"'Data Input'!$U$2","v":0},{"$f":"'Data Input'!$U$5","v":0},{"$f":"'Data Input'!$U$3","v":0},{"$f":"'Data Input'!$U$4","v":0}]
[null,{"$f":"'Data Input'!$X$8","v":"P"},{"$f":"'Data Input'!$X$1","v":22},{"$f":"'Data Input'!$X$7","v":"p6.2"},{"$f":"'Data Input'!$X$6","v":"Full stops"},{"$f":"'Data Input'!$X$2","v":0},{"$f":"'Data Input'!$X$5","v":0},{"$f":"'Data Input'!$X$3","v":0},{"$f":"'Data Input'!$X$4","v":0}]
[null,{"$f":"'Data Input'!$Y$8","v":"P"},{"$f":"'Data Input'!$Y$1","v":23},{"$f":"'Data Input'!$Y$7","v":"p6.4"},{"$f":"'Data Input'!$Y$6","v":"Exclamation marks"},{"$f":"'Data Input'!$Y$2","v":0},{"$f":"'Data Input'!$Y$5","v":0},{"$f":"'Data Input'!$Y$3","v":0},{"$f":"'Data Input'!$Y$4","v":0}]
[null,{"$f":"'Data Input'!$Z$8","v":"P"},{"$f":"'Data Input'!$Z$1","v":24},{"$f":"'Data Input'!$Z$7","v":"ga6.2"},{"$f":"'Data Input'!$Z$6","v":"Full stops and capital letters"},{"$f":"'Data Input'!$Z$2","v":0},{"$f":"'Data Input'!$Z$5","v":0},{"$f":"'Data Input'!$Z$3","v":0},{"$f":"'Data Input'!$Z$4","v":0}]
[null,{"$f":"'Data Input'!$AB$8","v":"P"},{"$f":"'Data Input'!$AB$1","v":26},{"$f":"'Data Input'!$AB$7","v":"ga6.2"},{"$f":"'Data Input'!$AB$6","v":"Full stops"},{"$f":"'Data Input'!$AB$2","v":0},{"$f":"'Data Input'!$AB$5","v":0},{"$f":"'Data Input'!$AB$3","v":0},{"$f":"'Data Input'!$AB$4","v":0}]
[null,{"$f":"'Data Input'!$AE$8","v":"P"},{"$f":"'Data Input'!$AE$1","v":29},{"$f":"'Data Input'!$AE$7","v":"ga6.5"},{"$f":"'Data Input'!$AE$6","v":"Commas in lists"},{"$f":"'Data Input'!$AE$2","v":0},{"$f":"'Data Input'!$AE$5","v":0},{"$f":"'Data Input'!$AE$3","v":0},{"$f":"'Data Input'!$AE$4","v":0}]
[null,{"$f":"'Data Input'!$AG$8","v":"P"},{"$f":"'Data Input'!$AG$1","v":31},{"$f":"'Data Input'!$AG$7","v":"ga6.9"},{"$f":"'Data Input'!$AG$6","v":"Brackets"},{"$f":"'Data Input'!$AG$2","v":0},{"$f":"'Data Input'!$AG$5","v":0},{"$f":"'Data Input'!$AG$3","v":0},{"$f":"'Data Input'!$AG$4","v":0}]
[null,{"$f":"'Data Input'!$AL$8","v":"P"},{"$f":"'Data Input'!$AL$1","v":36},{"$f":"'Data Input'!$AL$7","v":"ga6.6"},{"$f":"'Data Input'!$AL$6","v":"Commas with phrases/clauses"},{"$f":"'Data Input'!$AL$2","v":0},{"$f":"'Data Input'!$AL$5","v":0},{"$f":"'Data Input'!$AL$3","v":0},{"$f":"'Data Input'!$AL$4","v":0}]
[null,{"$f":"'Data Input'!$AU$8","v":"P"},{"$f":"'Data Input'!$AU$1","v":45},{"$f":"'Data Input'!$AU$7","v":"ga6.5"},{"$f":"'Data Input'!$AU$6","v":"Commas in lists"},{"$f":"'Data Input'!$AU$2","v":0},{"$f":"'Data Input'!$AU$5","v":0},{"$f":"'Data Input'!$AU$3","v":0},{"$f":"'Data Input'!$AU$4","v":0}]
[null,{"$f":"'Data Input'!$AW$8","v":"P"},{"$f":"'Data Input'!$AW$1","v":47},{"$f":"'Data Input'!$AW$7","v":"ga6.8"},{"$f":"'Data Input'!$AW$6","v":"Apostrophes"},{"$f":"'Data Input'!$AW$2","v":0},{"$f":"'Data Input'!$AW$5","v":0},{"$f":"'Data Input'!$AW$3","v":0},{"$f":"'Data Input'!$AW$4","v":0}]
[]
[null,{"$f":"'Data Input'!$P$8","v":"SE"},{"$f":"'Data Input'!$P$1","v":14},{"$f":"'Data Input'!$P$7","v":"sg4.1"},{"$f":"'Data Input'!$P$6","v":"Tense agreement"},{"$f":"'Data Input'!$P$2","v":0},{"$f":"'Data Input'!$P$5","v":0},{"$f":"'Data Input'!$P$3","v":0},{"$f":"'Data Input'!$P$4","v":0}]
[null,{"$f":"'Data Input'!$T$8","v":"SE"},{"$f":"'Data Input'!$T$1","v":18},{"$f":"'Data Input'!$T$7","v":"ga4.1"},{"$f":"'Data Input'!$T$6","v":"Tense agreement"},{"$f":"'Data Input'!$T$2","v":0},{"$f":"'Data Input'!$T$5","v":0},{"$f":"'Data Input'!$T$3","v":0},{"$f":"'Data Input'!$T$4","v":0}]
[null,{"$f":"'Data Input'!$AD$8","v":"SE"},{"$f":"'Data Input'!$AD$1","v":28},{"$f":"'Data Input'!$AD$7","v":"sg4.2"},{"$f":"'Data Input'!$AD$6","v":"Subject-verb agreement"},{"$f":"'Data Input'!$AD$2","v":0},{"$f":"'Data Input'!$AD$5","v":0},{"$f":"'Data Input'!$AD$3","v":0},{"$f":"'Data Input'!$AD$4","v":0}]
[null,{"$f":"'Data Input'!$AX$8","v":"SE"},{"$f":"'Data Input'!$AX$1","v":48},{"$f":"'Data Input'!$AX$7","v":"ga4.1"},{"$f":"'Data Input'!$AX$6","v":"Tense agreement"},{"$f":"'Data Input'!$AX$2","v":0},{"$f":"'Data Input'!$AX$5","v":0},{"$f":"'Data Input'!$AX$3","v":0},{"$f":"'Data Input'!$AX$4","v":0}]
[null,{"$f":"'Data Input'!$AY$8","v":"SE"},{"$f":"'Data Input'!$AY$1","v":49},{"$f":"'Data Input'!$AY$7","v":"ga4.4"},{"$f":"'Data Input'!$AY$6","v":"Use of 'I' and 'me'"},{"$f":"'Data Input'!$AY$2","v":0},{"$f":"'Data Input'!$AY$5","v":0},{"$f":"'Data Input'!$AY$3","v":0},{"$f":"'Data Input'!$AY$4","v":0}]
[]
[null,{"$f":"'Data Input'!$C$8","v":"V"},{"$f":"'Data Input'!$C$1","v":1},{"$f":"'Data Input'!$C$7","v":"ga7.1"},{"$f":"'Data Input'!$C$6","v":"Word meaning"},{"$f":"'Data Input'!$C$2","v":0},{"$f":"'Data Input'!$C$5","v":0},{"$f":"'Data Input'!$C$3","v":0},{"$f":"'Data Input'!$C$4","v":0}]
[null,{"$f":"'Data Input'!$J$8","v":"V"},{"$f":"'Data Input'!$J$1","v":8},{"$f":"'Data Input'!$J$7","v":"ga7.4"},{"$f":"'Data Input'!$J$6","v":"Synonyms"},{"$f":"'Data Input'!$J$2","v":0},{"$f":"'Data Input'!$J$5","v":0},{"$f":"'Data Input'!$J$3","v":0},{"$f":"'Data Input'!$J$4","v":0}]
[null,{"$f":"'Data Input'!$N$8","v":"V"},{"$f":"'Data Input'!$N$1","v":12},{"$f":"'Data Input'!$N$7","v":"ga7.2"},{"$f":"'Data Input'!$N$6","v":"Vocabulary in context"},{"$f":"'Data Input'!$N$2","v":0},{"$f":"'Data Input'!$N$5","v":0},{"$f":"'Data Input'!$N$3","v":0},{"$f":"'Data Input'!$N$4","v":0}]
[null,{"$f":"'Data Input'!$AS$8","v":"V"},{"$f":"'Data Input'!$AS$1","v":43},{"$f":"'Data Input'!$AS$7","v":"ga7.5"},{"$f":"'Data Input'!$AS$6","v":"Antonyms"},{"$f":"'Data Input'!$AS$2","v":0},{"$f":"'Data Input'!$AS$5","v":0},{"$f":"'Data Input'!$AS$3","v":0},{"$f":"'Data Input'!$AS$4","v":0}]
[null,{"$f":"'Data Input'!$AT$8","v":"V"},{"$f":"'Data Input'!$AT$1","v":44},{"$f":"'Data Input'!$AT$7","v":"ga7.9"},{"$f":"'Data Input'!$AT$6","v":"Singular/plural"},{"$f":"'Data Input'!$AT$2","v":0},{"$f":"'Data Input'!$AT$5","v":0},{"$f":"'Data Input'!$AT$3","v":0},{"$f":"'Data Input'!$AT$4","v":0}]
[null,{"$f":"'Data Input'!$AV$8","v":"V"},{"$f":"'Data Input'!$AV$1","v":46},{"$f":"'Data Input'!$AV$7","v":"ga7.8"},{"$f":"'Data Input'!$AV$6","v":"Suffixes"},{"$f":"'Data Input'!$AV$2","v":0},{"$f":"'Data Input'!$AV$5","v":0},{"$f":"'Data Input'!$AV$3","v":0},{"$f":"'Data Input'!$AV$4","v":0}]
[]
[]
[]
[]
[]
[]
[]
[null,"Sorted by Question Type"]
[null,"Strand","Question Number","Sub Category","Short Q","Correct","Incorrect or Unanswered","Incorrect","Unanswered"]
[null,{"$f":"'Data Input'!$C$8","v":"V"},{"$f":"'Data Input'!$C$1","v":1},{"$f":"'Data Input'!$C$7","v":"ga7.1"},{"$f":"'Data Input'!$C$6","v":"Word meaning"},{"$f":"'Data Input'!$C$2","v":0},{"$f":"'Data Input'!$C$5","v":0},{"$f":"'Data Input'!$C$3","v":0},{"$f":"'Data Input'!$C$4","v":0}]
[null,{"$f":"'Data Input'!$D$8","v":"GT"},{"$f":"'Data Input'!$D$1","v":2},{"$f":"'Data Input'!$D$7","v":"ga1.6"},{"$f":"'Data Input'!$D$6","v":"Adverbs"},{"$f":"'Data Input'!$D$2","v":0},{"$f":"'Data Input'!$D$5","v":0},{"$f":"'Data Input'!$D$3","v":0},{"$f":"'Data Input'!$D$4","v":0}]
[null,{"$f":"'Data Input'!$E$8","v":"GT"},{"$f":"'Data Input'!$E$1","v":3},{"$f":"'Data Input'!$E$7","v":"ga1.6"},{"$f":"'Data Input'!$E$6","v":"Adverbs"},{"$f":"'Data Input'!$E$2","v":0},{"$f":"'Data Input'!$E$5","v":0},{"$f":"'Data Input'!$E$3","v":0},{"$f":"'Data Input'!$E$4","v":0}]
[null,{"$f":"'Data Input'!$F$8","v":"GT"},{"$f":"'Data Input'!$F$1","v":4},{"$f":"'Data Input'!$F$7","v":"ga1.4"},{"$f":"'Data Input'!$F$6","v":"Connectives"},{"$f":"'Data Input'!$F$2","v":0},{"$f":"'Data Input'!$F$5","v":0},{"$f":"'Data Input'!$F$3","v":0},{"$f":"'Data Input'!$F$4","v":0}]
[null,{"$f":"'Data Input'!$G$8","v":"GT"},{"$f":"'Data Input'!$G$1","v":5},{"$f":"'Data Input'!$G$7","v":"ga1.4"},{"$f":"'Data Input'!$G$6","v":"Connectives"},{"$f":"'Data Input'!$G$2","v":0},{"$f":"'Data Input'!$G$5","v":0},{"$f":"'Data Input'!$G$3","v":0},{"$f":"'Data Input'!$G$4","v":0}]
[null,{"$f":"'Data Input'!$H$8","v":"CS"},{"$f":"'Data Input'!$H$1","v":6},{"$f":"'Data Input'!$H$7","v":"ga3.3"},{"$f":"'Data Input'!$H$6","v":"Subordinating connectives"},{"$f":"'Data Input'!$H$2","v":0},{"$f":"'Data Input'!$H$5","v":0},{"$f":"'Data Input'!$H$3","v":0},{"$f":"'Data Input'!$H$4","v":0}]
[null,{"$f":"'Data Input'!$I$8","v":"FS"},{"$f":"'Data Input'!$I$1","v":7},{"$f":"'Data Input'!$I$7","v":"sg2.3"},{"$f":"'Data Input'!$I$6","v":"Commands"},{"$f":"'Data Input'!$I$2","v":0},{"$f":"'Data Input'!$I$5","v":0},{"$f":"'Data Input'!$I$3","v":0},{"$f":"'Data Input'!$I$4","v":0}]
[null,{"$f":"'Data Input'!$J$8","v":"V"},{"$f":"'Data Input'!$J$1","v":8},{"$f":"'Data Input'!$J$7","v":"ga7.4"},{"$f":"'Data Input'!$J$6","v":"Synonyms"},{"$f":"'Data Input'!$J$2","v":0},{"$f":"'Data Input'!$J$5","v":0},{"$f":"'Data Input'!$J$3","v":0},{"$f":"'Data Input'!$J$4","v":0}]
[null,{"$f":"'Data Input'!$K$8","v":"P"},{"$f":"'Data Input'!$K$1","v":9},{"$f":"'Data Input'!$K$7","v":"ga6.3"},{"$f":"'Data Input'!$K$6","v":"Question marks"},{"$f":"'Data Input'!$K$2","v":0},{"$f":"'Data Input'!$K$5","v":0},{"$f":"'Data Input'!$K$3","v":0},{"$f":"'Data Input'!$K$4","v":0}]
[null,{"$f":"'Data Input'!$L$8","v":"P"},{"$f":"'Data Input'!$L$1","v":10},{"$f":"'Data Input'!$L$7","v":"ga6.10"},{"$f":"'Data Input'!$L$6","v":"Ellipses"},{"$f":"'Data Input'!$L$2","v":0},{"$f":"'Data Input'!$L$5","v":0},{"$f":"'Data Input'!$L$3","v":0},{"$f":"'Data Input'!$L$4","v":0}]
[null,{"$f":"'Data Input'!$M$8","v":"P"},{"$f":"'Data Input'!$M$1","v":11},{"$f":"'Data Input'!$M$7","v":"p6.3"},{"$f":"'Data Input'!$M$6","v":"Question marks"},{"$f":"'Data Input'!$M$2","v":0},{"$f":"'Data Input'!$M$5","v":0},{"$f":"'Data Input'!$M$3","v":0},{"$f":"'Data Input'!$M$4","v":0}]
[null,{"$f":"'Data Input'!$N$8","v":"V"},{"$f":"'Data Input'!$N$1","v":12},{"$f":"'Data Input'!$N$7","v":"ga7.2"},{"$f":"'Data Input'!$N$6","v":"Vocabulary in context"},{"$f":"'Data Input'!$N$2","v":0},{"$f":"'Data Input'!$N$5","v":0},{"$f":"'Data Input'!$N$3","v":0},{"$f":"'Data Input'!$N$4","v":0}]
[null,{"$f":"'Data Input'!$O$8","v":"P"},{"$f":"'Data Input'!$O$1","v":13},{"$f":"'Data Input'!$O$7","v":"p6.7"},{"$f":"'Data Input'!$O$6","v":"Inverted commas"},{"$f":"'Data Input'!$O$2","v":0},{"$f":"'Data Input'!$O$5","v":0},{"$f":"'Data Input'!$O$3","v":0},{"$f":"'Data Input'!$O$4","v":0}]
[null,{"$f":"'Data Input'!$P$8","v":"SE"},{"$f":"'Data Input'!$P$1","v":14},{"$f":"'Data Input'!$P$7","v":"sg4.1"},{"$f":"'Data Input'!$P$6","v":"Tense agreement"},{"$f":"'Data Input'!$P$2","v":0},{"$f":"'Data Input'!$P$5","v":0},{"$f":"'Data Input'!$P$3","v":0},{"$f":"'Data Input'!$P$4","v":0}]
[null,{"$f":"'Data Input'!$Q$8","v":"P"},{"$f":"'Data Input'!$Q$1","v":15},{"$f":"'Data Input'!$Q$7","v":"ga6.5"},{"$f":"'Data Input'!$Q$6","v":"Commas in lists"},{"$f":"'Data Input'!$Q$2","v":0},{"$f":"'Data Input'!$Q$5","v":0},{"$f":"'Data Input'!$Q$3","v":0},{"$f":"'Data Input'!$Q$4","v":0}]
[null,{"$f":"'Data Input'!$R$8","v":"GT"},{"$f":"'Data Input'!$R$1","v":16},{"$f":"'Data Input'!$R$7","v":"sg1.2"},{"$f":"'Data Input'!$R$6","v":"Verbs/nouns"},{"$f":"'Data Input'!$R$2","v":0},{"$f":"'Data Input'!$R$5","v":0},{"$f":"'Data Input'!$R$3","v":0},{"$f":"'Data Input'!$R$4","v":0}]
[null,{"$f":"'Data Input'!$S$8","v":"FS"},{"$f":"'Data Input'!$S$1","v":17},{"$f":"'Data Input'!$S$7","v":"ga2.2"},{"$f":"'Data Input'!$S$6","v":"Questions"},{"$f":"'Data Input'!$S$2","v":0},{"$f":"'Data Input'!$S$5","v":0},{"$f":"'Data Input'!$S$3","v":0},{"$f":"'Data Input'!$S$4","v":0}]
[null,{"$f":"'Data Input'!$T$8","v":"SE"},{"$f":"'Data Input'!$T$1","v":18},{"$f":"'Data Input'!$T$7","v":"ga4.1"},{"$f":"'Data Input'!$T$6","v":"Tense agreement"},{"$f":"'Data Input'!$T$2","v":0},{"$f":"'Data Input'!$T$5","v":0},{"$f":"'Data Input'!$T$3","v":0},{"$f":"'Data Input'!$T$4","v":0}]
[null,{"$f":"'Data Input'!$U$8","v":"P"},{"$f":"'Data Input'!$U$1","v":19},{"$f":"'Data Input'!$U$7","v":"ga6.1"},{"$f":"'Data Input'!$U$6","v":"Capital letters and full stops"},{"$f":"'Data Input'!$U$2","v":0},{"$f":"'Data Input'!$U$5","v":0},{"$f":"'Data Input'!$U$3","v":0},{"$f":"'Data Input'!$U$4","v":0}]
[null,{"$f":"'Data Input'!$V$8","v":"GT"},{"$f":"'Data Input'!$V$1","v":20},{"$f":"'Data Input'!$V$7","v":"ga1.3"},{"$f":"'Data Input'!$V$6","v":"Adjectives"},{"$f":"'Data Input'!$V$2","v":0},{"$f":"'Data Input'!$V$5","v":0},{"$f":"'Data Input'!$V$3","v":0},{"$f":"'Data Input'!$V$4","v":0}]
[null,{"$f":"'Data Input'!$W$8","v":"GT"},{"$f":"'Data Input'!$W$1","v":21},{"$f":"'Data Input'!$W$7","v":"ga1.3"},{"$f":"'Data Input'!$W$6","v":"Adjectives"},{"$f":"'Data Input'!$W$2","v":0},{"$f":"'Data Input'!$W$5","v":0},{"$f":"'Data Input'!$W$3","v":0},{"$f":"'Data Input'!$W$4","v":0}]
[null,{"$f":"'Data Input'!$X$8","v":"P"},{"$f":"'Data Input'!$X$1","v":22},{"$f":"'Data Input'!$X$7","v":"p6.2"},{"$f":"'Data Input'!$X$6","v":"Full stops"},{"$f":"'Data Input'!$X$2","v":0},{"$f":"'Data Input'!$X$5","v":0},{"$f":"'Data Input'!$X$3","v":0},{"$f":"'Data Input'!$X$4","v":0}]
[null,{"$f":"'Data Input'!$Y$8","v":"P"},{"$f":"'Data Input'!$Y$1","v":23},{"$f":"'Data Input'!$Y$7","v":"p6.4"},{"$f":"'Data Input'!$Y$6","v":"Exclamation marks"},{"$f":"'Data Input'!$Y$2","v":0},{"$f":"'Data Input'!$Y$5","v":0},{"$f":"'Data Input'!$Y$3","v":0},{"$f":"'Data Input'!$Y$4","v":0}]
[null,{"$f":"'Data Input'!$Z$8","v":"P"},{"$f":"'Data Input'!$Z$1","v":24},{"$f":"'Data Input'!$Z$7","v":"ga6.2"},{"$f":"'Data Input'!$Z$6","v":"Full stops and capital letters"},{"$f":"'Data Input'!$Z$2","v":0},{"$f":"'Data Input'!$Z$5","v":0},{"$f":"'Data Input'!$Z$3","v":0},{"$f":"'Data Input'!$Z$4","v":0}]
[null,{"$f":"'Data Input'!$AA$8","v":"CS"},{"$f":"'Data Input'!$AA$1","v":25},{"$f":"'Data Input'!$AA$7","v":"sg3.3"},{"$f":"'Data Input'!$AA$6","v":"Subordinating connectives"},{"$f":"'Data Input'!$AA$2","v":0},{"$f":"'Data Input'!$AA$5","v":0},{"$f":"'Data Input'!$AA$3","v":0},{"$f":"'Data Input'!$AA$4","v":0}]
[null,{"$f":"'Data Input'!$AB$8","v":"P"},{"$f":"'Data Input'!$AB$1","v":26},{"$f":"'Data Input'!$AB$7","v":"ga6.2"},{"$f":"'Data Input'!$AB$6","v":"Full stops"},{"$f":"'Data Input'!$AB$2","v":0},{"$f":"'Data Input'!$AB$5","v":0},{"$f":"'Data Input'!$AB$3","v":0},{"$f":"'Data Input'!$AB$4","v":0}]
[null,{"$f":"'Data Input'!$AC$8","v":"GT"},{"$f":"'Data Input'!$AC$1","v":27},{"$f":"'Data Input'!$AC$7","v":"sg1.4"},{"$f":"'Data Input'!$AC$6","v":"Connectives"},{"$f":"'Data Input'!$AC$2","v":0},{"$f":"'Data Input'!$AC$5","v":0},{"$f":"'Data Input'!$AC$3","v":0},{"$f":"'Data Input'!$AC$4","v":0}]
[null,{"$f":"'Data Input'!$AD$8","v":"SE"},{"$f":"'Data Input'!$AD$1","v":28},{"$f":"'Data Input'!$AD$7","v":"sg4.2"},{"$f":"'Data Input'!$AD$6","v":"Subject-verb agreement"},{"$f":"'Data Input'!$AD$2","v":0},{"$f":"'Data Input'!$AD$5","v":0},{"$f":"'Data Input'!$AD$3","v":0},{"$f":"'Data Input'!$AD$4","v":0}]
[null,{"$f":"'Data Input'!$AE$8","v":"P"},{"$f":"'Data Input'!$AE$1","v":29},{"$f":"'Data Input'!$AE$7","v":"ga6.5"},{"$f":"'Data Input'!$AE$6","v":"Commas in lists"},{"$f":"'Data Input'!$AE$2","v":0},{"$f":"'Data Input'!$AE$5","v":0},{"$f":"'Data Input'!$AE$3","v":0},{"$f":"'Data Input'!$AE$4","v":0}]
[null,{"$f":"'Data Input'!$AF$8","v":"GT"},{"$f":"'Data Input'!$AF$1","v":30},{"$f":"'Data Input'!$AF$7","v":"ga1.8"},{"$f":"'Data Input'!$AF$6","v":"Articles"},{"$f":"'Data Input'!$AF$2","v":0},{"$f":"'Data Input'!$AF$5","v":0},{"$f":"'Data Input'!$AF$3","v":0},{"$f":"'Data Input'!$AF$4","v":0}]
[null,{"$f":"'Data Input'!$AG$8","v":"P"},{"$f":"'Data Input'!$AG$1","v":31},{"$f":"'Data Input'!$AG$7","v":"ga6.9"},{"$f":"'Data Input'!$AG$6","v":"Brackets"},{"$f":"'Data Input'!$AG$2","v":0},{"$f":"'Data Input'!$AG$5","v":0},{"$f":"'Data Input'!$AG$3","v":0},{"$f":"'Data Input'!$AG$4","v":0}]
[null,{"$f":"'Data Input'!$AH$8","v":"GT"},{"$f":"'Data Input'!$AH$1","v":32},{"$f":"'Data Input'!$AH$7","v":"ga1.5"},{"$f":"'Data Input'!$AH$6","v":"Pronouns"},{"$f":"'Data Input'!$AH$2","v":0},{"$f":"'Data Input'!$AH$5","v":0},{"$f":"'Data Input'!$AH$3","v":0},{"$f":"'Data Input'!$AH$4","v":0}]
[null,{"$f":"'Data Input'!$AI$8","v":"F/I"},{"$f":"'Data Input'!$AI$1","v":33},{"$f":"'Data Input'!$AI$7","v":"ga5.4"},{"$f":"'Data Input'!$AI$6","v":"Contractions"},{"$f":"'Data Input'!$AI$2","v":0},{"$f":"'Data Input'!$AI$5","v":0},{"$f":"'Data Input'!$AI$3","v":0},{"$f":"'Data Input'!$AI$4","v":0}]
[null,{"$f":"'Data Input'!$AJ$8","v":"GT"},{"$f":"'Data Input'!$AJ$1","v":34},{"$f":"'Data Input'!$AJ$7","v":"sg1.1"},{"$f":"'Data Input'!$AJ$6","v":"Nouns"},{"$f":"'Data Input'!$AJ$2","v":0},{"$f":"'Data Input'!$AJ$5","v":0},{"$f":"'Data Input'!$AJ$3","v":0},{"$f":"'Data Input'!$AJ$4","v":0}]
[null,{"$f":"'Data Input'!$AK$8","v":"GT"},{"$f":"'Data Input'!$AK$1","v":35},{"$f":"'Data Input'!$AK$7","v":"sg1.6"},{"$f":"'Data Input'!$AK$6","v":"Adverbs/verb/noun/article"},{"$f":"'Data Input'!$AK$2","v":0},{"$f":"'Data Input'!$AK$5","v":0},{"$f":"'Data Input'!$AK$3","v":0},{"$f":"'Data Input'!$AK$4","v":0}]
[null,{"$f":"'Data Input'!$AL$8","v":"P"},{"$f":"'Data Input'!$AL$1","v":36},{"$f":"'Data Input'!$AL$7","v":"ga6.6"},{"$f":"'Data Input'!$AL$6","v":"Commas with phrases/clauses"},{"$f":"'Data Input'!$AL$2","v":0},{"$f":"'Data Input'!$AL$5","v":0},{"$f":"'Data Input'!$AL$3","v":0},{"$f":"'Data Input'!$AL$4","v":0}]
[null,{"$f":"'Data Input'!$AM$8","v":"GT"},{"$f":"'Data Input'!$AM$1","v":37},{"$f":"'Data Input'!$AM$7","v":"sg1.2"},{"$f":"'Data Input'!$AM$6","v":"Verb tense"},{"$f":"'Data Input'!$AM$2","v":0},{"$f":"'Data Input'!$AM$5","v":0},{"$f":"'Data Input'!$AM$3","v":0},{"$f":"'Data Input'!$AM$4","v":0}]
[null,{"$f":"'Data Input'!$AN$8","v":"F/I"},{"$f":"'Data Input'!$AN$1","v":38},{"$f":"'Data Input'!$AN$7","v":"sg5.4"},{"$f":"'Data Input'!$AN$6","v":"Contractions"},{"$f":"'Data Input'!$AN$2","v":0},{"$f":"'Data Input'!$AN$5","v":0},{"$f":"'Data Input'!$AN$3","v":0},{"$f":"'Data Input'!$AN$4","v":0}]
[null,{"$f":"'Data Input'!$AO$8","v":"CS"},{"$f":"'Data Input'!$AO$1","v":39},{"$f":"'Data Input'!$AO$7","v":"sg3.1"},{"$f":"'Data Input'!$AO$6","v":"Clauses"},{"$f":"'Data Input'!$AO$2","v":0},{"$f":"'Data Input'!$AO$5","v":0},{"$f":"'Data Input'!$AO$3","v":0},{"$f":"'Data Input'!$AO$4","v":0}]
[null,{"$f":"'Data Input'!$AP$8","v":"CS"},{"$f":"'Data Input'!$AP$1","v":40},{"$f":"'Data Input'!$AP$7","v":"ga3.2"},{"$f":"'Data Input'!$AP$6","v":"Phrases/clauses"},{"$f":"'Data Input'!$AP$2","v":0},{"$f":"'Data Input'!$AP$5","v":0},{"$f":"'Data Input'!$AP$3","v":0},{"$f":"'Data Input'!$AP$4","v":0}]
[null,{"$f":"'Data Input'!$AQ$8","v":"GT"},{"$f":"'Data Input'!$AQ$1","v":41},{"$f":"'Data Input'!$AQ$7","v":"sg1.2"},{"$f":"'Data Input'!$AQ$6","v":"Verb tense"},{"$f":"'Data Input'!$AQ$2","v":0},{"$f":"'Data Input'!$AQ$5","v":0},{"$f":"'Data Input'!$AQ$3","v":0},{"$f":"'Data Input'!$AQ$4","v":0}]
[null,{"$f":"'Data Input'!$AR$8","v":"GT"},{"$f":"'Data Input'!$AR$1","v":42},{"$f":"'Data Input'!$AR$7","v":"sg1.1"},{"$f":"'Data Input'!$AR$6","v":"Nouns"},{"$f":"'Data Input'!$AR$2","v":0},{"$f":"'Data Input'!$AR$5","v":0},{"$f":"'Data Input'!$AR$3","v":0},{"$f":"'Data Input'!$AR$4","v":0}]
[null,{"$f":"'Data Input'!$AS$8","v":"V"},{"$f":"'Data Input'!$AS$1","v":43},{"$f":"'Data Input'!$AS$7","v":"ga7.5"},{"$f":"'Data Input'!$AS$6","v":"Antonyms"},{"$f":"'Data Input'!$AS$2","v":0},{"$f":"'Data Input'!$AS$5","v":0},{"$f":"'Data Input'!$AS$3","v":0},{"$f":"'Data Input'!$AS$4","v":0}]
[null,{"$f":"'Data Input'!$AT$8","v":"V"},{"$f":"'Data Input'!$AT$1","v":44},{"$f":"'Data Input'!$AT$7","v":"ga7.9"},{"$f":"'Data Input'!$AT$6","v":"Singular/plural"},{"$f":"'Data Input'!$AT$2","v":0},{"$f":"'Data Input'!$AT$5","v":0},{"$f":"'Data Input'!$AT$3","v":0},{"$f":"'Data Input'!$AT$4","v":0}]
[null,{"$f":"'Data Input'!$AU$8","v":"P"},{"$f":"'Data Input'!$AU$1","v":45},{"$f":"'Data Input'!$AU$7","v":"ga6.5"},{"$f":"'Data Input'!$AU$6","v":"Commas in lists"},{"$f":"'Data Input'!$AU$2","v":0},{"$f":"'Data Input'!$AU$5","v":0},{"$f":"'Data Input'!$AU$3","v":0},{"$f":"'Data Input'!$AU$4","v":0}]
[null,{"$f":"'Data Input'!$AV$8","v":"V"},{"$f":"'Data Input'!$AV$1","v":46},{"$f":"'Data Input'!$AV$7","v":"ga7.8"},{"$f":"'Data Input'!$AV$6","v":"Suffixes"},{"$f":"'Data Input'!$AV$2","v":0},{"$f":"'Data Input'!$AV$5","v":0},{"$f":"'Data Input'!$AV$3","v":0},{"$f":"'Data Input'!$AV$4","v":0}]
[null,{"$f":"'Data Input'!$AW$8","v":"P"},{"$f":"'Data Input'!$AW$1","v":47},{"$f":"'Data Input'!$AW$7","v":"ga6.8"},{"$f":"'Data Input'!$AW$6","v":"Apostrophes"},{"$f":"'Data Input'!$AW$2","v":0},{"$f":"'Data Input'!$AW$5","v":0},{"$f":"'Data Input'!$AW$3","v":0},{"$f":"'Data Input'!$AW$4","v":0}]
[null,{"$f":"'Data Input'!$AX$8","v":"SE"},{"$f":"'Data Input'!$AX$1","v":48},{"$f":"'Data Input'!$AX$7","v":"ga4.1"},{"$f":"'Data Input'!$AX$6","v":"Tense agreement"},{"$f":"'Data Input'!$AX$2","v":0},{"$f":"'Data Input'!$AX$5","v":0},{"$f":"'Data Input'!$AX$3","v":0},{"$f":"'Data Input'!$AX$4","v":0}]
[null,{"$f":"'Data Input'!$AY$8","v":"SE"},{"$f":"'Data Input'!$AY$1","v":49},{"$f":"'Data Input'!$AY$7","v":"ga4.4"},{"$f":"'Data Input'!$AY$6","v":"Use of 'I' and 'me'"},{"$f":"'Data Input'!$AY$2","v":0},{"$f":"'Data Input'!$AY$5","v":0},{"$f":"'Data Input'!$AY$3","v":0},{"$f":"'Data Input'!$AY$4","v":0}]
[null,{"$f":"'Data Input'!$AZ$8","v":"GT"},{"$f":"'Data Input'!$AZ$1","v":50},{"$f":"'Data Input'!$AZ$7","v":"sg1.1"},{"$f":"'Data Input'!$AZ$6","v":"Nouns"},{"$f":"'Data Input'!$AZ$2","v":0},{"$f":"'Data Input'!$AZ$5","v":0},{"$f":"'Data Input'!$AZ$3","v":0},{"$f":"'Data Input'!$AZ$4","v":0}]
[]
[]
[]
[null,null,null,"Sorted by Correct",null,null,null,null,null,null,null,null,null,null,"Sorted by Correct"]
[null,null,null,"Strand","Question Number","Sub Category","Short Q","Correct","Incorrect or Unanswered","Incorrect","Unanswered",null,null,null,"Strand","Question Number","Sub Category","Short Q","Correct","Incorrect or unanswered","Incorrect","Unanswered"]
[null,{"$f":"RANK(C123,$C$123:$C$192)","v":1},{"$f":" H123 - ROW()*0.000000001","v":-1.23E-7},{"$f":"'Data Input'!$C$8","v":"V"},{"$f":"'Data Input'!$C$1","v":1},{"$f":"'Data Input'!$C$7","v":"ga7.1"},{"$f":"'Data Input'!$C$6","v":"Word meaning"},{"$f":"'Data Input'!$C$2","v":0},{"$f":"'Data Input'!$C$5","v":0},{"$f":"'Data Input'!$C$3","v":0},{"$f":"'Data Input'!$C$4","v":0},null,{"$f":"VLOOKUP(ROW()-ROW(M$122),$B$123:$J$192,1,FALSE)","v":1},{"$f":"VLOOKUP(ROW()-ROW(M$122),$B$123:$J$192,2,FALSE)","v":-1.23E-7},{"$f":"VLOOKUP(ROW()-ROW(M$122),$B$123:$J$192,3,FALSE)","v":"V"},{"$f":"VLOOKUP(ROW()-ROW(M$122),$B$123:$J$192,4,FALSE)","v":1},{"$f":"VLOOKUP(ROW()-ROW(M$122),$B$123:$J$192,5,FALSE)","v":"ga7.1"},{"$f":"VLOOKUP(ROW()-ROW(M$122),$B$123:$J$192,6,FALSE)","v":"Word meaning"},{"$f":"VLOOKUP(ROW()-ROW(M$122),$B$123:$J$192,7,FALSE)","v":0},{"$f":"VLOOKUP(ROW()-ROW(M$122),$B$123:$J$192,8,FALSE)","v":0},{"$f":"VLOOKUP(ROW()-ROW(M$122),$B$123:$K$192,9,FALSE)","v":0},{"$f":"VLOOKUP(ROW()-ROW(M$122),$B$123:$K$192,10,FALSE)","v":0}]
[null,2,{"$f":" H124 - ROW()*0.000000001","v":-1.24E-7},{"$f":"'Data Input'!$D$8","v":"GT"},{"$f":"'Data Input'!$D$1","v":2},{"$f":"'Data Input'!$D$7","v":"ga1.6"},{"$f":"'Data Input'!$D$6","v":"Adverbs"},{"$f":"'Data Input'!$D$2","v":0},{"$f":"'Data Input'!$D$5","v":0},{"$f":"'Data Input'!$D$3","v":0},{"$f":"'Data Input'!$D$4","v":0},null,2,-1.24E-7,{"$f":"VLOOKUP(ROW()-ROW(M$122),$B$123:$J$192,3,FALSE)","v":"GT"},{"$f":"VLOOKUP(ROW()-ROW(M$122),$B$123:$J$192,4,FALSE)","v":2},{"$f":"VLOOKUP(ROW()-ROW(M$122),$B$123:$J$192,5,FALSE)","v":"ga1.6"},{"$f":"VLOOKUP(ROW()-ROW(M$122),$B$123:$J$192,6,FALSE)","v":"Adverbs"},{"$f":"VLOOKUP(ROW()-ROW(M$122),$B$123:$J$192,7,FALSE)","v":0},{"$f":"VLOOKUP(ROW()-ROW(M$122),$B$123:$J$192,8,FALSE)","v":0},{"$f":"VLOOKUP(ROW()-ROW(M$122),$B$123:$K$192,9,FALSE)","v":0},{"$f":"VLOOKUP(ROW()-ROW(M$122),$B$123:$K$192,10,FALSE)","v":0}]
[null,3,-1.2500000000000002E-7,{"$f":"'Data Input'!$E$8","v":"GT"},{"$f":"'Data Input'!$E$1","v":3},{"$f":"'Data Input'!$E$7","v":"ga1.6"},{"$f":"'Data Input'!$E$6","v":"Adverbs"},{"$f":"'Data Input'!$E$2","v":0},{"$f":"'Data Input'!$E$5","v":0},{"$f":"'Data Input'!$E$3","v":0},{"$f":"'Data Input'!$E$4","v":0},null,3,-1.2500000000000002E-7,"GT",3,"ga1.6","Adverbs",0,0,0,0]
[null,4,-1.2600000000000002E-7,{"$f":"'Data Input'!$F$8","v":"GT"},{"$f":"'Data Input'!$F$1","v":4},{"$f":"'Data Input'!$F$7","v":"ga1.4"},{"$f":"'Data Input'!$F$6","v":"Connectives"},{"$f":"'Data Input'!$F$2","v":0},{"$f":"'Data Input'!$F$5","v":0},{"$f":"'Data Input'!$F$3","v":0},{"$f":"'Data Input'!$F$4","v":0},null,4,-1.2600000000000002E-7,"GT",4,"ga1.4","Connectives",0,0,0,0]
[null,5,-1.2700000000000001E-7,{"$f":"'Data Input'!$G$8","v":"GT"},{"$f":"'Data Input'!$G$1","v":5},{"$f":"'Data Input'!$G$7","v":"ga1.4"},{"$f":"'Data Input'!$G$6","v":"Connectives"},{"$f":"'Data Input'!$G$2","v":0},{"$f":"'Data Input'!$G$5","v":0},{"$f":"'Data Input'!$G$3","v":0},{"$f":"'Data Input'!$G$4","v":0},null,5,-1.2700000000000001E-7,"GT",5,"ga1.4","Connectives",0,0,0,0]
[null,6,-1.2800000000000001E-7,{"$f":"'Data Input'!$H$8","v":"CS"},{"$f":"'Data Input'!$H$1","v":6},{"$f":"'Data Input'!$H$7","v":"ga3.3"},{"$f":"'Data Input'!$H$6","v":"Subordinating connectives"},{"$f":"'Data Input'!$H$2","v":0},{"$f":"'Data Input'!$H$5","v":0},{"$f":"'Data Input'!$H$3","v":0},{"$f":"'Data Input'!$H$4","v":0},null,6,-1.2800000000000001E-7,"CS",6,"ga3.3","Subordinating connectives",0,0,0,0]
[null,7,-1.29E-7,{"$f":"'Data Input'!$I$8","v":"FS"},{"$f":"'Data Input'!$I$1","v":7},{"$f":"'Data Input'!$I$7","v":"sg2.3"},{"$f":"'Data Input'!$I$6","v":"Commands"},{"$f":"'Data Input'!$I$2","v":0},{"$f":"'Data Input'!$I$5","v":0},{"$f":"'Data Input'!$I$3","v":0},{"$f":"'Data Input'!$I$4","v":0},null,7,-1.29E-7,"FS",7,"sg2.3","Commands",0,0,0,0]
[null,8,-1.3E-7,{"$f":"'Data Input'!$J$8","v":"V"},{"$f":"'Data Input'!$J$1","v":8},{"$f":"'Data Input'!$J$7","v":"ga7.4"},{"$f":"'Data Input'!$J$6","v":"Synonyms"},{"$f":"'Data Input'!$J$2","v":0},{"$f":"'Data Input'!$J$5","v":0},{"$f":"'Data Input'!$J$3","v":0},{"$f":"'Data Input'!$J$4","v":0},null,8,-1.3E-7,"V",8,"ga7.4","Synonyms",0,0,0,0]
[null,9,-1.31E-7,{"$f":"'Data Input'!$K$8","v":"P"},{"$f":"'Data Input'!$K$1","v":9},{"$f":"'Data Input'!$K$7","v":"ga6.3"},{"$f":"'Data Input'!$K$6","v":"Question marks"},{"$f":"'Data Input'!$K$2","v":0},{"$f":"'Data Input'!$K$5","v":0},{"$f":"'Data Input'!$K$3","v":0},{"$f":"'Data Input'!$K$4","v":0},null,9,-1.31E-7,{"$f":"VLOOKUP(ROW()-ROW(M$122),$B$123:$J$192,3,FALSE)","v":"P"},{"$f":"VLOOKUP(ROW()-ROW(M$122),$B$123:$J$192,4,FALSE)","v":9},{"$f":"VLOOKUP(ROW()-ROW(M$122),$B$123:$J$192,5,FALSE)","v":"ga6.3"},{"$f":"VLOOKUP(ROW()-ROW(M$122),$B$123:$J$192,6,FALSE)","v":"Question marks"},{"$f":"VLOOKUP(ROW()-ROW(M$122),$B$123:$J$192,7,FALSE)","v":0},{"$f":"VLOOKUP(ROW()-ROW(M$122),$B$123:$J$192,8,FALSE)","v":0},{"$f":"VLOOKUP(ROW()-ROW(M$122),$B$123:$K$192,9,FALSE)","v":0},{"$f":"VLOOKUP(ROW()-ROW(M$122),$B$123:$K$192,10,FALSE)","v":0}]
[null,10,-1.3200000000000002E-7,{"$f":"'Data Input'!$L$8","v":"P"},{"$f":"'Data Input'!$L$1","v":10},{"$f":"'Data Input'!$L$7","v":"ga6.10"},{"$f":"'Data Input'!$L$6","v":"Ellipses"},{"$f":"'Data Input'!$L$2","v":0},{"$f":"'Data Input'!$L$5","v":0},{"$f":"'Data Input'!$L$3","v":0},{"$f":"'Data Input'!$L$4","v":0},null,10,-1.3200000000000002E-7,"P",10,"ga6.10","Ellipses",0,0,0,0]
[null,11,-1.3300000000000001E-7,{"$f":"'Data Input'!$M$8","v":"P"},{"$f":"'Data Input'!$M$1","v":11},{"$f":"'Data Input'!$M$7","v":"p6.3"},{"$f":"'Data Input'!$M$6","v":"Question marks"},{"$f":"'Data Input'!$M$2","v":0},{"$f":"'Data Input'!$M$5","v":0},{"$f":"'Data Input'!$M$3","v":0},{"$f":"'Data Input'!$M$4","v":0},null,11,-1.3300000000000001E-7,"P",11,"p6.3","Question marks",0,0,0,0]
[null,12,-1.3400000000000001E-7,{"$f":"'Data Input'!$N$8","v":"V"},{"$f":"'Data Input'!$N$1","v":12},{"$f":"'Data Input'!$N$7","v":"ga7.2"},{"$f":"'Data Input'!$N$6","v":"Vocabulary in context"},{"$f":"'Data Input'!$N$2","v":0},{"$f":"'Data Input'!$N$5","v":0},{"$f":"'Data Input'!$N$3","v":0},{"$f":"'Data Input'!$N$4","v":0},null,12,-1.3400000000000001E-7,"V",12,"ga7.2","Vocabulary in context",0,0,0,0]
[null,13,-1.35E-7,{"$f":"'Data Input'!$O$8","v":"P"},{"$f":"'Data Input'!$O$1","v":13},{"$f":"'Data Input'!$O$7","v":"p6.7"},{"$f":"'Data Input'!$O$6","v":"Inverted commas"},{"$f":"'Data Input'!$O$2","v":0},{"$f":"'Data Input'!$O$5","v":0},{"$f":"'Data Input'!$O$3","v":0},{"$f":"'Data Input'!$O$4","v":0},null,13,-1.35E-7,"P",13,"p6.7","Inverted commas",0,0,0,0]
[null,14,-1.36E-7,{"$f":"'Data Input'!$P$8","v":"SE"},{"$f":"'Data Input'!$P$1","v":14},{"$f":"'Data Input'!$P$7","v":"sg4.1"},{"$f":"'Data Input'!$P$6","v":"Tense agreement"},{"$f":"'Data Input'!$P$2","v":0},{"$f":"'Data Input'!$P$5","v":0},{"$f":"'Data Input'!$P$3","v":0},{"$f":"'Data Input'!$P$4","v":0},null,14,-1.36E-7,"SE",14,"sg4.1","Tense agreement",0,0,0,0]
[null,15,-1.37E-7,{"$f":"'Data Input'!$Q$8","v":"P"},{"$f":"'Data Input'!$Q$1","v":15},{"$f":"'Data Input'!$Q$7","v":"ga6.5"},{"$f":"'Data Input'!$Q$6","v":"Commas in lists"},{"$f":"'Data Input'!$Q$2","v":0},{"$f":"'Data Input'!$Q$5","v":0},{"$f":"'Data Input'!$Q$3","v":0},{"$f":"'Data Input'!$Q$4","v":0},null,15,-1.37E-7,"P",15,"ga6.5","Commas in lists",0,0,0,0]
[null,16,-1.3800000000000002E-7,{"$f":"'Data Input'!$R$8","v":"GT"},{"$f":"'Data Input'!$R$1","v":16},{"$f":"'Data Input'!$R$7","v":"sg1.2"},{"$f":"'Data Input'!$R$6","v":"Verbs/nouns"},{"$f":"'Data Input'!$R$2","v":0},{"$f":"'Data Input'!$R$5","v":0},{"$f":"'Data Input'!$R$3","v":0},{"$f":"'Data Input'!$R$4","v":0},null,16,-1.3800000000000002E-7,"GT",16,"sg1.2","Verbs/nouns",0,0,0,0]
[null,17,-1.3900000000000001E-7,{"$f":"'Data Input'!$S$8","v":"FS"},{"$f":"'Data Input'!$S$1","v":17},{"$f":"'Data Input'!$S$7","v":"ga2.2"},{"$f":"'Data Input'!$S$6","v":"Questions"},{"$f":"'Data Input'!$S$2","v":0},{"$f":"'Data Input'!$S$5","v":0},{"$f":"'Data Input'!$S$3","v":0},{"$f":"'Data Input'!$S$4","v":0},null,17,-1.3900000000000001E-7,"FS",17,"ga2.2","Questions",0,0,0,0]
[null,18,-1.4000000000000001E-7,{"$f":"'Data Input'!$T$8","v":"SE"},{"$f":"'Data Input'!$T$1","v":18},{"$f":"'Data Input'!$T$7","v":"ga4.1"},{"$f":"'Data Input'!$T$6","v":"Tense agreement"},{"$f":"'Data Input'!$T$2","v":0},{"$f":"'Data Input'!$T$5","v":0},{"$f":"'Data Input'!$T$3","v":0},{"$f":"'Data Input'!$T$4","v":0},null,18,-1.4000000000000001E-7,"SE",18,"ga4.1","Tense agreement",0,0,0,0]
[null,19,-1.4100000000000001E-7,{"$f":"'Data Input'!$U$8","v":"P"},{"$f":"'Data Input'!$U$1","v":19},{"$f":"'Data Input'!$U$7","v":"ga6.1"},{"$f":"'Data Input'!$U$6","v":"Capital letters and full stops"},{"$f":"'Data Input'!$U$2","v":0},{"$f":"'Data Input'!$U$5","v":0},{"$f":"'Data Input'!$U$3","v":0},{"$f":"'Data Input'!$U$4","v":0},null,19,-1.4100000000000001E-7,"P",19,"ga6.1","Capital letters and full stops",0,0,0,0]
[null,20,-1.42E-7,{"$f":"'Data Input'!$V$8","v":"GT"},{"$f":"'Data Input'!$V$1","v":20},{"$f":"'Data Input'!$V$7","v":"ga1.3"},{"$f":"'Data Input'!$V$6","v":"Adjectives"},{"$f":"'Data Input'!$V$2","v":0},{"$f":"'Data Input'!$V$5","v":0},{"$f":"'Data Input'!$V$3","v":0},{"$f":"'Data Input'!$V$4","v":0},null,20,-1.42E-7,"GT",20,"ga1.3","Adjectives",0,0,0,0]
[null,21,-1.43E-7,{"$f":"'Data Input'!$W$8","v":"GT"},{"$f":"'Data Input'!$W$1","v":21},{"$f":"'Data Input'!$W$7","v":"ga1.3"},{"$f":"'Data Input'!$W$6","v":"Adjectives"},{"$f":"'Data Input'!$W$2","v":0},{"$f":"'Data Input'!$W$5","v":0},{"$f":"'Data Input'!$W$3","v":0},{"$f":"'Data Input'!$W$4","v":0},null,21,-1.43E-7,"GT",21,"ga1.3","Adjectives",0,0,0,0]
[null,22,-1.4400000000000002E-7,{"$f":"'Data Input'!$X$8","v":"P"},{"$f":"'Data Input'!$X$1","v":22},{"$f":"'Data Input'!$X$7","v":"p6.2"},{"$f":"'Data Input'!$X$6","v":"Full stops"},{"$f":"'Data Input'!$X$2","v":0},{"$f":"'Data Input'!$X$5","v":0},{"$f":"'Data Input'!$X$3","v":0},{"$f":"'Data Input'!$X$4","v":0},null,22,-1.4400000000000002E-7,"P",22,"p6.2","Full stops",0,0,0,0]
[null,23,-1.4500000000000001E-7,{"$f":"'Data Input'!$Y$8","v":"P"},{"$f":"'Data Input'!$Y$1","v":23},{"$f":"'Data Input'!$Y$7","v":"p6.4"},{"$f":"'Data Input'!$Y$6","v":"Exclamation marks"},{"$f":"'Data Input'!$Y$2","v":0},{"$f":"'Data Input'!$Y$5","v":0},{"$f":"'Data Input'!$Y$3","v":0},{"$f":"'Data Input'!$Y$4","v":0},null,23,-1.4500000000000001E-7,"P",23,"p6.4","Exclamation marks",0,0,0,0]
[null,24,-1.4600000000000001E-7,{"$f":"'Data Input'!$Z$8","v":"P"},{"$f":"'Data Input'!$Z$1","v":24},{"$f":"'Data Input'!$Z$7","v":"ga6.2"},{"$f":"'Data Input'!$Z$6","v":"Full stops and capital letters"},{"$f":"'Data Input'!$Z$2","v":0},{"$f":"'Data Input'!$Z$5","v":0},{"$f":"'Data Input'!$Z$3","v":0},{"$f":"'Data Input'!$Z$4","v":0},null,24,-1.4600000000000001E-7,"P",24,"ga6.2","Full stops and capital letters",0,0,0,0]
[null,25,-1.4700000000000001E-7,{"$f":"'Data Input'!$AA$8","v":"CS"},{"$f":"'Data Input'!$AA$1","v":25},{"$f":"'Data Input'!$AA$7","v":"sg3.3"},{"$f":"'Data Input'!$AA$6","v":"Subordinating connectives"},{"$f":"'Data Input'!$AA$2","v":0},{"$f":"'Data Input'!$AA$5","v":0},{"$f":"'Data Input'!$AA$3","v":0},{"$f":"'Data Input'!$AA$4","v":0},null,25,-1.4700000000000001E-7,"CS",25,"sg3.3","Subordinating connectives",0,0,0,0]
[null,26,-1.48E-7,{"$f":"'Data Input'!$AB$8","v":"P"},{"$f":"'Data Input'!$AB$1","v":26},{"$f":"'Data Input'!$AB$7","v":"ga6.2"},{"$f":"'Data Input'!$AB$6","v":"Full stops"},{"$f":"'Data Input'!$AB$2","v":0},{"$f":"'Data Input'!$AB$5","v":0},{"$f":"'Data Input'!$AB$3","v":0},{"$f":"'Data Input'!$AB$4","v":0},null,26,-1.48E-7,"P",26,"ga6.2","Full stops",0,0,0,0]
[null,27,-1.49E-7,{"$f":"'Data Input'!$AC$8","v":"GT"},{"$f":"'Data Input'!$AC$1","v":27},{"$f":"'Data Input'!$AC$7","v":"sg1.4"},{"$f":"'Data Input'!$AC$6","v":"Connectives"},{"$f":"'Data Input'!$AC$2","v":0},{"$f":"'Data Input'!$AC$5","v":0},{"$f":"'Data Input'!$AC$3","v":0},{"$f":"'Data Input'!$AC$4","v":0},null,27,-1.49E-7,"GT",27,"sg1.4","Connectives",0,0,0,0]
[null,28,-1.5000000000000002E-7,{"$f":"'Data Input'!$AD$8","v":"SE"},{"$f":"'Data Input'!$AD$1","v":28},{"$f":"'Data Input'!$AD$7","v":"sg4.2"},{"$f":"'Data Input'!$AD$6","v":"Subject-verb agreement"},{"$f":"'Data Input'!$AD$2","v":0},{"$f":"'Data Input'!$AD$5","v":0},{"$f":"'Data Input'!$AD$3","v":0},{"$f":"'Data Input'!$AD$4","v":0},null,28,-1.5000000000000002E-7,"SE",28,"sg4.2","Subject-verb agreement",0,0,0,0]
[null,29,-1.5100000000000002E-7,{"$f":"'Data Input'!$AE$8","v":"P"},{"$f":"'Data Input'!$AE$1","v":29},{"$f":"'Data Input'!$AE$7","v":"ga6.5"},{"$f":"'Data Input'!$AE$6","v":"Commas in lists"},{"$f":"'Data Input'!$AE$2","v":0},{"$f":"'Data Input'!$AE$5","v":0},{"$f":"'Data Input'!$AE$3","v":0},{"$f":"'Data Input'!$AE$4","v":0},null,29,-1.5100000000000002E-7,"P",29,"ga6.5","Commas in lists",0,0,0,0]
[null,30,-1.5200000000000001E-7,{"$f":"'Data Input'!$AF$8","v":"GT"},{"$f":"'Data Input'!$AF$1","v":30},{"$f":"'Data Input'!$AF$7","v":"ga1.8"},{"$f":"'Data Input'!$AF$6","v":"Articles"},{"$f":"'Data Input'!$AF$2","v":0},{"$f":"'Data Input'!$AF$5","v":0},{"$f":"'Data Input'!$AF$3","v":0},{"$f":"'Data Input'!$AF$4","v":0},null,30,-1.5200000000000001E-7,"GT",30,"ga1.8","Articles",0,0,0,0]
[null,31,-1.5300000000000001E-7,{"$f":"'Data Input'!$AG$8","v":"P"},{"$f":"'Data Input'!$AG$1","v":31},{"$f":"'Data Input'!$AG$7","v":"ga6.9"},{"$f":"'Data Input'!$AG$6","v":"Brackets"},{"$f":"'Data Input'!$AG$2","v":0},{"$f":"'Data Input'!$AG$5","v":0},{"$f":"'Data Input'!$AG$3","v":0},{"$f":"'Data Input'!$AG$4","v":0},null,31,-1.5300000000000001E-7,"P",31,"ga6.9","Brackets",0,0,0,0]
[null,32,-1.54E-7,{"$f":"'Data Input'!$AH$8","v":"GT"},{"$f":"'Data Input'!$AH$1","v":32},{"$f":"'Data Input'!$AH$7","v":"ga1.5"},{"$f":"'Data Input'!$AH$6","v":"Pronouns"},{"$f":"'Data Input'!$AH$2","v":0},{"$f":"'Data Input'!$AH$5","v":0},{"$f":"'Data Input'!$AH$3","v":0},{"$f":"'Data Input'!$AH$4","v":0},null,32,-1.54E-7,"GT",32,"ga1.5","Pronouns",0,0,0,0]
[null,33,-1.55E-7,{"$f":"'Data Input'!$AI$8","v":"F/I"},{"$f":"'Data Input'!$AI$1","v":33},{"$f":"'Data Input'!$AI$7","v":"ga5.4"},{"$f":"'Data Input'!$AI$6","v":"Contractions"},{"$f":"'Data Input'!$AI$2","v":0},{"$f":"'Data Input'!$AI$5","v":0},{"$f":"'Data Input'!$AI$3","v":0},{"$f":"'Data Input'!$AI$4","v":0},null,33,-1.55E-7,"F/I",33,"ga5.4","Contractions",0,0,0,0]
[null,34,-1.5600000000000002E-7,{"$f":"'Data Input'!$AJ$8","v":"GT"},{"$f":"'Data Input'!$AJ$1","v":34},{"$f":"'Data Input'!$AJ$7","v":"sg1.1"},{"$f":"'Data Input'!$AJ$6","v":"Nouns"},{"$f":"'Data Input'!$AJ$2","v":0},{"$f":"'Data Input'!$AJ$5","v":0},{"$f":"'Data Input'!$AJ$3","v":0},{"$f":"'Data Input'!$AJ$4","v":0},null,34,-1.5600000000000002E-7,"GT",34,"sg1.1","Nouns",0,0,0,0]
[null,35,-1.5700000000000002E-7,{"$f":"'Data Input'!$AK$8","v":"GT"},{"$f":"'Data Input'!$AK$1","v":35},{"$f":"'Data Input'!$AK$7","v":"sg1.6"},{"$f":"'Data Input'!$AK$6","v":"Adverbs/verb/noun/article"},{"$f":"'Data Input'!$AK$2","v":0},{"$f":"'Data Input'!$AK$5","v":0},{"$f":"'Data Input'!$AK$3","v":0},{"$f":"'Data Input'!$AK$4","v":0},null,35,-1.5700000000000002E-7,"GT",35,"sg1.6","Adverbs/verb/noun/article",0,0,0,0]
[null,36,-1.5800000000000001E-7,{"$f":"'Data Input'!$AL$8","v":"P"},{"$f":"'Data Input'!$AL$1","v":36},{"$f":"'Data Input'!$AL$7","v":"ga6.6"},{"$f":"'Data Input'!$AL$6","v":"Commas with phrases/clauses"},{"$f":"'Data Input'!$AL$2","v":0},{"$f":"'Data Input'!$AL$5","v":0},{"$f":"'Data Input'!$AL$3","v":0},{"$f":"'Data Input'!$AL$4","v":0},null,36,-1.5800000000000001E-7,"P",36,"ga6.6","Commas with phrases/clauses",0,0,0,0]
[null,37,-1.5900000000000001E-7,{"$f":"'Data Input'!$AM$8","v":"GT"},{"$f":"'Data Input'!$AM$1","v":37},{"$f":"'Data Input'!$AM$7","v":"sg1.2"},{"$f":"'Data Input'!$AM$6","v":"Verb tense"},{"$f":"'Data Input'!$AM$2","v":0},{"$f":"'Data Input'!$AM$5","v":0},{"$f":"'Data Input'!$AM$3","v":0},{"$f":"'Data Input'!$AM$4","v":0},null,37,-1.5900000000000001E-7,"GT",37,"sg1.2","Verb tense",0,0,0,0]
[null,38,-1.6E-7,{"$f":"'Data Input'!$AN$8","v":"F/I"},{"$f":"'Data Input'!$AN$1","v":38},{"$f":"'Data Input'!$AN$7","v":"sg5.4"},{"$f":"'Data Input'!$AN$6","v":"Contractions"},{"$f":"'Data Input'!$AN$2","v":0},{"$f":"'Data Input'!$AN$5","v":0},{"$f":"'Data Input'!$AN$3","v":0},{"$f":"'Data Input'!$AN$4","v":0},null,38,-1.6E-7,"F/I",38,"sg5.4","Contractions",0,0,0,0]
[null,39,-1.61E-7,{"$f":"'Data Input'!$AO$8","v":"CS"},{"$f":"'Data Input'!$AO$1","v":39},{"$f":"'Data Input'!$AO$7","v":"sg3.1"},{"$f":"'Data Input'!$AO$6","v":"Clauses"},{"$f":"'Data Input'!$AO$2","v":0},{"$f":"'Data Input'!$AO$5","v":0},{"$f":"'Data Input'!$AO$3","v":0},{"$f":"'Data Input'!$AO$4","v":0},null,39,-1.61E-7,"CS",39,"sg3.1","Clauses",0,0,0,0]
[null,40,-1.6200000000000002E-7,{"$f":"'Data Input'!$AP$8","v":"CS"},{"$f":"'Data Input'!$AP$1","v":40},{"$f":"'Data Input'!$AP$7","v":"ga3.2"},{"$f":"'Data Input'!$AP$6","v":"Phrases/clauses"},{"$f":"'Data Input'!$AP$2","v":0},{"$f":"'Data Input'!$AP$5","v":0},{"$f":"'Data Input'!$AP$3","v":0},{"$f":"'Data Input'!$AP$4","v":0},null,40,-1.6200000000000002E-7,"CS",40,"ga3.2","Phrases/clauses",0,0,0,0]
[null,{"$f":"RANK(C163,$C$123:$C$192)","v":41},{"$f":" H163 - ROW()*0.000000001","v":-1.6300000000000002E-7},{"$f":"'Data Input'!$AQ$8","v":"GT"},{"$f":"'Data Input'!$AQ$1","v":41},{"$f":"'Data Input'!$AQ$7","v":"sg1.2"},{"$f":"'Data Input'!$AQ$6","v":"Verb tense"},{"$f":"'Data Input'!$AQ$2","v":0},{"$f":"'Data Input'!$AQ$5","v":0},{"$f":"'Data Input'!$AQ$3","v":0},{"$f":"'Data Input'!$AQ$4","v":0},null,41,{"$f":"VLOOKUP(ROW()-ROW(M$122),$B$123:$J$192,2,FALSE)","v":-1.6300000000000002E-7},{"$f":"VLOOKUP(ROW()-ROW(M$122),$B$123:$J$192,3,FALSE)","v":"GT"},{"$f":"VLOOKUP(ROW()-ROW(M$122),$B$123:$J$192,4,FALSE)","v":41},{"$f":"VLOOKUP(ROW()-ROW(M$122),$B$123:$J$192,5,FALSE)","v":"sg1.2"},{"$f":"VLOOKUP(ROW()-ROW(M$122),$B$123:$J$192,6,FALSE)","v":"Verb tense"},{"$f":"VLOOKUP(ROW()-ROW(M$122),$B$123:$J$192,7,FALSE)","v":0},{"$f":"VLOOKUP(ROW()-ROW(M$122),$B$123:$J$192,8,FALSE)","v":0},{"$f":"VLOOKUP(ROW()-ROW(M$122),$B$123:$K$192,9,FALSE)","v":0}]
[null,42,-1.6400000000000001E-7,{"$f":"'Data Input'!$AR$8","v":"GT"},{"$f":"'Data Input'!$AR$1","v":42},{"$f":"'Data Input'!$AR$7","v":"sg1.1"},{"$f":"'Data Input'!$AR$6","v":"Nouns"},{"$f":"'Data Input'!$AR$2","v":0},{"$f":"'Data Input'!$AR$5","v":0},{"$f":"'Data Input'!$AR$3","v":0},{"$f":"'Data Input'!$AR$4","v":0},null,42,-1.6400000000000001E-7,"GT",42,"sg1.1","Nouns",0,0,0]
[null,43,-1.6500000000000001E-7,{"$f":"'Data Input'!$AS$8","v":"V"},{"$f":"'Data Input'!$AS$1","v":43},{"$f":"'Data Input'!$AS$7","v":"ga7.5"},{"$f":"'Data Input'!$AS$6","v":"Antonyms"},{"$f":"'Data Input'!$AS$2","v":0},{"$f":"'Data Input'!$AS$5","v":0},{"$f":"'Data Input'!$AS$3","v":0},{"$f":"'Data Input'!$AS$4","v":0},null,43,-1.6500000000000001E-7,"V",43,"ga7.5","Antonyms",0,0,0]
[null,44,-1.66E-7,{"$f":"'Data Input'!$AT$8","v":"V"},{"$f":"'Data Input'!$AT$1","v":44},{"$f":"'Data Input'!$AT$7","v":"ga7.9"},{"$f":"'Data Input'!$AT$6","v":"Singular/plural"},{"$f":"'Data Input'!$AT$2","v":0},{"$f":"'Data Input'!$AT$5","v":0},{"$f":"'Data Input'!$AT$3","v":0},{"$f":"'Data Input'!$AT$4","v":0},null,44,-1.66E-7,"V",44,"ga7.9","Singular/plural",0,0,0]
[null,45,-1.67E-7,{"$f":"'Data Input'!$AU$8","v":"P"},{"$f":"'Data Input'!$AU$1","v":45},{"$f":"'Data Input'!$AU$7","v":"ga6.5"},{"$f":"'Data Input'!$AU$6","v":"Commas in lists"},{"$f":"'Data Input'!$AU$2","v":0},{"$f":"'Data Input'!$AU$5","v":0},{"$f":"'Data Input'!$AU$3","v":0},{"$f":"'Data Input'!$AU$4","v":0},null,45,-1.67E-7,"P",45,"ga6.5","Commas in lists",0,0,0]
[null,46,-1.6800000000000002E-7,{"$f":"'Data Input'!$AV$8","v":"V"},{"$f":"'Data Input'!$AV$1","v":46},{"$f":"'Data Input'!$AV$7","v":"ga7.8"},{"$f":"'Data Input'!$AV$6","v":"Suffixes"},{"$f":"'Data Input'!$AV$2","v":0},{"$f":"'Data Input'!$AV$5","v":0},{"$f":"'Data Input'!$AV$3","v":0},{"$f":"'Data Input'!$AV$4","v":0},null,46,-1.6800000000000002E-7,"V",46,"ga7.8","Suffixes",0,0,0]
[null,47,-1.6900000000000002E-7,{"$f":"'Data Input'!$AW$8","v":"P"},{"$f":"'Data Input'!$AW$1","v":47},{"$f":"'Data Input'!$AW$7","v":"ga6.8"},{"$f":"'Data Input'!$AW$6","v":"Apostrophes"},{"$f":"'Data Input'!$AW$2","v":0},{"$f":"'Data Input'!$AW$5","v":0},{"$f":"'Data Input'!$AW$3","v":0},{"$f":"'Data Input'!$AW$4","v":0},null,47,-1.6900000000000002E-7,"P",47,"ga6.8","Apostrophes",0,0,0]
[null,48,-1.7000000000000001E-7,{"$f":"'Data Input'!$AX$8","v":"SE"},{"$f":"'Data Input'!$AX$1","v":48},{"$f":"'Data Input'!$AX$7","v":"ga4.1"},{"$f":"'Data Input'!$AX$6","v":"Tense agreement"},{"$f":"'Data Input'!$AX$2","v":0},{"$f":"'Data Input'!$AX$5","v":0},{"$f":"'Data Input'!$AX$3","v":0},{"$f":"'Data Input'!$AX$4","v":0},null,48,-1.7000000000000001E-7,"SE",48,"ga4.1","Tense agreement",0,0,0]
[null,49,-1.7100000000000001E-7,{"$f":"'Data Input'!$AY$8","v":"SE"},{"$f":"'Data Input'!$AY$1","v":49},{"$f":"'Data Input'!$AY$7","v":"ga4.4"},{"$f":"'Data Input'!$AY$6","v":"Use of 'I' and 'me'"},{"$f":"'Data Input'!$AY$2","v":0},{"$f":"'Data Input'!$AY$5","v":0},{"$f":"'Data Input'!$AY$3","v":0},{"$f":"'Data Input'!$AY$4","v":0},null,49,-1.7100000000000001E-7,"SE",49,"ga4.4","Use of 'I' and 'me'",0,0,0]
[null,50,-1.72E-7,{"$f":"'Data Input'!$AZ$8","v":"GT"},{"$f":"'Data Input'!$AZ$1","v":50},{"$f":"'Data Input'!$AZ$7","v":"sg1.1"},{"$f":"'Data Input'!$AZ$6","v":"Nouns"},{"$f":"'Data Input'!$AZ$2","v":0},{"$f":"'Data Input'!$AZ$5","v":0},{"$f":"'Data Input'!$AZ$3","v":0},{"$f":"'Data Input'!$AZ$4","v":0},null,50,-1.72E-7,"GT",50,"sg1.1","Nouns",0,0,0]

{"sheet":"P2 Hidden Data Tables","index":3,"n_rows":116,"n_cols":22,"rows_kept":116,"cut":false,"hidden":true,"merged":[]}
[null,"Sorted by Strand"]
[null,"Strand","Question Number","Sub Category","Short Q","Correct","Incorrect or Unanswered","Incorrect","Unanswered"]
[null,{"$f":"'Data Input'!$BB$8","v":"Sp"},{"$f":"'Data Input'!$BB$1","v":1},{"$f":"'Data Input'!$BB$7","v":"-"},{"$f":"'Data Input'!$BB$6","v":"welcome"},{"$f":"'Data Input'!$BB$2","v":0},{"$f":"'Data Input'!$BB$5","v":0},{"$f":"'Data Input'!$BB$3","v":0},{"$f":"'Data Input'!$BB$4","v":0},null,null,null,"Codes"]
[null,{"$f":"'Data Input'!$BC$8","v":"Sp"},{"$f":"'Data Input'!$BC$1","v":2},{"$f":"'Data Input'!$BC$7","v":"-"},{"$f":"'Data Input'!$BC$6","v":"untidy"},{"$f":"'Data Input'!$BC$2","v":0},{"$f":"'Data Input'!$BC$5","v":0},{"$f":"'Data Input'!$BC$3","v":0},{"$f":"'Data Input'!$BC$4","v":0}]
[null,{"$f":"'Data Input'!$BD$8","v":"Sp"},{"$f":"'Data Input'!$BD$1","v":3},{"$f":"'Data Input'!$BD$7","v":"-"},{"$f":"'Data Input'!$BD$6","v":"message"},{"$f":"'Data Input'!$BD$2","v":0},{"$f":"'Data Input'!$BD$5","v":0},{"$f":"'Data Input'!$BD$3","v":0},{"$f":"'Data Input'!$BD$4","v":0}]
[null,{"$f":"'Data Input'!$BE$8","v":"Sp"},{"$f":"'Data Input'!$BE$1","v":4},{"$f":"'Data Input'!$BE$7","v":"-"},{"$f":"'Data Input'!$BE$6","v":"highest"},{"$f":"'Data Input'!$BE$2","v":0},{"$f":"'Data Input'!$BE$5","v":0},{"$f":"'Data Input'!$BE$3","v":0},{"$f":"'Data Input'!$BE$4","v":0}]
[null,{"$f":"'Data Input'!$BF$8","v":"Sp"},{"$f":"'Data Input'!$BF$1","v":5},{"$f":"'Data Input'!$BF$7","v":"-"},{"$f":"'Data Input'!$BF$6","v":"rubbed"},{"$f":"'Data Input'!$BF$2","v":0},{"$f":"'Data Input'!$BF$5","v":0},{"$f":"'Data Input'!$BF$3","v":0},{"$f":"'Data Input'!$BF$4","v":0}]
[null,{"$f":"'Data Input'!$BG$8","v":"Sp"},{"$f":"'Data Input'!$BG$1","v":6},{"$f":"'Data Input'!$BG$7","v":"-"},{"$f":"'Data Input'!$BG$6","v":"field"},{"$f":"'Data Input'!$BG$2","v":0},{"$f":"'Data Input'!$BG$5","v":0},{"$f":"'Data Input'!$BG$3","v":0},{"$f":"'Data Input'!$BG$4","v":0}]
[null,{"$f":"'Data Input'!$BH$8","v":"Sp"},{"$f":"'Data Input'!$BH$1","v":7},{"$f":"'Data Input'!$BH$7","v":"-"},{"$f":"'Data Input'!$BH$6","v":"engine"},{"$f":"'Data Input'!$BH$2","v":0},{"$f":"'Data Input'!$BH$5","v":0},{"$f":"'Data Input'!$BH$3","v":0},{"$f":"'Data Input'!$BH$4","v":0}]
[null,{"$f":"'Data Input'!$BI$8","v":"Sp"},{"$f":"'Data Input'!$BI$1","v":8},{"$f":"'Data Input'!$BI$7","v":"-"},{"$f":"'Data Input'!$BI$6","v":"comfort"},{"$f":"'Data Input'!$BI$2","v":0},{"$f":"'Data Input'!$BI$5","v":0},{"$f":"'Data Input'!$BI$3","v":0},{"$f":"'Data Input'!$BI$4","v":0}]
[null,{"$f":"'Data Input'!$BJ$8","v":"Sp"},{"$f":"'Data Input'!$BJ$1","v":9},{"$f":"'Data Input'!$BJ$7","v":"-"},{"$f":"'Data Input'!$BJ$6","v":"guitar"},{"$f":"'Data Input'!$BJ$2","v":0},{"$f":"'Data Input'!$BJ$5","v":0},{"$f":"'Data Input'!$BJ$3","v":0},{"$f":"'Data Input'!$BJ$4","v":0}]
[null,{"$f":"'Data Input'!$BK$8","v":"Sp"},{"$f":"'Data Input'!$BK$1","v":10},{"$f":"'Data Input'!$BK$7","v":"-"},{"$f":"'Data Input'!$BK$6","v":"copied"},{"$f":"'Data Input'!$BK$2","v":0},{"$f":"'Data Input'!$BK$5","v":0},{"$f":"'Data Input'!$BK$3","v":0},{"$f":"'Data Input'!$BK$4","v":0}]
[null,{"$f":"'Data Input'!$BL$8","v":"Sp"},{"$f":"'Data Input'!$BL$1","v":11},{"$f":"'Data Input'!$BL$7","v":"-"},{"$f":"'Data Input'!$BL$6","v":"suggested"},{"$f":"'Data Input'!$BL$2","v":0},{"$f":"'Data Input'!$BL$5","v":0},{"$f":"'Data Input'!$BL$3","v":0},{"$f":"'Data Input'!$BL$4","v":0}]
[null,{"$f":"'Data Input'!$BM$8","v":"Sp"},{"$f":"'Data Input'!$BM$1","v":12},{"$f":"'Data Input'!$BM$7","v":"-"},{"$f":"'Data Input'!$BM$6","v":"crystal"},{"$f":"'Data Input'!$BM$2","v":0},{"$f":"'Data Input'!$BM$5","v":0},{"$f":"'Data Input'!$BM$3","v":0},{"$f":"'Data Input'!$BM$4","v":0}]
[null,{"$f":"'Data Input'!$BN$8","v":"Sp"},{"$f":"'Data Input'!$BN$1","v":13},{"$f":"'Data Input'!$BN$7","v":"-"},{"$f":"'Data Input'!$BN$6","v":"whistling"},{"$f":"'Data Input'!$BN$2","v":0},{"$f":"'Data Input'!$BN$5","v":0},{"$f":"'Data Input'!$BN$3","v":0},{"$f":"'Data Input'!$BN$4","v":0}]
[null,{"$f":"'Data Input'!$BO$8","v":"Sp"},{"$f":"'Data Input'!$BO$1","v":14},{"$f":"'Data Input'!$BO$7","v":"-"},{"$f":"'Data Input'!$BO$6","v":"instructor"},{"$f":"'Data Input'!$BO$2","v":0},{"$f":"'Data Input'!$BO$5","v":0},{"$f":"'Data Input'!$BO$3","v":0},{"$f":"'Data Input'!$BO$4","v":0}]
[null,{"$f":"'Data Input'!$BP$8","v":"Sp"},{"$f":"'Data Input'!$BP$1","v":15},{"$f":"'Data Input'!$BP$7","v":"-"},{"$f":"'Data Input'!$BP$6","v":"expression"},{"$f":"'Data Input'!$BP$2","v":0},{"$f":"'Data Input'!$BP$5","v":0},{"$f":"'Data Input'!$BP$3","v":0},{"$f":"'Data Input'!$BP$4","v":0}]
[null,{"$f":"'Data Input'!$BQ$8","v":"Sp"},{"$f":"'Data Input'!$BQ$1","v":16},{"$f":"'Data Input'!$BQ$7","v":"-"},{"$f":"'Data Input'!$BQ$6","v":"mammals"},{"$f":"'Data Input'!$BQ$2","v":0},{"$f":"'Data Input'!$BQ$5","v":0},{"$f":"'Data Input'!$BQ$3","v":0},{"$f":"'Data Input'!$BQ$4","v":0}]
[null,{"$f":"'Data Input'!$BR$8","v":"Sp"},{"$f":"'Data Input'!$BR$1","v":17},{"$f":"'Data Input'!$BR$7","v":"-"},{"$f":"'Data Input'!$BR$6","v":"alterations"},{"$f":"'Data Input'!$BR$2","v":0},{"$f":"'Data Input'!$BR$5","v":0},{"$f":"'Data Input'!$BR$3","v":0},{"$f":"'Data Input'!$BR$4","v":0}]
[null,{"$f":"'Data Input'!$BS$8","v":"Sp"},{"$f":"'Data Input'!$BS$1","v":18},{"$f":"'Data Input'!$BS$7","v":"-"},{"$f":"'Data Input'!$BS$6","v":"anxious"},{"$f":"'Data Input'!$BS$2","v":0},{"$f":"'Data Input'!$BS$5","v":0},{"$f":"'Data Input'!$BS$3","v":0},{"$f":"'Data Input'!$BS$4","v":0}]
[null,{"$f":"'Data Input'!$BT$8","v":"Sp"},{"$f":"'Data Input'!$BT$1","v":19},{"$f":"'Data Input'!$BT$7","v":"-"},{"$f":"'Data Input'!$BT$6","v":"gradually"},{"$f":"'Data Input'!$BT$2","v":0},{"$f":"'Data Input'!$BT$5","v":0},{"$f":"'Data Input'!$BT$3","v":0},{"$f":"'Data Input'!$BT$4","v":0}]
[null,{"$f":"'Data Input'!$BU$8","v":"Sp"},{"$f":"'Data Input'!$BU$1","v":20},{"$f":"'Data Input'!$BU$7","v":"-"},{"$f":"'Data Input'!$BU$6","v":"journalist"},{"$f":"'Data Input'!$BU$2","v":0},{"$f":"'Data Input'!$BU$5","v":0},{"$f":"'Data Input'!$BU$3","v":0},{"$f":"'Data Input'!$BU$4","v":0}]
[]
[]
[]
[]
[]
[]
[]
[null,"Sorted by Sub Type"]
[null,"Strand","Question Number","Sub Category","Short Q","Correct","Incorrect or Unanswered","Incorrect","Unanswered"]
[null,{"$f":"'Data Input'!$BB$8","v":"Sp"},{"$f":"'Data Input'!$BB$1","v":1},{"$f":"'Data Input'!$BB$7","v":"-"},{"$f":"'Data Input'!$BB$6","v":"welcome"},{"$f":"'Data Input'!$BB$2","v":0},{"$f":"'Data Input'!$BB$5","v":0},{"$f":"'Data Input'!$BB$3","v":0},{"$f":"'Data Input'!$BB$4","v":0}]
[null,{"$f":"'Data Input'!$BC$8","v":"Sp"},{"$f":"'Data Input'!$BC$1","v":2},{"$f":"'Data Input'!$BC$7","v":"-"},{"$f":"'Data Input'!$BC$6","v":"untidy"},{"$f":"'Data Input'!$BC$2","v":0},{"$f":"'Data Input'!$BC$5","v":0},{"$f":"'Data Input'!$BC$3","v":0},{"$f":"'Data Input'!$BC$4","v":0}]
[null,{"$f":"'Data Input'!$BE$8","v":"Sp"},{"$f":"'Data Input'!$BE$1","v":4},{"$f":"'Data Input'!$BE$7","v":"-"},{"$f":"'Data Input'!$BE$6","v":"highest"},{"$f":"'Data Input'!$BE$2","v":0},{"$f":"'Data Input'!$BE$5","v":0},{"$f":"'Data Input'!$BE$3","v":0},{"$f":"'Data Input'!$BE$4","v":0}]
[null,{"$f":"'Data Input'!$BF$8","v":"Sp"},{"$f":"'Data Input'!$BF$1","v":5},{"$f":"'Data Input'!$BF$7","v":"-"},{"$f":"'Data Input'!$BF$6","v":"rubbed"},{"$f":"'Data Input'!$BF$2","v":0},{"$f":"'Data Input'!$BF$5","v":0},{"$f":"'Data Input'!$BF$3","v":0},{"$f":"'Data Input'!$BF$4","v":0}]
[null,{"$f":"'Data Input'!$BG$8","v":"Sp"},{"$f":"'Data Input'!$BG$1","v":6},{"$f":"'Data Input'!$BG$7","v":"-"},{"$f":"'Data Input'!$BG$6","v":"field"},{"$f":"'Data Input'!$BG$2","v":0},{"$f":"'Data Input'!$BG$5","v":0},{"$f":"'Data Input'!$BG$3","v":0},{"$f":"'Data Input'!$BG$4","v":0}]
[null,{"$f":"'Data Input'!$BO$8","v":"Sp"},{"$f":"'Data Input'!$BO$1","v":14},{"$f":"'Data Input'!$BO$7","v":"-"},{"$f":"'Data Input'!$BO$6","v":"instructor"},{"$f":"'Data Input'!$BO$2","v":0},{"$f":"'Data Input'!$BO$5","v":0},{"$f":"'Data Input'!$BO$3","v":0},{"$f":"'Data Input'!$BO$4","v":0}]
[null,{"$f":"'Data Input'!$BR$8","v":"Sp"},{"$f":"'Data Input'!$BR$1","v":17},{"$f":"'Data Input'!$BR$7","v":"-"},{"$f":"'Data Input'!$BR$6","v":"alterations"},{"$f":"'Data Input'!$BR$2","v":0},{"$f":"'Data Input'!$BR$5","v":0},{"$f":"'Data Input'!$BR$3","v":0},{"$f":"'Data Input'!$BR$4","v":0}]
[null,{"$f":"'Data Input'!$BS$8","v":"Sp"},{"$f":"'Data Input'!$BS$1","v":18},{"$f":"'Data Input'!$BS$7","v":"-"},{"$f":"'Data Input'!$BS$6","v":"anxious"},{"$f":"'Data Input'!$BS$2","v":0},{"$f":"'Data Input'!$BS$5","v":0},{"$f":"'Data Input'!$BS$3","v":0},{"$f":"'Data Input'!$BS$4","v":0}]
[null,{"$f":"'Data Input'!$BT$8","v":"Sp"},{"$f":"'Data Input'!$BT$1","v":19},{"$f":"'Data Input'!$BT$7","v":"-"},{"$f":"'Data Input'!$BT$6","v":"gradually"},{"$f":"'Data Input'!$BT$2","v":0},{"$f":"'Data Input'!$BT$5","v":0},{"$f":"'Data Input'!$BT$3","v":0},{"$f":"'Data Input'!$BT$4","v":0}]
[null,{"$f":"'Data Input'!$BU$8","v":"Sp"},{"$f":"'Data Input'!$BU$1","v":20},{"$f":"'Data Input'!$BU$7","v":"-"},{"$f":"'Data Input'!$BU$6","v":"journalist"},{"$f":"'Data Input'!$BU$2","v":0},{"$f":"'Data Input'!$BU$5","v":0},{"$f":"'Data Input'!$BU$3","v":0},{"$f":"'Data Input'!$BU$4","v":0}]
[null,{"$f":"'Data Input'!#REF!","v":{"$error":"#REF!"}},{"$f":"'Data Input'!#REF!","v":{"$error":"#REF!"}},{"$f":"'Data Input'!#REF!","v":{"$error":"#REF!"}},{"$f":"'Data Input'!#REF!","v":{"$error":"#REF!"}},{"$f":"'Data Input'!#REF!","v":{"$error":"#REF!"}},{"$f":"'Data Input'!#REF!","v":{"$error":"#REF!"}},{"$f":"'Data Input'!#REF!","v":{"$error":"#REF!"}},{"$f":"'Data Input'!#REF!","v":{"$error":"#REF!"}}]
[null,{"$f":"'Data Input'!#REF!","v":{"$error":"#REF!"}},{"$f":"'Data Input'!#REF!","v":{"$error":"#REF!"}},{"$f":"'Data Input'!#REF!","v":{"$error":"#REF!"}},{"$f":"'Data Input'!#REF!","v":{"$error":"#REF!"}},{"$f":"'Data Input'!#REF!","v":{"$error":"#REF!"}},{"$f":"'Data Input'!#REF!","v":{"$error":"#REF!"}},{"$f":"'Data Input'!#REF!","v":{"$error":"#REF!"}},{"$f":"'Data Input'!#REF!","v":{"$error":"#REF!"}}]
[null,{"$f":"'Data Input'!#REF!","v":{"$error":"#REF!"}},{"$f":"'Data Input'!#REF!","v":{"$error":"#REF!"}},{"$f":"'Data Input'!#REF!","v":{"$error":"#REF!"}},{"$f":"'Data Input'!#REF!","v":{"$error":"#REF!"}},{"$f":"'Data Input'!#REF!","v":{"$error":"#REF!"}},{"$f":"'Data Input'!#REF!","v":{"$error":"#REF!"}},{"$f":"'Data Input'!#REF!","v":{"$error":"#REF!"}},{"$f":"'Data Input'!#REF!","v":{"$error":"#REF!"}}]
[null,{"$f":"'Data Input'!#REF!","v":{"$error":"#REF!"}},{"$f":"'Data Input'!#REF!","v":{"$error":"#REF!"}},{"$f":"'Data Input'!#REF!","v":{"$error":"#REF!"}},{"$f":"'Data Input'!#REF!","v":{"$error":"#REF!"}},{"$f":"'Data Input'!#REF!","v":{"$error":"#REF!"}},{"$f":"'Data Input'!#REF!","v":{"$error":"#REF!"}},{"$f":"'Data Input'!#REF!","v":{"$error":"#REF!"}},{"$f":"'Data Input'!#REF!","v":{"$error":"#REF!"}}]
[null,{"$f":"'Data Input'!#REF!","v":{"$error":"#REF!"}},{"$f":"'Data Input'!#REF!","v":{"$error":"#REF!"}},{"$f":"'Data Input'!#REF!","v":{"$error":"#REF!"}},{"$f":"'Data Input'!#REF!","v":{"$error":"#REF!"}},{"$f":"'Data Input'!#REF!","v":{"$error":"#REF!"}},{"$f":"'Data Input'!#REF!","v":{"$error":"#REF!"}},{"$f":"'Data Input'!#REF!","v":{"$error":"#REF!"}},{"$f":"'Data Input'!#REF!","v":{"$error":"#REF!"}}]
[null,{"$f":"'Data Input'!#REF!","v":{"$error":"#REF!"}},{"$f":"'Data Input'!#REF!","v":{"$error":"#REF!"}},{"$f":"'Data Input'!#REF!","v":{"$error":"#REF!"}},{"$f":"'Data Input'!#REF!","v":{"$error":"#REF!"}},{"$f":"'Data Input'!#REF!","v":{"$error":"#REF!"}},{"$f":"'Data Input'!#REF!","v":{"$error":"#REF!"}},{"$f":"'Data Input'!#REF!","v":{"$error":"#REF!"}},{"$f":"'Data Input'!#REF!","v":{"$error":"#REF!"}}]
[null,{"$f":"'Data Input'!#REF!","v":{"$error":"#REF!"}},{"$f":"'Data Input'!#REF!","v":{"$error":"#REF!"}},{"$f":"'Data Input'!#REF!","v":{"$error":"#REF!"}},{"$f":"'Data Input'!#REF!","v":{"$error":"#REF!"}},{"$f":"'Data Input'!#REF!","v":{"$error":"#REF!"}},{"$f":"'Data Input'!#REF!","v":{"$error":"#REF!"}},{"$f":"'Data Input'!#REF!","v":{"$error":"#REF!"}},{"$f":"'Data Input'!#REF!","v":{"$error":"#REF!"}}]
[null,{"$f":"'Data Input'!$BM$8","v":"Sp"},{"$f":"'Data Input'!$BM$1","v":12},{"$f":"'Data Input'!$BM$7","v":"-"},{"$f":"'Data Input'!$BM$6","v":"crystal"},{"$f":"'Data Input'!$BM$2","v":0},{"$f":"'Data Input'!$BM$5","v":0},{"$f":"'Data Input'!$BM$3","v":0},{"$f":"'Data Input'!$BM$4","v":0}]
[null,{"$f":"'Data Input'!#REF!","v":{"$error":"#REF!"}},{"$f":"'Data Input'!#REF!","v":{"$error":"#REF!"}},{"$f":"'Data Input'!#REF!","v":{"$error":"#REF!"}},{"$f":"'Data Input'!#REF!","v":{"$error":"#REF!"}},{"$f":"'Data Input'!#REF!","v":{"$error":"#REF!"}},{"$f":"'Data Input'!#REF!","v":{"$error":"#REF!"}},{"$f":"'Data Input'!#REF!","v":{"$error":"#REF!"}},{"$f":"'Data Input'!#REF!","v":{"$error":"#REF!"}}]
[null,{"$f":"'Data Input'!#REF!","v":{"$error":"#REF!"}},{"$f":"'Data Input'!#REF!","v":{"$error":"#REF!"}},{"$f":"'Data Input'!#REF!","v":{"$error":"#REF!"}},{"$f":"'Data Input'!#REF!","v":{"$error":"#REF!"}},{"$f":"'Data Input'!#REF!","v":{"$error":"#REF!"}},{"$f":"'Data Input'!#REF!","v":{"$error":"#REF!"}},{"$f":"'Data Input'!#REF!","v":{"$error":"#REF!"}},{"$f":"'Data Input'!#REF!","v":{"$error":"#REF!"}}]
[null,{"$f":"'Data Input'!#REF!","v":{"$error":"#REF!"}},{"$f":"'Data Input'!#REF!","v":{"$error":"#REF!"}},{"$f":"'Data Input'!#REF!","v":{"$error":"#REF!"}},{"$f":"'Data Input'!#REF!","v":{"$error":"#REF!"}},{"$f":"'Data Input'!#REF!","v":{"$error":"#REF!"}},{"$f":"'Data Input'!#REF!","v":{"$error":"#REF!"}},{"$f":"'Data Input'!#REF!","v":{"$error":"#REF!"}},{"$f":"'Data Input'!#REF!","v":{"$error":"#REF!"}}]
[null,{"$f":"'Data Input'!#REF!","v":{"$error":"#REF!"}},{"$f":"'Data Input'!#REF!","v":{"$error":"#REF!"}},{"$f":"'Data Input'!#REF!","v":{"$error":"#REF!"}},{"$f":"'Data Input'!#REF!","v":{"$error":"#REF!"}},{"$f":"'Data Input'!#REF!","v":{"$error":"#REF!"}},{"$f":"'Data Input'!#REF!","v":{"$error":"#REF!"}},{"$f":"'Data Input'!#REF!","v":{"$error":"#REF!"}},{"$f":"'Data Input'!#REF!","v":{"$error":"#REF!"}}]
[null,{"$f":"'Data Input'!#REF!","v":{"$error":"#REF!"}},{"$f":"'Data Input'!#REF!","v":{"$error":"#REF!"}},{"$f":"'Data Input'!#REF!","v":{"$error":"#REF!"}},{"$f":"'Data Input'!#REF!","v":{"$error":"#REF!"}},{"$f":"'Data Input'!#REF!","v":{"$error":"#REF!"}},{"$f":"'Data Input'!#REF!","v":{"$error":"#REF!"}},{"$f":"'Data Input'!#REF!","v":{"$error":"#REF!"}},{"$f":"'Data Input'!#REF!","v":{"$error":"#REF!"}}]
[null,{"$f":"'Data Input'!#REF!","v":{"$error":"#REF!"}},{"$f":"'Data Input'!#REF!","v":{"$error":"#REF!"}},{"$f":"'Data Input'!#REF!","v":{"$error":"#REF!"}},{"$f":"'Data Input'!#REF!","v":{"$error":"#REF!"}},{"$f":"'Data Input'!#REF!","v":{"$error":"#REF!"}},{"$f":"'Data Input'!#REF!","v":{"$error":"#REF!"}},{"$f":"'Data Input'!#REF!","v":{"$error":"#REF!"}},{"$f":"'Data Input'!#REF!","v":{"$error":"#REF!"}}]
[null,{"$f":"'Data Input'!#REF!","v":{"$error":"#REF!"}},{"$f":"'Data Input'!#REF!","v":{"$error":"#REF!"}},{"$f":"'Data Input'!#REF!","v":{"$error":"#REF!"}},{"$f":"'Data Input'!#REF!","v":{"$error":"#REF!"}},{"$f":"'Data Input'!#REF!","v":{"$error":"#REF!"}},{"$f":"'Data Input'!#REF!","v":{"$error":"#REF!"}},{"$f":"'Data Input'!#REF!","v":{"$error":"#REF!"}},{"$f":"'Data Input'!#REF!","v":{"$error":"#REF!"}}]
[null,{"$f":"'Data Input'!#REF!","v":{"$error":"#REF!"}},{"$f":"'Data Input'!#REF!","v":{"$error":"#REF!"}},{"$f":"'Data Input'!#REF!","v":{"$error":"#REF!"}},{"$f":"'Data Input'!#REF!","v":{"$error":"#REF!"}},{"$f":"'Data Input'!#REF!","v":{"$error":"#REF!"}},{"$f":"'Data Input'!#REF!","v":{"$error":"#REF!"}},{"$f":"'Data Input'!#REF!","v":{"$error":"#REF!"}},{"$f":"'Data Input'!#REF!","v":{"$error":"#REF!"}}]
[null,{"$f":"'Data Input'!$BP$8","v":"Sp"},{"$f":"'Data Input'!$BP$1","v":15},{"$f":"'Data Input'!$BP$7","v":"-"},{"$f":"'Data Input'!$BP$6","v":"expression"},{"$f":"'Data Input'!$BP$2","v":0},{"$f":"'Data Input'!$BP$5","v":0},{"$f":"'Data Input'!$BP$3","v":0},{"$f":"'Data Input'!$BP$4","v":0}]
[null,{"$f":"'Data Input'!$BQ$8","v":"Sp"},{"$f":"'Data Input'!$BQ$1","v":16},{"$f":"'Data Input'!$BQ$7","v":"-"},{"$f":"'Data Input'!$BQ$6","v":"mammals"},{"$f":"'Data Input'!$BQ$2","v":0},{"$f":"'Data Input'!$BQ$5","v":0},{"$f":"'Data Input'!$BQ$3","v":0},{"$f":"'Data Input'!$BQ$4","v":0}]
[null,{"$f":"'Data Input'!$BH$8","v":"Sp"},{"$f":"'Data Input'!$BH$1","v":7},{"$f":"'Data Input'!$BH$7","v":"-"},{"$f":"'Data Input'!$BH$6","v":"engine"},{"$f":"'Data Input'!$BH$2","v":0},{"$f":"'Data Input'!$BH$5","v":0},{"$f":"'Data Input'!$BH$3","v":0},{"$f":"'Data Input'!$BH$4","v":0}]
[null,{"$f":"'Data Input'!$BI$8","v":"Sp"},{"$f":"'Data Input'!$BI$1","v":8},{"$f":"'Data Input'!$BI$7","v":"-"},{"$f":"'Data Input'!$BI$6","v":"comfort"},{"$f":"'Data Input'!$BI$2","v":0},{"$f":"'Data Input'!$BI$5","v":0},{"$f":"'Data Input'!$BI$3","v":0},{"$f":"'Data Input'!$BI$4","v":0}]
[null,{"$f":"'Data Input'!#REF!","v":{"$error":"#REF!"}},{"$f":"'Data Input'!#REF!","v":{"$error":"#REF!"}},{"$f":"'Data Input'!#REF!","v":{"$error":"#REF!"}},{"$f":"'Data Input'!#REF!","v":{"$error":"#REF!"}},{"$f":"'Data Input'!#REF!","v":{"$error":"#REF!"}},{"$f":"'Data Input'!#REF!","v":{"$error":"#REF!"}},{"$f":"'Data Input'!#REF!","v":{"$error":"#REF!"}},{"$f":"'Data Input'!#REF!","v":{"$error":"#REF!"}}]
[null,{"$f":"'Data Input'!#REF!","v":{"$error":"#REF!"}},{"$f":"'Data Input'!#REF!","v":{"$error":"#REF!"}},{"$f":"'Data Input'!#REF!","v":{"$error":"#REF!"}},{"$f":"'Data Input'!#REF!","v":{"$error":"#REF!"}},{"$f":"'Data Input'!#REF!","v":{"$error":"#REF!"}},{"$f":"'Data Input'!#REF!","v":{"$error":"#REF!"}},{"$f":"'Data Input'!#REF!","v":{"$error":"#REF!"}},{"$f":"'Data Input'!#REF!","v":{"$error":"#REF!"}}]
[null,{"$f":"'Data Input'!$BD$8","v":"Sp"},{"$f":"'Data Input'!$BD$1","v":3},{"$f":"'Data Input'!$BD$7","v":"-"},{"$f":"'Data Input'!$BD$6","v":"message"},{"$f":"'Data Input'!$BD$2","v":0},{"$f":"'Data Input'!$BD$5","v":0},{"$f":"'Data Input'!$BD$3","v":0},{"$f":"'Data Input'!$BD$4","v":0}]
[null,{"$f":"'Data Input'!$BJ$8","v":"Sp"},{"$f":"'Data Input'!$BJ$1","v":9},{"$f":"'Data Input'!$BJ$7","v":"-"},{"$f":"'Data Input'!$BJ$6","v":"guitar"},{"$f":"'Data Input'!$BJ$2","v":0},{"$f":"'Data Input'!$BJ$5","v":0},{"$f":"'Data Input'!$BJ$3","v":0},{"$f":"'Data Input'!$BJ$4","v":0}]
[null,{"$f":"'Data Input'!$BK$8","v":"Sp"},{"$f":"'Data Input'!$BK$1","v":10},{"$f":"'Data Input'!$BK$7","v":"-"},{"$f":"'Data Input'!$BK$6","v":"copied"},{"$f":"'Data Input'!$BK$2","v":0},{"$f":"'Data Input'!$BK$5","v":0},{"$f":"'Data Input'!$BK$3","v":0},{"$f":"'Data Input'!$BK$4","v":0}]
[null,{"$f":"'Data Input'!$BL$8","v":"Sp"},{"$f":"'Data Input'!$BL$1","v":11},{"$f":"'Data Input'!$BL$7","v":"-"},{"$f":"'Data Input'!$BL$6","v":"suggested"},{"$f":"'Data Input'!$BL$2","v":0},{"$f":"'Data Input'!$BL$5","v":0},{"$f":"'Data Input'!$BL$3","v":0},{"$f":"'Data Input'!$BL$4","v":0}]
[null,{"$f":"'Data Input'!$BN$8","v":"Sp"},{"$f":"'Data Input'!$BN$1","v":13},{"$f":"'Data Input'!$BN$7","v":"-"},{"$f":"'Data Input'!$BN$6","v":"whistling"},{"$f":"'Data Input'!$BN$2","v":0},{"$f":"'Data Input'!$BN$5","v":0},{"$f":"'Data Input'!$BN$3","v":0},{"$f":"'Data Input'!$BN$4","v":0}]
[null,{"$f":"'Data Input'!#REF!","v":{"$error":"#REF!"}},{"$f":"'Data Input'!#REF!","v":{"$error":"#REF!"}},{"$f":"'Data Input'!#REF!","v":{"$error":"#REF!"}},{"$f":"'Data Input'!#REF!","v":{"$error":"#REF!"}},{"$f":"'Data Input'!#REF!","v":{"$error":"#REF!"}},{"$f":"'Data Input'!#REF!","v":{"$error":"#REF!"}},{"$f":"'Data Input'!#REF!","v":{"$error":"#REF!"}},{"$f":"'Data Input'!#REF!","v":{"$error":"#REF!"}}]
[null,{"$f":"'Data Input'!#REF!","v":{"$error":"#REF!"}},{"$f":"'Data Input'!#REF!","v":{"$error":"#REF!"}},{"$f":"'Data Input'!#REF!","v":{"$error":"#REF!"}},{"$f":"'Data Input'!#REF!","v":{"$error":"#REF!"}},{"$f":"'Data Input'!#REF!","v":{"$error":"#REF!"}},{"$f":"'Data Input'!#REF!","v":{"$error":"#REF!"}},{"$f":"'Data Input'!#REF!","v":{"$error":"#REF!"}},{"$f":"'Data Input'!#REF!","v":{"$error":"#REF!"}}]
[null,{"$f":"'Data Input'!#REF!","v":{"$error":"#REF!"}},{"$f":"'Data Input'!#REF!","v":{"$error":"#REF!"}},{"$f":"'Data Input'!#REF!","v":{"$error":"#REF!"}},{"$f":"'Data Input'!#REF!","v":{"$error":"#REF!"}},{"$f":"'Data Input'!#REF!","v":{"$error":"#REF!"}},{"$f":"'Data Input'!#REF!","v":{"$error":"#REF!"}},{"$f":"'Data Input'!#REF!","v":{"$error":"#REF!"}},{"$f":"'Data Input'!#REF!","v":{"$error":"#REF!"}}]
[]
[]
[]
[null,null,null,"Sorted by Correct",null,null,null,null,null,null,null,null,null,null,"Sorted by Correct"]
[null,null,null,"Strand","Question Number","Sub Category","Short Q","Correct","Incorrect or Unanswered","Incorrect","Unanswered",null,null,null,"Strand","Question Number","Sub Category","Short Q","Correct","Incorrect or unanswered","Incorrect","Unanswered"]
[null,{"$f":"RANK(C77,$C$77:$C$146)","v":1},{"$f":" H77 - ROW()*0.000000001","v":-7.7000000000000001E-8},{"$f":"'Data Input'!$BB$8","v":"Sp"},{"$f":"'Data Input'!$BB$1","v":1},{"$f":"'Data Input'!$BB$7","v":"-"},{"$f":"'Data Input'!$BB$6","v":"welcome"},{"$f":"'Data Input'!$BB$2","v":0},{"$f":"'Data Input'!$BB$5","v":0},{"$f":"'Data Input'!$BB$3","v":0},{"$f":"'Data Input'!$BB$4","v":0},null,{"$f":"VLOOKUP(ROW()-ROW(M$76),$B$77:$J$146,1,FALSE)","v":1},{"$f":"VLOOKUP(ROW()-ROW(M$76),$B$77:$J$146,2,FALSE)","v":-7.7000000000000001E-8},{"$f":"VLOOKUP(ROW()-ROW(M$76),$B$77:$J$146,3,FALSE)","v":"Sp"},{"$f":"VLOOKUP(ROW()-ROW(M$76),$B$77:$J$146,4,FALSE)","v":1},{"$f":"VLOOKUP(ROW()-ROW(M$76),$B$77:$J$146,5,FALSE)","v":"-"},{"$f":"VLOOKUP(ROW()-ROW(M$76),$B$77:$J$146,6,FALSE)","v":"welcome"},{"$f":"VLOOKUP(ROW()-ROW(M$76),$B$77:$J$146,7,FALSE)","v":0},{"$f":"VLOOKUP(ROW()-ROW(M$76),$B$77:$J$146,8,FALSE)","v":0},{"$f":"VLOOKUP(ROW()-ROW(M$76),$B$77:$K$146,9,FALSE)","v":0},{"$f":"VLOOKUP(ROW()-ROW(M$76),$B$77:$K$146,10,FALSE)","v":0}]
[null,2,{"$f":" H78 - ROW()*0.000000001","v":-7.800000000000001E-8},{"$f":"'Data Input'!$BC$8","v":"Sp"},{"$f":"'Data Input'!$BC$1","v":2},{"$f":"'Data Input'!$BC$7","v":"-"},{"$f":"'Data Input'!$BC$6","v":"untidy"},{"$f":"'Data Input'!$BC$2","v":0},{"$f":"'Data Input'!$BC$5","v":0},{"$f":"'Data Input'!$BC$3","v":0},{"$f":"'Data Input'!$BC$4","v":0},null,2,-7.800000000000001E-8,{"$f":"VLOOKUP(ROW()-ROW(M$76),$B$77:$J$146,3,FALSE)","v":"Sp"},{"$f":"VLOOKUP(ROW()-ROW(M$76),$B$77:$J$146,4,FALSE)","v":2},{"$f":"VLOOKUP(ROW()-ROW(M$76),$B$77:$J$146,5,FALSE)","v":"-"},{"$f":"VLOOKUP(ROW()-ROW(M$76),$B$77:$J$146,6,FALSE)","v":"untidy"},{"$f":"VLOOKUP(ROW()-ROW(M$76),$B$77:$J$146,7,FALSE)","v":0},{"$f":"VLOOKUP(ROW()-ROW(M$76),$B$77:$J$146,8,FALSE)","v":0},{"$f":"VLOOKUP(ROW()-ROW(M$76),$B$77:$K$146,9,FALSE)","v":0},{"$f":"VLOOKUP(ROW()-ROW(M$76),$B$77:$K$146,10,FALSE)","v":0}]
[null,3,-7.9000000000000006E-8,{"$f":"'Data Input'!$BD$8","v":"Sp"},{"$f":"'Data Input'!$BD$1","v":3},{"$f":"'Data Input'!$BD$7","v":"-"},{"$f":"'Data Input'!$BD$6","v":"message"},{"$f":"'Data Input'!$BD$2","v":0},{"$f":"'Data Input'!$BD$5","v":0},{"$f":"'Data Input'!$BD$3","v":0},{"$f":"'Data Input'!$BD$4","v":0},null,3,-7.9000000000000006E-8,"Sp",3,"-","message",0,0,0,0]
[null,4,-8.0000000000000002E-8,{"$f":"'Data Input'!$BE$8","v":"Sp"},{"$f":"'Data Input'!$BE$1","v":4},{"$f":"'Data Input'!$BE$7","v":"-"},{"$f":"'Data Input'!$BE$6","v":"highest"},{"$f":"'Data Input'!$BE$2","v":0},{"$f":"'Data Input'!$BE$5","v":0},{"$f":"'Data Input'!$BE$3","v":0},{"$f":"'Data Input'!$BE$4","v":0},null,4,-8.0000000000000002E-8,"Sp",4,"-","highest",0,0,0,0]
[null,5,-8.1000000000000011E-8,{"$f":"'Data Input'!$BF$8","v":"Sp"},{"$f":"'Data Input'!$BF$1","v":5},{"$f":"'Data Input'!$BF$7","v":"-"},{"$f":"'Data Input'!$BF$6","v":"rubbed"},{"$f":"'Data Input'!$BF$2","v":0},{"$f":"'Data Input'!$BF$5","v":0},{"$f":"'Data Input'!$BF$3","v":0},{"$f":"'Data Input'!$BF$4","v":0},null,5,-8.1000000000000011E-8,"Sp",5,"-","rubbed",0,0,0,0]
[null,6,-8.2000000000000006E-8,{"$f":"'Data Input'!$BG$8","v":"Sp"},{"$f":"'Data Input'!$BG$1","v":6},{"$f":"'Data Input'!$BG$7","v":"-"},{"$f":"'Data Input'!$BG$6","v":"field"},{"$f":"'Data Input'!$BG$2","v":0},{"$f":"'Data Input'!$BG$5","v":0},{"$f":"'Data Input'!$BG$3","v":0},{"$f":"'Data Input'!$BG$4","v":0},null,6,-8.2000000000000006E-8,"Sp",6,"-","field",0,0,0,0]
[null,7,-8.3000000000000002E-8,{"$f":"'Data Input'!$BH$8","v":"Sp"},{"$f":"'Data Input'!$BH$1","v":7},{"$f":"'Data Input'!$BH$7","v":"-"},{"$f":"'Data Input'!$BH$6","v":"engine"},{"$f":"'Data Input'!$BH$2","v":0},{"$f":"'Data Input'!$BH$5","v":0},{"$f":"'Data Input'!$BH$3","v":0},{"$f":"'Data Input'!$BH$4","v":0},null,7,-8.3000000000000002E-8,"Sp",7,"-","engine",0,0,0,0]
[null,8,-8.4000000000000011E-8,{"$f":"'Data Input'!$BI$8","v":"Sp"},{"$f":"'Data Input'!$BI$1","v":8},{"$f":"'Data Input'!$BI$7","v":"-"},{"$f":"'Data Input'!$BI$6","v":"comfort"},{"$f":"'Data Input'!$BI$2","v":0},{"$f":"'Data Input'!$BI$5","v":0},{"$f":"'Data Input'!$BI$3","v":0},{"$f":"'Data Input'!$BI$4","v":0},null,8,-8.4000000000000011E-8,"Sp",8,"-","comfort",0,0,0,0]
[null,9,-8.5000000000000007E-8,{"$f":"'Data Input'!$BJ$8","v":"Sp"},{"$f":"'Data Input'!$BJ$1","v":9},{"$f":"'Data Input'!$BJ$7","v":"-"},{"$f":"'Data Input'!$BJ$6","v":"guitar"},{"$f":"'Data Input'!$BJ$2","v":0},{"$f":"'Data Input'!$BJ$5","v":0},{"$f":"'Data Input'!$BJ$3","v":0},{"$f":"'Data Input'!$BJ$4","v":0},null,9,-8.5000000000000007E-8,"Sp",9,"-","guitar",0,0,0,0]
[null,10,-8.6000000000000002E-8,{"$f":"'Data Input'!$BK$8","v":"Sp"},{"$f":"'Data Input'!$BK$1","v":10},{"$f":"'Data Input'!$BK$7","v":"-"},{"$f":"'Data Input'!$BK$6","v":"copied"},{"$f":"'Data Input'!$BK$2","v":0},{"$f":"'Data Input'!$BK$5","v":0},{"$f":"'Data Input'!$BK$3","v":0},{"$f":"'Data Input'!$BK$4","v":0},null,10,-8.6000000000000002E-8,"Sp",10,"-","copied",0,0,0,0]
[null,11,-8.7000000000000011E-8,{"$f":"'Data Input'!$BL$8","v":"Sp"},{"$f":"'Data Input'!$BL$1","v":11},{"$f":"'Data Input'!$BL$7","v":"-"},{"$f":"'Data Input'!$BL$6","v":"suggested"},{"$f":"'Data Input'!$BL$2","v":0},{"$f":"'Data Input'!$BL$5","v":0},{"$f":"'Data Input'!$BL$3","v":0},{"$f":"'Data Input'!$BL$4","v":0},null,11,-8.7000000000000011E-8,"Sp",11,"-","suggested",0,0,0,0]
[null,12,-8.8000000000000007E-8,{"$f":"'Data Input'!$BM$8","v":"Sp"},{"$f":"'Data Input'!$BM$1","v":12},{"$f":"'Data Input'!$BM$7","v":"-"},{"$f":"'Data Input'!$BM$6","v":"crystal"},{"$f":"'Data Input'!$BM$2","v":0},{"$f":"'Data Input'!$BM$5","v":0},{"$f":"'Data Input'!$BM$3","v":0},{"$f":"'Data Input'!$BM$4","v":0},null,12,-8.8000000000000007E-8,"Sp",12,"-","crystal",0,0,0,0]
[null,13,-8.9000000000000003E-8,{"$f":"'Data Input'!$BN$8","v":"Sp"},{"$f":"'Data Input'!$BN$1","v":13},{"$f":"'Data Input'!$BN$7","v":"-"},{"$f":"'Data Input'!$BN$6","v":"whistling"},{"$f":"'Data Input'!$BN$2","v":0},{"$f":"'Data Input'!$BN$5","v":0},{"$f":"'Data Input'!$BN$3","v":0},{"$f":"'Data Input'!$BN$4","v":0},null,13,-8.9000000000000003E-8,"Sp",13,"-","whistling",0,0,0,0]
[null,14,-9.0000000000000012E-8,{"$f":"'Data Input'!$BO$8","v":"Sp"},{"$f":"'Data Input'!$BO$1","v":14},{"$f":"'Data Input'!$BO$7","v":"-"},{"$f":"'Data Input'!$BO$6","v":"instructor"},{"$f":"'Data Input'!$BO$2","v":0},{"$f":"'Data Input'!$BO$5","v":0},{"$f":"'Data Input'!$BO$3","v":0},{"$f":"'Data Input'!$BO$4","v":0},null,14,-9.0000000000000012E-8,"Sp",14,"-","instructor",0,0,0,0]
[null,15,-9.1000000000000008E-8,{"$f":"'Data Input'!$BP$8","v":"Sp"},{"$f":"'Data Input'!$BP$1","v":15},{"$f":"'Data Input'!$BP$7","v":"-"},{"$f":"'Data Input'!$BP$6","v":"expression"},{"$f":"'Data Input'!$BP$2","v":0},{"$f":"'Data Input'!$BP$5","v":0},{"$f":"'Data Input'!$BP$3","v":0},{"$f":"'Data Input'!$BP$4","v":0},null,15,-9.1000000000000008E-8,"Sp",15,"-","expression",0,0,0,0]
[null,16,-9.2000000000000003E-8,{"$f":"'Data Input'!$BQ$8","v":"Sp"},{"$f":"'Data Input'!$BQ$1","v":16},{"$f":"'Data Input'!$BQ$7","v":"-"},{"$f":"'Data Input'!$BQ$6","v":"mammals"},{"$f":"'Data Input'!$BQ$2","v":0},{"$f":"'Data Input'!$BQ$5","v":0},{"$f":"'Data Input'!$BQ$3","v":0},{"$f":"'Data Input'!$BQ$4","v":0},null,16,-9.2000000000000003E-8,"Sp",16,"-","mammals",0,0,0,0]
[null,17,-9.3000000000000012E-8,{"$f":"'Data Input'!$BR$8","v":"Sp"},{"$f":"'Data Input'!$BR$1","v":17},{"$f":"'Data Input'!$BR$7","v":"-"},{"$f":"'Data Input'!$BR$6","v":"alterations"},{"$f":"'Data Input'!$BR$2","v":0},{"$f":"'Data Input'!$BR$5","v":0},{"$f":"'Data Input'!$BR$3","v":0},{"$f":"'Data Input'!$BR$4","v":0},null,17,-9.3000000000000012E-8,"Sp",17,"-","alterations",0,0,0,0]
[null,18,-9.4000000000000008E-8,{"$f":"'Data Input'!$BS$8","v":"Sp"},{"$f":"'Data Input'!$BS$1","v":18},{"$f":"'Data Input'!$BS$7","v":"-"},{"$f":"'Data Input'!$BS$6","v":"anxious"},{"$f":"'Data Input'!$BS$2","v":0},{"$f":"'Data Input'!$BS$5","v":0},{"$f":"'Data Input'!$BS$3","v":0},{"$f":"'Data Input'!$BS$4","v":0},null,18,-9.4000000000000008E-8,"Sp",18,"-","anxious",0,0,0,0]
[null,19,-9.5000000000000004E-8,{"$f":"'Data Input'!$BT$8","v":"Sp"},{"$f":"'Data Input'!$BT$1","v":19},{"$f":"'Data Input'!$BT$7","v":"-"},{"$f":"'Data Input'!$BT$6","v":"gradually"},{"$f":"'Data Input'!$BT$2","v":0},{"$f":"'Data Input'!$BT$5","v":0},{"$f":"'Data Input'!$BT$3","v":0},{"$f":"'Data Input'!$BT$4","v":0},null,19,-9.5000000000000004E-8,"Sp",19,"-","gradually",0,0,0,0]
[null,20,-9.6000000000000013E-8,{"$f":"'Data Input'!$BU$8","v":"Sp"},{"$f":"'Data Input'!$BU$1","v":20},{"$f":"'Data Input'!$BU$7","v":"-"},{"$f":"'Data Input'!$BU$6","v":"journalist"},{"$f":"'Data Input'!$BU$2","v":0},{"$f":"'Data Input'!$BU$5","v":0},{"$f":"'Data Input'!$BU$3","v":0},{"$f":"'Data Input'!$BU$4","v":0},null,20,-9.6000000000000013E-8,"Sp",20,"-","journalist",0,0,0,0]
[null,null,null,{"$f":"'Data Input'!#REF!","v":{"$error":"#REF!"}},{"$f":"'Data Input'!#REF!","v":{"$error":"#REF!"}},{"$f":"'Data Input'!#REF!","v":{"$error":"#REF!"}},{"$f":"'Data Input'!#REF!","v":{"$error":"#REF!"}},{"$f":"'Data Input'!#REF!","v":{"$error":"#REF!"}},{"$f":"'Data Input'!#REF!","v":{"$error":"#REF!"}},{"$f":"'Data Input'!#REF!","v":{"$error":"#REF!"}},{"$f":"'Data Input'!#REF!","v":{"$error":"#REF!"}}]
[null,null,null,{"$f":"'Data Input'!#REF!","v":{"$error":"#REF!"}},{"$f":"'Data Input'!#REF!","v":{"$error":"#REF!"}},{"$f":"'Data Input'!#REF!","v":{"$error":"#REF!"}},{"$f":"'Data Input'!#REF!","v":{"$error":"#REF!"}},{"$f":"'Data Input'!#REF!","v":{"$error":"#REF!"}},{"$f":"'Data Input'!#REF!","v":{"$error":"#REF!"}},{"$f":"'Data Input'!#REF!","v":{"$error":"#REF!"}},{"$f":"'Data Input'!#REF!","v":{"$error":"#REF!"}}]
[null,null,null,{"$f":"'Data Input'!#REF!","v":{"$error":"#REF!"}},{"$f":"'Data Input'!#REF!","v":{"$error":"#REF!"}},{"$f":"'Data Input'!#REF!","v":{"$error":"#REF!"}},{"$f":"'Data Input'!#REF!","v":{"$error":"#REF!"}},{"$f":"'Data Input'!#REF!","v":{"$error":"#REF!"}},{"$f":"'Data Input'!#REF!","v":{"$error":"#REF!"}},{"$f":"'Data Input'!#REF!","v":{"$error":"#REF!"}},{"$f":"'Data Input'!#REF!","v":{"$error":"#REF!"}}]
[null,null,null,{"$f":"'Data Input'!#REF!","v":{"$error":"#REF!"}},{"$f":"'Data Input'!#REF!","v":{"$error":"#REF!"}},{"$f":"'Data Input'!#REF!","v":{"$error":"#REF!"}},{"$f":"'Data Input'!#REF!","v":{"$error":"#REF!"}},{"$f":"'Data Input'!#REF!","v":{"$error":"#REF!"}},{"$f":"'Data Input'!#REF!","v":{"$error":"#REF!"}},{"$f":"'Data Input'!#REF!","v":{"$error":"#REF!"}},{"$f":"'Data Input'!#REF!","v":{"$error":"#REF!"}}]
[null,null,null,{"$f":"'Data Input'!#REF!","v":{"$error":"#REF!"}},{"$f":"'Data Input'!#REF!","v":{"$error":"#REF!"}},{"$f":"'Data Input'!#REF!","v":{"$error":"#REF!"}},{"$f":"'Data Input'!#REF!","v":{"$error":"#REF!"}},{"$f":"'Data Input'!#REF!","v":{"$error":"#REF!"}},{"$f":"'Data Input'!#REF!","v":{"$error":"#REF!"}},{"$f":"'Data Input'!#REF!","v":{"$error":"#REF!"}},{"$f":"'Data Input'!#REF!","v":{"$error":"#REF!"}}]
[null,null,null,{"$f":"'Data Input'!#REF!","v":{"$error":"#REF!"}},{"$f":"'Data Input'!#REF!","v":{"$error":"#REF!"}},{"$f":"'Data Input'!#REF!","v":{"$error":"#REF!"}},{"$f":"'Data Input'!#REF!","v":{"$error":"#REF!"}},{"$f":"'Data Input'!#REF!","v":{"$error":"#REF!"}},{"$f":"'Data Input'!#REF!","v":{"$error":"#REF!"}},{"$f":"'Data Input'!#REF!","v":{"$error":"#REF!"}},{"$f":"'Data Input'!#REF!","v":{"$error":"#REF!"}}]
[null,null,null,{"$f":"'Data Input'!#REF!","v":{"$error":"#REF!"}},{"$f":"'Data Input'!#REF!","v":{"$error":"#REF!"}},{"$f":"'Data Input'!#REF!","v":{"$error":"#REF!"}},{"$f":"'Data Input'!#REF!","v":{"$error":"#REF!"}},{"$f":"'Data Input'!#REF!","v":{"$error":"#REF!"}},{"$f":"'Data Input'!#REF!","v":{"$error":"#REF!"}},{"$f":"'Data Input'!#REF!","v":{"$error":"#REF!"}},{"$f":"'Data Input'!#REF!","v":{"$error":"#REF!"}}]
[null,null,null,{"$f":"'Data Input'!#REF!","v":{"$error":"#REF!"}},{"$f":"'Data Input'!#REF!","v":{"$error":"#REF!"}},{"$f":"'Data Input'!#REF!","v":{"$error":"#REF!"}},{"$f":"'Data Input'!#REF!","v":{"$error":"#REF!"}},{"$f":"'Data Input'!#REF!","v":{"$error":"#REF!"}},{"$f":"'Data Input'!#REF!","v":{"$error":"#REF!"}},{"$f":"'Data Input'!#REF!","v":{"$error":"#REF!"}},{"$f":"'Data Input'!#REF!","v":{"$error":"#REF!"}}]
[null,null,null,{"$f":"'Data Input'!#REF!","v":{"$error":"#REF!"}},{"$f":"'Data Input'!#REF!","v":{"$error":"#REF!"}},{"$f":"'Data Input'!#REF!","v":{"$error":"#REF!"}},{"$f":"'Data Input'!#REF!","v":{"$error":"#REF!"}},{"$f":"'Data Input'!#REF!","v":{"$error":"#REF!"}},{"$f":"'Data Input'!#REF!","v":{"$error":"#REF!"}},{"$f":"'Data Input'!#REF!","v":{"$error":"#REF!"}},{"$f":"'Data Input'!#REF!","v":{"$error":"#REF!"}}]
[null,null,null,{"$f":"'Data Input'!#REF!","v":{"$error":"#REF!"}},{"$f":"'Data Input'!#REF!","v":{"$error":"#REF!"}},{"$f":"'Data Input'!#REF!","v":{"$error":"#REF!"}},{"$f":"'Data Input'!#REF!","v":{"$error":"#REF!"}},{"$f":"'Data Input'!#REF!","v":{"$error":"#REF!"}},{"$f":"'Data Input'!#REF!","v":{"$error":"#REF!"}},{"$f":"'Data Input'!#REF!","v":{"$error":"#REF!"}},{"$f":"'Data Input'!#REF!","v":{"$error":"#REF!"}}]
[null,null,null,{"$f":"'Data Input'!#REF!","v":{"$error":"#REF!"}},{"$f":"'Data Input'!#REF!","v":{"$error":"#REF!"}},{"$f":"'Data Input'!#REF!","v":{"$error":"#REF!"}},{"$f":"'Data Input'!#REF!","v":{"$error":"#REF!"}},{"$f":"'Data Input'!#REF!","v":{"$error":"#REF!"}},{"$f":"'Data Input'!#REF!","v":{"$error":"#REF!"}},{"$f":"'Data Input'!#REF!","v":{"$error":"#REF!"}},{"$f":"'Data Input'!#REF!","v":{"$error":"#REF!"}}]
[null,null,null,{"$f":"'Data Input'!#REF!","v":{"$error":"#REF!"}},{"$f":"'Data Input'!#REF!","v":{"$error":"#REF!"}},{"$f":"'Data Input'!#REF!","v":{"$error":"#REF!"}},{"$f":"'Data Input'!#REF!","v":{"$error":"#REF!"}},{"$f":"'Data Input'!#REF!","v":{"$error":"#REF!"}},{"$f":"'Data Input'!#REF!","v":{"$error":"#REF!"}},{"$f":"'Data Input'!#REF!","v":{"$error":"#REF!"}},{"$f":"'Data Input'!#REF!","v":{"$error":"#REF!"}}]
[null,null,null,{"$f":"'Data Input'!#REF!","v":{"$error":"#REF!"}},{"$f":"'Data Input'!#REF!","v":{"$error":"#REF!"}},{"$f":"'Data Input'!#REF!","v":{"$error":"#REF!"}},{"$f":"'Data Input'!#REF!","v":{"$error":"#REF!"}},{"$f":"'Data Input'!#REF!","v":{"$error":"#REF!"}},{"$f":"'Data Input'!#REF!","v":{"$error":"#REF!"}},{"$f":"'Data Input'!#REF!","v":{"$error":"#REF!"}},{"$f":"'Data Input'!#REF!","v":{"$error":"#REF!"}}]
[null,null,null,{"$f":"'Data Input'!#REF!","v":{"$error":"#REF!"}},{"$f":"'Data Input'!#REF!","v":{"$error":"#REF!"}},{"$f":"'Data Input'!#REF!","v":{"$error":"#REF!"}},{"$f":"'Data Input'!#REF!","v":{"$error":"#REF!"}},{"$f":"'Data Input'!#REF!","v":{"$error":"#REF!"}},{"$f":"'Data Input'!#REF!","v":{"$error":"#REF!"}},{"$f":"'Data Input'!#REF!","v":{"$error":"#REF!"}},{"$f":"'Data Input'!#REF!","v":{"$error":"#REF!"}}]
[null,null,null,{"$f":"'Data Input'!#REF!","v":{"$error":"#REF!"}},{"$f":"'Data Input'!#REF!","v":{"$error":"#REF!"}},{"$f":"'Data Input'!#REF!","v":{"$error":"#REF!"}},{"$f":"'Data Input'!#REF!","v":{"$error":"#REF!"}},{"$f":"'Data Input'!#REF!","v":{"$error":"#REF!"}},{"$f":"'Data Input'!#REF!","v":{"$error":"#REF!"}},{"$f":"'Data Input'!#REF!","v":{"$error":"#REF!"}},{"$f":"'Data Input'!#REF!","v":{"$error":"#REF!"}}]
[null,null,null,{"$f":"'Data Input'!#REF!","v":{"$error":"#REF!"}},{"$f":"'Data Input'!#REF!","v":{"$error":"#REF!"}},{"$f":"'Data Input'!#REF!","v":{"$error":"#REF!"}},{"$f":"'Data Input'!#REF!","v":{"$error":"#REF!"}},{"$f":"'Data Input'!#REF!","v":{"$error":"#REF!"}},{"$f":"'Data Input'!#REF!","v":{"$error":"#REF!"}},{"$f":"'Data Input'!#REF!","v":{"$error":"#REF!"}},{"$f":"'Data Input'!#REF!","v":{"$error":"#REF!"}}]
[null,null,null,{"$f":"'Data Input'!#REF!","v":{"$error":"#REF!"}},{"$f":"'Data Input'!#REF!","v":{"$error":"#REF!"}},{"$f":"'Data Input'!#REF!","v":{"$error":"#REF!"}},{"$f":"'Data Input'!#REF!","v":{"$error":"#REF!"}},{"$f":"'Data Input'!#REF!","v":{"$error":"#REF!"}},{"$f":"'Data Input'!#REF!","v":{"$error":"#REF!"}},{"$f":"'Data Input'!#REF!","v":{"$error":"#REF!"}},{"$f":"'Data Input'!#REF!","v":{"$error":"#REF!"}}]
[null,null,null,{"$f":"'Data Input'!#REF!","v":{"$error":"#REF!"}},{"$f":"'Data Input'!#REF!","v":{"$error":"#REF!"}},{"$f":"'Data Input'!#REF!","v":{"$error":"#REF!"}},{"$f":"'Data Input'!#REF!","v":{"$error":"#REF!"}},{"$f":"'Data Input'!#REF!","v":{"$error":"#REF!"}},{"$f":"'Data Input'!#REF!","v":{"$error":"#REF!"}},{"$f":"'Data Input'!#REF!","v":{"$error":"#REF!"}},{"$f":"'Data Input'!#REF!","v":{"$error":"#REF!"}}]
[null,null,null,{"$f":"'Data Input'!#REF!","v":{"$error":"#REF!"}},{"$f":"'Data Input'!#REF!","v":{"$error":"#REF!"}},{"$f":"'Data Input'!#REF!","v":{"$error":"#REF!"}},{"$f":"'Data Input'!#REF!","v":{"$error":"#REF!"}},{"$f":"'Data Input'!#REF!","v":{"$error":"#REF!"}},{"$f":"'Data Input'!#REF!","v":{"$error":"#REF!"}},{"$f":"'Data Input'!#REF!","v":{"$error":"#REF!"}},{"$f":"'Data Input'!#REF!","v":{"$error":"#REF!"}}]
[null,null,null,{"$f":"'Data Input'!#REF!","v":{"$error":"#REF!"}},{"$f":"'Data Input'!#REF!","v":{"$error":"#REF!"}},{"$f":"'Data Input'!#REF!","v":{"$error":"#REF!"}},{"$f":"'Data Input'!#REF!","v":{"$error":"#REF!"}},{"$f":"'Data Input'!#REF!","v":{"$error":"#REF!"}},{"$f":"'Data Input'!#REF!","v":{"$error":"#REF!"}},{"$f":"'Data Input'!#REF!","v":{"$error":"#REF!"}},{"$f":"'Data Input'!#REF!","v":{"$error":"#REF!"}}]

{"sheet":"Pupil Summary","index":4,"n_rows":273,"n_cols":22,"rows_kept":273,"cut":false,"hidden":false,"merged":[[1,20,1,21],[1,18,1,19],[1,1,1,5],[1,16,1,17],[1,6,1,7],[1,8,1,9],[1,10,1,11],[1,14,1,15],[1,12,1,13]]}
[null,null,"Green: <15, Amber: <45, Red: >45",null,"Green %>",0.79,"Amber %>",0.64,"Red %<",{"$f":"H1","v":0.64},null,null,"Individual Summary in Each Overall Area",null,"Individual Summary in Each Overall Area"]
[{"$f":"\"Total Pupils: \" & COUNTA('Data Input'!A10:A278)","v":"Total Pupils: 0"},"Overall",null,null,null,null,"Complex Sentences (CS)",null,"Standard English (SE)",null,"Punctuation (P)",null,"Features of Sentences (FS)",null,"Grammar Terms and Word Classes (GT)",null,"Vocabulary (V)",null,"Formal / Informal (F/I)",null,"Spelling (Sp)"]
["Name:","Unanswered","Incorrect","Incorrecr or Unanswered",{"$f":"\"Total Score \"&COUNTA('Data Input'!C8:BU8)-1","v":"Total Score 70"},"Percent",{"$f":"\"Score /\" & COUNTIF('Data Input'!$C$8:$BU$8,\"CS\")","v":"Score /4"},"Percent",{"$f":"\"Score /\" & COUNTIF('Data Input'!$C$8:$BU$8,\"SE\")","v":"Score /5"},"Percent",{"$f":"\"Score /\" & COUNTIF('Data Input'!$C$8:$BU$8,\"P\")","v":"Score /15"},"Percent",{"$f":"\"Score /\" & COUNTIF('Data Input'!$C$8:$BU$8,\"FS\")","v":"Score /2"},"Percent ",{"$f":"\"Score /\" & COUNTIF('Data Input'!$C$8:$BU$8,\"GT\")","v":"Score /16"},"Percent ",{"$f":"\"Score /\" & COUNTIF('Data Input'!$C$8:$BU$8,\"V\")","v":"Score /6"},"Percent",{"$f":"\"Score /\" & COUNTIF('Data Input'!$C$8:$BU$8,\"F/I\")","v":"Score /2"},"Percent",{"$f":"\"Score /\" & COUNTIF('Data Input'!$C$8:$BU$8,\"Sp\")","v":"Score /20"},"Percent"]
[]
[{"$f":"IF('Data Input'!A10=0,\"\",'Data Input'!A10)","v":""},{"$f":"IF(ISBLANK('Data Input'!A10),\"\",COUNTIF('Data Input'!C10:BU10,\"\")-1)","v":""},{"$f":"IF(ISBLANK('Data Input'!A10),\"\",COUNTIF('Data Input'!C10:BU10,\"0\"))","v":""},{"$f":"IF(ISBLANK('Data Input'!A10),\"\",SUM(B5,C5))","v":""},{"$f":"IF(ISBLANK('Data Input'!A10),\"\",SUM('Data Input'!C10:BU10))","v":""},{"$f":"IF(E5=\"\",\"\",E5/(COUNTA('Data Input'!$C$8:$BU$8)-1))","v":""},{"$f":"IF(ISBLANK('Data Input'!A10),\"\",SUM('Data Input'!H10,'Data Input'!AA10,'Data Input'!AO10,'Data Input'!AP10))","v":""},{"$f":"IF(G5=\"\",\"\",G5/COUNTIF('Data Input'!$C$8:$BU$8,\"CS\"))","v":""},{"$f":"IF(ISBLANK('Data Input'!A10),\"\",SUM('Data Input'!P10,'Data Input'!T10,'Data Input'!AD10,'Data Input'!AX10,'Data Input'!AY10))","v":""},{"$f":"IF(I5=\"\",\"\",I5/COUNTIF('Data Input'!$C$8:$BU$8,\"SE\"))","v":""},{"$f":"IF(ISBLANK('Data Input'!A10),\"\",SUM('Data Input'!K10,'Data Input'!L10,'Data Input'!M10,'Data Input'!O10,'Data Input'!Q10,'Data Input'!U10,'Data Input'!X10,'Data Input'!Y10,'Data Input'!Z10,'Data Input'!AB10,'Data Input'!AE10,'Data Input'!AG10,'Data Input'!AL10,'Data Input'!AU10,'Data Input'!AW10))","v":""},{"$f":"IF(K5=\"\",\"\",K5/COUNTIF('Data Input'!$C$8:$BU$8,\"P\"))","v":""},{"$f":"IF(ISBLANK('Data Input'!A10),\"\",SUM('Data Input'!I10,'Data Input'!S10))","v":""},{"$f":"IF(M5=\"\",\"\",M5/COUNTIF('Data Input'!$C$8:$BU$8,\"FS\"))","v":""},{"$f":"IF(ISBLANK('Data Input'!A10),\"\",SUM('Data Input'!D10,'Data Input'!E10,'Data Input'!F10,'Data Input'!G10,'Data Input'!R10,'Data Input'!V10,'Data Input'!W10,'Data Input'!AC10,'Data Input'!AF10,'Data Input'!AH10,'Data Input'!AJ10,'Data Input'!AK10,'Data Input'!AM10,'Data Input'!AQ10,'Data Input'!AR10,'Data Input'!AZ10))","v":""},{"$f":"IF(O5=\"\",\"\",O5/COUNTIF('Data Input'!$C$8:$BU$8,\"GT\"))","v":""},{"$f":"IF(ISBLANK('Data Input'!A10),\"\",SUM('Data Input'!C10,'Data Input'!J10,'Data Input'!N10,'Data Input'!AS10,'Data Input'!AT10,'Data Input'!AV10))","v":""},{"$f":"IF(Q5=\"\",\"\",Q5/COUNTIF('Data Input'!$C$8:$BU$8,\"V\"))","v":""},{"$f":"IF(ISBLANK('Data Input'!A10),\"\",SUM('Data Input'!AI10,'Data Input'!AN10))","v":""},{"$f":"IF(S5=\"\",\"\",S5/COUNTIF('Data Input'!$C$8:$BU$8,\"F/I\"))","v":""},{"$f":"IF(ISBLANK('Data Input'!C10),\"\",SUM('Data Input'!BB10:BU10))","v":""},{"$f":"IF(U5=\"\",\"\",U5/COUNTIF('Data Input'!$C$8:$BU$8,\"Sp\"))","v":""}]
[{"$f":"IF('Data Input'!A11=0,\"\",'Data Input'!A11)","v":""},{"$f":"IF(ISBLANK('Data Input'!A11),\"\",COUNTIF('Data Input'!C11:BU11,\"\")-1)","v":""},{"$f":"IF(ISBLANK('Data Input'!A11),\"\",COUNTIF('Data Input'!C11:BU11,\"0\"))","v":""},{"$f":"IF(ISBLANK('Data Input'!A11),\"\",SUM(B6,C6))","v":""},{"$f":"IF(ISBLANK('Data Input'!A11),\"\",SUM('Data Input'!C11:BU11))","v":""},{"$f":"IF(E6=\"\",\"\",E6/(COUNTA('Data Input'!$C$8:$BU$8)-1))","v":""},{"$f":"IF(ISBLANK('Data Input'!A11),\"\",SUM('Data Input'!H11,'Data Input'!AA11,'Data Input'!AO11,'Data Input'!AP11))","v":""},{"$f":"IF(G6=\"\",\"\",G6/COUNTIF('Data Input'!$C$8:$BU$8,\"CS\"))","v":""},{"$f":"IF(ISBLANK('Data Input'!A11),\"\",SUM('Data Input'!P11,'Data Input'!T11,'Data Input'!AD11,'Data Input'!AX11,'Data Input'!AY11))","v":""},{"$f":"IF(I6=\"\",\"\",I6/COUNTIF('Data Input'!$C$8:$BU$8,\"SE\"))","v":""},{"$f":"IF(ISBLANK('Data Input'!A11),\"\",SUM('Data Input'!K11,'Data Input'!L11,'Data Input'!M11,'Data Input'!O11,'Data Input'!Q11,'Data Input'!U11,'Data Input'!X11,'Data Input'!Y11,'Data Input'!Z11,'Data Input'!AB11,'Data Input'!AE11,'Data Input'!AG11,'Data Input'!AL11,'Data Input'!AU11,'Data Input'!AW11))","v":""},{"$f":"IF(K6=\"\",\"\",K6/COUNTIF('Data Input'!$C$8:$BU$8,\"P\"))","v":""},{"$f":"IF(ISBLANK('Data Input'!A11),\"\",SUM('Data Input'!I11,'Data Input'!S11))","v":""},{"$f":"IF(M6=\"\",\"\",M6/COUNTIF('Data Input'!$C$8:$BU$8,\"FS\"))","v":""},{"$f":"IF(ISBLANK('Data Input'!A11),\"\",SUM('Data Input'!D11,'Data Input'!E11,'Data Input'!F11,'Data Input'!G11,'Data Input'!R11,'Data Input'!V11,'Data Input'!W11,'Data Input'!AC11,'Data Input'!AF11,'Data Input'!AH11,'Data Input'!AJ11,'Data Input'!AK11,'Data Input'!AM11,'Data Input'!AQ11,'Data Input'!AR11,'Data Input'!AZ11))","v":""},{"$f":"IF(O6=\"\",\"\",O6/COUNTIF('Data Input'!$C$8:$BU$8,\"GT\"))","v":""},{"$f":"IF(ISBLANK('Data Input'!A11),\"\",SUM('Data Input'!C11,'Data Input'!J11,'Data Input'!N11,'Data Input'!AS11,'Data Input'!AT11,'Data Input'!AV11))","v":""},{"$f":"IF(Q6=\"\",\"\",Q6/COUNTIF('Data Input'!$C$8:$BU$8,\"V\"))","v":""},{"$f":"IF(ISBLANK('Data Input'!A11),\"\",SUM('Data Input'!AI11,'Data Input'!AN11))","v":""},{"$f":"IF(S6=\"\",\"\",S6/COUNTIF('Data Input'!$C$8:$BU$8,\"F/I\"))","v":""},{"$f":"IF(ISBLANK('Data Input'!C11),\"\",SUM('Data Input'!BB11:BU11))","v":""},{"$f":"IF(U6=\"\",\"\",U6/COUNTIF('Data Input'!$C$8:$BU$8,\"Sp\"))","v":""}]
[{"$f":"IF('Data Input'!A12=0,\"\",'Data Input'!A12)","v":""},{"$f":"IF(ISBLANK('Data Input'!A12),\"\",COUNTIF('Data Input'!C12:BU12,\"\")-1)","v":""},{"$f":"IF(ISBLANK('Data Input'!A12),\"\",COUNTIF('Data Input'!C12:BU12,\"0\"))","v":""},{"$f":"IF(ISBLANK('Data Input'!A12),\"\",SUM(B7,C7))","v":""},{"$f":"IF(ISBLANK('Data Input'!A12),\"\",SUM('Data Input'!C12:BU12))","v":""},{"$f":"IF(E7=\"\",\"\",E7/(COUNTA('Data Input'!$C$8:$BU$8)-1))","v":""},{"$f":"IF(ISBLANK('Data Input'!A12),\"\",SUM('Data Input'!H12,'Data Input'!AA12,'Data Input'!AO12,'Data Input'!AP12))","v":""},{"$f":"IF(G7=\"\",\"\",G7/COUNTIF('Data Input'!$C$8:$BU$8,\"CS\"))","v":""},{"$f":"IF(ISBLANK('Data Input'!A12),\"\",SUM('Data Input'!P12,'Data Input'!T12,'Data Input'!AD12,'Data Input'!AX12,'Data Input'!AY12))","v":""},{"$f":"IF(I7=\"\",\"\",I7/COUNTIF('Data Input'!$C$8:$BU$8,\"SE\"))","v":""},{"$f":"IF(ISBLANK('Data Input'!A12),\"\",SUM('Data Input'!K12,'Data Input'!L12,'Data Input'!M12,'Data Input'!O12,'Data Input'!Q12,'Data Input'!U12,'Data Input'!X12,'Data Input'!Y12,'Data Input'!Z12,'Data Input'!AB12,'Data Input'!AE12,'Data Input'!AG12,'Data Input'!AL12,'Data Input'!AU12,'Data Input'!AW12))","v":""},{"$f":"IF(K7=\"\",\"\",K7/COUNTIF('Data Input'!$C$8:$BU$8,\"P\"))","v":""},{"$f":"IF(ISBLANK('Data Input'!A12),\"\",SUM('Data Input'!I12,'Data Input'!S12))","v":""},{"$f":"IF(M7=\"\",\"\",M7/COUNTIF('Data Input'!$C$8:$BU$8,\"FS\"))","v":""},{"$f":"IF(ISBLANK('Data Input'!A12),\"\",SUM('Data Input'!D12,'Data Input'!E12,'Data Input'!F12,'Data Input'!G12,'Data Input'!R12,'Data Input'!V12,'Data Input'!W12,'Data Input'!AC12,'Data Input'!AF12,'Data Input'!AH12,'Data Input'!AJ12,'Data Input'!AK12,'Data Input'!AM12,'Data Input'!AQ12,'Data Input'!AR12,'Data Input'!AZ12))","v":""},{"$f":"IF(O7=\"\",\"\",O7/COUNTIF('Data Input'!$C$8:$BU$8,\"GT\"))","v":""},{"$f":"IF(ISBLANK('Data Input'!A12),\"\",SUM('Data Input'!C12,'Data Input'!J12,'Data Input'!N12,'Data Input'!AS12,'Data Input'!AT12,'Data Input'!AV12))","v":""},{"$f":"IF(Q7=\"\",\"\",Q7/COUNTIF('Data Input'!$C$8:$BU$8,\"V\"))","v":""},{"$f":"IF(ISBLANK('Data Input'!A12),\"\",SUM('Data Input'!AI12,'Data Input'!AN12))","v":""},{"$f":"IF(S7=\"\",\"\",S7/COUNTIF('Data Input'!$C$8:$BU$8,\"F/I\"))","v":""},{"$f":"IF(ISBLANK('Data Input'!C12),\"\",SUM('Data Input'!BB12:BU12))","v":""},{"$f":"IF(U7=\"\",\"\",U7/COUNTIF('Data Input'!$C$8:$BU$8,\"Sp\"))","v":""}]
[{"$f":"IF('Data Input'!A13=0,\"\",'Data Input'!A13)","v":""},{"$f":"IF(ISBLANK('Data Input'!A13),\"\",COUNTIF('Data Input'!C13:BU13,\"\")-1)","v":""},{"$f":"IF(ISBLANK('Data Input'!A13),\"\",COUNTIF('Data Input'!C13:BU13,\"0\"))","v":""},{"$f":"IF(ISBLANK('Data Input'!A13),\"\",SUM(B8,C8))","v":""},{"$f":"IF(ISBLANK('Data Input'!A13),\"\",SUM('Data Input'!C13:BU13))","v":""},{"$f":"IF(E8=\"\",\"\",E8/(COUNTA('Data Input'!$C$8:$BU$8)-1))","v":""},{"$f":"IF(ISBLANK('Data Input'!A13),\"\",SUM('Data Input'!H13,'Data Input'!AA13,'Data Input'!AO13,'Data Input'!AP13))","v":""},{"$f":"IF(G8=\"\",\"\",G8/COUNTIF('Data Input'!$C$8:$BU$8,\"CS\"))","v":""},{"$f":"IF(ISBLANK('Data Input'!A13),\"\",SUM('Data Input'!P13,'Data Input'!T13,'Data Input'!AD13,'Data Input'!AX13,'Data Input'!AY13))","v":""},{"$f":"IF(I8=\"\",\"\",I8/COUNTIF('Data Input'!$C$8:$BU$8,\"SE\"))","v":""},{"$f":"IF(ISBLANK('Data Input'!A13),\"\",SUM('Data Input'!K13,'Data Input'!L13,'Data Input'!M13,'Data Input'!O13,'Data Input'!Q13,'Data Input'!U13,'Data Input'!X13,'Data Input'!Y13,'Data Input'!Z13,'Data Input'!AB13,'Data Input'!AE13,'Data Input'!AG13,'Data Input'!AL13,'Data Input'!AU13,'Data Input'!AW13))","v":""},{"$f":"IF(K8=\"\",\"\",K8/COUNTIF('Data Input'!$C$8:$BU$8,\"P\"))","v":""},{"$f":"IF(ISBLANK('Data Input'!A13),\"\",SUM('Data Input'!I13,'Data Input'!S13))","v":""},{"$f":"IF(M8=\"\",\"\",M8/COUNTIF('Data Input'!$C$8:$BU$8,\"FS\"))","v":""},{"$f":"IF(ISBLANK('Data Input'!A13),\"\",SUM('Data Input'!D13,'Data Input'!E13,'Data Input'!F13,'Data Input'!G13,'Data Input'!R13,'Data Input'!V13,'Data Input'!W13,'Data Input'!AC13,'Data Input'!AF13,'Data Input'!AH13,'Data Input'!AJ13,'Data Input'!AK13,'Data Input'!AM13,'Data Input'!AQ13,'Data Input'!AR13,'Data Input'!AZ13))","v":""},{"$f":"IF(O8=\"\",\"\",O8/COUNTIF('Data Input'!$C$8:$BU$8,\"GT\"))","v":""},{"$f":"IF(ISBLANK('Data Input'!A13),\"\",SUM('Data Input'!C13,'Data Input'!J13,'Data Input'!N13,'Data Input'!AS13,'Data Input'!AT13,'Data Input'!AV13))","v":""},{"$f":"IF(Q8=\"\",\"\",Q8/COUNTIF('Data Input'!$C$8:$BU$8,\"V\"))","v":""},{"$f":"IF(ISBLANK('Data Input'!A13),\"\",SUM('Data Input'!AI13,'Data Input'!AN13))","v":""},{"$f":"IF(S8=\"\",\"\",S8/COUNTIF('Data Input'!$C$8:$BU$8,\"F/I\"))","v":""},{"$f":"IF(ISBLANK('Data Input'!C13),\"\",SUM('Data Input'!BB13:BU13))","v":""},{"$f":"IF(U8=\"\",\"\",U8/COUNTIF('Data Input'!$C$8:$BU$8,\"Sp\"))","v":""}]
[{"$f":"IF('Data Input'!A14=0,\"\",'Data Input'!A14)","v":""},{"$f":"IF(ISBLANK('Data Input'!A14),\"\",COUNTIF('Data Input'!C14:BU14,\"\")-1)","v":""},{"$f":"IF(ISBLANK('Data Input'!A14),\"\",COUNTIF('Data Input'!C14:BU14,\"0\"))","v":""},{"$f":"IF(ISBLANK('Data Input'!A14),\"\",SUM(B9,C9))","v":""},{"$f":"IF(ISBLANK('Data Input'!A14),\"\",SUM('Data Input'!C14:BU14))","v":""},{"$f":"IF(E9=\"\",\"\",E9/(COUNTA('Data Input'!$C$8:$BU$8)-1))","v":""},{"$f":"IF(ISBLANK('Data Input'!A14),\"\",SUM('Data Input'!H14,'Data Input'!AA14,'Data Input'!AO14,'Data Input'!AP14))","v":""},{"$f":"IF(G9=\"\",\"\",G9/COUNTIF('Data Input'!$C$8:$BU$8,\"CS\"))","v":""},{"$f":"IF(ISBLANK('Data Input'!A14),\"\",SUM('Data Input'!P14,'Data Input'!T14,'Data Input'!AD14,'Data Input'!AX14,'Data Input'!AY14))","v":""},{"$f":"IF(I9=\"\",\"\",I9/COUNTIF('Data Input'!$C$8:$BU$8,\"SE\"))","v":""},{"$f":"IF(ISBLANK('Data Input'!A14),\"\",SUM('Data Input'!K14,'Data Input'!L14,'Data Input'!M14,'Data Input'!O14,'Data Input'!Q14,'Data Input'!U14,'Data Input'!X14,'Data Input'!Y14,'Data Input'!Z14,'Data Input'!AB14,'Data Input'!AE14,'Data Input'!AG14,'Data Input'!AL14,'Data Input'!AU14,'Data Input'!AW14))","v":""},{"$f":"IF(K9=\"\",\"\",K9/COUNTIF('Data Input'!$C$8:$BU$8,\"P\"))","v":""},{"$f":"IF(ISBLANK('Data Input'!A14),\"\",SUM('Data Input'!I14,'Data Input'!S14))","v":""},{"$f":"IF(M9=\"\",\"\",M9/COUNTIF('Data Input'!$C$8:$BU$8,\"FS\"))","v":""},{"$f":"IF(ISBLANK('Data Input'!A14),\"\",SUM('Data Input'!D14,'Data Input'!E14,'Data Input'!F14,'Data Input'!G14,'Data Input'!R14,'Data Input'!V14,'Data Input'!W14,'Data Input'!AC14,'Data Input'!AF14,'Data Input'!AH14,'Data Input'!AJ14,'Data Input'!AK14,'Data Input'!AM14,'Data Input'!AQ14,'Data Input'!AR14,'Data Input'!AZ14))","v":""},{"$f":"IF(O9=\"\",\"\",O9/COUNTIF('Data Input'!$C$8:$BU$8,\"GT\"))","v":""},{"$f":"IF(ISBLANK('Data Input'!A14),\"\",SUM('Data Input'!C14,'Data Input'!J14,'Data Input'!N14,'Data Input'!AS14,'Data Input'!AT14,'Data Input'!AV14))","v":""},{"$f":"IF(Q9=\"\",\"\",Q9/COUNTIF('Data Input'!$C$8:$BU$8,\"V\"))","v":""},{"$f":"IF(ISBLANK('Data Input'!A14),\"\",SUM('Data Input'!AI14,'Data Input'!AN14))","v":""},{"$f":"IF(S9=\"\",\"\",S9/COUNTIF('Data Input'!$C$8:$BU$8,\"F/I\"))","v":""},{"$f":"IF(ISBLANK('Data Input'!C14),\"\",SUM('Data Input'!BB14:BU14))","v":""},{"$f":"IF(U9=\"\",\"\",U9/COUNTIF('Data Input'!$C$8:$BU$8,\"Sp\"))","v":""}]
[{"$f":"IF('Data Input'!A15=0,\"\",'Data Input'!A15)","v":""},{"$f":"IF(ISBLANK('Data Input'!A15),\"\",COUNTIF('Data Input'!C15:BU15,\"\")-1)","v":""},{"$f":"IF(ISBLANK('Data Input'!A15),\"\",COUNTIF('Data Input'!C15:BU15,\"0\"))","v":""},{"$f":"IF(ISBLANK('Data Input'!A15),\"\",SUM(B10,C10))","v":""},{"$f":"IF(ISBLANK('Data Input'!A15),\"\",SUM('Data Input'!C15:BU15))","v":""},{"$f":"IF(E10=\"\",\"\",E10/(COUNTA('Data Input'!$C$8:$BU$8)-1))","v":""},{"$f":"IF(ISBLANK('Data Input'!A15),\"\",SUM('Data Input'!H15,'Data Input'!AA15,'Data Input'!AO15,'Data Input'!AP15))","v":""},{"$f":"IF(G10=\"\",\"\",G10/COUNTIF('Data Input'!$C$8:$BU$8,\"CS\"))","v":""},{"$f":"IF(ISBLANK('Data Input'!A15),\"\",SUM('Data Input'!P15,'Data Input'!T15,'Data Input'!AD15,'Data Input'!AX15,'Data Input'!AY15))","v":""},{"$f":"IF(I10=\"\",\"\",I10/COUNTIF('Data Input'!$C$8:$BU$8,\"SE\"))","v":""},{"$f":"IF(ISBLANK('Data Input'!A15),\"\",SUM('Data Input'!K15,'Data Input'!L15,'Data Input'!M15,'Data Input'!O15,'Data Input'!Q15,'Data Input'!U15,'Data Input'!X15,'Data Input'!Y15,'Data Input'!Z15,'Data Input'!AB15,'Data Input'!AE15,'Data Input'!AG15,'Data Input'!AL15,'Data Input'!AU15,'Data Input'!AW15))","v":""},{"$f":"IF(K10=\"\",\"\",K10/COUNTIF('Data Input'!$C$8:$BU$8,\"P\"))","v":""},{"$f":"IF(ISBLANK('Data Input'!A15),\"\",SUM('Data Input'!I15,'Data Input'!S15))","v":""},{"$f":"IF(M10=\"\",\"\",M10/COUNTIF('Data Input'!$C$8:$BU$8,\"FS\"))","v":""},{"$f":"IF(ISBLANK('Data Input'!A15),\"\",SUM('Data Input'!D15,'Data Input'!E15,'Data Input'!F15,'Data Input'!G15,'Data Input'!R15,'Data Input'!V15,'Data Input'!W15,'Data Input'!AC15,'Data Input'!AF15,'Data Input'!AH15,'Data Input'!AJ15,'Data Input'!AK15,'Data Input'!AM15,'Data Input'!AQ15,'Data Input'!AR15,'Data Input'!AZ15))","v":""},{"$f":"IF(O10=\"\",\"\",O10/COUNTIF('Data Input'!$C$8:$BU$8,\"GT\"))","v":""},{"$f":"IF(ISBLANK('Data Input'!A15),\"\",SUM('Data Input'!C15,'Data Input'!J15,'Data Input'!N15,'Data Input'!AS15,'Data Input'!AT15,'Data Input'!AV15))","v":""},{"$f":"IF(Q10=\"\",\"\",Q10/COUNTIF('Data Input'!$C$8:$BU$8,\"V\"))","v":""},{"$f":"IF(ISBLANK('Data Input'!A15),\"\",SUM('Data Input'!AI15,'Data Input'!AN15))","v":""},{"$f":"IF(S10=\"\",\"\",S10/COUNTIF('Data Input'!$C$8:$BU$8,\"F/I\"))","v":""},{"$f":"IF(ISBLANK('Data Input'!C15),\"\",SUM('Data Input'!BB15:BU15))","v":""},{"$f":"IF(U10=\"\",\"\",U10/COUNTIF('Data Input'!$C$8:$BU$8,\"Sp\"))","v":""}]
[{"$f":"IF('Data Input'!A16=0,\"\",'Data Input'!A16)","v":""},{"$f":"IF(ISBLANK('Data Input'!A16),\"\",COUNTIF('Data Input'!C16:BU16,\"\")-1)","v":""},{"$f":"IF(ISBLANK('Data Input'!A16),\"\",COUNTIF('Data Input'!C16:BU16,\"0\"))","v":""},{"$f":"IF(ISBLANK('Data Input'!A16),\"\",SUM(B11,C11))","v":""},{"$f":"IF(ISBLANK('Data Input'!A16),\"\",SUM('Data Input'!C16:BU16))","v":""},{"$f":"IF(E11=\"\",\"\",E11/(COUNTA('Data Input'!$C$8:$BU$8)-1))","v":""},{"$f":"IF(ISBLANK('Data Input'!A16),\"\",SUM('Data Input'!H16,'Data Input'!AA16,'Data Input'!AO16,'Data Input'!AP16))","v":""},{"$f":"IF(G11=\"\",\"\",G11/COUNTIF('Data Input'!$C$8:$BU$8,\"CS\"))","v":""},{"$f":"IF(ISBLANK('Data Input'!A16),\"\",SUM('Data Input'!P16,'Data Input'!T16,'Data Input'!AD16,'Data Input'!AX16,'Data Input'!AY16))","v":""},{"$f":"IF(I11=\"\",\"\",I11/COUNTIF('Data Input'!$C$8:$BU$8,\"SE\"))","v":""},{"$f":"IF(ISBLANK('Data Input'!A16),\"\",SUM('Data Input'!K16,'Data Input'!L16,'Data Input'!M16,'Data Input'!O16,'Data Input'!Q16,'Data Input'!U16,'Data Input'!X16,'Data Input'!Y16,'Data Input'!Z16,'Data Input'!AB16,'Data Input'!AE16,'Data Input'!AG16,'Data Input'!AL16,'Data Input'!AU16,'Data Input'!AW16))","v":""},{"$f":"IF(K11=\"\",\"\",K11/COUNTIF('Data Input'!$C$8:$BU$8,\"P\"))","v":""},{"$f":"IF(ISBLANK('Data Input'!A16),\"\",SUM('Data Input'!I16,'Data Input'!S16))","v":""},{"$f":"IF(M11=\"\",\"\",M11/COUNTIF('Data Input'!$C$8:$BU$8,\"FS\"))","v":""},{"$f":"IF(ISBLANK('Data Input'!A16),\"\",SUM('Data Input'!D16,'Data Input'!E16,'Data Input'!F16,'Data Input'!G16,'Data Input'!R16,'Data Input'!V16,'Data Input'!W16,'Data Input'!AC16,'Data Input'!AF16,'Data Input'!AH16,'Data Input'!AJ16,'Data Input'!AK16,'Data Input'!AM16,'Data Input'!AQ16,'Data Input'!AR16,'Data Input'!AZ16))","v":""},{"$f":"IF(O11=\"\",\"\",O11/COUNTIF('Data Input'!$C$8:$BU$8,\"GT\"))","v":""},{"$f":"IF(ISBLANK('Data Input'!A16),\"\",SUM('Data Input'!C16,'Data Input'!J16,'Data Input'!N16,'Data Input'!AS16,'Data Input'!AT16,'Data Input'!AV16))","v":""},{"$f":"IF(Q11=\"\",\"\",Q11/COUNTIF('Data Input'!$C$8:$BU$8,\"V\"))","v":""},{"$f":"IF(ISBLANK('Data Input'!A16),\"\",SUM('Data Input'!AI16,'Data Input'!AN16))","v":""},{"$f":"IF(S11=\"\",\"\",S11/COUNTIF('Data Input'!$C$8:$BU$8,\"F/I\"))","v":""},{"$f":"IF(ISBLANK('Data Input'!C16),\"\",SUM('Data Input'!BB16:BU16))","v":""},{"$f":"IF(U11=\"\",\"\",U11/COUNTIF('Data Input'!$C$8:$BU$8,\"Sp\"))","v":""}]
[{"$f":"IF('Data Input'!A17=0,\"\",'Data Input'!A17)","v":""},{"$f":"IF(ISBLANK('Data Input'!A17),\"\",COUNTIF('Data Input'!C17:BU17,\"\")-1)","v":""},{"$f":"IF(ISBLANK('Data Input'!A17),\"\",COUNTIF('Data Input'!C17:BU17,\"0\"))","v":""},{"$f":"IF(ISBLANK('Data Input'!A17),\"\",SUM(B12,C12))","v":""},{"$f":"IF(ISBLANK('Data Input'!A17),\"\",SUM('Data Input'!C17:BU17))","v":""},{"$f":"IF(E12=\"\",\"\",E12/(COUNTA('Data Input'!$C$8:$BU$8)-1))","v":""},{"$f":"IF(ISBLANK('Data Input'!A17),\"\",SUM('Data Input'!H17,'Data Input'!AA17,'Data Input'!AO17,'Data Input'!AP17))","v":""},{"$f":"IF(G12=\"\",\"\",G12/COUNTIF('Data Input'!$C$8:$BU$8,\"CS\"))","v":""},{"$f":"IF(ISBLANK('Data Input'!A17),\"\",SUM('Data Input'!P17,'Data Input'!T17,'Data Input'!AD17,'Data Input'!AX17,'Data Input'!AY17))","v":""},{"$f":"IF(I12=\"\",\"\",I12/COUNTIF('Data Input'!$C$8:$BU$8,\"SE\"))","v":""},{"$f":"IF(ISBLANK('Data Input'!A17),\"\",SUM('Data Input'!K17,'Data Input'!L17,'Data Input'!M17,'Data Input'!O17,'Data Input'!Q17,'Data Input'!U17,'Data Input'!X17,'Data Input'!Y17,'Data Input'!Z17,'Data Input'!AB17,'Data Input'!AE17,'Data Input'!AG17,'Data Input'!AL17,'Data Input'!AU17,'Data Input'!AW17))","v":""},{"$f":"IF(K12=\"\",\"\",K12/COUNTIF('Data Input'!$C$8:$BU$8,\"P\"))","v":""},{"$f":"IF(ISBLANK('Data Input'!A17),\"\",SUM('Data Input'!I17,'Data Input'!S17))","v":""},{"$f":"IF(M12=\"\",\"\",M12/COUNTIF('Data Input'!$C$8:$BU$8,\"FS\"))","v":""},{"$f":"IF(ISBLANK('Data Input'!A17),\"\",SUM('Data Input'!D17,'Data Input'!E17,'Data Input'!F17,'Data Input'!G17,'Data Input'!R17,'Data Input'!V17,'Data Input'!W17,'Data Input'!AC17,'Data Input'!AF17,'Data Input'!AH17,'Data Input'!AJ17,'Data Input'!AK17,'Data Input'!AM17,'Data Input'!AQ17,'Data Input'!AR17,'Data Input'!AZ17))","v":""},{"$f":"IF(O12=\"\",\"\",O12/COUNTIF('Data Input'!$C$8:$BU$8,\"GT\"))","v":""},{"$f":"IF(ISBLANK('Data Input'!A17),\"\",SUM('Data Input'!C17,'Data Input'!J17,'Data Input'!N17,'Data Input'!AS17,'Data Input'!AT17,'Data Input'!AV17))","v":""},{"$f":"IF(Q12=\"\",\"\",Q12/COUNTIF('Data Input'!$C$8:$BU$8,\"V\"))","v":""},{"$f":"IF(ISBLANK('Data Input'!A17),\"\",SUM('Data Input'!AI17,'Data Input'!AN17))","v":""},{"$f":"IF(S12=\"\",\"\",S12/COUNTIF('Data Input'!$C$8:$BU$8,\"F/I\"))","v":""},{"$f":"IF(ISBLANK('Data Input'!C17),\"\",SUM('Data Input'!BB17:BU17))","v":""},{"$f":"IF(U12=\"\",\"\",U12/COUNTIF('Data Input'!$C$8:$BU$8,\"Sp\"))","v":""}]
[{"$f":"IF('Data Input'!A18=0,\"\",'Data Input'!A18)","v":""},{"$f":"IF(ISBLANK('Data Input'!A18),\"\",COUNTIF('Data Input'!C18:BU18,\"\")-1)","v":""},{"$f":"IF(ISBLANK('Data Input'!A18),\"\",COUNTIF('Data Input'!C18:BU18,\"0\"))","v":""},{"$f":"IF(ISBLANK('Data Input'!A18),\"\",SUM(B13,C13))","v":""},{"$f":"IF(ISBLANK('Data Input'!A18),\"\",SUM('Data Input'!C18:BU18))","v":""},{"$f":"IF(E13=\"\",\"\",E13/(COUNTA('Data Input'!$C$8:$BU$8)-1))","v":""},{"$f":"IF(ISBLANK('Data Input'!A18),\"\",SUM('Data Input'!H18,'Data Input'!AA18,'Data Input'!AO18,'Data Input'!AP18))","v":""},{"$f":"IF(G13=\"\",\"\",G13/COUNTIF('Data Input'!$C$8:$BU$8,\"CS\"))","v":""},{"$f":"IF(ISBLANK('Data Input'!A18),\"\",SUM('Data Input'!P18,'Data Input'!T18,'Data Input'!AD18,'Data Input'!AX18,'Data Input'!AY18))","v":""},{"$f":"IF(I13=\"\",\"\",I13/COUNTIF('Data Input'!$C$8:$BU$8,\"SE\"))","v":""},{"$f":"IF(ISBLANK('Data Input'!A18),\"\",SUM('Data Input'!K18,'Data Input'!L18,'Data Input'!M18,'Data Input'!O18,'Data Input'!Q18,'Data Input'!U18,'Data Input'!X18,'Data Input'!Y18,'Data Input'!Z18,'Data Input'!AB18,'Data Input'!AE18,'Data Input'!AG18,'Data Input'!AL18,'Data Input'!AU18,'Data Input'!AW18))","v":""},{"$f":"IF(K13=\"\",\"\",K13/COUNTIF('Data Input'!$C$8:$BU$8,\"P\"))","v":""},{"$f":"IF(ISBLANK('Data Input'!A18),\"\",SUM('Data Input'!I18,'Data Input'!S18))","v":""},{"$f":"IF(M13=\"\",\"\",M13/COUNTIF('Data Input'!$C$8:$BU$8,\"FS\"))","v":""},{"$f":"IF(ISBLANK('Data Input'!A18),\"\",SUM('Data Input'!D18,'Data Input'!E18,'Data Input'!F18,'Data Input'!G18,'Data Input'!R18,'Data Input'!V18,'Data Input'!W18,'Data Input'!AC18,'Data Input'!AF18,'Data Input'!AH18,'Data Input'!AJ18,'Data Input'!AK18,'Data Input'!AM18,'Data Input'!AQ18,'Data Input'!AR18,'Data Input'!AZ18))","v":""},{"$f":"IF(O13=\"\",\"\",O13/COUNTIF('Data Input'!$C$8:$BU$8,\"GT\"))","v":""},{"$f":"IF(ISBLANK('Data Input'!A18),\"\",SUM('Data Input'!C18,'Data Input'!J18,'Data Input'!N18,'Data Input'!AS18,'Data Input'!AT18,'Data Input'!AV18))","v":""},{"$f":"IF(Q13=\"\",\"\",Q13/COUNTIF('Data Input'!$C$8:$BU$8,\"V\"))","v":""},{"$f":"IF(ISBLANK('Data Input'!A18),\"\",SUM('Data Input'!AI18,'Data Input'!AN18))","v":""},{"$f":"IF(S13=\"\",\"\",S13/COUNTIF('Data Input'!$C$8:$BU$8,\"F/I\"))","v":""},{"$f":"IF(ISBLANK('Data Input'!C18),\"\",SUM('Data Input'!BB18:BU18))","v":""},{"$f":"IF(U13=\"\",\"\",U13/COUNTIF('Data Input'!$C$8:$BU$8,\"Sp\"))","v":""}]
[{"$f":"IF('Data Input'!A19=0,\"\",'Data Input'!A19)","v":""},{"$f":"IF(ISBLANK('Data Input'!A19),\"\",COUNTIF('Data Input'!C19:BU19,\"\")-1)","v":""},{"$f":"IF(ISBLANK('Data Input'!A19),\"\",COUNTIF('Data Input'!C19:BU19,\"0\"))","v":""},{"$f":"IF(ISBLANK('Data Input'!A19),\"\",SUM(B14,C14))","v":""},{"$f":"IF(ISBLANK('Data Input'!A19),\"\",SUM('Data Input'!C19:BU19))","v":""},{"$f":"IF(E14=\"\",\"\",E14/(COUNTA('Data Input'!$C$8:$BU$8)-1))","v":""},{"$f":"IF(ISBLANK('Data Input'!A19),\"\",SUM('Data Input'!H19,'Data Input'!AA19,'Data Input'!AO19,'Data Input'!AP19))","v":""},{"$f":"IF(G14=\"\",\"\",G14/COUNTIF('Data Input'!$C$8:$BU$8,\"CS\"))","v":""},{"$f":"IF(ISBLANK('Data Input'!A19),\"\",SUM('Data Input'!P19,'Data Input'!T19,'Data Input'!AD19,'Data Input'!AX19,'Data Input'!AY19))","v":""},{"$f":"IF(I14=\"\",\"\",I14/COUNTIF('Data Input'!$C$8:$BU$8,\"SE\"))","v":""},{"$f":"IF(ISBLANK('Data Input'!A19),\"\",SUM('Data Input'!K19,'Data Input'!L19,'Data Input'!M19,'Data Input'!O19,'Data Input'!Q19,'Data Input'!U19,'Data Input'!X19,'Data Input'!Y19,'Data Input'!Z19,'Data Input'!AB19,'Data Input'!AE19,'Data Input'!AG19,'Data Input'!AL19,'Data Input'!AU19,'Data Input'!AW19))","v":""},{"$f":"IF(K14=\"\",\"\",K14/COUNTIF('Data Input'!$C$8:$BU$8,\"P\"))","v":""},{"$f":"IF(ISBLANK('Data Input'!A19),\"\",SUM('Data Input'!I19,'Data Input'!S19))","v":""},{"$f":"IF(M14=\"\",\"\",M14/COUNTIF('Data Input'!$C$8:$BU$8,\"FS\"))","v":""},{"$f":"IF(ISBLANK('Data Input'!A19),\"\",SUM('Data Input'!D19,'Data Input'!E19,'Data Input'!F19,'Data Input'!G19,'Data Input'!R19,'Data Input'!V19,'Data Input'!W19,'Data Input'!AC19,'Data Input'!AF19,'Data Input'!AH19,'Data Input'!AJ19,'Data Input'!AK19,'Data Input'!AM19,'Data Input'!AQ19,'Data Input'!AR19,'Data Input'!AZ19))","v":""},{"$f":"IF(O14=\"\",\"\",O14/COUNTIF('Data Input'!$C$8:$BU$8,\"GT\"))","v":""},{"$f":"IF(ISBLANK('Data Input'!A19),\"\",SUM('Data Input'!C19,'Data Input'!J19,'Data Input'!N19,'Data Input'!AS19,'Data Input'!AT19,'Data Input'!AV19))","v":""},{"$f":"IF(Q14=\"\",\"\",Q14/COUNTIF('Data Input'!$C$8:$BU$8,\"V\"))","v":""},{"$f":"IF(ISBLANK('Data Input'!A19),\"\",SUM('Data Input'!AI19,'Data Input'!AN19))","v":""},{"$f":"IF(S14=\"\",\"\",S14/COUNTIF('Data Input'!$C$8:$BU$8,\"F/I\"))","v":""},{"$f":"IF(ISBLANK('Data Input'!C19),\"\",SUM('Data Input'!BB19:BU19))","v":""},{"$f":"IF(U14=\"\",\"\",U14/COUNTIF('Data Input'!$C$8:$BU$8,\"Sp\"))","v":""}]
[{"$f":"IF('Data Input'!A20=0,\"\",'Data Input'!A20)","v":""},{"$f":"IF(ISBLANK('Data Input'!A20),\"\",COUNTIF('Data Input'!C20:BU20,\"\")-1)","v":""},{"$f":"IF(ISBLANK('Data Input'!A20),\"\",COUNTIF('Data Input'!C20:BU20,\"0\"))","v":""},{"$f":"IF(ISBLANK('Data Input'!A20),\"\",SUM(B15,C15))","v":""},{"$f":"IF(ISBLANK('Data Input'!A20),\"\",SUM('Data Input'!C20:BU20))","v":""},{"$f":"IF(E15=\"\",\"\",E15/(COUNTA('Data Input'!$C$8:$BU$8)-1))","v":""},{"$f":"IF(ISBLANK('Data Input'!A20),\"\",SUM('Data Input'!H20,'Data Input'!AA20,'Data Input'!AO20,'Data Input'!AP20))","v":""},{"$f":"IF(G15=\"\",\"\",G15/COUNTIF('Data Input'!$C$8:$BU$8,\"CS\"))","v":""},{"$f":"IF(ISBLANK('Data Input'!A20),\"\",SUM('Data Input'!P20,'Data Input'!T20,'Data Input'!AD20,'Data Input'!AX20,'Data Input'!AY20))","v":""},{"$f":"IF(I15=\"\",\"\",I15/COUNTIF('Data Input'!$C$8:$BU$8,\"SE\"))","v":""},{"$f":"IF(ISBLANK('Data Input'!A20),\"\",SUM('Data Input'!K20,'Data Input'!L20,'Data Input'!M20,'Data Input'!O20,'Data Input'!Q20,'Data Input'!U20,'Data Input'!X20,'Data Input'!Y20,'Data Input'!Z20,'Data Input'!AB20,'Data Input'!AE20,'Data Input'!AG20,'Data Input'!AL20,'Data Input'!AU20,'Data Input'!AW20))","v":""},{"$f":"IF(K15=\"\",\"\",K15/COUNTIF('Data Input'!$C$8:$BU$8,\"P\"))","v":""},{"$f":"IF(ISBLANK('Data Input'!A20),\"\",SUM('Data Input'!I20,'Data Input'!S20))","v":""},{"$f":"IF(M15=\"\",\"\",M15/COUNTIF('Data Input'!$C$8:$BU$8,\"FS\"))","v":""},{"$f":"IF(ISBLANK('Data Input'!A20),\"\",SUM('Data Input'!D20,'Data Input'!E20,'Data Input'!F20,'Data Input'!G20,'Data Input'!R20,'Data Input'!V20,'Data Input'!W20,'Data Input'!AC20,'Data Input'!AF20,'Data Input'!AH20,'Data Input'!AJ20,'Data Input'!AK20,'Data Input'!AM20,'Data Input'!AQ20,'Data Input'!AR20,'Data Input'!AZ20))","v":""},{"$f":"IF(O15=\"\",\"\",O15/COUNTIF('Data Input'!$C$8:$BU$8,\"GT\"))","v":""},{"$f":"IF(ISBLANK('Data Input'!A20),\"\",SUM('Data Input'!C20,'Data Input'!J20,'Data Input'!N20,'Data Input'!AS20,'Data Input'!AT20,'Data Input'!AV20))","v":""},{"$f":"IF(Q15=\"\",\"\",Q15/COUNTIF('Data Input'!$C$8:$BU$8,\"V\"))","v":""},{"$f":"IF(ISBLANK('Data Input'!A20),\"\",SUM('Data Input'!AI20,'Data Input'!AN20))","v":""},{"$f":"IF(S15=\"\",\"\",S15/COUNTIF('Data Input'!$C$8:$BU$8,\"F/I\"))","v":""},{"$f":"IF(ISBLANK('Data Input'!C20),\"\",SUM('Data Input'!BB20:BU20))","v":""},{"$f":"IF(U15=\"\",\"\",U15/COUNTIF('Data Input'!$C$8:$BU$8,\"Sp\"))","v":""}]
[{"$f":"IF('Data Input'!A21=0,\"\",'Data Input'!A21)","v":""},{"$f":"IF(ISBLANK('Data Input'!A21),\"\",COUNTIF('Data Input'!C21:BU21,\"\")-1)","v":""},{"$f":"IF(ISBLANK('Data Input'!A21),\"\",COUNTIF('Data Input'!C21:BU21,\"0\"))","v":""},{"$f":"IF(ISBLANK('Data Input'!A21),\"\",SUM(B16,C16))","v":""},{"$f":"IF(ISBLANK('Data Input'!A21),\"\",SUM('Data Input'!C21:BU21))","v":""},{"$f":"IF(E16=\"\",\"\",E16/(COUNTA('Data Input'!$C$8:$BU$8)-1))","v":""},{"$f":"IF(ISBLANK('Data Input'!A21),\"\",SUM('Data Input'!H21,'Data Input'!AA21,'Data Input'!AO21,'Data Input'!AP21))","v":""},{"$f":"IF(G16=\"\",\"\",G16/COUNTIF('Data Input'!$C$8:$BU$8,\"CS\"))","v":""},{"$f":"IF(ISBLANK('Data Input'!A21),\"\",SUM('Data Input'!P21,'Data Input'!T21,'Data Input'!AD21,'Data Input'!AX21,'Data Input'!AY21))","v":""},{"$f":"IF(I16=\"\",\"\",I16/COUNTIF('Data Input'!$C$8:$BU$8,\"SE\"))","v":""},{"$f":"IF(ISBLANK('Data Input'!A21),\"\",SUM('Data Input'!K21,'Data Input'!L21,'Data Input'!M21,'Data Input'!O21,'Data Input'!Q21,'Data Input'!U21,'Data Input'!X21,'Data Input'!Y21,'Data Input'!Z21,'Data Input'!AB21,'Data Input'!AE21,'Data Input'!AG21,'Data Input'!AL21,'Data Input'!AU21,'Data Input'!AW21))","v":""},{"$f":"IF(K16=\"\",\"\",K16/COUNTIF('Data Input'!$C$8:$BU$8,\"P\"))","v":""},{"$f":"IF(ISBLANK('Data Input'!A21),\"\",SUM('Data Input'!I21,'Data Input'!S21))","v":""},{"$f":"IF(M16=\"\",\"\",M16/COUNTIF('Data Input'!$C$8:$BU$8,\"FS\"))","v":""},{"$f":"IF(ISBLANK('Data Input'!A21),\"\",SUM('Data Input'!D21,'Data Input'!E21,'Data Input'!F21,'Data Input'!G21,'Data Input'!R21,'Data Input'!V21,'Data Input'!W21,'Data Input'!AC21,'Data Input'!AF21,'Data Input'!AH21,'Data Input'!AJ21,'Data Input'!AK21,'Data Input'!AM21,'Data Input'!AQ21,'Data Input'!AR21,'Data Input'!AZ21))","v":""},{"$f":"IF(O16=\"\",\"\",O16/COUNTIF('Data Input'!$C$8:$BU$8,\"GT\"))","v":""},{"$f":"IF(ISBLANK('Data Input'!A21),\"\",SUM('Data Input'!C21,'Data Input'!J21,'Data Input'!N21,'Data Input'!AS21,'Data Input'!AT21,'Data Input'!AV21))","v":""},{"$f":"IF(Q16=\"\",\"\",Q16/COUNTIF('Data Input'!$C$8:$BU$8,\"V\"))","v":""},{"$f":"IF(ISBLANK('Data Input'!A21),\"\",SUM('Data Input'!AI21,'Data Input'!AN21))","v":""},{"$f":"IF(S16=\"\",\"\",S16/COUNTIF('Data Input'!$C$8:$BU$8,\"F/I\"))","v":""},{"$f":"IF(ISBLANK('Data Input'!C21),\"\",SUM('Data Input'!BB21:BU21))","v":""},{"$f":"IF(U16=\"\",\"\",U16/COUNTIF('Data Input'!$C$8:$BU$8,\"Sp\"))","v":""}]
[{"$f":"IF('Data Input'!A22=0,\"\",'Data Input'!A22)","v":""},{"$f":"IF(ISBLANK('Data Input'!A22),\"\",COUNTIF('Data Input'!C22:BU22,\"\")-1)","v":""},{"$f":"IF(ISBLANK('Data Input'!A22),\"\",COUNTIF('Data Input'!C22:BU22,\"0\"))","v":""},{"$f":"IF(ISBLANK('Data Input'!A22),\"\",SUM(B17,C17))","v":""},{"$f":"IF(ISBLANK('Data Input'!A22),\"\",SUM('Data Input'!C22:BU22))","v":""},{"$f":"IF(E17=\"\",\"\",E17/(COUNTA('Data Input'!$C$8:$BU$8)-1))","v":""},{"$f":"IF(ISBLANK('Data Input'!A22),\"\",SUM('Data Input'!H22,'Data Input'!AA22,'Data Input'!AO22,'Data Input'!AP22))","v":""},{"$f":"IF(G17=\"\",\"\",G17/COUNTIF('Data Input'!$C$8:$BU$8,\"CS\"))","v":""},{"$f":"IF(ISBLANK('Data Input'!A22),\"\",SUM('Data Input'!P22,'Data Input'!T22,'Data Input'!AD22,'Data Input'!AX22,'Data Input'!AY22))","v":""},{"$f":"IF(I17=\"\",\"\",I17/COUNTIF('Data Input'!$C$8:$BU$8,\"SE\"))","v":""},{"$f":"IF(ISBLANK('Data Input'!A22),\"\",SUM('Data Input'!K22,'Data Input'!L22,'Data Input'!M22,'Data Input'!O22,'Data Input'!Q22,'Data Input'!U22,'Data Input'!X22,'Data Input'!Y22,'Data Input'!Z22,'Data Input'!AB22,'Data Input'!AE22,'Data Input'!AG22,'Data Input'!AL22,'Data Input'!AU22,'Data Input'!AW22))","v":""},{"$f":"IF(K17=\"\",\"\",K17/COUNTIF('Data Input'!$C$8:$BU$8,\"P\"))","v":""},{"$f":"IF(ISBLANK('Data Input'!A22),\"\",SUM('Data Input'!I22,'Data Input'!S22))","v":""},{"$f":"IF(M17=\"\",\"\",M17/COUNTIF('Data Input'!$C$8:$BU$8,\"FS\"))","v":""},{"$f":"IF(ISBLANK('Data Input'!A22),\"\",SUM('Data Input'!D22,'Data Input'!E22,'Data Input'!F22,'Data Input'!G22,'Data Input'!R22,'Data Input'!V22,'Data Input'!W22,'Data Input'!AC22,'Data Input'!AF22,'Data Input'!AH22,'Data Input'!AJ22,'Data Input'!AK22,'Data Input'!AM22,'Data Input'!AQ22,'Data Input'!AR22,'Data Input'!AZ22))","v":""},{"$f":"IF(O17=\"\",\"\",O17/COUNTIF('Data Input'!$C$8:$BU$8,\"GT\"))","v":""},{"$f":"IF(ISBLANK('Data Input'!A22),\"\",SUM('Data Input'!C22,'Data Input'!J22,'Data Input'!N22,'Data Input'!AS22,'Data Input'!AT22,'Data Input'!AV22))","v":""},{"$f":"IF(Q17=\"\",\"\",Q17/COUNTIF('Data Input'!$C$8:$BU$8,\"V\"))","v":""},{"$f":"IF(ISBLANK('Data Input'!A22),\"\",SUM('Data Input'!AI22,'Data Input'!AN22))","v":""},{"$f":"IF(S17=\"\",\"\",S17/COUNTIF('Data Input'!$C$8:$BU$8,\"F/I\"))","v":""},{"$f":"IF(ISBLANK('Data Input'!C22),\"\",SUM('Data Input'!BB22:BU22))","v":""},{"$f":"IF(U17=\"\",\"\",U17/COUNTIF('Data Input'!$C$8:$BU$8,\"Sp\"))","v":""}]
[{"$f":"IF('Data Input'!A23=0,\"\",'Data Input'!A23)","v":""},{"$f":"IF(ISBLANK('Data Input'!A23),\"\",COUNTIF('Data Input'!C23:BU23,\"\")-1)","v":""},{"$f":"IF(ISBLANK('Data Input'!A23),\"\",COUNTIF('Data Input'!C23:BU23,\"0\"))","v":""},{"$f":"IF(ISBLANK('Data Input'!A23),\"\",SUM(B18,C18))","v":""},{"$f":"IF(ISBLANK('Data Input'!A23),\"\",SUM('Data Input'!C23:BU23))","v":""},{"$f":"IF(E18=\"\",\"\",E18/(COUNTA('Data Input'!$C$8:$BU$8)-1))","v":""},{"$f":"IF(ISBLANK('Data Input'!A23),\"\",SUM('Data Input'!H23,'Data Input'!AA23,'Data Input'!AO23,'Data Input'!AP23))","v":""},{"$f":"IF(G18=\"\",\"\",G18/COUNTIF('Data Input'!$C$8:$BU$8,\"CS\"))","v":""},{"$f":"IF(ISBLANK('Data Input'!A23),\"\",SUM('Data Input'!P23,'Data Input'!T23,'Data Input'!AD23,'Data Input'!AX23,'Data Input'!AY23))","v":""},{"$f":"IF(I18=\"\",\"\",I18/COUNTIF('Data Input'!$C$8:$BU$8,\"SE\"))","v":""},{"$f":"IF(ISBLANK('Data Input'!A23),\"\",SUM('Data Input'!K23,'Data Input'!L23,'Data Input'!M23,'Data Input'!O23,'Data Input'!Q23,'Data Input'!U23,'Data Input'!X23,'Data Input'!Y23,'Data Input'!Z23,'Data Input'!AB23,'Data Input'!AE23,'Data Input'!AG23,'Data Input'!AL23,'Data Input'!AU23,'Data Input'!AW23))","v":""},{"$f":"IF(K18=\"\",\"\",K18/COUNTIF('Data Input'!$C$8:$BU$8,\"P\"))","v":""},{"$f":"IF(ISBLANK('Data Input'!A23),\"\",SUM('Data Input'!I23,'Data Input'!S23))","v":""},{"$f":"IF(M18=\"\",\"\",M18/COUNTIF('Data Input'!$C$8:$BU$8,\"FS\"))","v":""},{"$f":"IF(ISBLANK('Data Input'!A23),\"\",SUM('Data Input'!D23,'Data Input'!E23,'Data Input'!F23,'Data Input'!G23,'Data Input'!R23,'Data Input'!V23,'Data Input'!W23,'Data Input'!AC23,'Data Input'!AF23,'Data Input'!AH23,'Data Input'!AJ23,'Data Input'!AK23,'Data Input'!AM23,'Data Input'!AQ23,'Data Input'!AR23,'Data Input'!AZ23))","v":""},{"$f":"IF(O18=\"\",\"\",O18/COUNTIF('Data Input'!$C$8:$BU$8,\"GT\"))","v":""},{"$f":"IF(ISBLANK('Data Input'!A23),\"\",SUM('Data Input'!C23,'Data Input'!J23,'Data Input'!N23,'Data Input'!AS23,'Data Input'!AT23,'Data Input'!AV23))","v":""},{"$f":"IF(Q18=\"\",\"\",Q18/COUNTIF('Data Input'!$C$8:$BU$8,\"V\"))","v":""},{"$f":"IF(ISBLANK('Data Input'!A23),\"\",SUM('Data Input'!AI23,'Data Input'!AN23))","v":""},{"$f":"IF(S18=\"\",\"\",S18/COUNTIF('Data Input'!$C$8:$BU$8,\"F/I\"))","v":""},{"$f":"IF(ISBLANK('Data Input'!C23),\"\",SUM('Data Input'!BB23:BU23))","v":""},{"$f":"IF(U18=\"\",\"\",U18/COUNTIF('Data Input'!$C$8:$BU$8,\"Sp\"))","v":""}]
[{"$f":"IF('Data Input'!A24=0,\"\",'Data Input'!A24)","v":""},{"$f":"IF(ISBLANK('Data Input'!A24),\"\",COUNTIF('Data Input'!C24:BU24,\"\")-1)","v":""},{"$f":"IF(ISBLANK('Data Input'!A24),\"\",COUNTIF('Data Input'!C24:BU24,\"0\"))","v":""},{"$f":"IF(ISBLANK('Data Input'!A24),\"\",SUM(B19,C19))","v":""},{"$f":"IF(ISBLANK('Data Input'!A24),\"\",SUM('Data Input'!C24:BU24))","v":""},{"$f":"IF(E19=\"\",\"\",E19/(COUNTA('Data Input'!$C$8:$BU$8)-1))","v":""},{"$f":"IF(ISBLANK('Data Input'!A24),\"\",SUM('Data Input'!H24,'Data Input'!AA24,'Data Input'!AO24,'Data Input'!AP24))","v":""},{"$f":"IF(G19=\"\",\"\",G19/COUNTIF('Data Input'!$C$8:$BU$8,\"CS\"))","v":""},{"$f":"IF(ISBLANK('Data Input'!A24),\"\",SUM('Data Input'!P24,'Data Input'!T24,'Data Input'!AD24,'Data Input'!AX24,'Data Input'!AY24))","v":""},{"$f":"IF(I19=\"\",\"\",I19/COUNTIF('Data Input'!$C$8:$BU$8,\"SE\"))","v":""},{"$f":"IF(ISBLANK('Data Input'!A24),\"\",SUM('Data Input'!K24,'Data Input'!L24,'Data Input'!M24,'Data Input'!O24,'Data Input'!Q24,'Data Input'!U24,'Data Input'!X24,'Data Input'!Y24,'Data Input'!Z24,'Data Input'!AB24,'Data Input'!AE24,'Data Input'!AG24,'Data Input'!AL24,'Data Input'!AU24,'Data Input'!AW24))","v":""},{"$f":"IF(K19=\"\",\"\",K19/COUNTIF('Data Input'!$C$8:$BU$8,\"P\"))","v":""},{"$f":"IF(ISBLANK('Data Input'!A24),\"\",SUM('Data Input'!I24,'Data Input'!S24))","v":""},{"$f":"IF(M19=\"\",\"\",M19/COUNTIF('Data Input'!$C$8:$BU$8,\"FS\"))","v":""},{"$f":"IF(ISBLANK('Data Input'!A24),\"\",SUM('Data Input'!D24,'Data Input'!E24,'Data Input'!F24,'Data Input'!G24,'Data Input'!R24,'Data Input'!V24,'Data Input'!W24,'Data Input'!AC24,'Data Input'!AF24,'Data Input'!AH24,'Data Input'!AJ24,'Data Input'!AK24,'Data Input'!AM24,'Data Input'!AQ24,'Data Input'!AR24,'Data Input'!AZ24))","v":""},{"$f":"IF(O19=\"\",\"\",O19/COUNTIF('Data Input'!$C$8:$BU$8,\"GT\"))","v":""},{"$f":"IF(ISBLANK('Data Input'!A24),\"\",SUM('Data Input'!C24,'Data Input'!J24,'Data Input'!N24,'Data Input'!AS24,'Data Input'!AT24,'Data Input'!AV24))","v":""},{"$f":"IF(Q19=\"\",\"\",Q19/COUNTIF('Data Input'!$C$8:$BU$8,\"V\"))","v":""},{"$f":"IF(ISBLANK('Data Input'!A24),\"\",SUM('Data Input'!AI24,'Data Input'!AN24))","v":""},{"$f":"IF(S19=\"\",\"\",S19/COUNTIF('Data Input'!$C$8:$BU$8,\"F/I\"))","v":""},{"$f":"IF(ISBLANK('Data Input'!C24),\"\",SUM('Data Input'!BB24:BU24))","v":""},{"$f":"IF(U19=\"\",\"\",U19/COUNTIF('Data Input'!$C$8:$BU$8,\"Sp\"))","v":""}]
[{"$f":"IF('Data Input'!A25=0,\"\",'Data Input'!A25)","v":""},{"$f":"IF(ISBLANK('Data Input'!A25),\"\",COUNTIF('Data Input'!C25:BU25,\"\")-1)","v":""},{"$f":"IF(ISBLANK('Data Input'!A25),\"\",COUNTIF('Data Input'!C25:BU25,\"0\"))","v":""},{"$f":"IF(ISBLANK('Data Input'!A25),\"\",SUM(B20,C20))","v":""},{"$f":"IF(ISBLANK('Data Input'!A25),\"\",SUM('Data Input'!C25:BU25))","v":""},{"$f":"IF(E20=\"\",\"\",E20/(COUNTA('Data Input'!$C$8:$BU$8)-1))","v":""},{"$f":"IF(ISBLANK('Data Input'!A25),\"\",SUM('Data Input'!H25,'Data Input'!AA25,'Data Input'!AO25,'Data Input'!AP25))","v":""},{"$f":"IF(G20=\"\",\"\",G20/COUNTIF('Data Input'!$C$8:$BU$8,\"CS\"))","v":""},{"$f":"IF(ISBLANK('Data Input'!A25),\"\",SUM('Data Input'!P25,'Data Input'!T25,'Data Input'!AD25,'Data Input'!AX25,'Data Input'!AY25))","v":""},{"$f":"IF(I20=\"\",\"\",I20/COUNTIF('Data Input'!$C$8:$BU$8,\"SE\"))","v":""},{"$f":"IF(ISBLANK('Data Input'!A25),\"\",SUM('Data Input'!K25,'Data Input'!L25,'Data Input'!M25,'Data Input'!O25,'Data Input'!Q25,'Data Input'!U25,'Data Input'!X25,'Data Input'!Y25,'Data Input'!Z25,'Data Input'!AB25,'Data Input'!AE25,'Data Input'!AG25,'Data Input'!AL25,'Data Input'!AU25,'Data Input'!AW25))","v":""},{"$f":"IF(K20=\"\",\"\",K20/COUNTIF('Data Input'!$C$8:$BU$8,\"P\"))","v":""},{"$f":"IF(ISBLANK('Data Input'!A25),\"\",SUM('Data Input'!I25,'Data Input'!S25))","v":""},{"$f":"IF(M20=\"\",\"\",M20/COUNTIF('Data Input'!$C$8:$BU$8,\"FS\"))","v":""},{"$f":"IF(ISBLANK('Data Input'!A25),\"\",SUM('Data Input'!D25,'Data Input'!E25,'Data Input'!F25,'Data Input'!G25,'Data Input'!R25,'Data Input'!V25,'Data Input'!W25,'Data Input'!AC25,'Data Input'!AF25,'Data Input'!AH25,'Data Input'!AJ25,'Data Input'!AK25,'Data Input'!AM25,'Data Input'!AQ25,'Data Input'!AR25,'Data Input'!AZ25))","v":""},{"$f":"IF(O20=\"\",\"\",O20/COUNTIF('Data Input'!$C$8:$BU$8,\"GT\"))","v":""},{"$f":"IF(ISBLANK('Data Input'!A25),\"\",SUM('Data Input'!C25,'Data Input'!J25,'Data Input'!N25,'Data Input'!AS25,'Data Input'!AT25,'Data Input'!AV25))","v":""},{"$f":"IF(Q20=\"\",\"\",Q20/COUNTIF('Data Input'!$C$8:$BU$8,\"V\"))","v":""},{"$f":"IF(ISBLANK('Data Input'!A25),\"\",SUM('Data Input'!AI25,'Data Input'!AN25))","v":""},{"$f":"IF(S20=\"\",\"\",S20/COUNTIF('Data Input'!$C$8:$BU$8,\"F/I\"))","v":""},{"$f":"IF(ISBLANK('Data Input'!C25),\"\",SUM('Data Input'!BB25:BU25))","v":""},{"$f":"IF(U20=\"\",\"\",U20/COUNTIF('Data Input'!$C$8:$BU$8,\"Sp\"))","v":""}]
[{"$f":"IF('Data Input'!A26=0,\"\",'Data Input'!A26)","v":""},{"$f":"IF(ISBLANK('Data Input'!A26),\"\",COUNTIF('Data Input'!C26:BU26,\"\")-1)","v":""},{"$f":"IF(ISBLANK('Data Input'!A26),\"\",COUNTIF('Data Input'!C26:BU26,\"0\"))","v":""},{"$f":"IF(ISBLANK('Data Input'!A26),\"\",SUM(B21,C21))","v":""},{"$f":"IF(ISBLANK('Data Input'!A26),\"\",SUM('Data Input'!C26:BU26))","v":""},{"$f":"IF(E21=\"\",\"\",E21/(COUNTA('Data Input'!$C$8:$BU$8)-1))","v":""},{"$f":"IF(ISBLANK('Data Input'!A26),\"\",SUM('Data Input'!H26,'Data Input'!AA26,'Data Input'!AO26,'Data Input'!AP26))","v":""},{"$f":"IF(G21=\"\",\"\",G21/COUNTIF('Data Input'!$C$8:$BU$8,\"CS\"))","v":""},{"$f":"IF(ISBLANK('Data Input'!A26),\"\",SUM('Data Input'!P26,'Data Input'!T26,'Data Input'!AD26,'Data Input'!AX26,'Data Input'!AY26))","v":""},{"$f":"IF(I21=\"\",\"\",I21/COUNTIF('Data Input'!$C$8:$BU$8,\"SE\"))","v":""},{"$f":"IF(ISBLANK('Data Input'!A26),\"\",SUM('Data Input'!K26,'Data Input'!L26,'Data Input'!M26,'Data Input'!O26,'Data Input'!Q26,'Data Input'!U26,'Data Input'!X26,'Data Input'!Y26,'Data Input'!Z26,'Data Input'!AB26,'Data Input'!AE26,'Data Input'!AG26,'Data Input'!AL26,'Data Input'!AU26,'Data Input'!AW26))","v":""},{"$f":"IF(K21=\"\",\"\",K21/COUNTIF('Data Input'!$C$8:$BU$8,\"P\"))","v":""},{"$f":"IF(ISBLANK('Data Input'!A26),\"\",SUM('Data Input'!I26,'Data Input'!S26))","v":""},{"$f":"IF(M21=\"\",\"\",M21/COUNTIF('Data Input'!$C$8:$BU$8,\"FS\"))","v":""},{"$f":"IF(ISBLANK('Data Input'!A26),\"\",SUM('Data Input'!D26,'Data Input'!E26,'Data Input'!F26,'Data Input'!G26,'Data Input'!R26,'Data Input'!V26,'Data Input'!W26,'Data Input'!AC26,'Data Input'!AF26,'Data Input'!AH26,'Data Input'!AJ26,'Data Input'!AK26,'Data Input'!AM26,'Data Input'!AQ26,'Data Input'!AR26,'Data Input'!AZ26))","v":""},{"$f":"IF(O21=\"\",\"\",O21/COUNTIF('Data Input'!$C$8:$BU$8,\"GT\"))","v":""},{"$f":"IF(ISBLANK('Data Input'!A26),\"\",SUM('Data Input'!C26,'Data Input'!J26,'Data Input'!N26,'Data Input'!AS26,'Data Input'!AT26,'Data Input'!AV26))","v":""},{"$f":"IF(Q21=\"\",\"\",Q21/COUNTIF('Data Input'!$C$8:$BU$8,\"V\"))","v":""},{"$f":"IF(ISBLANK('Data Input'!A26),\"\",SUM('Data Input'!AI26,'Data Input'!AN26))","v":""},{"$f":"IF(S21=\"\",\"\",S21/COUNTIF('Data Input'!$C$8:$BU$8,\"F/I\"))","v":""},{"$f":"IF(ISBLANK('Data Input'!C26),\"\",SUM('Data Input'!BB26:BU26))","v":""},{"$f":"IF(U21=\"\",\"\",U21/COUNTIF('Data Input'!$C$8:$BU$8,\"Sp\"))","v":""}]
[{"$f":"IF('Data Input'!A27=0,\"\",'Data Input'!A27)","v":""},{"$f":"IF(ISBLANK('Data Input'!A27),\"\",COUNTIF('Data Input'!C27:BU27,\"\")-1)","v":""},{"$f":"IF(ISBLANK('Data Input'!A27),\"\",COUNTIF('Data Input'!C27:BU27,\"0\"))","v":""},{"$f":"IF(ISBLANK('Data Input'!A27),\"\",SUM(B22,C22))","v":""},{"$f":"IF(ISBLANK('Data Input'!A27),\"\",SUM('Data Input'!C27:BU27))","v":""},{"$f":"IF(E22=\"\",\"\",E22/(COUNTA('Data Input'!$C$8:$BU$8)-1))","v":""},{"$f":"IF(ISBLANK('Data Input'!A27),\"\",SUM('Data Input'!H27,'Data Input'!AA27,'Data Input'!AO27,'Data Input'!AP27))","v":""},{"$f":"IF(G22=\"\",\"\",G22/COUNTIF('Data Input'!$C$8:$BU$8,\"CS\"))","v":""},{"$f":"IF(ISBLANK('Data Input'!A27),\"\",SUM('Data Input'!P27,'Data Input'!T27,'Data Input'!AD27,'Data Input'!AX27,'Data Input'!AY27))","v":""},{"$f":"IF(I22=\"\",\"\",I22/COUNTIF('Data Input'!$C$8:$BU$8,\"SE\"))","v":""},{"$f":"IF(ISBLANK('Data Input'!A27),\"\",SUM('Data Input'!K27,'Data Input'!L27,'Data Input'!M27,'Data Input'!O27,'Data Input'!Q27,'Data Input'!U27,'Data Input'!X27,'Data Input'!Y27,'Data Input'!Z27,'Data Input'!AB27,'Data Input'!AE27,'Data Input'!AG27,'Data Input'!AL27,'Data Input'!AU27,'Data Input'!AW27))","v":""},{"$f":"IF(K22=\"\",\"\",K22/COUNTIF('Data Input'!$C$8:$BU$8,\"P\"))","v":""},{"$f":"IF(ISBLANK('Data Input'!A27),\"\",SUM('Data Input'!I27,'Data Input'!S27))","v":""},{"$f":"IF(M22=\"\",\"\",M22/COUNTIF('Data Input'!$C$8:$BU$8,\"FS\"))","v":""},{"$f":"IF(ISBLANK('Data Input'!A27),\"\",SUM('Data Input'!D27,'Data Input'!E27,'Data Input'!F27,'Data Input'!G27,'Data Input'!R27,'Data Input'!V27,'Data Input'!W27,'Data Input'!AC27,'Data Input'!AF27,'Data Input'!AH27,'Data Input'!AJ27,'Data Input'!AK27,'Data Input'!AM27,'Data Input'!AQ27,'Data Input'!AR27,'Data Input'!AZ27))","v":""},{"$f":"IF(O22=\"\",\"\",O22/COUNTIF('Data Input'!$C$8:$BU$8,\"GT\"))","v":""},{"$f":"IF(ISBLANK('Data Input'!A27),\"\",SUM('Data Input'!C27,'Data Input'!J27,'Data Input'!N27,'Data Input'!AS27,'Data Input'!AT27,'Data Input'!AV27))","v":""},{"$f":"IF(Q22=\"\",\"\",Q22/COUNTIF('Data Input'!$C$8:$BU$8,\"V\"))","v":""},{"$f":"IF(ISBLANK('Data Input'!A27),\"\",SUM('Data Input'!AI27,'Data Input'!AN27))","v":""},{"$f":"IF(S22=\"\",\"\",S22/COUNTIF('Data Input'!$C$8:$BU$8,\"F/I\"))","v":""},{"$f":"IF(ISBLANK('Data Input'!C27),\"\",SUM('Data Input'!BB27:BU27))","v":""},{"$f":"IF(U22=\"\",\"\",U22/COUNTIF('Data Input'!$C$8:$BU$8,\"Sp\"))","v":""}]
[{"$f":"IF('Data Input'!A28=0,\"\",'Data Input'!A28)","v":""},{"$f":"IF(ISBLANK('Data Input'!A28),\"\",COUNTIF('Data Input'!C28:BU28,\"\")-1)","v":""},{"$f":"IF(ISBLANK('Data Input'!A28),\"\",COUNTIF('Data Input'!C28:BU28,\"0\"))","v":""},{"$f":"IF(ISBLANK('Data Input'!A28),\"\",SUM(B23,C23))","v":""},{"$f":"IF(ISBLANK('Data Input'!A28),\"\",SUM('Data Input'!C28:BU28))","v":""},{"$f":"IF(E23=\"\",\"\",E23/(COUNTA('Data Input'!$C$8:$BU$8)-1))","v":""},{"$f":"IF(ISBLANK('Data Input'!A28),\"\",SUM('Data Input'!H28,'Data Input'!AA28,'Data Input'!AO28,'Data Input'!AP28))","v":""},{"$f":"IF(G23=\"\",\"\",G23/COUNTIF('Data Input'!$C$8:$BU$8,\"CS\"))","v":""},{"$f":"IF(ISBLANK('Data Input'!A28),\"\",SUM('Data Input'!P28,'Data Input'!T28,'Data Input'!AD28,'Data Input'!AX28,'Data Input'!AY28))","v":""},{"$f":"IF(I23=\"\",\"\",I23/COUNTIF('Data Input'!$C$8:$BU$8,\"SE\"))","v":""},{"$f":"IF(ISBLANK('Data Input'!A28),\"\",SUM('Data Input'!K28,'Data Input'!L28,'Data Input'!M28,'Data Input'!O28,'Data Input'!Q28,'Data Input'!U28,'Data Input'!X28,'Data Input'!Y28,'Data Input'!Z28,'Data Input'!AB28,'Data Input'!AE28,'Data Input'!AG28,'Data Input'!AL28,'Data Input'!AU28,'Data Input'!AW28))","v":""},{"$f":"IF(K23=\"\",\"\",K23/COUNTIF('Data Input'!$C$8:$BU$8,\"P\"))","v":""},{"$f":"IF(ISBLANK('Data Input'!A28),\"\",SUM('Data Input'!I28,'Data Input'!S28))","v":""},{"$f":"IF(M23=\"\",\"\",M23/COUNTIF('Data Input'!$C$8:$BU$8,\"FS\"))","v":""},{"$f":"IF(ISBLANK('Data Input'!A28),\"\",SUM('Data Input'!D28,'Data Input'!E28,'Data Input'!F28,'Data Input'!G28,'Data Input'!R28,'Data Input'!V28,'Data Input'!W28,'Data Input'!AC28,'Data Input'!AF28,'Data Input'!AH28,'Data Input'!AJ28,'Data Input'!AK28,'Data Input'!AM28,'Data Input'!AQ28,'Data Input'!AR28,'Data Input'!AZ28))","v":""},{"$f":"IF(O23=\"\",\"\",O23/COUNTIF('Data Input'!$C$8:$BU$8,\"GT\"))","v":""},{"$f":"IF(ISBLANK('Data Input'!A28),\"\",SUM('Data Input'!C28,'Data Input'!J28,'Data Input'!N28,'Data Input'!AS28,'Data Input'!AT28,'Data Input'!AV28))","v":""},{"$f":"IF(Q23=\"\",\"\",Q23/COUNTIF('Data Input'!$C$8:$BU$8,\"V\"))","v":""},{"$f":"IF(ISBLANK('Data Input'!A28),\"\",SUM('Data Input'!AI28,'Data Input'!AN28))","v":""},{"$f":"IF(S23=\"\",\"\",S23/COUNTIF('Data Input'!$C$8:$BU$8,\"F/I\"))","v":""},{"$f":"IF(ISBLANK('Data Input'!C28),\"\",SUM('Data Input'!BB28:BU28))","v":""},{"$f":"IF(U23=\"\",\"\",U23/COUNTIF('Data Input'!$C$8:$BU$8,\"Sp\"))","v":""}]
[{"$f":"IF('Data Input'!A29=0,\"\",'Data Input'!A29)","v":""},{"$f":"IF(ISBLANK('Data Input'!A29),\"\",COUNTIF('Data Input'!C29:BU29,\"\")-1)","v":""},{"$f":"IF(ISBLANK('Data Input'!A29),\"\",COUNTIF('Data Input'!C29:BU29,\"0\"))","v":""},{"$f":"IF(ISBLANK('Data Input'!A29),\"\",SUM(B24,C24))","v":""},{"$f":"IF(ISBLANK('Data Input'!A29),\"\",SUM('Data Input'!C29:BU29))","v":""},{"$f":"IF(E24=\"\",\"\",E24/(COUNTA('Data Input'!$C$8:$BU$8)-1))","v":""},{"$f":"IF(ISBLANK('Data Input'!A29),\"\",SUM('Data Input'!H29,'Data Input'!AA29,'Data Input'!AO29,'Data Input'!AP29))","v":""},{"$f":"IF(G24=\"\",\"\",G24/COUNTIF('Data Input'!$C$8:$BU$8,\"CS\"))","v":""},{"$f":"IF(ISBLANK('Data Input'!A29),\"\",SUM('Data Input'!P29,'Data Input'!T29,'Data Input'!AD29,'Data Input'!AX29,'Data Input'!AY29))","v":""},{"$f":"IF(I24=\"\",\"\",I24/COUNTIF('Data Input'!$C$8:$BU$8,\"SE\"))","v":""},{"$f":"IF(ISBLANK('Data Input'!A29),\"\",SUM('Data Input'!K29,'Data Input'!L29,'Data Input'!M29,'Data Input'!O29,'Data Input'!Q29,'Data Input'!U29,'Data Input'!X29,'Data Input'!Y29,'Data Input'!Z29,'Data Input'!AB29,'Data Input'!AE29,'Data Input'!AG29,'Data Input'!AL29,'Data Input'!AU29,'Data Input'!AW29))","v":""},{"$f":"IF(K24=\"\",\"\",K24/COUNTIF('Data Input'!$C$8:$BU$8,\"P\"))","v":""},{"$f":"IF(ISBLANK('Data Input'!A29),\"\",SUM('Data Input'!I29,'Data Input'!S29))","v":""},{"$f":"IF(M24=\"\",\"\",M24/COUNTIF('Data Input'!$C$8:$BU$8,\"FS\"))","v":""},{"$f":"IF(ISBLANK('Data Input'!A29),\"\",SUM('Data Input'!D29,'Data Input'!E29,'Data Input'!F29,'Data Input'!G29,'Data Input'!R29,'Data Input'!V29,'Data Input'!W29,'Data Input'!AC29,'Data Input'!AF29,'Data Input'!AH29,'Data Input'!AJ29,'Data Input'!AK29,'Data Input'!AM29,'Data Input'!AQ29,'Data Input'!AR29,'Data Input'!AZ29))","v":""},{"$f":"IF(O24=\"\",\"\",O24/COUNTIF('Data Input'!$C$8:$BU$8,\"GT\"))","v":""},{"$f":"IF(ISBLANK('Data Input'!A29),\"\",SUM('Data Input'!C29,'Data Input'!J29,'Data Input'!N29,'Data Input'!AS29,'Data Input'!AT29,'Data Input'!AV29))","v":""},{"$f":"IF(Q24=\"\",\"\",Q24/COUNTIF('Data Input'!$C$8:$BU$8,\"V\"))","v":""},{"$f":"IF(ISBLANK('Data Input'!A29),\"\",SUM('Data Input'!AI29,'Data Input'!AN29))","v":""},{"$f":"IF(S24=\"\",\"\",S24/COUNTIF('Data Input'!$C$8:$BU$8,\"F/I\"))","v":""},{"$f":"IF(ISBLANK('Data Input'!C29),\"\",SUM('Data Input'!BB29:BU29))","v":""},{"$f":"IF(U24=\"\",\"\",U24/COUNTIF('Data Input'!$C$8:$BU$8,\"Sp\"))","v":""}]
[{"$f":"IF('Data Input'!A30=0,\"\",'Data Input'!A30)","v":""},{"$f":"IF(ISBLANK('Data Input'!A30),\"\",COUNTIF('Data Input'!C30:BU30,\"\")-1)","v":""},{"$f":"IF(ISBLANK('Data Input'!A30),\"\",COUNTIF('Data Input'!C30:BU30,\"0\"))","v":""},{"$f":"IF(ISBLANK('Data Input'!A30),\"\",SUM(B25,C25))","v":""},{"$f":"IF(ISBLANK('Data Input'!A30),\"\",SUM('Data Input'!C30:BU30))","v":""},{"$f":"IF(E25=\"\",\"\",E25/(COUNTA('Data Input'!$C$8:$BU$8)-1))","v":""},{"$f":"IF(ISBLANK('Data Input'!A30),\"\",SUM('Data Input'!H30,'Data Input'!AA30,'Data Input'!AO30,'Data Input'!AP30))","v":""},{"$f":"IF(G25=\"\",\"\",G25/COUNTIF('Data Input'!$C$8:$BU$8,\"CS\"))","v":""},{"$f":"IF(ISBLANK('Data Input'!A30),\"\",SUM('Data Input'!P30,'Data Input'!T30,'Data Input'!AD30,'Data Input'!AX30,'Data Input'!AY30))","v":""},{"$f":"IF(I25=\"\",\"\",I25/COUNTIF('Data Input'!$C$8:$BU$8,\"SE\"))","v":""},{"$f":"IF(ISBLANK('Data Input'!A30),\"\",SUM('Data Input'!K30,'Data Input'!L30,'Data Input'!M30,'Data Input'!O30,'Data Input'!Q30,'Data Input'!U30,'Data Input'!X30,'Data Input'!Y30,'Data Input'!Z30,'Data Input'!AB30,'Data Input'!AE30,'Data Input'!AG30,'Data Input'!AL30,'Data Input'!AU30,'Data Input'!AW30))","v":""},{"$f":"IF(K25=\"\",\"\",K25/COUNTIF('Data Input'!$C$8:$BU$8,\"P\"))","v":""},{"$f":"IF(ISBLANK('Data Input'!A30),\"\",SUM('Data Input'!I30,'Data Input'!S30))","v":""},{"$f":"IF(M25=\"\",\"\",M25/COUNTIF('Data Input'!$C$8:$BU$8,\"FS\"))","v":""},{"$f":"IF(ISBLANK('Data Input'!A30),\"\",SUM('Data Input'!D30,'Data Input'!E30,'Data Input'!F30,'Data Input'!G30,'Data Input'!R30,'Data Input'!V30,'Data Input'!W30,'Data Input'!AC30,'Data Input'!AF30,'Data Input'!AH30,'Data Input'!AJ30,'Data Input'!AK30,'Data Input'!AM30,'Data Input'!AQ30,'Data Input'!AR30,'Data Input'!AZ30))","v":""},{"$f":"IF(O25=\"\",\"\",O25/COUNTIF('Data Input'!$C$8:$BU$8,\"GT\"))","v":""},{"$f":"IF(ISBLANK('Data Input'!A30),\"\",SUM('Data Input'!C30,'Data Input'!J30,'Data Input'!N30,'Data Input'!AS30,'Data Input'!AT30,'Data Input'!AV30))","v":""},{"$f":"IF(Q25=\"\",\"\",Q25/COUNTIF('Data Input'!$C$8:$BU$8,\"V\"))","v":""},{"$f":"IF(ISBLANK('Data Input'!A30),\"\",SUM('Data Input'!AI30,'Data Input'!AN30))","v":""},{"$f":"IF(S25=\"\",\"\",S25/COUNTIF('Data Input'!$C$8:$BU$8,\"F/I\"))","v":""},{"$f":"IF(ISBLANK('Data Input'!C30),\"\",SUM('Data Input'!BB30:BU30))","v":""},{"$f":"IF(U25=\"\",\"\",U25/COUNTIF('Data Input'!$C$8:$BU$8,\"Sp\"))","v":""}]
[{"$f":"IF('Data Input'!A31=0,\"\",'Data Input'!A31)","v":""},{"$f":"IF(ISBLANK('Data Input'!A31),\"\",COUNTIF('Data Input'!C31:BU31,\"\")-1)","v":""},{"$f":"IF(ISBLANK('Data Input'!A31),\"\",COUNTIF('Data Input'!C31:BU31,\"0\"))","v":""},{"$f":"IF(ISBLANK('Data Input'!A31),\"\",SUM(B26,C26))","v":""},{"$f":"IF(ISBLANK('Data Input'!A31),\"\",SUM('Data Input'!C31:BU31))","v":""},{"$f":"IF(E26=\"\",\"\",E26/(COUNTA('Data Input'!$C$8:$BU$8)-1))","v":""},{"$f":"IF(ISBLANK('Data Input'!A31),\"\",SUM('Data Input'!H31,'Data Input'!AA31,'Data Input'!AO31,'Data Input'!AP31))","v":""},{"$f":"IF(G26=\"\",\"\",G26/COUNTIF('Data Input'!$C$8:$BU$8,\"CS\"))","v":""},{"$f":"IF(ISBLANK('Data Input'!A31),\"\",SUM('Data Input'!P31,'Data Input'!T31,'Data Input'!AD31,'Data Input'!AX31,'Data Input'!AY31))","v":""},{"$f":"IF(I26=\"\",\"\",I26/COUNTIF('Data Input'!$C$8:$BU$8,\"SE\"))","v":""},{"$f":"IF(ISBLANK('Data Input'!A31),\"\",SUM('Data Input'!K31,'Data Input'!L31,'Data Input'!M31,'Data Input'!O31,'Data Input'!Q31,'Data Input'!U31,'Data Input'!X31,'Data Input'!Y31,'Data Input'!Z31,'Data Input'!AB31,'Data Input'!AE31,'Data Input'!AG31,'Data Input'!AL31,'Data Input'!AU31,'Data Input'!AW31))","v":""},{"$f":"IF(K26=\"\",\"\",K26/COUNTIF('Data Input'!$C$8:$BU$8,\"P\"))","v":""},{"$f":"IF(ISBLANK('Data Input'!A31),\"\",SUM('Data Input'!I31,'Data Input'!S31))","v":""},{"$f":"IF(M26=\"\",\"\",M26/COUNTIF('Data Input'!$C$8:$BU$8,\"FS\"))","v":""},{"$f":"IF(ISBLANK('Data Input'!A31),\"\",SUM('Data Input'!D31,'Data Input'!E31,'Data Input'!F31,'Data Input'!G31,'Data Input'!R31,'Data Input'!V31,'Data Input'!W31,'Data Input'!AC31,'Data Input'!AF31,'Data Input'!AH31,'Data Input'!AJ31,'Data Input'!AK31,'Data Input'!AM31,'Data Input'!AQ31,'Data Input'!AR31,'Data Input'!AZ31))","v":""},{"$f":"IF(O26=\"\",\"\",O26/COUNTIF('Data Input'!$C$8:$BU$8,\"GT\"))","v":""},{"$f":"IF(ISBLANK('Data Input'!A31),\"\",SUM('Data Input'!C31,'Data Input'!J31,'Data Input'!N31,'Data Input'!AS31,'Data Input'!AT31,'Data Input'!AV31))","v":""},{"$f":"IF(Q26=\"\",\"\",Q26/COUNTIF('Data Input'!$C$8:$BU$8,\"V\"))","v":""},{"$f":"IF(ISBLANK('Data Input'!A31),\"\",SUM('Data Input'!AI31,'Data Input'!AN31))","v":""},{"$f":"IF(S26=\"\",\"\",S26/COUNTIF('Data Input'!$C$8:$BU$8,\"F/I\"))","v":""},{"$f":"IF(ISBLANK('Data Input'!C31),\"\",SUM('Data Input'!BB31:BU31))","v":""},{"$f":"IF(U26=\"\",\"\",U26/COUNTIF('Data Input'!$C$8:$BU$8,\"Sp\"))","v":""}]
[{"$f":"IF('Data Input'!A32=0,\"\",'Data Input'!A32)","v":""},{"$f":"IF(ISBLANK('Data Input'!A32),\"\",COUNTIF('Data Input'!C32:BU32,\"\")-1)","v":""},{"$f":"IF(ISBLANK('Data Input'!A32),\"\",COUNTIF('Data Input'!C32:BU32,\"0\"))","v":""},{"$f":"IF(ISBLANK('Data Input'!A32),\"\",SUM(B27,C27))","v":""},{"$f":"IF(ISBLANK('Data Input'!A32),\"\",SUM('Data Input'!C32:BU32))","v":""},{"$f":"IF(E27=\"\",\"\",E27/(COUNTA('Data Input'!$C$8:$BU$8)-1))","v":""},{"$f":"IF(ISBLANK('Data Input'!A32),\"\",SUM('Data Input'!H32,'Data Input'!AA32,'Data Input'!AO32,'Data Input'!AP32))","v":""},{"$f":"IF(G27=\"\",\"\",G27/COUNTIF('Data Input'!$C$8:$BU$8,\"CS\"))","v":""},{"$f":"IF(ISBLANK('Data Input'!A32),\"\",SUM('Data Input'!P32,'Data Input'!T32,'Data Input'!AD32,'Data Input'!AX32,'Data Input'!AY32))","v":""},{"$f":"IF(I27=\"\",\"\",I27/COUNTIF('Data Input'!$C$8:$BU$8,\"SE\"))","v":""},{"$f":"IF(ISBLANK('Data Input'!A32),\"\",SUM('Data Input'!K32,'Data Input'!L32,'Data Input'!M32,'Data Input'!O32,'Data Input'!Q32,'Data Input'!U32,'Data Input'!X32,'Data Input'!Y32,'Data Input'!Z32,'Data Input'!AB32,'Data Input'!AE32,'Data Input'!AG32,'Data Input'!AL32,'Data Input'!AU32,'Data Input'!AW32))","v":""},{"$f":"IF(K27=\"\",\"\",K27/COUNTIF('Data Input'!$C$8:$BU$8,\"P\"))","v":""},{"$f":"IF(ISBLANK('Data Input'!A32),\"\",SUM('Data Input'!I32,'Data Input'!S32))","v":""},{"$f":"IF(M27=\"\",\"\",M27/COUNTIF('Data Input'!$C$8:$BU$8,\"FS\"))","v":""},{"$f":"IF(ISBLANK('Data Input'!A32),\"\",SUM('Data Input'!D32,'Data Input'!E32,'Data Input'!F32,'Data Input'!G32,'Data Input'!R32,'Data Input'!V32,'Data Input'!W32,'Data Input'!AC32,'Data Input'!AF32,'Data Input'!AH32,'Data Input'!AJ32,'Data Input'!AK32,'Data Input'!AM32,'Data Input'!AQ32,'Data Input'!AR32,'Data Input'!AZ32))","v":""},{"$f":"IF(O27=\"\",\"\",O27/COUNTIF('Data Input'!$C$8:$BU$8,\"GT\"))","v":""},{"$f":"IF(ISBLANK('Data Input'!A32),\"\",SUM('Data Input'!C32,'Data Input'!J32,'Data Input'!N32,'Data Input'!AS32,'Data Input'!AT32,'Data Input'!AV32))","v":""},{"$f":"IF(Q27=\"\",\"\",Q27/COUNTIF('Data Input'!$C$8:$BU$8,\"V\"))","v":""},{"$f":"IF(ISBLANK('Data Input'!A32),\"\",SUM('Data Input'!AI32,'Data Input'!AN32))","v":""},{"$f":"IF(S27=\"\",\"\",S27/COUNTIF('Data Input'!$C$8:$BU$8,\"F/I\"))","v":""},{"$f":"IF(ISBLANK('Data Input'!C32),\"\",SUM('Data Input'!BB32:BU32))","v":""},{"$f":"IF(U27=\"\",\"\",U27/COUNTIF('Data Input'!$C$8:$BU$8,\"Sp\"))","v":""}]
[{"$f":"IF('Data Input'!A33=0,\"\",'Data Input'!A33)","v":""},{"$f":"IF(ISBLANK('Data Input'!A33),\"\",COUNTIF('Data Input'!C33:BU33,\"\")-1)","v":""},{"$f":"IF(ISBLANK('Data Input'!A33),\"\",COUNTIF('Data Input'!C33:BU33,\"0\"))","v":""},{"$f":"IF(ISBLANK('Data Input'!A33),\"\",SUM(B28,C28))","v":""},{"$f":"IF(ISBLANK('Data Input'!A33),\"\",SUM('Data Input'!C33:BU33))","v":""},{"$f":"IF(E28=\"\",\"\",E28/(COUNTA('Data Input'!$C$8:$BU$8)-1))","v":""},{"$f":"IF(ISBLANK('Data Input'!A33),\"\",SUM('Data Input'!H33,'Data Input'!AA33,'Data Input'!AO33,'Data Input'!AP33))","v":""},{"$f":"IF(G28=\"\",\"\",G28/COUNTIF('Data Input'!$C$8:$BU$8,\"CS\"))","v":""},{"$f":"IF(ISBLANK('Data Input'!A33),\"\",SUM('Data Input'!P33,'Data Input'!T33,'Data Input'!AD33,'Data Input'!AX33,'Data Input'!AY33))","v":""},{"$f":"IF(I28=\"\",\"\",I28/COUNTIF('Data Input'!$C$8:$BU$8,\"SE\"))","v":""},{"$f":"IF(ISBLANK('Data Input'!A33),\"\",SUM('Data Input'!K33,'Data Input'!L33,'Data Input'!M33,'Data Input'!O33,'Data Input'!Q33,'Data Input'!U33,'Data Input'!X33,'Data Input'!Y33,'Data Input'!Z33,'Data Input'!AB33,'Data Input'!AE33,'Data Input'!AG33,'Data Input'!AL33,'Data Input'!AU33,'Data Input'!AW33))","v":""},{"$f":"IF(K28=\"\",\"\",K28/COUNTIF('Data Input'!$C$8:$BU$8,\"P\"))","v":""},{"$f":"IF(ISBLANK('Data Input'!A33),\"\",SUM('Data Input'!I33,'Data Input'!S33))","v":""},{"$f":"IF(M28=\"\",\"\",M28/COUNTIF('Data Input'!$C$8:$BU$8,\"FS\"))","v":""},{"$f":"IF(ISBLANK('Data Input'!A33),\"\",SUM('Data Input'!D33,'Data Input'!E33,'Data Input'!F33,'Data Input'!G33,'Data Input'!R33,'Data Input'!V33,'Data Input'!W33,'Data Input'!AC33,'Data Input'!AF33,'Data Input'!AH33,'Data Input'!AJ33,'Data Input'!AK33,'Data Input'!AM33,'Data Input'!AQ33,'Data Input'!AR33,'Data Input'!AZ33))","v":""},{"$f":"IF(O28=\"\",\"\",O28/COUNTIF('Data Input'!$C$8:$BU$8,\"GT\"))","v":""},{"$f":"IF(ISBLANK('Data Input'!A33),\"\",SUM('Data Input'!C33,'Data Input'!J33,'Data Input'!N33,'Data Input'!AS33,'Data Input'!AT33,'Data Input'!AV33))","v":""},{"$f":"IF(Q28=\"\",\"\",Q28/COUNTIF('Data Input'!$C$8:$BU$8,\"V\"))","v":""},{"$f":"IF(ISBLANK('Data Input'!A33),\"\",SUM('Data Input'!AI33,'Data Input'!AN33))","v":""},{"$f":"IF(S28=\"\",\"\",S28/COUNTIF('Data Input'!$C$8:$BU$8,\"F/I\"))","v":""},{"$f":"IF(ISBLANK('Data Input'!C33),\"\",SUM('Data Input'!BB33:BU33))","v":""},{"$f":"IF(U28=\"\",\"\",U28/COUNTIF('Data Input'!$C$8:$BU$8,\"Sp\"))","v":""}]
[{"$f":"IF('Data Input'!A34=0,\"\",'Data Input'!A34)","v":""},{"$f":"IF(ISBLANK('Data Input'!A34),\"\",COUNTIF('Data Input'!C34:BU34,\"\")-1)","v":""},{"$f":"IF(ISBLANK('Data Input'!A34),\"\",COUNTIF('Data Input'!C34:BU34,\"0\"))","v":""},{"$f":"IF(ISBLANK('Data Input'!A34),\"\",SUM(B29,C29))","v":""},{"$f":"IF(ISBLANK('Data Input'!A34),\"\",SUM('Data Input'!C34:BU34))","v":""},{"$f":"IF(E29=\"\",\"\",E29/(COUNTA('Data Input'!$C$8:$BU$8)-1))","v":""},{"$f":"IF(ISBLANK('Data Input'!A34),\"\",SUM('Data Input'!H34,'Data Input'!AA34,'Data Input'!AO34,'Data Input'!AP34))","v":""},{"$f":"IF(G29=\"\",\"\",G29/COUNTIF('Data Input'!$C$8:$BU$8,\"CS\"))","v":""},{"$f":"IF(ISBLANK('Data Input'!A34),\"\",SUM('Data Input'!P34,'Data Input'!T34,'Data Input'!AD34,'Data Input'!AX34,'Data Input'!AY34))","v":""},{"$f":"IF(I29=\"\",\"\",I29/COUNTIF('Data Input'!$C$8:$BU$8,\"SE\"))","v":""},{"$f":"IF(ISBLANK('Data Input'!A34),\"\",SUM('Data Input'!K34,'Data Input'!L34,'Data Input'!M34,'Data Input'!O34,'Data Input'!Q34,'Data Input'!U34,'Data Input'!X34,'Data Input'!Y34,'Data Input'!Z34,'Data Input'!AB34,'Data Input'!AE34,'Data Input'!AG34,'Data Input'!AL34,'Data Input'!AU34,'Data Input'!AW34))","v":""},{"$f":"IF(K29=\"\",\"\",K29/COUNTIF('Data Input'!$C$8:$BU$8,\"P\"))","v":""},{"$f":"IF(ISBLANK('Data Input'!A34),\"\",SUM('Data Input'!I34,'Data Input'!S34))","v":""},{"$f":"IF(M29=\"\",\"\",M29/COUNTIF('Data Input'!$C$8:$BU$8,\"FS\"))","v":""},{"$f":"IF(ISBLANK('Data Input'!A34),\"\",SUM('Data Input'!D34,'Data Input'!E34,'Data Input'!F34,'Data Input'!G34,'Data Input'!R34,'Data Input'!V34,'Data Input'!W34,'Data Input'!AC34,'Data Input'!AF34,'Data Input'!AH34,'Data Input'!AJ34,'Data Input'!AK34,'Data Input'!AM34,'Data Input'!AQ34,'Data Input'!AR34,'Data Input'!AZ34))","v":""},{"$f":"IF(O29=\"\",\"\",O29/COUNTIF('Data Input'!$C$8:$BU$8,\"GT\"))","v":""},{"$f":"IF(ISBLANK('Data Input'!A34),\"\",SUM('Data Input'!C34,'Data Input'!J34,'Data Input'!N34,'Data Input'!AS34,'Data Input'!AT34,'Data Input'!AV34))","v":""},{"$f":"IF(Q29=\"\",\"\",Q29/COUNTIF('Data Input'!$C$8:$BU$8,\"V\"))","v":""},{"$f":"IF(ISBLANK('Data Input'!A34),\"\",SUM('Data Input'!AI34,'Data Input'!AN34))","v":""},{"$f":"IF(S29=\"\",\"\",S29/COUNTIF('Data Input'!$C$8:$BU$8,\"F/I\"))","v":""},{"$f":"IF(ISBLANK('Data Input'!C34),\"\",SUM('Data Input'!BB34:BU34))","v":""},{"$f":"IF(U29=\"\",\"\",U29/COUNTIF('Data Input'!$C$8:$BU$8,\"Sp\"))","v":""}]
[{"$f":"IF('Data Input'!A35=0,\"\",'Data Input'!A35)","v":""},{"$f":"IF(ISBLANK('Data Input'!A35),\"\",COUNTIF('Data Input'!C35:BU35,\"\")-1)","v":""},{"$f":"IF(ISBLANK('Data Input'!A35),\"\",COUNTIF('Data Input'!C35:BU35,\"0\"))","v":""},{"$f":"IF(ISBLANK('Data Input'!A35),\"\",SUM(B30,C30))","v":""},{"$f":"IF(ISBLANK('Data Input'!A35),\"\",SUM('Data Input'!C35:BU35))","v":""},{"$f":"IF(E30=\"\",\"\",E30/(COUNTA('Data Input'!$C$8:$BU$8)-1))","v":""},{"$f":"IF(ISBLANK('Data Input'!A35),\"\",SUM('Data Input'!H35,'Data Input'!AA35,'Data Input'!AO35,'Data Input'!AP35))","v":""},{"$f":"IF(G30=\"\",\"\",G30/COUNTIF('Data Input'!$C$8:$BU$8,\"CS\"))","v":""},{"$f":"IF(ISBLANK('Data Input'!A35),\"\",SUM('Data Input'!P35,'Data Input'!T35,'Data Input'!AD35,'Data Input'!AX35,'Data Input'!AY35))","v":""},{"$f":"IF(I30=\"\",\"\",I30/COUNTIF('Data Input'!$C$8:$BU$8,\"SE\"))","v":""},{"$f":"IF(ISBLANK('Data Input'!A35),\"\",SUM('Data Input'!K35,'Data Input'!L35,'Data Input'!M35,'Data Input'!O35,'Data Input'!Q35,'Data Input'!U35,'Data Input'!X35,'Data Input'!Y35,'Data Input'!Z35,'Data Input'!AB35,'Data Input'!AE35,'Data Input'!AG35,'Data Input'!AL35,'Data Input'!AU35,'Data Input'!AW35))","v":""},{"$f":"IF(K30=\"\",\"\",K30/COUNTIF('Data Input'!$C$8:$BU$8,\"P\"))","v":""},{"$f":"IF(ISBLANK('Data Input'!A35),\"\",SUM('Data Input'!I35,'Data Input'!S35))","v":""},{"$f":"IF(M30=\"\",\"\",M30/COUNTIF('Data Input'!$C$8:$BU$8,\"FS\"))","v":""},{"$f":"IF(ISBLANK('Data Input'!A35),\"\",SUM('Data Input'!D35,'Data Input'!E35,'Data Input'!F35,'Data Input'!G35,'Data Input'!R35,'Data Input'!V35,'Data Input'!W35,'Data Input'!AC35,'Data Input'!AF35,'Data Input'!AH35,'Data Input'!AJ35,'Data Input'!AK35,'Data Input'!AM35,'Data Input'!AQ35,'Data Input'!AR35,'Data Input'!AZ35))","v":""},{"$f":"IF(O30=\"\",\"\",O30/COUNTIF('Data Input'!$C$8:$BU$8,\"GT\"))","v":""},{"$f":"IF(ISBLANK('Data Input'!A35),\"\",SUM('Data Input'!C35,'Data Input'!J35,'Data Input'!N35,'Data Input'!AS35,'Data Input'!AT35,'Data Input'!AV35))","v":""},{"$f":"IF(Q30=\"\",\"\",Q30/COUNTIF('Data Input'!$C$8:$BU$8,\"V\"))","v":""},{"$f":"IF(ISBLANK('Data Input'!A35),\"\",SUM('Data Input'!AI35,'Data Input'!AN35))","v":""},{"$f":"IF(S30=\"\",\"\",S30/COUNTIF('Data Input'!$C$8:$BU$8,\"F/I\"))","v":""},{"$f":"IF(ISBLANK('Data Input'!C35),\"\",SUM('Data Input'!BB35:BU35))","v":""},{"$f":"IF(U30=\"\",\"\",U30/COUNTIF('Data Input'!$C$8:$BU$8,\"Sp\"))","v":""}]
[{"$f":"IF('Data Input'!A36=0,\"\",'Data Input'!A36)","v":""},{"$f":"IF(ISBLANK('Data Input'!A36),\"\",COUNTIF('Data Input'!C36:BU36,\"\")-1)","v":""},{"$f":"IF(ISBLANK('Data Input'!A36),\"\",COUNTIF('Data Input'!C36:BU36,\"0\"))","v":""},{"$f":"IF(ISBLANK('Data Input'!A36),\"\",SUM(B31,C31))","v":""},{"$f":"IF(ISBLANK('Data Input'!A36),\"\",SUM('Data Input'!C36:BU36))","v":""},{"$f":"IF(E31=\"\",\"\",E31/(COUNTA('Data Input'!$C$8:$BU$8)-1))","v":""},{"$f":"IF(ISBLANK('Data Input'!A36),\"\",SUM('Data Input'!H36,'Data Input'!AA36,'Data Input'!AO36,'Data Input'!AP36))","v":""},{"$f":"IF(G31=\"\",\"\",G31/COUNTIF('Data Input'!$C$8:$BU$8,\"CS\"))","v":""},{"$f":"IF(ISBLANK('Data Input'!A36),\"\",SUM('Data Input'!P36,'Data Input'!T36,'Data Input'!AD36,'Data Input'!AX36,'Data Input'!AY36))","v":""},{"$f":"IF(I31=\"\",\"\",I31/COUNTIF('Data Input'!$C$8:$BU$8,\"SE\"))","v":""},{"$f":"IF(ISBLANK('Data Input'!A36),\"\",SUM('Data Input'!K36,'Data Input'!L36,'Data Input'!M36,'Data Input'!O36,'Data Input'!Q36,'Data Input'!U36,'Data Input'!X36,'Data Input'!Y36,'Data Input'!Z36,'Data Input'!AB36,'Data Input'!AE36,'Data Input'!AG36,'Data Input'!AL36,'Data Input'!AU36,'Data Input'!AW36))","v":""},{"$f":"IF(K31=\"\",\"\",K31/COUNTIF('Data Input'!$C$8:$BU$8,\"P\"))","v":""},{"$f":"IF(ISBLANK('Data Input'!A36),\"\",SUM('Data Input'!I36,'Data Input'!S36))","v":""},{"$f":"IF(M31=\"\",\"\",M31/COUNTIF('Data Input'!$C$8:$BU$8,\"FS\"))","v":""},{"$f":"IF(ISBLANK('Data Input'!A36),\"\",SUM('Data Input'!D36,'Data Input'!E36,'Data Input'!F36,'Data Input'!G36,'Data Input'!R36,'Data Input'!V36,'Data Input'!W36,'Data Input'!AC36,'Data Input'!AF36,'Data Input'!AH36,'Data Input'!AJ36,'Data Input'!AK36,'Data Input'!AM36,'Data Input'!AQ36,'Data Input'!AR36,'Data Input'!AZ36))","v":""},{"$f":"IF(O31=\"\",\"\",O31/COUNTIF('Data Input'!$C$8:$BU$8,\"GT\"))","v":""},{"$f":"IF(ISBLANK('Data Input'!A36),\"\",SUM('Data Input'!C36,'Data Input'!J36,'Data Input'!N36,'Data Input'!AS36,'Data Input'!AT36,'Data Input'!AV36))","v":""},{"$f":"IF(Q31=\"\",\"\",Q31/COUNTIF('Data Input'!$C$8:$BU$8,\"V\"))","v":""},{"$f":"IF(ISBLANK('Data Input'!A36),\"\",SUM('Data Input'!AI36,'Data Input'!AN36))","v":""},{"$f":"IF(S31=\"\",\"\",S31/COUNTIF('Data Input'!$C$8:$BU$8,\"F/I\"))","v":""},{"$f":"IF(ISBLANK('Data Input'!C36),\"\",SUM('Data Input'!BB36:BU36))","v":""},{"$f":"IF(U31=\"\",\"\",U31/COUNTIF('Data Input'!$C$8:$BU$8,\"Sp\"))","v":""}]
[{"$f":"IF('Data Input'!A37=0,\"\",'Data Input'!A37)","v":""},{"$f":"IF(ISBLANK('Data Input'!A37),\"\",COUNTIF('Data Input'!C37:BU37,\"\")-1)","v":""},{"$f":"IF(ISBLANK('Data Input'!A37),\"\",COUNTIF('Data Input'!C37:BU37,\"0\"))","v":""},{"$f":"IF(ISBLANK('Data Input'!A37),\"\",SUM(B32,C32))","v":""},{"$f":"IF(ISBLANK('Data Input'!A37),\"\",SUM('Data Input'!C37:BU37))","v":""},{"$f":"IF(E32=\"\",\"\",E32/(COUNTA('Data Input'!$C$8:$BU$8)-1))","v":""},{"$f":"IF(ISBLANK('Data Input'!A37),\"\",SUM('Data Input'!H37,'Data Input'!AA37,'Data Input'!AO37,'Data Input'!AP37))","v":""},{"$f":"IF(G32=\"\",\"\",G32/COUNTIF('Data Input'!$C$8:$BU$8,\"CS\"))","v":""},{"$f":"IF(ISBLANK('Data Input'!A37),\"\",SUM('Data Input'!P37,'Data Input'!T37,'Data Input'!AD37,'Data Input'!AX37,'Data Input'!AY37))","v":""},{"$f":"IF(I32=\"\",\"\",I32/COUNTIF('Data Input'!$C$8:$BU$8,\"SE\"))","v":""},{"$f":"IF(ISBLANK('Data Input'!A37),\"\",SUM('Data Input'!K37,'Data Input'!L37,'Data Input'!M37,'Data Input'!O37,'Data Input'!Q37,'Data Input'!U37,'Data Input'!X37,'Data Input'!Y37,'Data Input'!Z37,'Data Input'!AB37,'Data Input'!AE37,'Data Input'!AG37,'Data Input'!AL37,'Data Input'!AU37,'Data Input'!AW37))","v":""},{"$f":"IF(K32=\"\",\"\",K32/COUNTIF('Data Input'!$C$8:$BU$8,\"P\"))","v":""},{"$f":"IF(ISBLANK('Data Input'!A37),\"\",SUM('Data Input'!I37,'Data Input'!S37))","v":""},{"$f":"IF(M32=\"\",\"\",M32/COUNTIF('Data Input'!$C$8:$BU$8,\"FS\"))","v":""},{"$f":"IF(ISBLANK('Data Input'!A37),\"\",SUM('Data Input'!D37,'Data Input'!E37,'Data Input'!F37,'Data Input'!G37,'Data Input'!R37,'Data Input'!V37,'Data Input'!W37,'Data Input'!AC37,'Data Input'!AF37,'Data Input'!AH37,'Data Input'!AJ37,'Data Input'!AK37,'Data Input'!AM37,'Data Input'!AQ37,'Data Input'!AR37,'Data Input'!AZ37))","v":""},{"$f":"IF(O32=\"\",\"\",O32/COUNTIF('Data Input'!$C$8:$BU$8,\"GT\"))","v":""},{"$f":"IF(ISBLANK('Data Input'!A37),\"\",SUM('Data Input'!C37,'Data Input'!J37,'Data Input'!N37,'Data Input'!AS37,'Data Input'!AT37,'Data Input'!AV37))","v":""},{"$f":"IF(Q32=\"\",\"\",Q32/COUNTIF('Data Input'!$C$8:$BU$8,\"V\"))","v":""},{"$f":"IF(ISBLANK('Data Input'!A37),\"\",SUM('Data Input'!AI37,'Data Input'!AN37))","v":""},{"$f":"IF(S32=\"\",\"\",S32/COUNTIF('Data Input'!$C$8:$BU$8,\"F/I\"))","v":""},{"$f":"IF(ISBLANK('Data Input'!C37),\"\",SUM('Data Input'!BB37:BU37))","v":""},{"$f":"IF(U32=\"\",\"\",U32/COUNTIF('Data Input'!$C$8:$BU$8,\"Sp\"))","v":""}]
[{"$f":"IF('Data Input'!A38=0,\"\",'Data Input'!A38)","v":""},{"$f":"IF(ISBLANK('Data Input'!A38),\"\",COUNTIF('Data Input'!C38:BU38,\"\")-1)","v":""},{"$f":"IF(ISBLANK('Data Input'!A38),\"\",COUNTIF('Data Input'!C38:BU38,\"0\"))","v":""},{"$f":"IF(ISBLANK('Data Input'!A38),\"\",SUM(B33,C33))","v":""},{"$f":"IF(ISBLANK('Data Input'!A38),\"\",SUM('Data Input'!C38:BU38))","v":""},{"$f":"IF(E33=\"\",\"\",E33/(COUNTA('Data Input'!$C$8:$BU$8)-1))","v":""},{"$f":"IF(ISBLANK('Data Input'!A38),\"\",SUM('Data Input'!H38,'Data Input'!AA38,'Data Input'!AO38,'Data Input'!AP38))","v":""},{"$f":"IF(G33=\"\",\"\",G33/COUNTIF('Data Input'!$C$8:$BU$8,\"CS\"))","v":""},{"$f":"IF(ISBLANK('Data Input'!A38),\"\",SUM('Data Input'!P38,'Data Input'!T38,'Data Input'!AD38,'Data Input'!AX38,'Data Input'!AY38))","v":""},{"$f":"IF(I33=\"\",\"\",I33/COUNTIF('Data Input'!$C$8:$BU$8,\"SE\"))","v":""},{"$f":"IF(ISBLANK('Data Input'!A38),\"\",SUM('Data Input'!K38,'Data Input'!L38,'Data Input'!M38,'Data Input'!O38,'Data Input'!Q38,'Data Input'!U38,'Data Input'!X38,'Data Input'!Y38,'Data Input'!Z38,'Data Input'!AB38,'Data Input'!AE38,'Data Input'!AG38,'Data Input'!AL38,'Data Input'!AU38,'Data Input'!AW38))","v":""},{"$f":"IF(K33=\"\",\"\",K33/COUNTIF('Data Input'!$C$8:$BU$8,\"P\"))","v":""},{"$f":"IF(ISBLANK('Data Input'!A38),\"\",SUM('Data Input'!I38,'Data Input'!S38))","v":""},{"$f":"IF(M33=\"\",\"\",M33/COUNTIF('Data Input'!$C$8:$BU$8,\"FS\"))","v":""},{"$f":"IF(ISBLANK('Data Input'!A38),\"\",SUM('Data Input'!D38,'Data Input'!E38,'Data Input'!F38,'Data Input'!G38,'Data Input'!R38,'Data Input'!V38,'Data Input'!W38,'Data Input'!AC38,'Data Input'!AF38,'Data Input'!AH38,'Data Input'!AJ38,'Data Input'!AK38,'Data Input'!AM38,'Data Input'!AQ38,'Data Input'!AR38,'Data Input'!AZ38))","v":""},{"$f":"IF(O33=\"\",\"\",O33/COUNTIF('Data Input'!$C$8:$BU$8,\"GT\"))","v":""},{"$f":"IF(ISBLANK('Data Input'!A38),\"\",SUM('Data Input'!C38,'Data Input'!J38,'Data Input'!N38,'Data Input'!AS38,'Data Input'!AT38,'Data Input'!AV38))","v":""},{"$f":"IF(Q33=\"\",\"\",Q33/COUNTIF('Data Input'!$C$8:$BU$8,\"V\"))","v":""},{"$f":"IF(ISBLANK('Data Input'!A38),\"\",SUM('Data Input'!AI38,'Data Input'!AN38))","v":""},{"$f":"IF(S33=\"\",\"\",S33/COUNTIF('Data Input'!$C$8:$BU$8,\"F/I\"))","v":""},{"$f":"IF(ISBLANK('Data Input'!C38),\"\",SUM('Data Input'!BB38:BU38))","v":""},{"$f":"IF(U33=\"\",\"\",U33/COUNTIF('Data Input'!$C$8:$BU$8,\"Sp\"))","v":""}]
[{"$f":"IF('Data Input'!A39=0,\"\",'Data Input'!A39)","v":""},{"$f":"IF(ISBLANK('Data Input'!A39),\"\",COUNTIF('Data Input'!C39:BU39,\"\")-1)","v":""},{"$f":"IF(ISBLANK('Data Input'!A39),\"\",COUNTIF('Data Input'!C39:BU39,\"0\"))","v":""},{"$f":"IF(ISBLANK('Data Input'!A39),\"\",SUM(B34,C34))","v":""},{"$f":"IF(ISBLANK('Data Input'!A39),\"\",SUM('Data Input'!C39:BU39))","v":""},{"$f":"IF(E34=\"\",\"\",E34/(COUNTA('Data Input'!$C$8:$BU$8)-1))","v":""},{"$f":"IF(ISBLANK('Data Input'!A39),\"\",SUM('Data Input'!H39,'Data Input'!AA39,'Data Input'!AO39,'Data Input'!AP39))","v":""},{"$f":"IF(G34=\"\",\"\",G34/COUNTIF('Data Input'!$C$8:$BU$8,\"CS\"))","v":""},{"$f":"IF(ISBLANK('Data Input'!A39),\"\",SUM('Data Input'!P39,'Data Input'!T39,'Data Input'!AD39,'Data Input'!AX39,'Data Input'!AY39))","v":""},{"$f":"IF(I34=\"\",\"\",I34/COUNTIF('Data Input'!$C$8:$BU$8,\"SE\"))","v":""},{"$f":"IF(ISBLANK('Data Input'!A39),\"\",SUM('Data Input'!K39,'Data Input'!L39,'Data Input'!M39,'Data Input'!O39,'Data Input'!Q39,'Data Input'!U39,'Data Input'!X39,'Data Input'!Y39,'Data Input'!Z39,'Data Input'!AB39,'Data Input'!AE39,'Data Input'!AG39,'Data Input'!AL39,'Data Input'!AU39,'Data Input'!AW39))","v":""},{"$f":"IF(K34=\"\",\"\",K34/COUNTIF('Data Input'!$C$8:$BU$8,\"P\"))","v":""},{"$f":"IF(ISBLANK('Data Input'!A39),\"\",SUM('Data Input'!I39,'Data Input'!S39))","v":""},{"$f":"IF(M34=\"\",\"\",M34/COUNTIF('Data Input'!$C$8:$BU$8,\"FS\"))","v":""},{"$f":"IF(ISBLANK('Data Input'!A39),\"\",SUM('Data Input'!D39,'Data Input'!E39,'Data Input'!F39,'Data Input'!G39,'Data Input'!R39,'Data Input'!V39,'Data Input'!W39,'Data Input'!AC39,'Data Input'!AF39,'Data Input'!AH39,'Data Input'!AJ39,'Data Input'!AK39,'Data Input'!AM39,'Data Input'!AQ39,'Data Input'!AR39,'Data Input'!AZ39))","v":""},{"$f":"IF(O34=\"\",\"\",O34/COUNTIF('Data Input'!$C$8:$BU$8,\"GT\"))","v":""},{"$f":"IF(ISBLANK('Data Input'!A39),\"\",SUM('Data Input'!C39,'Data Input'!J39,'Data Input'!N39,'Data Input'!AS39,'Data Input'!AT39,'Data Input'!AV39))","v":""},{"$f":"IF(Q34=\"\",\"\",Q34/COUNTIF('Data Input'!$C$8:$BU$8,\"V\"))","v":""},{"$f":"IF(ISBLANK('Data Input'!A39),\"\",SUM('Data Input'!AI39,'Data Input'!AN39))","v":""},{"$f":"IF(S34=\"\",\"\",S34/COUNTIF('Data Input'!$C$8:$BU$8,\"F/I\"))","v":""},{"$f":"IF(ISBLANK('Data Input'!C39),\"\",SUM('Data Input'!BB39:BU39))","v":""},{"$f":"IF(U34=\"\",\"\",U34/COUNTIF('Data Input'!$C$8:$BU$8,\"Sp\"))","v":""}]
[{"$f":"IF('Data Input'!A40=0,\"\",'Data Input'!A40)","v":""},{"$f":"IF(ISBLANK('Data Input'!A40),\"\",COUNTIF('Data Input'!C40:BU40,\"\")-1)","v":""},{"$f":"IF(ISBLANK('Data Input'!A40),\"\",COUNTIF('Data Input'!C40:BU40,\"0\"))","v":""},{"$f":"IF(ISBLANK('Data Input'!A40),\"\",SUM(B35,C35))","v":""},{"$f":"IF(ISBLANK('Data Input'!A40),\"\",SUM('Data Input'!C40:BU40))","v":""},{"$f":"IF(E35=\"\",\"\",E35/(COUNTA('Data Input'!$C$8:$BU$8)-1))","v":""},{"$f":"IF(ISBLANK('Data Input'!A40),\"\",SUM('Data Input'!H40,'Data Input'!AA40,'Data Input'!AO40,'Data Input'!AP40))","v":""},{"$f":"IF(G35=\"\",\"\",G35/COUNTIF('Data Input'!$C$8:$BU$8,\"CS\"))","v":""},{"$f":"IF(ISBLANK('Data Input'!A40),\"\",SUM('Data Input'!P40,'Data Input'!T40,'Data Input'!AD40,'Data Input'!AX40,'Data Input'!AY40))","v":""},{"$f":"IF(I35=\"\",\"\",I35/COUNTIF('Data Input'!$C$8:$BU$8,\"SE\"))","v":""},{"$f":"IF(ISBLANK('Data Input'!A40),\"\",SUM('Data Input'!K40,'Data Input'!L40,'Data Input'!M40,'Data Input'!O40,'Data Input'!Q40,'Data Input'!U40,'Data Input'!X40,'Data Input'!Y40,'Data Input'!Z40,'Data Input'!AB40,'Data Input'!AE40,'Data Input'!AG40,'Data Input'!AL40,'Data Input'!AU40,'Data Input'!AW40))","v":""},{"$f":"IF(K35=\"\",\"\",K35/COUNTIF('Data Input'!$C$8:$BU$8,\"P\"))","v":""},{"$f":"IF(ISBLANK('Data Input'!A40),\"\",SUM('Data Input'!I40,'Data Input'!S40))","v":""},{"$f":"IF(M35=\"\",\"\",M35/COUNTIF('Data Input'!$C$8:$BU$8,\"FS\"))","v":""},{"$f":"IF(ISBLANK('Data Input'!A40),\"\",SUM('Data Input'!D40,'Data Input'!E40,'Data Input'!F40,'Data Input'!G40,'Data Input'!R40,'Data Input'!V40,'Data Input'!W40,'Data Input'!AC40,'Data Input'!AF40,'Data Input'!AH40,'Data Input'!AJ40,'Data Input'!AK40,'Data Input'!AM40,'Data Input'!AQ40,'Data Input'!AR40,'Data Input'!AZ40))","v":""},{"$f":"IF(O35=\"\",\"\",O35/COUNTIF('Data Input'!$C$8:$BU$8,\"GT\"))","v":""},{"$f":"IF(ISBLANK('Data Input'!A40),\"\",SUM('Data Input'!C40,'Data Input'!J40,'Data Input'!N40,'Data Input'!AS40,'Data Input'!AT40,'Data Input'!AV40))","v":""},{"$f":"IF(Q35=\"\",\"\",Q35/COUNTIF('Data Input'!$C$8:$BU$8,\"V\"))","v":""},{"$f":"IF(ISBLANK('Data Input'!A40),\"\",SUM('Data Input'!AI40,'Data Input'!AN40))","v":""},{"$f":"IF(S35=\"\",\"\",S35/COUNTIF('Data Input'!$C$8:$BU$8,\"F/I\"))","v":""},{"$f":"IF(ISBLANK('Data Input'!C40),\"\",SUM('Data Input'!BB40:BU40))","v":""},{"$f":"IF(U35=\"\",\"\",U35/COUNTIF('Data Input'!$C$8:$BU$8,\"Sp\"))","v":""}]
[{"$f":"IF('Data Input'!A41=0,\"\",'Data Input'!A41)","v":""},{"$f":"IF(ISBLANK('Data Input'!A41),\"\",COUNTIF('Data Input'!C41:BU41,\"\")-1)","v":""},{"$f":"IF(ISBLANK('Data Input'!A41),\"\",COUNTIF('Data Input'!C41:BU41,\"0\"))","v":""},{"$f":"IF(ISBLANK('Data Input'!A41),\"\",SUM(B36,C36))","v":""},{"$f":"IF(ISBLANK('Data Input'!A41),\"\",SUM('Data Input'!C41:BU41))","v":""},{"$f":"IF(E36=\"\",\"\",E36/(COUNTA('Data Input'!$C$8:$BU$8)-1))","v":""},{"$f":"IF(ISBLANK('Data Input'!A41),\"\",SUM('Data Input'!H41,'Data Input'!AA41,'Data Input'!AO41,'Data Input'!AP41))","v":""},{"$f":"IF(G36=\"\",\"\",G36/COUNTIF('Data Input'!$C$8:$BU$8,\"CS\"))","v":""},{"$f":"IF(ISBLANK('Data Input'!A41),\"\",SUM('Data Input'!P41,'Data Input'!T41,'Data Input'!AD41,'Data Input'!AX41,'Data Input'!AY41))","v":""},{"$f":"IF(I36=\"\",\"\",I36/COUNTIF('Data Input'!$C$8:$BU$8,\"SE\"))","v":""},{"$f":"IF(ISBLANK('Data Input'!A41),\"\",SUM('Data Input'!K41,'Data Input'!L41,'Data Input'!M41,'Data Input'!O41,'Data Input'!Q41,'Data Input'!U41,'Data Input'!X41,'Data Input'!Y41,'Data Input'!Z41,'Data Input'!AB41,'Data Input'!AE41,'Data Input'!AG41,'Data Input'!AL41,'Data Input'!AU41,'Data Input'!AW41))","v":""},{"$f":"IF(K36=\"\",\"\",K36/COUNTIF('Data Input'!$C$8:$BU$8,\"P\"))","v":""},{"$f":"IF(ISBLANK('Data Input'!A41),\"\",SUM('Data Input'!I41,'Data Input'!S41))","v":""},{"$f":"IF(M36=\"\",\"\",M36/COUNTIF('Data Input'!$C$8:$BU$8,\"FS\"))","v":""},{"$f":"IF(ISBLANK('Data Input'!A41),\"\",SUM('Data Input'!D41,'Data Input'!E41,'Data Input'!F41,'Data Input'!G41,'Data Input'!R41,'Data Input'!V41,'Data Input'!W41,'Data Input'!AC41,'Data Input'!AF41,'Data Input'!AH41,'Data Input'!AJ41,'Data Input'!AK41,'Data Input'!AM41,'Data Input'!AQ41,'Data Input'!AR41,'Data Input'!AZ41))","v":""},{"$f":"IF(O36=\"\",\"\",O36/COUNTIF('Data Input'!$C$8:$BU$8,\"GT\"))","v":""},{"$f":"IF(ISBLANK('Data Input'!A41),\"\",SUM('Data Input'!C41,'Data Input'!J41,'Data Input'!N41,'Data Input'!AS41,'Data Input'!AT41,'Data Input'!AV41))","v":""},{"$f":"IF(Q36=\"\",\"\",Q36/COUNTIF('Data Input'!$C$8:$BU$8,\"V\"))","v":""},{"$f":"IF(ISBLANK('Data Input'!A41),\"\",SUM('Data Input'!AI41,'Data Input'!AN41))","v":""},{"$f":"IF(S36=\"\",\"\",S36/COUNTIF('Data Input'!$C$8:$BU$8,\"F/I\"))","v":""},{"$f":"IF(ISBLANK('Data Input'!C41),\"\",SUM('Data Input'!BB41:BU41))","v":""},{"$f":"IF(U36=\"\",\"\",U36/COUNTIF('Data Input'!$C$8:$BU$8,\"Sp\"))","v":""}]
[{"$f":"IF('Data Input'!A42=0,\"\",'Data Input'!A42)","v":""},{"$f":"IF(ISBLANK('Data Input'!A42),\"\",COUNTIF('Data Input'!C42:BU42,\"\")-1)","v":""},{"$f":"IF(ISBLANK('Data Input'!A42),\"\",COUNTIF('Data Input'!C42:BU42,\"0\"))","v":""},{"$f":"IF(ISBLANK('Data Input'!A42),\"\",SUM(B37,C37))","v":""},{"$f":"IF(ISBLANK('Data Input'!A42),\"\",SUM('Data Input'!C42:BU42))","v":""},{"$f":"IF(E37=\"\",\"\",E37/(COUNTA('Data Input'!$C$8:$BU$8)-1))","v":""},{"$f":"IF(ISBLANK('Data Input'!A42),\"\",SUM('Data Input'!H42,'Data Input'!AA42,'Data Input'!AO42,'Data Input'!AP42))","v":""},{"$f":"IF(G37=\"\",\"\",G37/COUNTIF('Data Input'!$C$8:$BU$8,\"CS\"))","v":""},{"$f":"IF(ISBLANK('Data Input'!A42),\"\",SUM('Data Input'!P42,'Data Input'!T42,'Data Input'!AD42,'Data Input'!AX42,'Data Input'!AY42))","v":""},{"$f":"IF(I37=\"\",\"\",I37/COUNTIF('Data Input'!$C$8:$BU$8,\"SE\"))","v":""},{"$f":"IF(ISBLANK('Data Input'!A42),\"\",SUM('Data Input'!K42,'Data Input'!L42,'Data Input'!M42,'Data Input'!O42,'Data Input'!Q42,'Data Input'!U42,'Data Input'!X42,'Data Input'!Y42,'Data Input'!Z42,'Data Input'!AB42,'Data Input'!AE42,'Data Input'!AG42,'Data Input'!AL42,'Data Input'!AU42,'Data Input'!AW42))","v":""},{"$f":"IF(K37=\"\",\"\",K37/COUNTIF('Data Input'!$C$8:$BU$8,\"P\"))","v":""},{"$f":"IF(ISBLANK('Data Input'!A42),\"\",SUM('Data Input'!I42,'Data Input'!S42))","v":""},{"$f":"IF(M37=\"\",\"\",M37/COUNTIF('Data Input'!$C$8:$BU$8,\"FS\"))","v":""},{"$f":"IF(ISBLANK('Data Input'!A42),\"\",SUM('Data Input'!D42,'Data Input'!E42,'Data Input'!F42,'Data Input'!G42,'Data Input'!R42,'Data Input'!V42,'Data Input'!W42,'Data Input'!AC42,'Data Input'!AF42,'Data Input'!AH42,'Data Input'!AJ42,'Data Input'!AK42,'Data Input'!AM42,'Data Input'!AQ42,'Data Input'!AR42,'Data Input'!AZ42))","v":""},{"$f":"IF(O37=\"\",\"\",O37/COUNTIF('Data Input'!$C$8:$BU$8,\"GT\"))","v":""},{"$f":"IF(ISBLANK('Data Input'!A42),\"\",SUM('Data Input'!C42,'Data Input'!J42,'Data Input'!N42,'Data Input'!AS42,'Data Input'!AT42,'Data Input'!AV42))","v":""},{"$f":"IF(Q37=\"\",\"\",Q37/COUNTIF('Data Input'!$C$8:$BU$8,\"V\"))","v":""},{"$f":"IF(ISBLANK('Data Input'!A42),\"\",SUM('Data Input'!AI42,'Data Input'!AN42))","v":""},{"$f":"IF(S37=\"\",\"\",S37/COUNTIF('Data Input'!$C$8:$BU$8,\"F/I\"))","v":""},{"$f":"IF(ISBLANK('Data Input'!C42),\"\",SUM('Data Input'!BB42:BU42))","v":""},{"$f":"IF(U37=\"\",\"\",U37/COUNTIF('Data Input'!$C$8:$BU$8,\"Sp\"))","v":""}]
[{"$f":"IF('Data Input'!A43=0,\"\",'Data Input'!A43)","v":""},{"$f":"IF(ISBLANK('Data Input'!A43),\"\",COUNTIF('Data Input'!C43:BU43,\"\")-1)","v":""},{"$f":"IF(ISBLANK('Data Input'!A43),\"\",COUNTIF('Data Input'!C43:BU43,\"0\"))","v":""},{"$f":"IF(ISBLANK('Data Input'!A43),\"\",SUM(B38,C38))","v":""},{"$f":"IF(ISBLANK('Data Input'!A43),\"\",SUM('Data Input'!C43:BU43))","v":""},{"$f":"IF(E38=\"\",\"\",E38/(COUNTA('Data Input'!$C$8:$BU$8)-1))","v":""},{"$f":"IF(ISBLANK('Data Input'!A43),\"\",SUM('Data Input'!H43,'Data Input'!AA43,'Data Input'!AO43,'Data Input'!AP43))","v":""},{"$f":"IF(G38=\"\",\"\",G38/COUNTIF('Data Input'!$C$8:$BU$8,\"CS\"))","v":""},{"$f":"IF(ISBLANK('Data Input'!A43),\"\",SUM('Data Input'!P43,'Data Input'!T43,'Data Input'!AD43,'Data Input'!AX43,'Data Input'!AY43))","v":""},{"$f":"IF(I38=\"\",\"\",I38/COUNTIF('Data Input'!$C$8:$BU$8,\"SE\"))","v":""},{"$f":"IF(ISBLANK('Data Input'!A43),\"\",SUM('Data Input'!K43,'Data Input'!L43,'Data Input'!M43,'Data Input'!O43,'Data Input'!Q43,'Data Input'!U43,'Data Input'!X43,'Data Input'!Y43,'Data Input'!Z43,'Data Input'!AB43,'Data Input'!AE43,'Data Input'!AG43,'Data Input'!AL43,'Data Input'!AU43,'Data Input'!AW43))","v":""},{"$f":"IF(K38=\"\",\"\",K38/COUNTIF('Data Input'!$C$8:$BU$8,\"P\"))","v":""},{"$f":"IF(ISBLANK('Data Input'!A43),\"\",SUM('Data Input'!I43,'Data Input'!S43))","v":""},{"$f":"IF(M38=\"\",\"\",M38/COUNTIF('Data Input'!$C$8:$BU$8,\"FS\"))","v":""},{"$f":"IF(ISBLANK('Data Input'!A43),\"\",SUM('Data Input'!D43,'Data Input'!E43,'Data Input'!F43,'Data Input'!G43,'Data Input'!R43,'Data Input'!V43,'Data Input'!W43,'Data Input'!AC43,'Data Input'!AF43,'Data Input'!AH43,'Data Input'!AJ43,'Data Input'!AK43,'Data Input'!AM43,'Data Input'!AQ43,'Data Input'!AR43,'Data Input'!AZ43))","v":""},{"$f":"IF(O38=\"\",\"\",O38/COUNTIF('Data Input'!$C$8:$BU$8,\"GT\"))","v":""},{"$f":"IF(ISBLANK('Data Input'!A43),\"\",SUM('Data Input'!C43,'Data Input'!J43,'Data Input'!N43,'Data Input'!AS43,'Data Input'!AT43,'Data Input'!AV43))","v":""},{"$f":"IF(Q38=\"\",\"\",Q38/COUNTIF('Data Input'!$C$8:$BU$8,\"V\"))","v":""},{"$f":"IF(ISBLANK('Data Input'!A43),\"\",SUM('Data Input'!AI43,'Data Input'!AN43))","v":""},{"$f":"IF(S38=\"\",\"\",S38/COUNTIF('Data Input'!$C$8:$BU$8,\"F/I\"))","v":""},{"$f":"IF(ISBLANK('Data Input'!C43),\"\",SUM('Data Input'!BB43:BU43))","v":""},{"$f":"IF(U38=\"\",\"\",U38/COUNTIF('Data Input'!$C$8:$BU$8,\"Sp\"))","v":""}]
[{"$f":"IF('Data Input'!A44=0,\"\",'Data Input'!A44)","v":""},{"$f":"IF(ISBLANK('Data Input'!A44),\"\",COUNTIF('Data Input'!C44:BU44,\"\")-1)","v":""},{"$f":"IF(ISBLANK('Data Input'!A44),\"\",COUNTIF('Data Input'!C44:BU44,\"0\"))","v":""},{"$f":"IF(ISBLANK('Data Input'!A44),\"\",SUM(B39,C39))","v":""},{"$f":"IF(ISBLANK('Data Input'!A44),\"\",SUM('Data Input'!C44:BU44))","v":""},{"$f":"IF(E39=\"\",\"\",E39/(COUNTA('Data Input'!$C$8:$BU$8)-1))","v":""},{"$f":"IF(ISBLANK('Data Input'!A44),\"\",SUM('Data Input'!H44,'Data Input'!AA44,'Data Input'!AO44,'Data Input'!AP44))","v":""},{"$f":"IF(G39=\"\",\"\",G39/COUNTIF('Data Input'!$C$8:$BU$8,\"CS\"))","v":""},{"$f":"IF(ISBLANK('Data Input'!A44),\"\",SUM('Data Input'!P44,'Data Input'!T44,'Data Input'!AD44,'Data Input'!AX44,'Data Input'!AY44))","v":""},{"$f":"IF(I39=\"\",\"\",I39/COUNTIF('Data Input'!$C$8:$BU$8,\"SE\"))","v":""},{"$f":"IF(ISBLANK('Data Input'!A44),\"\",SUM('Data Input'!K44,'Data Input'!L44,'Data Input'!M44,'Data Input'!O44,'Data Input'!Q44,'Data Input'!U44,'Data Input'!X44,'Data Input'!Y44,'Data Input'!Z44,'Data Input'!AB44,'Data Input'!AE44,'Data Input'!AG44,'Data Input'!AL44,'Data Input'!AU44,'Data Input'!AW44))","v":""},{"$f":"IF(K39=\"\",\"\",K39/COUNTIF('Data Input'!$C$8:$BU$8,\"P\"))","v":""},{"$f":"IF(ISBLANK('Data Input'!A44),\"\",SUM('Data Input'!I44,'Data Input'!S44))","v":""},{"$f":"IF(M39=\"\",\"\",M39/COUNTIF('Data Input'!$C$8:$BU$8,\"FS\"))","v":""},{"$f":"IF(ISBLANK('Data Input'!A44),\"\",SUM('Data Input'!D44,'Data Input'!E44,'Data Input'!F44,'Data Input'!G44,'Data Input'!R44,'Data Input'!V44,'Data Input'!W44,'Data Input'!AC44,'Data Input'!AF44,'Data Input'!AH44,'Data Input'!AJ44,'Data Input'!AK44,'Data Input'!AM44,'Data Input'!AQ44,'Data Input'!AR44,'Data Input'!AZ44))","v":""},{"$f":"IF(O39=\"\",\"\",O39/COUNTIF('Data Input'!$C$8:$BU$8,\"GT\"))","v":""},{"$f":"IF(ISBLANK('Data Input'!A44),\"\",SUM('Data Input'!C44,'Data Input'!J44,'Data Input'!N44,'Data Input'!AS44,'Data Input'!AT44,'Data Input'!AV44))","v":""},{"$f":"IF(Q39=\"\",\"\",Q39/COUNTIF('Data Input'!$C$8:$BU$8,\"V\"))","v":""},{"$f":"IF(ISBLANK('Data Input'!A44),\"\",SUM('Data Input'!AI44,'Data Input'!AN44))","v":""},{"$f":"IF(S39=\"\",\"\",S39/COUNTIF('Data Input'!$C$8:$BU$8,\"F/I\"))","v":""},{"$f":"IF(ISBLANK('Data Input'!C44),\"\",SUM('Data Input'!BB44:BU44))","v":""},{"$f":"IF(U39=\"\",\"\",U39/COUNTIF('Data Input'!$C$8:$BU$8,\"Sp\"))","v":""}]
[{"$f":"IF('Data Input'!A45=0,\"\",'Data Input'!A45)","v":""},{"$f":"IF(ISBLANK('Data Input'!A45),\"\",COUNTIF('Data Input'!C45:BU45,\"\")-1)","v":""},{"$f":"IF(ISBLANK('Data Input'!A45),\"\",COUNTIF('Data Input'!C45:BU45,\"0\"))","v":""},{"$f":"IF(ISBLANK('Data Input'!A45),\"\",SUM(B40,C40))","v":""},{"$f":"IF(ISBLANK('Data Input'!A45),\"\",SUM('Data Input'!C45:BU45))","v":""},{"$f":"IF(E40=\"\",\"\",E40/(COUNTA('Data Input'!$C$8:$BU$8)-1))","v":""},{"$f":"IF(ISBLANK('Data Input'!A45),\"\",SUM('Data Input'!H45,'Data Input'!AA45,'Data Input'!AO45,'Data Input'!AP45))","v":""},{"$f":"IF(G40=\"\",\"\",G40/COUNTIF('Data Input'!$C$8:$BU$8,\"CS\"))","v":""},{"$f":"IF(ISBLANK('Data Input'!A45),\"\",SUM('Data Input'!P45,'Data Input'!T45,'Data Input'!AD45,'Data Input'!AX45,'Data Input'!AY45))","v":""},{"$f":"IF(I40=\"\",\"\",I40/COUNTIF('Data Input'!$C$8:$BU$8,\"SE\"))","v":""},{"$f":"IF(ISBLANK('Data Input'!A45),\"\",SUM('Data Input'!K45,'Data Input'!L45,'Data Input'!M45,'Data Input'!O45,'Data Input'!Q45,'Data Input'!U45,'Data Input'!X45,'Data Input'!Y45,'Data Input'!Z45,'Data Input'!AB45,'Data Input'!AE45,'Data Input'!AG45,'Data Input'!AL45,'Data Input'!AU45,'Data Input'!AW45))","v":""},{"$f":"IF(K40=\"\",\"\",K40/COUNTIF('Data Input'!$C$8:$BU$8,\"P\"))","v":""},{"$f":"IF(ISBLANK('Data Input'!A45),\"\",SUM('Data Input'!I45,'Data Input'!S45))","v":""},{"$f":"IF(M40=\"\",\"\",M40/COUNTIF('Data Input'!$C$8:$BU$8,\"FS\"))","v":""},{"$f":"IF(ISBLANK('Data Input'!A45),\"\",SUM('Data Input'!D45,'Data Input'!E45,'Data Input'!F45,'Data Input'!G45,'Data Input'!R45,'Data Input'!V45,'Data Input'!W45,'Data Input'!AC45,'Data Input'!AF45,'Data Input'!AH45,'Data Input'!AJ45,'Data Input'!AK45,'Data Input'!AM45,'Data Input'!AQ45,'Data Input'!AR45,'Data Input'!AZ45))","v":""},{"$f":"IF(O40=\"\",\"\",O40/COUNTIF('Data Input'!$C$8:$BU$8,\"GT\"))","v":""},{"$f":"IF(ISBLANK('Data Input'!A45),\"\",SUM('Data Input'!C45,'Data Input'!J45,'Data Input'!N45,'Data Input'!AS45,'Data Input'!AT45,'Data Input'!AV45))","v":""},{"$f":"IF(Q40=\"\",\"\",Q40/COUNTIF('Data Input'!$C$8:$BU$8,\"V\"))","v":""},{"$f":"IF(ISBLANK('Data Input'!A45),\"\",SUM('Data Input'!AI45,'Data Input'!AN45))","v":""},{"$f":"IF(S40=\"\",\"\",S40/COUNTIF('Data Input'!$C$8:$BU$8,\"F/I\"))","v":""},{"$f":"IF(ISBLANK('Data Input'!C45),\"\",SUM('Data Input'!BB45:BU45))","v":""},{"$f":"IF(U40=\"\",\"\",U40/COUNTIF('Data Input'!$C$8:$BU$8,\"Sp\"))","v":""}]
[{"$f":"IF('Data Input'!A46=0,\"\",'Data Input'!A46)","v":""},{"$f":"IF(ISBLANK('Data Input'!A46),\"\",COUNTIF('Data Input'!C46:BU46,\"\")-1)","v":""},{"$f":"IF(ISBLANK('Data Input'!A46),\"\",COUNTIF('Data Input'!C46:BU46,\"0\"))","v":""},{"$f":"IF(ISBLANK('Data Input'!A46),\"\",SUM(B41,C41))","v":""},{"$f":"IF(ISBLANK('Data Input'!A46),\"\",SUM('Data Input'!C46:BU46))","v":""},{"$f":"IF(E41=\"\",\"\",E41/(COUNTA('Data Input'!$C$8:$BU$8)-1))","v":""},{"$f":"IF(ISBLANK('Data Input'!A46),\"\",SUM('Data Input'!H46,'Data Input'!AA46,'Data Input'!AO46,'Data Input'!AP46))","v":""},{"$f":"IF(G41=\"\",\"\",G41/COUNTIF('Data Input'!$C$8:$BU$8,\"CS\"))","v":""},{"$f":"IF(ISBLANK('Data Input'!A46),\"\",SUM('Data Input'!P46,'Data Input'!T46,'Data Input'!AD46,'Data Input'!AX46,'Data Input'!AY46))","v":""},{"$f":"IF(I41=\"\",\"\",I41/COUNTIF('Data Input'!$C$8:$BU$8,\"SE\"))","v":""},{"$f":"IF(ISBLANK('Data Input'!A46),\"\",SUM('Data Input'!K46,'Data Input'!L46,'Data Input'!M46,'Data Input'!O46,'Data Input'!Q46,'Data Input'!U46,'Data Input'!X46,'Data Input'!Y46,'Data Input'!Z46,'Data Input'!AB46,'Data Input'!AE46,'Data Input'!AG46,'Data Input'!AL46,'Data Input'!AU46,'Data Input'!AW46))","v":""},{"$f":"IF(K41=\"\",\"\",K41/COUNTIF('Data Input'!$C$8:$BU$8,\"P\"))","v":""},{"$f":"IF(ISBLANK('Data Input'!A46),\"\",SUM('Data Input'!I46,'Data Input'!S46))","v":""},{"$f":"IF(M41=\"\",\"\",M41/COUNTIF('Data Input'!$C$8:$BU$8,\"FS\"))","v":""},{"$f":"IF(ISBLANK('Data Input'!A46),\"\",SUM('Data Input'!D46,'Data Input'!E46,'Data Input'!F46,'Data Input'!G46,'Data Input'!R46,'Data Input'!V46,'Data Input'!W46,'Data Input'!AC46,'Data Input'!AF46,'Data Input'!AH46,'Data Input'!AJ46,'Data Input'!AK46,'Data Input'!AM46,'Data Input'!AQ46,'Data Input'!AR46,'Data Input'!AZ46))","v":""},{"$f":"IF(O41=\"\",\"\",O41/COUNTIF('Data Input'!$C$8:$BU$8,\"GT\"))","v":""},{"$f":"IF(ISBLANK('Data Input'!A46),\"\",SUM('Data Input'!C46,'Data Input'!J46,'Data Input'!N46,'Data Input'!AS46,'Data Input'!AT46,'Data Input'!AV46))","v":""},{"$f":"IF(Q41=\"\",\"\",Q41/COUNTIF('Data Input'!$C$8:$BU$8,\"V\"))","v":""},{"$f":"IF(ISBLANK('Data Input'!A46),\"\",SUM('Data Input'!AI46,'Data Input'!AN46))","v":""},{"$f":"IF(S41=\"\",\"\",S41/COUNTIF('Data Input'!$C$8:$BU$8,\"F/I\"))","v":""},{"$f":"IF(ISBLANK('Data Input'!C46),\"\",SUM('Data Input'!BB46:BU46))","v":""},{"$f":"IF(U41=\"\",\"\",U41/COUNTIF('Data Input'!$C$8:$BU$8,\"Sp\"))","v":""}]
[{"$f":"IF('Data Input'!A47=0,\"\",'Data Input'!A47)","v":""},{"$f":"IF(ISBLANK('Data Input'!A47),\"\",COUNTIF('Data Input'!C47:BU47,\"\")-1)","v":""},{"$f":"IF(ISBLANK('Data Input'!A47),\"\",COUNTIF('Data Input'!C47:BU47,\"0\"))","v":""},{"$f":"IF(ISBLANK('Data Input'!A47),\"\",SUM(B42,C42))","v":""},{"$f":"IF(ISBLANK('Data Input'!A47),\"\",SUM('Data Input'!C47:BU47))","v":""},{"$f":"IF(E42=\"\",\"\",E42/(COUNTA('Data Input'!$C$8:$BU$8)-1))","v":""},{"$f":"IF(ISBLANK('Data Input'!A47),\"\",SUM('Data Input'!H47,'Data Input'!AA47,'Data Input'!AO47,'Data Input'!AP47))","v":""},{"$f":"IF(G42=\"\",\"\",G42/COUNTIF('Data Input'!$C$8:$BU$8,\"CS\"))","v":""},{"$f":"IF(ISBLANK('Data Input'!A47),\"\",SUM('Data Input'!P47,'Data Input'!T47,'Data Input'!AD47,'Data Input'!AX47,'Data Input'!AY47))","v":""},{"$f":"IF(I42=\"\",\"\",I42/COUNTIF('Data Input'!$C$8:$BU$8,\"SE\"))","v":""},{"$f":"IF(ISBLANK('Data Input'!A47),\"\",SUM('Data Input'!K47,'Data Input'!L47,'Data Input'!M47,'Data Input'!O47,'Data Input'!Q47,'Data Input'!U47,'Data Input'!X47,'Data Input'!Y47,'Data Input'!Z47,'Data Input'!AB47,'Data Input'!AE47,'Data Input'!AG47,'Data Input'!AL47,'Data Input'!AU47,'Data Input'!AW47))","v":""},{"$f":"IF(K42=\"\",\"\",K42/COUNTIF('Data Input'!$C$8:$BU$8,\"P\"))","v":""},{"$f":"IF(ISBLANK('Data Input'!A47),\"\",SUM('Data Input'!I47,'Data Input'!S47))","v":""},{"$f":"IF(M42=\"\",\"\",M42/COUNTIF('Data Input'!$C$8:$BU$8,\"FS\"))","v":""},{"$f":"IF(ISBLANK('Data Input'!A47),\"\",SUM('Data Input'!D47,'Data Input'!E47,'Data Input'!F47,'Data Input'!G47,'Data Input'!R47,'Data Input'!V47,'Data Input'!W47,'Data Input'!AC47,'Data Input'!AF47,'Data Input'!AH47,'Data Input'!AJ47,'Data Input'!AK47,'Data Input'!AM47,'Data Input'!AQ47,'Data Input'!AR47,'Data Input'!AZ47))","v":""},{"$f":"IF(O42=\"\",\"\",O42/COUNTIF('Data Input'!$C$8:$BU$8,\"GT\"))","v":""},{"$f":"IF(ISBLANK('Data Input'!A47),\"\",SUM('Data Input'!C47,'Data Input'!J47,'Data Input'!N47,'Data Input'!AS47,'Data Input'!AT47,'Data Input'!AV47))","v":""},{"$f":"IF(Q42=\"\",\"\",Q42/COUNTIF('Data Input'!$C$8:$BU$8,\"V\"))","v":""},{"$f":"IF(ISBLANK('Data Input'!A47),\"\",SUM('Data Input'!AI47,'Data Input'!AN47))","v":""},{"$f":"IF(S42=\"\",\"\",S42/COUNTIF('Data Input'!$C$8:$BU$8,\"F/I\"))","v":""},{"$f":"IF(ISBLANK('Data Input'!C47),\"\",SUM('Data Input'!BB47:BU47))","v":""},{"$f":"IF(U42=\"\",\"\",U42/COUNTIF('Data Input'!$C$8:$BU$8,\"Sp\"))","v":""}]
[{"$f":"IF('Data Input'!A48=0,\"\",'Data Input'!A48)","v":""},{"$f":"IF(ISBLANK('Data Input'!A48),\"\",COUNTIF('Data Input'!C48:BU48,\"\")-1)","v":""},{"$f":"IF(ISBLANK('Data Input'!A48),\"\",COUNTIF('Data Input'!C48:BU48,\"0\"))","v":""},{"$f":"IF(ISBLANK('Data Input'!A48),\"\",SUM(B43,C43))","v":""},{"$f":"IF(ISBLANK('Data Input'!A48),\"\",SUM('Data Input'!C48:BU48))","v":""},{"$f":"IF(E43=\"\",\"\",E43/(COUNTA('Data Input'!$C$8:$BU$8)-1))","v":""},{"$f":"IF(ISBLANK('Data Input'!A48),\"\",SUM('Data Input'!H48,'Data Input'!AA48,'Data Input'!AO48,'Data Input'!AP48))","v":""},{"$f":"IF(G43=\"\",\"\",G43/COUNTIF('Data Input'!$C$8:$BU$8,\"CS\"))","v":""},{"$f":"IF(ISBLANK('Data Input'!A48),\"\",SUM('Data Input'!P48,'Data Input'!T48,'Data Input'!AD48,'Data Input'!AX48,'Data Input'!AY48))","v":""},{"$f":"IF(I43=\"\",\"\",I43/COUNTIF('Data Input'!$C$8:$BU$8,\"SE\"))","v":""},{"$f":"IF(ISBLANK('Data Input'!A48),\"\",SUM('Data Input'!K48,'Data Input'!L48,'Data Input'!M48,'Data Input'!O48,'Data Input'!Q48,'Data Input'!U48,'Data Input'!X48,'Data Input'!Y48,'Data Input'!Z48,'Data Input'!AB48,'Data Input'!AE48,'Data Input'!AG48,'Data Input'!AL48,'Data Input'!AU48,'Data Input'!AW48))","v":""},{"$f":"IF(K43=\"\",\"\",K43/COUNTIF('Data Input'!$C$8:$BU$8,\"P\"))","v":""},{"$f":"IF(ISBLANK('Data Input'!A48),\"\",SUM('Data Input'!I48,'Data Input'!S48))","v":""},{"$f":"IF(M43=\"\",\"\",M43/COUNTIF('Data Input'!$C$8:$BU$8,\"FS\"))","v":""},{"$f":"IF(ISBLANK('Data Input'!A48),\"\",SUM('Data Input'!D48,'Data Input'!E48,'Data Input'!F48,'Data Input'!G48,'Data Input'!R48,'Data Input'!V48,'Data Input'!W48,'Data Input'!AC48,'Data Input'!AF48,'Data Input'!AH48,'Data Input'!AJ48,'Data Input'!AK48,'Data Input'!AM48,'Data Input'!AQ48,'Data Input'!AR48,'Data Input'!AZ48))","v":""},{"$f":"IF(O43=\"\",\"\",O43/COUNTIF('Data Input'!$C$8:$BU$8,\"GT\"))","v":""},{"$f":"IF(ISBLANK('Data Input'!A48),\"\",SUM('Data Input'!C48,'Data Input'!J48,'Data Input'!N48,'Data Input'!AS48,'Data Input'!AT48,'Data Input'!AV48))","v":""},{"$f":"IF(Q43=\"\",\"\",Q43/COUNTIF('Data Input'!$C$8:$BU$8,\"V\"))","v":""},{"$f":"IF(ISBLANK('Data Input'!A48),\"\",SUM('Data Input'!AI48,'Data Input'!AN48))","v":""},{"$f":"IF(S43=\"\",\"\",S43/COUNTIF('Data Input'!$C$8:$BU$8,\"F/I\"))","v":""},{"$f":"IF(ISBLANK('Data Input'!C48),\"\",SUM('Data Input'!BB48:BU48))","v":""},{"$f":"IF(U43=\"\",\"\",U43/COUNTIF('Data Input'!$C$8:$BU$8,\"Sp\"))","v":""}]
[{"$f":"IF('Data Input'!A49=0,\"\",'Data Input'!A49)","v":""},{"$f":"IF(ISBLANK('Data Input'!A49),\"\",COUNTIF('Data Input'!C49:BU49,\"\")-1)","v":""},{"$f":"IF(ISBLANK('Data Input'!A49),\"\",COUNTIF('Data Input'!C49:BU49,\"0\"))","v":""},{"$f":"IF(ISBLANK('Data Input'!A49),\"\",SUM(B44,C44))","v":""},{"$f":"IF(ISBLANK('Data Input'!A49),\"\",SUM('Data Input'!C49:BU49))","v":""},{"$f":"IF(E44=\"\",\"\",E44/(COUNTA('Data Input'!$C$8:$BU$8)-1))","v":""},{"$f":"IF(ISBLANK('Data Input'!A49),\"\",SUM('Data Input'!H49,'Data Input'!AA49,'Data Input'!AO49,'Data Input'!AP49))","v":""},{"$f":"IF(G44=\"\",\"\",G44/COUNTIF('Data Input'!$C$8:$BU$8,\"CS\"))","v":""},{"$f":"IF(ISBLANK('Data Input'!A49),\"\",SUM('Data Input'!P49,'Data Input'!T49,'Data Input'!AD49,'Data Input'!AX49,'Data Input'!AY49))","v":""},{"$f":"IF(I44=\"\",\"\",I44/COUNTIF('Data Input'!$C$8:$BU$8,\"SE\"))","v":""},{"$f":"IF(ISBLANK('Data Input'!A49),\"\",SUM('Data Input'!K49,'Data Input'!L49,'Data Input'!M49,'Data Input'!O49,'Data Input'!Q49,'Data Input'!U49,'Data Input'!X49,'Data Input'!Y49,'Data Input'!Z49,'Data Input'!AB49,'Data Input'!AE49,'Data Input'!AG49,'Data Input'!AL49,'Data Input'!AU49,'Data Input'!AW49))","v":""},{"$f":"IF(K44=\"\",\"\",K44/COUNTIF('Data Input'!$C$8:$BU$8,\"P\"))","v":""},{"$f":"IF(ISBLANK('Data Input'!A49),\"\",SUM('Data Input'!I49,'Data Input'!S49))","v":""},{"$f":"IF(M44=\"\",\"\",M44/COUNTIF('Data Input'!$C$8:$BU$8,\"FS\"))","v":""},{"$f":"IF(ISBLANK('Data Input'!A49),\"\",SUM('Data Input'!D49,'Data Input'!E49,'Data Input'!F49,'Data Input'!G49,'Data Input'!R49,'Data Input'!V49,'Data Input'!W49,'Data Input'!AC49,'Data Input'!AF49,'Data Input'!AH49,'Data Input'!AJ49,'Data Input'!AK49,'Data Input'!AM49,'Data Input'!AQ49,'Data Input'!AR49,'Data Input'!AZ49))","v":""},{"$f":"IF(O44=\"\",\"\",O44/COUNTIF('Data Input'!$C$8:$BU$8,\"GT\"))","v":""},{"$f":"IF(ISBLANK('Data Input'!A49),\"\",SUM('Data Input'!C49,'Data Input'!J49,'Data Input'!N49,'Data Input'!AS49,'Data Input'!AT49,'Data Input'!AV49))","v":""},{"$f":"IF(Q44=\"\",\"\",Q44/COUNTIF('Data Input'!$C$8:$BU$8,\"V\"))","v":""},{"$f":"IF(ISBLANK('Data Input'!A49),\"\",SUM('Data Input'!AI49,'Data Input'!AN49))","v":""},{"$f":"IF(S44=\"\",\"\",S44/COUNTIF('Data Input'!$C$8:$BU$8,\"F/I\"))","v":""},{"$f":"IF(ISBLANK('Data Input'!C49),\"\",SUM('Data Input'!BB49:BU49))","v":""},{"$f":"IF(U44=\"\",\"\",U44/COUNTIF('Data Input'!$C$8:$BU$8,\"Sp\"))","v":""}]
[{"$f":"IF('Data Input'!A50=0,\"\",'Data Input'!A50)","v":""},{"$f":"IF(ISBLANK('Data Input'!A50),\"\",COUNTIF('Data Input'!C50:BU50,\"\")-1)","v":""},{"$f":"IF(ISBLANK('Data Input'!A50),\"\",COUNTIF('Data Input'!C50:BU50,\"0\"))","v":""},{"$f":"IF(ISBLANK('Data Input'!A50),\"\",SUM(B45,C45))","v":""},{"$f":"IF(ISBLANK('Data Input'!A50),\"\",SUM('Data Input'!C50:BU50))","v":""},{"$f":"IF(E45=\"\",\"\",E45/(COUNTA('Data Input'!$C$8:$BU$8)-1))","v":""},{"$f":"IF(ISBLANK('Data Input'!A50),\"\",SUM('Data Input'!H50,'Data Input'!AA50,'Data Input'!AO50,'Data Input'!AP50))","v":""},{"$f":"IF(G45=\"\",\"\",G45/COUNTIF('Data Input'!$C$8:$BU$8,\"CS\"))","v":""},{"$f":"IF(ISBLANK('Data Input'!A50),\"\",SUM('Data Input'!P50,'Data Input'!T50,'Data Input'!AD50,'Data Input'!AX50,'Data Input'!AY50))","v":""},{"$f":"IF(I45=\"\",\"\",I45/COUNTIF('Data Input'!$C$8:$BU$8,\"SE\"))","v":""},{"$f":"IF(ISBLANK('Data Input'!A50),\"\",SUM('Data Input'!K50,'Data Input'!L50,'Data Input'!M50,'Data Input'!O50,'Data Input'!Q50,'Data Input'!U50,'Data Input'!X50,'Data Input'!Y50,'Data Input'!Z50,'Data Input'!AB50,'Data Input'!AE50,'Data Input'!AG50,'Data Input'!AL50,'Data Input'!AU50,'Data Input'!AW50))","v":""},{"$f":"IF(K45=\"\",\"\",K45/COUNTIF('Data Input'!$C$8:$BU$8,\"P\"))","v":""},{"$f":"IF(ISBLANK('Data Input'!A50),\"\",SUM('Data Input'!I50,'Data Input'!S50))","v":""},{"$f":"IF(M45=\"\",\"\",M45/COUNTIF('Data Input'!$C$8:$BU$8,\"FS\"))","v":""},{"$f":"IF(ISBLANK('Data Input'!A50),\"\",SUM('Data Input'!D50,'Data Input'!E50,'Data Input'!F50,'Data Input'!G50,'Data Input'!R50,'Data Input'!V50,'Data Input'!W50,'Data Input'!AC50,'Data Input'!AF50,'Data Input'!AH50,'Data Input'!AJ50,'Data Input'!AK50,'Data Input'!AM50,'Data Input'!AQ50,'Data Input'!AR50,'Data Input'!AZ50))","v":""},{"$f":"IF(O45=\"\",\"\",O45/COUNTIF('Data Input'!$C$8:$BU$8,\"GT\"))","v":""},{"$f":"IF(ISBLANK('Data Input'!A50),\"\",SUM('Data Input'!C50,'Data Input'!J50,'Data Input'!N50,'Data Input'!AS50,'Data Input'!AT50,'Data Input'!AV50))","v":""},{"$f":"IF(Q45=\"\",\"\",Q45/COUNTIF('Data Input'!$C$8:$BU$8,\"V\"))","v":""},{"$f":"IF(ISBLANK('Data Input'!A50),\"\",SUM('Data Input'!AI50,'Data Input'!AN50))","v":""},{"$f":"IF(S45=\"\",\"\",S45/COUNTIF('Data Input'!$C$8:$BU$8,\"F/I\"))","v":""},{"$f":"IF(ISBLANK('Data Input'!C50),\"\",SUM('Data Input'!BB50:BU50))","v":""},{"$f":"IF(U45=\"\",\"\",U45/COUNTIF('Data Input'!$C$8:$BU$8,\"Sp\"))","v":""}]
[{"$f":"IF('Data Input'!A51=0,\"\",'Data Input'!A51)","v":""},{"$f":"IF(ISBLANK('Data Input'!A51),\"\",COUNTIF('Data Input'!C51:BU51,\"\")-1)","v":""},{"$f":"IF(ISBLANK('Data Input'!A51),\"\",COUNTIF('Data Input'!C51:BU51,\"0\"))","v":""},{"$f":"IF(ISBLANK('Data Input'!A51),\"\",SUM(B46,C46))","v":""},{"$f":"IF(ISBLANK('Data Input'!A51),\"\",SUM('Data Input'!C51:BU51))","v":""},{"$f":"IF(E46=\"\",\"\",E46/(COUNTA('Data Input'!$C$8:$BU$8)-1))","v":""},{"$f":"IF(ISBLANK('Data Input'!A51),\"\",SUM('Data Input'!H51,'Data Input'!AA51,'Data Input'!AO51,'Data Input'!AP51))","v":""},{"$f":"IF(G46=\"\",\"\",G46/COUNTIF('Data Input'!$C$8:$BU$8,\"CS\"))","v":""},{"$f":"IF(ISBLANK('Data Input'!A51),\"\",SUM('Data Input'!P51,'Data Input'!T51,'Data Input'!AD51,'Data Input'!AX51,'Data Input'!AY51))","v":""},{"$f":"IF(I46=\"\",\"\",I46/COUNTIF('Data Input'!$C$8:$BU$8,\"SE\"))","v":""},{"$f":"IF(ISBLANK('Data Input'!A51),\"\",SUM('Data Input'!K51,'Data Input'!L51,'Data Input'!M51,'Data Input'!O51,'Data Input'!Q51,'Data Input'!U51,'Data Input'!X51,'Data Input'!Y51,'Data Input'!Z51,'Data Input'!AB51,'Data Input'!AE51,'Data Input'!AG51,'Data Input'!AL51,'Data Input'!AU51,'Data Input'!AW51))","v":""},{"$f":"IF(K46=\"\",\"\",K46/COUNTIF('Data Input'!$C$8:$BU$8,\"P\"))","v":""},{"$f":"IF(ISBLANK('Data Input'!A51),\"\",SUM('Data Input'!I51,'Data Input'!S51))","v":""},{"$f":"IF(M46=\"\",\"\",M46/COUNTIF('Data Input'!$C$8:$BU$8,\"FS\"))","v":""},{"$f":"IF(ISBLANK('Data Input'!A51),\"\",SUM('Data Input'!D51,'Data Input'!E51,'Data Input'!F51,'Data Input'!G51,'Data Input'!R51,'Data Input'!V51,'Data Input'!W51,'Data Input'!AC51,'Data Input'!AF51,'Data Input'!AH51,'Data Input'!AJ51,'Data Input'!AK51,'Data Input'!AM51,'Data Input'!AQ51,'Data Input'!AR51,'Data Input'!AZ51))","v":""},{"$f":"IF(O46=\"\",\"\",O46/COUNTIF('Data Input'!$C$8:$BU$8,\"GT\"))","v":""},{"$f":"IF(ISBLANK('Data Input'!A51),\"\",SUM('Data Input'!C51,'Data Input'!J51,'Data Input'!N51,'Data Input'!AS51,'Data Input'!AT51,'Data Input'!AV51))","v":""},{"$f":"IF(Q46=\"\",\"\",Q46/COUNTIF('Data Input'!$C$8:$BU$8,\"V\"))","v":""},{"$f":"IF(ISBLANK('Data Input'!A51),\"\",SUM('Data Input'!AI51,'Data Input'!AN51))","v":""},{"$f":"IF(S46=\"\",\"\",S46/COUNTIF('Data Input'!$C$8:$BU$8,\"F/I\"))","v":""},{"$f":"IF(ISBLANK('Data Input'!C51),\"\",SUM('Data Input'!BB51:BU51))","v":""},{"$f":"IF(U46=\"\",\"\",U46/COUNTIF('Data Input'!$C$8:$BU$8,\"Sp\"))","v":""}]
[{"$f":"IF('Data Input'!A52=0,\"\",'Data Input'!A52)","v":""},{"$f":"IF(ISBLANK('Data Input'!A52),\"\",COUNTIF('Data Input'!C52:BU52,\"\")-1)","v":""},{"$f":"IF(ISBLANK('Data Input'!A52),\"\",COUNTIF('Data Input'!C52:BU52,\"0\"))","v":""},{"$f":"IF(ISBLANK('Data Input'!A52),\"\",SUM(B47,C47))","v":""},{"$f":"IF(ISBLANK('Data Input'!A52),\"\",SUM('Data Input'!C52:BU52))","v":""},{"$f":"IF(E47=\"\",\"\",E47/(COUNTA('Data Input'!$C$8:$BU$8)-1))","v":""},{"$f":"IF(ISBLANK('Data Input'!A52),\"\",SUM('Data Input'!H52,'Data Input'!AA52,'Data Input'!AO52,'Data Input'!AP52))","v":""},{"$f":"IF(G47=\"\",\"\",G47/COUNTIF('Data Input'!$C$8:$BU$8,\"CS\"))","v":""},{"$f":"IF(ISBLANK('Data Input'!A52),\"\",SUM('Data Input'!P52,'Data Input'!T52,'Data Input'!AD52,'Data Input'!AX52,'Data Input'!AY52))","v":""},{"$f":"IF(I47=\"\",\"\",I47/COUNTIF('Data Input'!$C$8:$BU$8,\"SE\"))","v":""},{"$f":"IF(ISBLANK('Data Input'!A52),\"\",SUM('Data Input'!K52,'Data Input'!L52,'Data Input'!M52,'Data Input'!O52,'Data Input'!Q52,'Data Input'!U52,'Data Input'!X52,'Data Input'!Y52,'Data Input'!Z52,'Data Input'!AB52,'Data Input'!AE52,'Data Input'!AG52,'Data Input'!AL52,'Data Input'!AU52,'Data Input'!AW52))","v":""},{"$f":"IF(K47=\"\",\"\",K47/COUNTIF('Data Input'!$C$8:$BU$8,\"P\"))","v":""},{"$f":"IF(ISBLANK('Data Input'!A52),\"\",SUM('Data Input'!I52,'Data Input'!S52))","v":""},{"$f":"IF(M47=\"\",\"\",M47/COUNTIF('Data Input'!$C$8:$BU$8,\"FS\"))","v":""},{"$f":"IF(ISBLANK('Data Input'!A52),\"\",SUM('Data Input'!D52,'Data Input'!E52,'Data Input'!F52,'Data Input'!G52,'Data Input'!R52,'Data Input'!V52,'Data Input'!W52,'Data Input'!AC52,'Data Input'!AF52,'Data Input'!AH52,'Data Input'!AJ52,'Data Input'!AK52,'Data Input'!AM52,'Data Input'!AQ52,'Data Input'!AR52,'Data Input'!AZ52))","v":""},{"$f":"IF(O47=\"\",\"\",O47/COUNTIF('Data Input'!$C$8:$BU$8,\"GT\"))","v":""},{"$f":"IF(ISBLANK('Data Input'!A52),\"\",SUM('Data Input'!C52,'Data Input'!J52,'Data Input'!N52,'Data Input'!AS52,'Data Input'!AT52,'Data Input'!AV52))","v":""},{"$f":"IF(Q47=\"\",\"\",Q47/COUNTIF('Data Input'!$C$8:$BU$8,\"V\"))","v":""},{"$f":"IF(ISBLANK('Data Input'!A52),\"\",SUM('Data Input'!AI52,'Data Input'!AN52))","v":""},{"$f":"IF(S47=\"\",\"\",S47/COUNTIF('Data Input'!$C$8:$BU$8,\"F/I\"))","v":""},{"$f":"IF(ISBLANK('Data Input'!C52),\"\",SUM('Data Input'!BB52:BU52))","v":""},{"$f":"IF(U47=\"\",\"\",U47/COUNTIF('Data Input'!$C$8:$BU$8,\"Sp\"))","v":""}]
[{"$f":"IF('Data Input'!A53=0,\"\",'Data Input'!A53)","v":""},{"$f":"IF(ISBLANK('Data Input'!A53),\"\",COUNTIF('Data Input'!C53:BU53,\"\")-1)","v":""},{"$f":"IF(ISBLANK('Data Input'!A53),\"\",COUNTIF('Data Input'!C53:BU53,\"0\"))","v":""},{"$f":"IF(ISBLANK('Data Input'!A53),\"\",SUM(B48,C48))","v":""},{"$f":"IF(ISBLANK('Data Input'!A53),\"\",SUM('Data Input'!C53:BU53))","v":""},{"$f":"IF(E48=\"\",\"\",E48/(COUNTA('Data Input'!$C$8:$BU$8)-1))","v":""},{"$f":"IF(ISBLANK('Data Input'!A53),\"\",SUM('Data Input'!H53,'Data Input'!AA53,'Data Input'!AO53,'Data Input'!AP53))","v":""},{"$f":"IF(G48=\"\",\"\",G48/COUNTIF('Data Input'!$C$8:$BU$8,\"CS\"))","v":""},{"$f":"IF(ISBLANK('Data Input'!A53),\"\",SUM('Data Input'!P53,'Data Input'!T53,'Data Input'!AD53,'Data Input'!AX53,'Data Input'!AY53))","v":""},{"$f":"IF(I48=\"\",\"\",I48/COUNTIF('Data Input'!$C$8:$BU$8,\"SE\"))","v":""},{"$f":"IF(ISBLANK('Data Input'!A53),\"\",SUM('Data Input'!K53,'Data Input'!L53,'Data Input'!M53,'Data Input'!O53,'Data Input'!Q53,'Data Input'!U53,'Data Input'!X53,'Data Input'!Y53,'Data Input'!Z53,'Data Input'!AB53,'Data Input'!AE53,'Data Input'!AG53,'Data Input'!AL53,'Data Input'!AU53,'Data Input'!AW53))","v":""},{"$f":"IF(K48=\"\",\"\",K48/COUNTIF('Data Input'!$C$8:$BU$8,\"P\"))","v":""},{"$f":"IF(ISBLANK('Data Input'!A53),\"\",SUM('Data Input'!I53,'Data Input'!S53))","v":""},{"$f":"IF(M48=\"\",\"\",M48/COUNTIF('Data Input'!$C$8:$BU$8,\"FS\"))","v":""},{"$f":"IF(ISBLANK('Data Input'!A53),\"\",SUM('Data Input'!D53,'Data Input'!E53,'Data Input'!F53,'Data Input'!G53,'Data Input'!R53,'Data Input'!V53,'Data Input'!W53,'Data Input'!AC53,'Data Input'!AF53,'Data Input'!AH53,'Data Input'!AJ53,'Data Input'!AK53,'Data Input'!AM53,'Data Input'!AQ53,'Data Input'!AR53,'Data Input'!AZ53))","v":""},{"$f":"IF(O48=\"\",\"\",O48/COUNTIF('Data Input'!$C$8:$BU$8,\"GT\"))","v":""},{"$f":"IF(ISBLANK('Data Input'!A53),\"\",SUM('Data Input'!C53,'Data Input'!J53,'Data Input'!N53,'Data Input'!AS53,'Data Input'!AT53,'Data Input'!AV53))","v":""},{"$f":"IF(Q48=\"\",\"\",Q48/COUNTIF('Data Input'!$C$8:$BU$8,\"V\"))","v":""},{"$f":"IF(ISBLANK('Data Input'!A53),\"\",SUM('Data Input'!AI53,'Data Input'!AN53))","v":""},{"$f":"IF(S48=\"\",\"\",S48/COUNTIF('Data Input'!$C$8:$BU$8,\"F/I\"))","v":""},{"$f":"IF(ISBLANK('Data Input'!C53),\"\",SUM('Data Input'!BB53:BU53))","v":""},{"$f":"IF(U48=\"\",\"\",U48/COUNTIF('Data Input'!$C$8:$BU$8,\"Sp\"))","v":""}]
[{"$f":"IF('Data Input'!A54=0,\"\",'Data Input'!A54)","v":""},{"$f":"IF(ISBLANK('Data Input'!A54),\"\",COUNTIF('Data Input'!C54:BU54,\"\")-1)","v":""},{"$f":"IF(ISBLANK('Data Input'!A54),\"\",COUNTIF('Data Input'!C54:BU54,\"0\"))","v":""},{"$f":"IF(ISBLANK('Data Input'!A54),\"\",SUM(B49,C49))","v":""},{"$f":"IF(ISBLANK('Data Input'!A54),\"\",SUM('Data Input'!C54:BU54))","v":""},{"$f":"IF(E49=\"\",\"\",E49/(COUNTA('Data Input'!$C$8:$BU$8)-1))","v":""},{"$f":"IF(ISBLANK('Data Input'!A54),\"\",SUM('Data Input'!H54,'Data Input'!AA54,'Data Input'!AO54,'Data Input'!AP54))","v":""},{"$f":"IF(G49=\"\",\"\",G49/COUNTIF('Data Input'!$C$8:$BU$8,\"CS\"))","v":""},{"$f":"IF(ISBLANK('Data Input'!A54),\"\",SUM('Data Input'!P54,'Data Input'!T54,'Data Input'!AD54,'Data Input'!AX54,'Data Input'!AY54))","v":""},{"$f":"IF(I49=\"\",\"\",I49/COUNTIF('Data Input'!$C$8:$BU$8,\"SE\"))","v":""},{"$f":"IF(ISBLANK('Data Input'!A54),\"\",SUM('Data Input'!K54,'Data Input'!L54,'Data Input'!M54,'Data Input'!O54,'Data Input'!Q54,'Data Input'!U54,'Data Input'!X54,'Data Input'!Y54,'Data Input'!Z54,'Data Input'!AB54,'Data Input'!AE54,'Data Input'!AG54,'Data Input'!AL54,'Data Input'!AU54,'Data Input'!AW54))","v":""},{"$f":"IF(K49=\"\",\"\",K49/COUNTIF('Data Input'!$C$8:$BU$8,\"P\"))","v":""},{"$f":"IF(ISBLANK('Data Input'!A54),\"\",SUM('Data Input'!I54,'Data Input'!S54))","v":""},{"$f":"IF(M49=\"\",\"\",M49/COUNTIF('Data Input'!$C$8:$BU$8,\"FS\"))","v":""},{"$f":"IF(ISBLANK('Data Input'!A54),\"\",SUM('Data Input'!D54,'Data Input'!E54,'Data Input'!F54,'Data Input'!G54,'Data Input'!R54,'Data Input'!V54,'Data Input'!W54,'Data Input'!AC54,'Data Input'!AF54,'Data Input'!AH54,'Data Input'!AJ54,'Data Input'!AK54,'Data Input'!AM54,'Data Input'!AQ54,'Data Input'!AR54,'Data Input'!AZ54))","v":""},{"$f":"IF(O49=\"\",\"\",O49/COUNTIF('Data Input'!$C$8:$BU$8,\"GT\"))","v":""},{"$f":"IF(ISBLANK('Data Input'!A54),\"\",SUM('Data Input'!C54,'Data Input'!J54,'Data Input'!N54,'Data Input'!AS54,'Data Input'!AT54,'Data Input'!AV54))","v":""},{"$f":"IF(Q49=\"\",\"\",Q49/COUNTIF('Data Input'!$C$8:$BU$8,\"V\"))","v":""},{"$f":"IF(ISBLANK('Data Input'!A54),\"\",SUM('Data Input'!AI54,'Data Input'!AN54))","v":""},{"$f":"IF(S49=\"\",\"\",S49/COUNTIF('Data Input'!$C$8:$BU$8,\"F/I\"))","v":""},{"$f":"IF(ISBLANK('Data Input'!C54),\"\",SUM('Data Input'!BB54:BU54))","v":""},{"$f":"IF(U49=\"\",\"\",U49/COUNTIF('Data Input'!$C$8:$BU$8,\"Sp\"))","v":""}]
[{"$f":"IF('Data Input'!A55=0,\"\",'Data Input'!A55)","v":""},{"$f":"IF(ISBLANK('Data Input'!A55),\"\",COUNTIF('Data Input'!C55:BU55,\"\")-1)","v":""},{"$f":"IF(ISBLANK('Data Input'!A55),\"\",COUNTIF('Data Input'!C55:BU55,\"0\"))","v":""},{"$f":"IF(ISBLANK('Data Input'!A55),\"\",SUM(B50,C50))","v":""},{"$f":"IF(ISBLANK('Data Input'!A55),\"\",SUM('Data Input'!C55:BU55))","v":""},{"$f":"IF(E50=\"\",\"\",E50/(COUNTA('Data Input'!$C$8:$BU$8)-1))","v":""},{"$f":"IF(ISBLANK('Data Input'!A55),\"\",SUM('Data Input'!H55,'Data Input'!AA55,'Data Input'!AO55,'Data Input'!AP55))","v":""},{"$f":"IF(G50=\"\",\"\",G50/COUNTIF('Data Input'!$C$8:$BU$8,\"CS\"))","v":""},{"$f":"IF(ISBLANK('Data Input'!A55),\"\",SUM('Data Input'!P55,'Data Input'!T55,'Data Input'!AD55,'Data Input'!AX55,'Data Input'!AY55))","v":""},{"$f":"IF(I50=\"\",\"\",I50/COUNTIF('Data Input'!$C$8:$BU$8,\"SE\"))","v":""},{"$f":"IF(ISBLANK('Data Input'!A55),\"\",SUM('Data Input'!K55,'Data Input'!L55,'Data Input'!M55,'Data Input'!O55,'Data Input'!Q55,'Data Input'!U55,'Data Input'!X55,'Data Input'!Y55,'Data Input'!Z55,'Data Input'!AB55,'Data Input'!AE55,'Data Input'!AG55,'Data Input'!AL55,'Data Input'!AU55,'Data Input'!AW55))","v":""},{"$f":"IF(K50=\"\",\"\",K50/COUNTIF('Data Input'!$C$8:$BU$8,\"P\"))","v":""},{"$f":"IF(ISBLANK('Data Input'!A55),\"\",SUM('Data Input'!I55,'Data Input'!S55))","v":""},{"$f":"IF(M50=\"\",\"\",M50/COUNTIF('Data Input'!$C$8:$BU$8,\"FS\"))","v":""},{"$f":"IF(ISBLANK('Data Input'!A55),\"\",SUM('Data Input'!D55,'Data Input'!E55,'Data Input'!F55,'Data Input'!G55,'Data Input'!R55,'Data Input'!V55,'Data Input'!W55,'Data Input'!AC55,'Data Input'!AF55,'Data Input'!AH55,'Data Input'!AJ55,'Data Input'!AK55,'Data Input'!AM55,'Data Input'!AQ55,'Data Input'!AR55,'Data Input'!AZ55))","v":""},{"$f":"IF(O50=\"\",\"\",O50/COUNTIF('Data Input'!$C$8:$BU$8,\"GT\"))","v":""},{"$f":"IF(ISBLANK('Data Input'!A55),\"\",SUM('Data Input'!C55,'Data Input'!J55,'Data Input'!N55,'Data Input'!AS55,'Data Input'!AT55,'Data Input'!AV55))","v":""},{"$f":"IF(Q50=\"\",\"\",Q50/COUNTIF('Data Input'!$C$8:$BU$8,\"V\"))","v":""},{"$f":"IF(ISBLANK('Data Input'!A55),\"\",SUM('Data Input'!AI55,'Data Input'!AN55))","v":""},{"$f":"IF(S50=\"\",\"\",S50/COUNTIF('Data Input'!$C$8:$BU$8,\"F/I\"))","v":""},{"$f":"IF(ISBLANK('Data Input'!C55),\"\",SUM('Data Input'!BB55:BU55))","v":""},{"$f":"IF(U50=\"\",\"\",U50/COUNTIF('Data Input'!$C$8:$BU$8,\"Sp\"))","v":""}]
[{"$f":"IF('Data Input'!A56=0,\"\",'Data Input'!A56)","v":""},{"$f":"IF(ISBLANK('Data Input'!A56),\"\",COUNTIF('Data Input'!C56:BU56,\"\")-1)","v":""},{"$f":"IF(ISBLANK('Data Input'!A56),\"\",COUNTIF('Data Input'!C56:BU56,\"0\"))","v":""},{"$f":"IF(ISBLANK('Data Input'!A56),\"\",SUM(B51,C51))","v":""},{"$f":"IF(ISBLANK('Data Input'!A56),\"\",SUM('Data Input'!C56:BU56))","v":""},{"$f":"IF(E51=\"\",\"\",E51/(COUNTA('Data Input'!$C$8:$BU$8)-1))","v":""},{"$f":"IF(ISBLANK('Data Input'!A56),\"\",SUM('Data Input'!H56,'Data Input'!AA56,'Data Input'!AO56,'Data Input'!AP56))","v":""},{"$f":"IF(G51=\"\",\"\",G51/COUNTIF('Data Input'!$C$8:$BU$8,\"CS\"))","v":""},{"$f":"IF(ISBLANK('Data Input'!A56),\"\",SUM('Data Input'!P56,'Data Input'!T56,'Data Input'!AD56,'Data Input'!AX56,'Data Input'!AY56))","v":""},{"$f":"IF(I51=\"\",\"\",I51/COUNTIF('Data Input'!$C$8:$BU$8,\"SE\"))","v":""},{"$f":"IF(ISBLANK('Data Input'!A56),\"\",SUM('Data Input'!K56,'Data Input'!L56,'Data Input'!M56,'Data Input'!O56,'Data Input'!Q56,'Data Input'!U56,'Data Input'!X56,'Data Input'!Y56,'Data Input'!Z56,'Data Input'!AB56,'Data Input'!AE56,'Data Input'!AG56,'Data Input'!AL56,'Data Input'!AU56,'Data Input'!AW56))","v":""},{"$f":"IF(K51=\"\",\"\",K51/COUNTIF('Data Input'!$C$8:$BU$8,\"P\"))","v":""},{"$f":"IF(ISBLANK('Data Input'!A56),\"\",SUM('Data Input'!I56,'Data Input'!S56))","v":""},{"$f":"IF(M51=\"\",\"\",M51/COUNTIF('Data Input'!$C$8:$BU$8,\"FS\"))","v":""},{"$f":"IF(ISBLANK('Data Input'!A56),\"\",SUM('Data Input'!D56,'Data Input'!E56,'Data Input'!F56,'Data Input'!G56,'Data Input'!R56,'Data Input'!V56,'Data Input'!W56,'Data Input'!AC56,'Data Input'!AF56,'Data Input'!AH56,'Data Input'!AJ56,'Data Input'!AK56,'Data Input'!AM56,'Data Input'!AQ56,'Data Input'!AR56,'Data Input'!AZ56))","v":""},{"$f":"IF(O51=\"\",\"\",O51/COUNTIF('Data Input'!$C$8:$BU$8,\"GT\"))","v":""},{"$f":"IF(ISBLANK('Data Input'!A56),\"\",SUM('Data Input'!C56,'Data Input'!J56,'Data Input'!N56,'Data Input'!AS56,'Data Input'!AT56,'Data Input'!AV56))","v":""},{"$f":"IF(Q51=\"\",\"\",Q51/COUNTIF('Data Input'!$C$8:$BU$8,\"V\"))","v":""},{"$f":"IF(ISBLANK('Data Input'!A56),\"\",SUM('Data Input'!AI56,'Data Input'!AN56))","v":""},{"$f":"IF(S51=\"\",\"\",S51/COUNTIF('Data Input'!$C$8:$BU$8,\"F/I\"))","v":""},{"$f":"IF(ISBLANK('Data Input'!C56),\"\",SUM('Data Input'!BB56:BU56))","v":""},{"$f":"IF(U51=\"\",\"\",U51/COUNTIF('Data Input'!$C$8:$BU$8,\"Sp\"))","v":""}]
[{"$f":"IF('Data Input'!A57=0,\"\",'Data Input'!A57)","v":""},{"$f":"IF(ISBLANK('Data Input'!A57),\"\",COUNTIF('Data Input'!C57:BU57,\"\")-1)","v":""},{"$f":"IF(ISBLANK('Data Input'!A57),\"\",COUNTIF('Data Input'!C57:BU57,\"0\"))","v":""},{"$f":"IF(ISBLANK('Data Input'!A57),\"\",SUM(B52,C52))","v":""},{"$f":"IF(ISBLANK('Data Input'!A57),\"\",SUM('Data Input'!C57:BU57))","v":""},{"$f":"IF(E52=\"\",\"\",E52/(COUNTA('Data Input'!$C$8:$BU$8)-1))","v":""},{"$f":"IF(ISBLANK('Data Input'!A57),\"\",SUM('Data Input'!H57,'Data Input'!AA57,'Data Input'!AO57,'Data Input'!AP57))","v":""},{"$f":"IF(G52=\"\",\"\",G52/COUNTIF('Data Input'!$C$8:$BU$8,\"CS\"))","v":""},{"$f":"IF(ISBLANK('Data Input'!A57),\"\",SUM('Data Input'!P57,'Data Input'!T57,'Data Input'!AD57,'Data Input'!AX57,'Data Input'!AY57))","v":""},{"$f":"IF(I52=\"\",\"\",I52/COUNTIF('Data Input'!$C$8:$BU$8,\"SE\"))","v":""},{"$f":"IF(ISBLANK('Data Input'!A57),\"\",SUM('Data Input'!K57,'Data Input'!L57,'Data Input'!M57,'Data Input'!O57,'Data Input'!Q57,'Data Input'!U57,'Data Input'!X57,'Data Input'!Y57,'Data Input'!Z57,'Data Input'!AB57,'Data Input'!AE57,'Data Input'!AG57,'Data Input'!AL57,'Data Input'!AU57,'Data Input'!AW57))","v":""},{"$f":"IF(K52=\"\",\"\",K52/COUNTIF('Data Input'!$C$8:$BU$8,\"P\"))","v":""},{"$f":"IF(ISBLANK('Data Input'!A57),\"\",SUM('Data Input'!I57,'Data Input'!S57))","v":""},{"$f":"IF(M52=\"\",\"\",M52/COUNTIF('Data Input'!$C$8:$BU$8,\"FS\"))","v":""},{"$f":"IF(ISBLANK('Data Input'!A57),\"\",SUM('Data Input'!D57,'Data Input'!E57,'Data Input'!F57,'Data Input'!G57,'Data Input'!R57,'Data Input'!V57,'Data Input'!W57,'Data Input'!AC57,'Data Input'!AF57,'Data Input'!AH57,'Data Input'!AJ57,'Data Input'!AK57,'Data Input'!AM57,'Data Input'!AQ57,'Data Input'!AR57,'Data Input'!AZ57))","v":""},{"$f":"IF(O52=\"\",\"\",O52/COUNTIF('Data Input'!$C$8:$BU$8,\"GT\"))","v":""},{"$f":"IF(ISBLANK('Data Input'!A57),\"\",SUM('Data Input'!C57,'Data Input'!J57,'Data Input'!N57,'Data Input'!AS57,'Data Input'!AT57,'Data Input'!AV57))","v":""},{"$f":"IF(Q52=\"\",\"\",Q52/COUNTIF('Data Input'!$C$8:$BU$8,\"V\"))","v":""},{"$f":"IF(ISBLANK('Data Input'!A57),\"\",SUM('Data Input'!AI57,'Data Input'!AN57))","v":""},{"$f":"IF(S52=\"\",\"\",S52/COUNTIF('Data Input'!$C$8:$BU$8,\"F/I\"))","v":""},{"$f":"IF(ISBLANK('Data Input'!C57),\"\",SUM('Data Input'!BB57:BU57))","v":""},{"$f":"IF(U52=\"\",\"\",U52/COUNTIF('Data Input'!$C$8:$BU$8,\"Sp\"))","v":""}]
[{"$f":"IF('Data Input'!A58=0,\"\",'Data Input'!A58)","v":""},{"$f":"IF(ISBLANK('Data Input'!A58),\"\",COUNTIF('Data Input'!C58:BU58,\"\")-1)","v":""},{"$f":"IF(ISBLANK('Data Input'!A58),\"\",COUNTIF('Data Input'!C58:BU58,\"0\"))","v":""},{"$f":"IF(ISBLANK('Data Input'!A58),\"\",SUM(B53,C53))","v":""},{"$f":"IF(ISBLANK('Data Input'!A58),\"\",SUM('Data Input'!C58:BU58))","v":""},{"$f":"IF(E53=\"\",\"\",E53/(COUNTA('Data Input'!$C$8:$BU$8)-1))","v":""},{"$f":"IF(ISBLANK('Data Input'!A58),\"\",SUM('Data Input'!H58,'Data Input'!AA58,'Data Input'!AO58,'Data Input'!AP58))","v":""},{"$f":"IF(G53=\"\",\"\",G53/COUNTIF('Data Input'!$C$8:$BU$8,\"CS\"))","v":""},{"$f":"IF(ISBLANK('Data Input'!A58),\"\",SUM('Data Input'!P58,'Data Input'!T58,'Data Input'!AD58,'Data Input'!AX58,'Data Input'!AY58))","v":""},{"$f":"IF(I53=\"\",\"\",I53/COUNTIF('Data Input'!$C$8:$BU$8,\"SE\"))","v":""},{"$f":"IF(ISBLANK('Data Input'!A58),\"\",SUM('Data Input'!K58,'Data Input'!L58,'Data Input'!M58,'Data Input'!O58,'Data Input'!Q58,'Data Input'!U58,'Data Input'!X58,'Data Input'!Y58,'Data Input'!Z58,'Data Input'!AB58,'Data Input'!AE58,'Data Input'!AG58,'Data Input'!AL58,'Data Input'!AU58,'Data Input'!AW58))","v":""},{"$f":"IF(K53=\"\",\"\",K53/COUNTIF('Data Input'!$C$8:$BU$8,\"P\"))","v":""},{"$f":"IF(ISBLANK('Data Input'!A58),\"\",SUM('Data Input'!I58,'Data Input'!S58))","v":""},{"$f":"IF(M53=\"\",\"\",M53/COUNTIF('Data Input'!$C$8:$BU$8,\"FS\"))","v":""},{"$f":"IF(ISBLANK('Data Input'!A58),\"\",SUM('Data Input'!D58,'Data Input'!E58,'Data Input'!F58,'Data Input'!G58,'Data Input'!R58,'Data Input'!V58,'Data Input'!W58,'Data Input'!AC58,'Data Input'!AF58,'Data Input'!AH58,'Data Input'!AJ58,'Data Input'!AK58,'Data Input'!AM58,'Data Input'!AQ58,'Data Input'!AR58,'Data Input'!AZ58))","v":""},{"$f":"IF(O53=\"\",\"\",O53/COUNTIF('Data Input'!$C$8:$BU$8,\"GT\"))","v":""},{"$f":"IF(ISBLANK('Data Input'!A58),\"\",SUM('Data Input'!C58,'Data Input'!J58,'Data Input'!N58,'Data Input'!AS58,'Data Input'!AT58,'Data Input'!AV58))","v":""},{"$f":"IF(Q53=\"\",\"\",Q53/COUNTIF('Data Input'!$C$8:$BU$8,\"V\"))","v":""},{"$f":"IF(ISBLANK('Data Input'!A58),\"\",SUM('Data Input'!AI58,'Data Input'!AN58))","v":""},{"$f":"IF(S53=\"\",\"\",S53/COUNTIF('Data Input'!$C$8:$BU$8,\"F/I\"))","v":""},{"$f":"IF(ISBLANK('Data Input'!C58),\"\",SUM('Data Input'!BB58:BU58))","v":""},{"$f":"IF(U53=\"\",\"\",U53/COUNTIF('Data Input'!$C$8:$BU$8,\"Sp\"))","v":""}]
[{"$f":"IF('Data Input'!A59=0,\"\",'Data Input'!A59)","v":""},{"$f":"IF(ISBLANK('Data Input'!A59),\"\",COUNTIF('Data Input'!C59:BU59,\"\")-1)","v":""},{"$f":"IF(ISBLANK('Data Input'!A59),\"\",COUNTIF('Data Input'!C59:BU59,\"0\"))","v":""},{"$f":"IF(ISBLANK('Data Input'!A59),\"\",SUM(B54,C54))","v":""},{"$f":"IF(ISBLANK('Data Input'!A59),\"\",SUM('Data Input'!C59:BU59))","v":""},{"$f":"IF(E54=\"\",\"\",E54/(COUNTA('Data Input'!$C$8:$BU$8)-1))","v":""},{"$f":"IF(ISBLANK('Data Input'!A59),\"\",SUM('Data Input'!H59,'Data Input'!AA59,'Data Input'!AO59,'Data Input'!AP59))","v":""},{"$f":"IF(G54=\"\",\"\",G54/COUNTIF('Data Input'!$C$8:$BU$8,\"CS\"))","v":""},{"$f":"IF(ISBLANK('Data Input'!A59),\"\",SUM('Data Input'!P59,'Data Input'!T59,'Data Input'!AD59,'Data Input'!AX59,'Data Input'!AY59))","v":""},{"$f":"IF(I54=\"\",\"\",I54/COUNTIF('Data Input'!$C$8:$BU$8,\"SE\"))","v":""},{"$f":"IF(ISBLANK('Data Input'!A59),\"\",SUM('Data Input'!K59,'Data Input'!L59,'Data Input'!M59,'Data Input'!O59,'Data Input'!Q59,'Data Input'!U59,'Data Input'!X59,'Data Input'!Y59,'Data Input'!Z59,'Data Input'!AB59,'Data Input'!AE59,'Data Input'!AG59,'Data Input'!AL59,'Data Input'!AU59,'Data Input'!AW59))","v":""},{"$f":"IF(K54=\"\",\"\",K54/COUNTIF('Data Input'!$C$8:$BU$8,\"P\"))","v":""},{"$f":"IF(ISBLANK('Data Input'!A59),\"\",SUM('Data Input'!I59,'Data Input'!S59))","v":""},{"$f":"IF(M54=\"\",\"\",M54/COUNTIF('Data Input'!$C$8:$BU$8,\"FS\"))","v":""},{"$f":"IF(ISBLANK('Data Input'!A59),\"\",SUM('Data Input'!D59,'Data Input'!E59,'Data Input'!F59,'Data Input'!G59,'Data Input'!R59,'Data Input'!V59,'Data Input'!W59,'Data Input'!AC59,'Data Input'!AF59,'Data Input'!AH59,'Data Input'!AJ59,'Data Input'!AK59,'Data Input'!AM59,'Data Input'!AQ59,'Data Input'!AR59,'Data Input'!AZ59))","v":""},{"$f":"IF(O54=\"\",\"\",O54/COUNTIF('Data Input'!$C$8:$BU$8,\"GT\"))","v":""},{"$f":"IF(ISBLANK('Data Input'!A59),\"\",SUM('Data Input'!C59,'Data Input'!J59,'Data Input'!N59,'Data Input'!AS59,'Data Input'!AT59,'Data Input'!AV59))","v":""},{"$f":"IF(Q54=\"\",\"\",Q54/COUNTIF('Data Input'!$C$8:$BU$8,\"V\"))","v":""},{"$f":"IF(ISBLANK('Data Input'!A59),\"\",SUM('Data Input'!AI59,'Data Input'!AN59))","v":""},{"$f":"IF(S54=\"\",\"\",S54/COUNTIF('Data Input'!$C$8:$BU$8,\"F/I\"))","v":""},{"$f":"IF(ISBLANK('Data Input'!C59),\"\",SUM('Data Input'!BB59:BU59))","v":""},{"$f":"IF(U54=\"\",\"\",U54/COUNTIF('Data Input'!$C$8:$BU$8,\"Sp\"))","v":""}]
[{"$f":"IF('Data Input'!A60=0,\"\",'Data Input'!A60)","v":""},{"$f":"IF(ISBLANK('Data Input'!A60),\"\",COUNTIF('Data Input'!C60:BU60,\"\")-1)","v":""},{"$f":"IF(ISBLANK('Data Input'!A60),\"\",COUNTIF('Data Input'!C60:BU60,\"0\"))","v":""},{"$f":"IF(ISBLANK('Data Input'!A60),\"\",SUM(B55,C55))","v":""},{"$f":"IF(ISBLANK('Data Input'!A60),\"\",SUM('Data Input'!C60:BU60))","v":""},{"$f":"IF(E55=\"\",\"\",E55/(COUNTA('Data Input'!$C$8:$BU$8)-1))","v":""},{"$f":"IF(ISBLANK('Data Input'!A60),\"\",SUM('Data Input'!H60,'Data Input'!AA60,'Data Input'!AO60,'Data Input'!AP60))","v":""},{"$f":"IF(G55=\"\",\"\",G55/COUNTIF('Data Input'!$C$8:$BU$8,\"CS\"))","v":""},{"$f":"IF(ISBLANK('Data Input'!A60),\"\",SUM('Data Input'!P60,'Data Input'!T60,'Data Input'!AD60,'Data Input'!AX60,'Data Input'!AY60))","v":""},{"$f":"IF(I55=\"\",\"\",I55/COUNTIF('Data Input'!$C$8:$BU$8,\"SE\"))","v":""},{"$f":"IF(ISBLANK('Data Input'!A60),\"\",SUM('Data Input'!K60,'Data Input'!L60,'Data Input'!M60,'Data Input'!O60,'Data Input'!Q60,'Data Input'!U60,'Data Input'!X60,'Data Input'!Y60,'Data Input'!Z60,'Data Input'!AB60,'Data Input'!AE60,'Data Input'!AG60,'Data Input'!AL60,'Data Input'!AU60,'Data Input'!AW60))","v":""},{"$f":"IF(K55=\"\",\"\",K55/COUNTIF('Data Input'!$C$8:$BU$8,\"P\"))","v":""},{"$f":"IF(ISBLANK('Data Input'!A60),\"\",SUM('Data Input'!I60,'Data Input'!S60))","v":""},{"$f":"IF(M55=\"\",\"\",M55/COUNTIF('Data Input'!$C$8:$BU$8,\"FS\"))","v":""},{"$f":"IF(ISBLANK('Data Input'!A60),\"\",SUM('Data Input'!D60,'Data Input'!E60,'Data Input'!F60,'Data Input'!G60,'Data Input'!R60,'Data Input'!V60,'Data Input'!W60,'Data Input'!AC60,'Data Input'!AF60,'Data Input'!AH60,'Data Input'!AJ60,'Data Input'!AK60,'Data Input'!AM60,'Data Input'!AQ60,'Data Input'!AR60,'Data Input'!AZ60))","v":""},{"$f":"IF(O55=\"\",\"\",O55/COUNTIF('Data Input'!$C$8:$BU$8,\"GT\"))","v":""},{"$f":"IF(ISBLANK('Data Input'!A60),\"\",SUM('Data Input'!C60,'Data Input'!J60,'Data Input'!N60,'Data Input'!AS60,'Data Input'!AT60,'Data Input'!AV60))","v":""},{"$f":"IF(Q55=\"\",\"\",Q55/COUNTIF('Data Input'!$C$8:$BU$8,\"V\"))","v":""},{"$f":"IF(ISBLANK('Data Input'!A60),\"\",SUM('Data Input'!AI60,'Data Input'!AN60))","v":""},{"$f":"IF(S55=\"\",\"\",S55/COUNTIF('Data Input'!$C$8:$BU$8,\"F/I\"))","v":""},{"$f":"IF(ISBLANK('Data Input'!C60),\"\",SUM('Data Input'!BB60:BU60))","v":""},{"$f":"IF(U55=\"\",\"\",U55/COUNTIF('Data Input'!$C$8:$BU$8,\"Sp\"))","v":""}]
[{"$f":"IF('Data Input'!A61=0,\"\",'Data Input'!A61)","v":""},{"$f":"IF(ISBLANK('Data Input'!A61),\"\",COUNTIF('Data Input'!C61:BU61,\"\")-1)","v":""},{"$f":"IF(ISBLANK('Data Input'!A61),\"\",COUNTIF('Data Input'!C61:BU61,\"0\"))","v":""},{"$f":"IF(ISBLANK('Data Input'!A61),\"\",SUM(B56,C56))","v":""},{"$f":"IF(ISBLANK('Data Input'!A61),\"\",SUM('Data Input'!C61:BU61))","v":""},{"$f":"IF(E56=\"\",\"\",E56/(COUNTA('Data Input'!$C$8:$BU$8)-1))","v":""},{"$f":"IF(ISBLANK('Data Input'!A61),\"\",SUM('Data Input'!H61,'Data Input'!AA61,'Data Input'!AO61,'Data Input'!AP61))","v":""},{"$f":"IF(G56=\"\",\"\",G56/COUNTIF('Data Input'!$C$8:$BU$8,\"CS\"))","v":""},{"$f":"IF(ISBLANK('Data Input'!A61),\"\",SUM('Data Input'!P61,'Data Input'!T61,'Data Input'!AD61,'Data Input'!AX61,'Data Input'!AY61))","v":""},{"$f":"IF(I56=\"\",\"\",I56/COUNTIF('Data Input'!$C$8:$BU$8,\"SE\"))","v":""},{"$f":"IF(ISBLANK('Data Input'!A61),\"\",SUM('Data Input'!K61,'Data Input'!L61,'Data Input'!M61,'Data Input'!O61,'Data Input'!Q61,'Data Input'!U61,'Data Input'!X61,'Data Input'!Y61,'Data Input'!Z61,'Data Input'!AB61,'Data Input'!AE61,'Data Input'!AG61,'Data Input'!AL61,'Data Input'!AU61,'Data Input'!AW61))","v":""},{"$f":"IF(K56=\"\",\"\",K56/COUNTIF('Data Input'!$C$8:$BU$8,\"P\"))","v":""},{"$f":"IF(ISBLANK('Data Input'!A61),\"\",SUM('Data Input'!I61,'Data Input'!S61))","v":""},{"$f":"IF(M56=\"\",\"\",M56/COUNTIF('Data Input'!$C$8:$BU$8,\"FS\"))","v":""},{"$f":"IF(ISBLANK('Data Input'!A61),\"\",SUM('Data Input'!D61,'Data Input'!E61,'Data Input'!F61,'Data Input'!G61,'Data Input'!R61,'Data Input'!V61,'Data Input'!W61,'Data Input'!AC61,'Data Input'!AF61,'Data Input'!AH61,'Data Input'!AJ61,'Data Input'!AK61,'Data Input'!AM61,'Data Input'!AQ61,'Data Input'!AR61,'Data Input'!AZ61))","v":""},{"$f":"IF(O56=\"\",\"\",O56/COUNTIF('Data Input'!$C$8:$BU$8,\"GT\"))","v":""},{"$f":"IF(ISBLANK('Data Input'!A61),\"\",SUM('Data Input'!C61,'Data Input'!J61,'Data Input'!N61,'Data Input'!AS61,'Data Input'!AT61,'Data Input'!AV61))","v":""},{"$f":"IF(Q56=\"\",\"\",Q56/COUNTIF('Data Input'!$C$8:$BU$8,\"V\"))","v":""},{"$f":"IF(ISBLANK('Data Input'!A61),\"\",SUM('Data Input'!AI61,'Data Input'!AN61))","v":""},{"$f":"IF(S56=\"\",\"\",S56/COUNTIF('Data Input'!$C$8:$BU$8,\"F/I\"))","v":""},{"$f":"IF(ISBLANK('Data Input'!C61),\"\",SUM('Data Input'!BB61:BU61))","v":""},{"$f":"IF(U56=\"\",\"\",U56/COUNTIF('Data Input'!$C$8:$BU$8,\"Sp\"))","v":""}]
[{"$f":"IF('Data Input'!A62=0,\"\",'Data Input'!A62)","v":""},{"$f":"IF(ISBLANK('Data Input'!A62),\"\",COUNTIF('Data Input'!C62:BU62,\"\")-1)","v":""},{"$f":"IF(ISBLANK('Data Input'!A62),\"\",COUNTIF('Data Input'!C62:BU62,\"0\"))","v":""},{"$f":"IF(ISBLANK('Data Input'!A62),\"\",SUM(B57,C57))","v":""},{"$f":"IF(ISBLANK('Data Input'!A62),\"\",SUM('Data Input'!C62:BU62))","v":""},{"$f":"IF(E57=\"\",\"\",E57/(COUNTA('Data Input'!$C$8:$BU$8)-1))","v":""},{"$f":"IF(ISBLANK('Data Input'!A62),\"\",SUM('Data Input'!H62,'Data Input'!AA62,'Data Input'!AO62,'Data Input'!AP62))","v":""},{"$f":"IF(G57=\"\",\"\",G57/COUNTIF('Data Input'!$C$8:$BU$8,\"CS\"))","v":""},{"$f":"IF(ISBLANK('Data Input'!A62),\"\",SUM('Data Input'!P62,'Data Input'!T62,'Data Input'!AD62,'Data Input'!AX62,'Data Input'!AY62))","v":""},{"$f":"IF(I57=\"\",\"\",I57/COUNTIF('Data Input'!$C$8:$BU$8,\"SE\"))","v":""},{"$f":"IF(ISBLANK('Data Input'!A62),\"\",SUM('Data Input'!K62,'Data Input'!L62,'Data Input'!M62,'Data Input'!O62,'Data Input'!Q62,'Data Input'!U62,'Data Input'!X62,'Data Input'!Y62,'Data Input'!Z62,'Data Input'!AB62,'Data Input'!AE62,'Data Input'!AG62,'Data Input'!AL62,'Data Input'!AU62,'Data Input'!AW62))","v":""},{"$f":"IF(K57=\"\",\"\",K57/COUNTIF('Data Input'!$C$8:$BU$8,\"P\"))","v":""},{"$f":"IF(ISBLANK('Data Input'!A62),\"\",SUM('Data Input'!I62,'Data Input'!S62))","v":""},{"$f":"IF(M57=\"\",\"\",M57/COUNTIF('Data Input'!$C$8:$BU$8,\"FS\"))","v":""},{"$f":"IF(ISBLANK('Data Input'!A62),\"\",SUM('Data Input'!D62,'Data Input'!E62,'Data Input'!F62,'Data Input'!G62,'Data Input'!R62,'Data Input'!V62,'Data Input'!W62,'Data Input'!AC62,'Data Input'!AF62,'Data Input'!AH62,'Data Input'!AJ62,'Data Input'!AK62,'Data Input'!AM62,'Data Input'!AQ62,'Data Input'!AR62,'Data Input'!AZ62))","v":""},{"$f":"IF(O57=\"\",\"\",O57/COUNTIF('Data Input'!$C$8:$BU$8,\"GT\"))","v":""},{"$f":"IF(ISBLANK('Data Input'!A62),\"\",SUM('Data Input'!C62,'Data Input'!J62,'Data Input'!N62,'Data Input'!AS62,'Data Input'!AT62,'Data Input'!AV62))","v":""},{"$f":"IF(Q57=\"\",\"\",Q57/COUNTIF('Data Input'!$C$8:$BU$8,\"V\"))","v":""},{"$f":"IF(ISBLANK('Data Input'!A62),\"\",SUM('Data Input'!AI62,'Data Input'!AN62))","v":""},{"$f":"IF(S57=\"\",\"\",S57/COUNTIF('Data Input'!$C$8:$BU$8,\"F/I\"))","v":""},{"$f":"IF(ISBLANK('Data Input'!C62),\"\",SUM('Data Input'!BB62:BU62))","v":""},{"$f":"IF(U57=\"\",\"\",U57/COUNTIF('Data Input'!$C$8:$BU$8,\"Sp\"))","v":""}]
[{"$f":"IF('Data Input'!A63=0,\"\",'Data Input'!A63)","v":""},{"$f":"IF(ISBLANK('Data Input'!A63),\"\",COUNTIF('Data Input'!C63:BU63,\"\")-1)","v":""},{"$f":"IF(ISBLANK('Data Input'!A63),\"\",COUNTIF('Data Input'!C63:BU63,\"0\"))","v":""},{"$f":"IF(ISBLANK('Data Input'!A63),\"\",SUM(B58,C58))","v":""},{"$f":"IF(ISBLANK('Data Input'!A63),\"\",SUM('Data Input'!C63:BU63))","v":""},{"$f":"IF(E58=\"\",\"\",E58/(COUNTA('Data Input'!$C$8:$BU$8)-1))","v":""},{"$f":"IF(ISBLANK('Data Input'!A63),\"\",SUM('Data Input'!H63,'Data Input'!AA63,'Data Input'!AO63,'Data Input'!AP63))","v":""},{"$f":"IF(G58=\"\",\"\",G58/COUNTIF('Data Input'!$C$8:$BU$8,\"CS\"))","v":""},{"$f":"IF(ISBLANK('Data Input'!A63),\"\",SUM('Data Input'!P63,'Data Input'!T63,'Data Input'!AD63,'Data Input'!AX63,'Data Input'!AY63))","v":""},{"$f":"IF(I58=\"\",\"\",I58/COUNTIF('Data Input'!$C$8:$BU$8,\"SE\"))","v":""},{"$f":"IF(ISBLANK('Data Input'!A63),\"\",SUM('Data Input'!K63,'Data Input'!L63,'Data Input'!M63,'Data Input'!O63,'Data Input'!Q63,'Data Input'!U63,'Data Input'!X63,'Data Input'!Y63,'Data Input'!Z63,'Data Input'!AB63,'Data Input'!AE63,'Data Input'!AG63,'Data Input'!AL63,'Data Input'!AU63,'Data Input'!AW63))","v":""},{"$f":"IF(K58=\"\",\"\",K58/COUNTIF('Data Input'!$C$8:$BU$8,\"P\"))","v":""},{"$f":"IF(ISBLANK('Data Input'!A63),\"\",SUM('Data Input'!I63,'Data Input'!S63))","v":""},{"$f":"IF(M58=\"\",\"\",M58/COUNTIF('Data Input'!$C$8:$BU$8,\"FS\"))","v":""},{"$f":"IF(ISBLANK('Data Input'!A63),\"\",SUM('Data Input'!D63,'Data Input'!E63,'Data Input'!F63,'Data Input'!G63,'Data Input'!R63,'Data Input'!V63,'Data Input'!W63,'Data Input'!AC63,'Data Input'!AF63,'Data Input'!AH63,'Data Input'!AJ63,'Data Input'!AK63,'Data Input'!AM63,'Data Input'!AQ63,'Data Input'!AR63,'Data Input'!AZ63))","v":""},{"$f":"IF(O58=\"\",\"\",O58/COUNTIF('Data Input'!$C$8:$BU$8,\"GT\"))","v":""},{"$f":"IF(ISBLANK('Data Input'!A63),\"\",SUM('Data Input'!C63,'Data Input'!J63,'Data Input'!N63,'Data Input'!AS63,'Data Input'!AT63,'Data Input'!AV63))","v":""},{"$f":"IF(Q58=\"\",\"\",Q58/COUNTIF('Data Input'!$C$8:$BU$8,\"V\"))","v":""},{"$f":"IF(ISBLANK('Data Input'!A63),\"\",SUM('Data Input'!AI63,'Data Input'!AN63))","v":""},{"$f":"IF(S58=\"\",\"\",S58/COUNTIF('Data Input'!$C$8:$BU$8,\"F/I\"))","v":""},{"$f":"IF(ISBLANK('Data Input'!C63),\"\",SUM('Data Input'!BB63:BU63))","v":""},{"$f":"IF(U58=\"\",\"\",U58/COUNTIF('Data Input'!$C$8:$BU$8,\"Sp\"))","v":""}]
[{"$f":"IF('Data Input'!A64=0,\"\",'Data Input'!A64)","v":""},{"$f":"IF(ISBLANK('Data Input'!A64),\"\",COUNTIF('Data Input'!C64:BU64,\"\")-1)","v":""},{"$f":"IF(ISBLANK('Data Input'!A64),\"\",COUNTIF('Data Input'!C64:BU64,\"0\"))","v":""},{"$f":"IF(ISBLANK('Data Input'!A64),\"\",SUM(B59,C59))","v":""},{"$f":"IF(ISBLANK('Data Input'!A64),\"\",SUM('Data Input'!C64:BU64))","v":""},{"$f":"IF(E59=\"\",\"\",E59/(COUNTA('Data Input'!$C$8:$BU$8)-1))","v":""},{"$f":"IF(ISBLANK('Data Input'!A64),\"\",SUM('Data Input'!H64,'Data Input'!AA64,'Data Input'!AO64,'Data Input'!AP64))","v":""},{"$f":"IF(G59=\"\",\"\",G59/COUNTIF('Data Input'!$C$8:$BU$8,\"CS\"))","v":""},{"$f":"IF(ISBLANK('Data Input'!A64),\"\",SUM('Data Input'!P64,'Data Input'!T64,'Data Input'!AD64,'Data Input'!AX64,'Data Input'!AY64))","v":""},{"$f":"IF(I59=\"\",\"\",I59/COUNTIF('Data Input'!$C$8:$BU$8,\"SE\"))","v":""},{"$f":"IF(ISBLANK('Data Input'!A64),\"\",SUM('Data Input'!K64,'Data Input'!L64,'Data Input'!M64,'Data Input'!O64,'Data Input'!Q64,'Data Input'!U64,'Data Input'!X64,'Data Input'!Y64,'Data Input'!Z64,'Data Input'!AB64,'Data Input'!AE64,'Data Input'!AG64,'Data Input'!AL64,'Data Input'!AU64,'Data Input'!AW64))","v":""},{"$f":"IF(K59=\"\",\"\",K59/COUNTIF('Data Input'!$C$8:$BU$8,\"P\"))","v":""},{"$f":"IF(ISBLANK('Data Input'!A64),\"\",SUM('Data Input'!I64,'Data Input'!S64))","v":""},{"$f":"IF(M59=\"\",\"\",M59/COUNTIF('Data Input'!$C$8:$BU$8,\"FS\"))","v":""},{"$f":"IF(ISBLANK('Data Input'!A64),\"\",SUM('Data Input'!D64,'Data Input'!E64,'Data Input'!F64,'Data Input'!G64,'Data Input'!R64,'Data Input'!V64,'Data Input'!W64,'Data Input'!AC64,'Data Input'!AF64,'Data Input'!AH64,'Data Input'!AJ64,'Data Input'!AK64,'Data Input'!AM64,'Data Input'!AQ64,'Data Input'!AR64,'Data Input'!AZ64))","v":""},{"$f":"IF(O59=\"\",\"\",O59/COUNTIF('Data Input'!$C$8:$BU$8,\"GT\"))","v":""},{"$f":"IF(ISBLANK('Data Input'!A64),\"\",SUM('Data Input'!C64,'Data Input'!J64,'Data Input'!N64,'Data Input'!AS64,'Data Input'!AT64,'Data Input'!AV64))","v":""},{"$f":"IF(Q59=\"\",\"\",Q59/COUNTIF('Data Input'!$C$8:$BU$8,\"V\"))","v":""},{"$f":"IF(ISBLANK('Data Input'!A64),\"\",SUM('Data Input'!AI64,'Data Input'!AN64))","v":""},{"$f":"IF(S59=\"\",\"\",S59/COUNTIF('Data Input'!$C$8:$BU$8,\"F/I\"))","v":""},{"$f":"IF(ISBLANK('Data Input'!C64),\"\",SUM('Data Input'!BB64:BU64))","v":""},{"$f":"IF(U59=\"\",\"\",U59/COUNTIF('Data Input'!$C$8:$BU$8,\"Sp\"))","v":""}]
[{"$f":"IF('Data Input'!A65=0,\"\",'Data Input'!A65)","v":""},{"$f":"IF(ISBLANK('Data Input'!A65),\"\",COUNTIF('Data Input'!C65:BU65,\"\")-1)","v":""},{"$f":"IF(ISBLANK('Data Input'!A65),\"\",COUNTIF('Data Input'!C65:BU65,\"0\"))","v":""},{"$f":"IF(ISBLANK('Data Input'!A65),\"\",SUM(B60,C60))","v":""},{"$f":"IF(ISBLANK('Data Input'!A65),\"\",SUM('Data Input'!C65:BU65))","v":""},{"$f":"IF(E60=\"\",\"\",E60/(COUNTA('Data Input'!$C$8:$BU$8)-1))","v":""},{"$f":"IF(ISBLANK('Data Input'!A65),\"\",SUM('Data Input'!H65,'Data Input'!AA65,'Data Input'!AO65,'Data Input'!AP65))","v":""},{"$f":"IF(G60=\"\",\"\",G60/COUNTIF('Data Input'!$C$8:$BU$8,\"CS\"))","v":""},{"$f":"IF(ISBLANK('Data Input'!A65),\"\",SUM('Data Input'!P65,'Data Input'!T65,'Data Input'!AD65,'Data Input'!AX65,'Data Input'!AY65))","v":""},{"$f":"IF(I60=\"\",\"\",I60/COUNTIF('Data Input'!$C$8:$BU$8,\"SE\"))","v":""},{"$f":"IF(ISBLANK('Data Input'!A65),\"\",SUM('Data Input'!K65,'Data Input'!L65,'Data Input'!M65,'Data Input'!O65,'Data Input'!Q65,'Data Input'!U65,'Data Input'!X65,'Data Input'!Y65,'Data Input'!Z65,'Data Input'!AB65,'Data Input'!AE65,'Data Input'!AG65,'Data Input'!AL65,'Data Input'!AU65,'Data Input'!AW65))","v":""},{"$f":"IF(K60=\"\",\"\",K60/COUNTIF('Data Input'!$C$8:$BU$8,\"P\"))","v":""},{"$f":"IF(ISBLANK('Data Input'!A65),\"\",SUM('Data Input'!I65,'Data Input'!S65))","v":""},{"$f":"IF(M60=\"\",\"\",M60/COUNTIF('Data Input'!$C$8:$BU$8,\"FS\"))","v":""},{"$f":"IF(ISBLANK('Data Input'!A65),\"\",SUM('Data Input'!D65,'Data Input'!E65,'Data Input'!F65,'Data Input'!G65,'Data Input'!R65,'Data Input'!V65,'Data Input'!W65,'Data Input'!AC65,'Data Input'!AF65,'Data Input'!AH65,'Data Input'!AJ65,'Data Input'!AK65,'Data Input'!AM65,'Data Input'!AQ65,'Data Input'!AR65,'Data Input'!AZ65))","v":""},{"$f":"IF(O60=\"\",\"\",O60/COUNTIF('Data Input'!$C$8:$BU$8,\"GT\"))","v":""},{"$f":"IF(ISBLANK('Data Input'!A65),\"\",SUM('Data Input'!C65,'Data Input'!J65,'Data Input'!N65,'Data Input'!AS65,'Data Input'!AT65,'Data Input'!AV65))","v":""},{"$f":"IF(Q60=\"\",\"\",Q60/COUNTIF('Data Input'!$C$8:$BU$8,\"V\"))","v":""},{"$f":"IF(ISBLANK('Data Input'!A65),\"\",SUM('Data Input'!AI65,'Data Input'!AN65))","v":""},{"$f":"IF(S60=\"\",\"\",S60/COUNTIF('Data Input'!$C$8:$BU$8,\"F/I\"))","v":""},{"$f":"IF(ISBLANK('Data Input'!C65),\"\",SUM('Data Input'!BB65:BU65))","v":""},{"$f":"IF(U60=\"\",\"\",U60/COUNTIF('Data Input'!$C$8:$BU$8,\"Sp\"))","v":""}]
[{"$f":"IF('Data Input'!A66=0,\"\",'Data Input'!A66)","v":""},{"$f":"IF(ISBLANK('Data Input'!A66),\"\",COUNTIF('Data Input'!C66:BU66,\"\")-1)","v":""},{"$f":"IF(ISBLANK('Data Input'!A66),\"\",COUNTIF('Data Input'!C66:BU66,\"0\"))","v":""},{"$f":"IF(ISBLANK('Data Input'!A66),\"\",SUM(B61,C61))","v":""},{"$f":"IF(ISBLANK('Data Input'!A66),\"\",SUM('Data Input'!C66:BU66))","v":""},{"$f":"IF(E61=\"\",\"\",E61/(COUNTA('Data Input'!$C$8:$BU$8)-1))","v":""},{"$f":"IF(ISBLANK('Data Input'!A66),\"\",SUM('Data Input'!H66,'Data Input'!AA66,'Data Input'!AO66,'Data Input'!AP66))","v":""},{"$f":"IF(G61=\"\",\"\",G61/COUNTIF('Data Input'!$C$8:$BU$8,\"CS\"))","v":""},{"$f":"IF(ISBLANK('Data Input'!A66),\"\",SUM('Data Input'!P66,'Data Input'!T66,'Data Input'!AD66,'Data Input'!AX66,'Data Input'!AY66))","v":""},{"$f":"IF(I61=\"\",\"\",I61/COUNTIF('Data Input'!$C$8:$BU$8,\"SE\"))","v":""},{"$f":"IF(ISBLANK('Data Input'!A66),\"\",SUM('Data Input'!K66,'Data Input'!L66,'Data Input'!M66,'Data Input'!O66,'Data Input'!Q66,'Data Input'!U66,'Data Input'!X66,'Data Input'!Y66,'Data Input'!Z66,'Data Input'!AB66,'Data Input'!AE66,'Data Input'!AG66,'Data Input'!AL66,'Data Input'!AU66,'Data Input'!AW66))","v":""},{"$f":"IF(K61=\"\",\"\",K61/COUNTIF('Data Input'!$C$8:$BU$8,\"P\"))","v":""},{"$f":"IF(ISBLANK('Data Input'!A66),\"\",SUM('Data Input'!I66,'Data Input'!S66))","v":""},{"$f":"IF(M61=\"\",\"\",M61/COUNTIF('Data Input'!$C$8:$BU$8,\"FS\"))","v":""},{"$f":"IF(ISBLANK('Data Input'!A66),\"\",SUM('Data Input'!D66,'Data Input'!E66,'Data Input'!F66,'Data Input'!G66,'Data Input'!R66,'Data Input'!V66,'Data Input'!W66,'Data Input'!AC66,'Data Input'!AF66,'Data Input'!AH66,'Data Input'!AJ66,'Data Input'!AK66,'Data Input'!AM66,'Data Input'!AQ66,'Data Input'!AR66,'Data Input'!AZ66))","v":""},{"$f":"IF(O61=\"\",\"\",O61/COUNTIF('Data Input'!$C$8:$BU$8,\"GT\"))","v":""},{"$f":"IF(ISBLANK('Data Input'!A66),\"\",SUM('Data Input'!C66,'Data Input'!J66,'Data Input'!N66,'Data Input'!AS66,'Data Input'!AT66,'Data Input'!AV66))","v":""},{"$f":"IF(Q61=\"\",\"\",Q61/COUNTIF('Data Input'!$C$8:$BU$8,\"V\"))","v":""},{"$f":"IF(ISBLANK('Data Input'!A66),\"\",SUM('Data Input'!AI66,'Data Input'!AN66))","v":""},{"$f":"IF(S61=\"\",\"\",S61/COUNTIF('Data Input'!$C$8:$BU$8,\"F/I\"))","v":""},{"$f":"IF(ISBLANK('Data Input'!C66),\"\",SUM('Data Input'!BB66:BU66))","v":""},{"$f":"IF(U61=\"\",\"\",U61/COUNTIF('Data Input'!$C$8:$BU$8,\"Sp\"))","v":""}]
[{"$f":"IF('Data Input'!A67=0,\"\",'Data Input'!A67)","v":""},{"$f":"IF(ISBLANK('Data Input'!A67),\"\",COUNTIF('Data Input'!C67:BU67,\"\")-1)","v":""},{"$f":"IF(ISBLANK('Data Input'!A67),\"\",COUNTIF('Data Input'!C67:BU67,\"0\"))","v":""},{"$f":"IF(ISBLANK('Data Input'!A67),\"\",SUM(B62,C62))","v":""},{"$f":"IF(ISBLANK('Data Input'!A67),\"\",SUM('Data Input'!C67:BU67))","v":""},{"$f":"IF(E62=\"\",\"\",E62/(COUNTA('Data Input'!$C$8:$BU$8)-1))","v":""},{"$f":"IF(ISBLANK('Data Input'!A67),\"\",SUM('Data Input'!H67,'Data Input'!AA67,'Data Input'!AO67,'Data Input'!AP67))","v":""},{"$f":"IF(G62=\"\",\"\",G62/COUNTIF('Data Input'!$C$8:$BU$8,\"CS\"))","v":""},{"$f":"IF(ISBLANK('Data Input'!A67),\"\",SUM('Data Input'!P67,'Data Input'!T67,'Data Input'!AD67,'Data Input'!AX67,'Data Input'!AY67))","v":""},{"$f":"IF(I62=\"\",\"\",I62/COUNTIF('Data Input'!$C$8:$BU$8,\"SE\"))","v":""},{"$f":"IF(ISBLANK('Data Input'!A67),\"\",SUM('Data Input'!K67,'Data Input'!L67,'Data Input'!M67,'Data Input'!O67,'Data Input'!Q67,'Data Input'!U67,'Data Input'!X67,'Data Input'!Y67,'Data Input'!Z67,'Data Input'!AB67,'Data Input'!AE67,'Data Input'!AG67,'Data Input'!AL67,'Data Input'!AU67,'Data Input'!AW67))","v":""},{"$f":"IF(K62=\"\",\"\",K62/COUNTIF('Data Input'!$C$8:$BU$8,\"P\"))","v":""},{"$f":"IF(ISBLANK('Data Input'!A67),\"\",SUM('Data Input'!I67,'Data Input'!S67))","v":""},{"$f":"IF(M62=\"\",\"\",M62/COUNTIF('Data Input'!$C$8:$BU$8,\"FS\"))","v":""},{"$f":"IF(ISBLANK('Data Input'!A67),\"\",SUM('Data Input'!D67,'Data Input'!E67,'Data Input'!F67,'Data Input'!G67,'Data Input'!R67,'Data Input'!V67,'Data Input'!W67,'Data Input'!AC67,'Data Input'!AF67,'Data Input'!AH67,'Data Input'!AJ67,'Data Input'!AK67,'Data Input'!AM67,'Data Input'!AQ67,'Data Input'!AR67,'Data Input'!AZ67))","v":""},{"$f":"IF(O62=\"\",\"\",O62/COUNTIF('Data Input'!$C$8:$BU$8,\"GT\"))","v":""},{"$f":"IF(ISBLANK('Data Input'!A67),\"\",SUM('Data Input'!C67,'Data Input'!J67,'Data Input'!N67,'Data Input'!AS67,'Data Input'!AT67,'Data Input'!AV67))","v":""},{"$f":"IF(Q62=\"\",\"\",Q62/COUNTIF('Data Input'!$C$8:$BU$8,\"V\"))","v":""},{"$f":"IF(ISBLANK('Data Input'!A67),\"\",SUM('Data Input'!AI67,'Data Input'!AN67))","v":""},{"$f":"IF(S62=\"\",\"\",S62/COUNTIF('Data Input'!$C$8:$BU$8,\"F/I\"))","v":""},{"$f":"IF(ISBLANK('Data Input'!C67),\"\",SUM('Data Input'!BB67:BU67))","v":""},{"$f":"IF(U62=\"\",\"\",U62/COUNTIF('Data Input'!$C$8:$BU$8,\"Sp\"))","v":""}]
[{"$f":"IF('Data Input'!A68=0,\"\",'Data Input'!A68)","v":""},{"$f":"IF(ISBLANK('Data Input'!A68),\"\",COUNTIF('Data Input'!C68:BU68,\"\")-1)","v":""},{"$f":"IF(ISBLANK('Data Input'!A68),\"\",COUNTIF('Data Input'!C68:BU68,\"0\"))","v":""},{"$f":"IF(ISBLANK('Data Input'!A68),\"\",SUM(B63,C63))","v":""},{"$f":"IF(ISBLANK('Data Input'!A68),\"\",SUM('Data Input'!C68:BU68))","v":""},{"$f":"IF(E63=\"\",\"\",E63/(COUNTA('Data Input'!$C$8:$BU$8)-1))","v":""},{"$f":"IF(ISBLANK('Data Input'!A68),\"\",SUM('Data Input'!H68,'Data Input'!AA68,'Data Input'!AO68,'Data Input'!AP68))","v":""},{"$f":"IF(G63=\"\",\"\",G63/COUNTIF('Data Input'!$C$8:$BU$8,\"CS\"))","v":""},{"$f":"IF(ISBLANK('Data Input'!A68),\"\",SUM('Data Input'!P68,'Data Input'!T68,'Data Input'!AD68,'Data Input'!AX68,'Data Input'!AY68))","v":""},{"$f":"IF(I63=\"\",\"\",I63/COUNTIF('Data Input'!$C$8:$BU$8,\"SE\"))","v":""},{"$f":"IF(ISBLANK('Data Input'!A68),\"\",SUM('Data Input'!K68,'Data Input'!L68,'Data Input'!M68,'Data Input'!O68,'Data Input'!Q68,'Data Input'!U68,'Data Input'!X68,'Data Input'!Y68,'Data Input'!Z68,'Data Input'!AB68,'Data Input'!AE68,'Data Input'!AG68,'Data Input'!AL68,'Data Input'!AU68,'Data Input'!AW68))","v":""},{"$f":"IF(K63=\"\",\"\",K63/COUNTIF('Data Input'!$C$8:$BU$8,\"P\"))","v":""},{"$f":"IF(ISBLANK('Data Input'!A68),\"\",SUM('Data Input'!I68,'Data Input'!S68))","v":""},{"$f":"IF(M63=\"\",\"\",M63/COUNTIF('Data Input'!$C$8:$BU$8,\"FS\"))","v":""},{"$f":"IF(ISBLANK('Data Input'!A68),\"\",SUM('Data Input'!D68,'Data Input'!E68,'Data Input'!F68,'Data Input'!G68,'Data Input'!R68,'Data Input'!V68,'Data Input'!W68,'Data Input'!AC68,'Data Input'!AF68,'Data Input'!AH68,'Data Input'!AJ68,'Data Input'!AK68,'Data Input'!AM68,'Data Input'!AQ68,'Data Input'!AR68,'Data Input'!AZ68))","v":""},{"$f":"IF(O63=\"\",\"\",O63/COUNTIF('Data Input'!$C$8:$BU$8,\"GT\"))","v":""},{"$f":"IF(ISBLANK('Data Input'!A68),\"\",SUM('Data Input'!C68,'Data Input'!J68,'Data Input'!N68,'Data Input'!AS68,'Data Input'!AT68,'Data Input'!AV68))","v":""},{"$f":"IF(Q63=\"\",\"\",Q63/COUNTIF('Data Input'!$C$8:$BU$8,\"V\"))","v":""},{"$f":"IF(ISBLANK('Data Input'!A68),\"\",SUM('Data Input'!AI68,'Data Input'!AN68))","v":""},{"$f":"IF(S63=\"\",\"\",S63/COUNTIF('Data Input'!$C$8:$BU$8,\"F/I\"))","v":""},{"$f":"IF(ISBLANK('Data Input'!C68),\"\",SUM('Data Input'!BB68:BU68))","v":""},{"$f":"IF(U63=\"\",\"\",U63/COUNTIF('Data Input'!$C$8:$BU$8,\"Sp\"))","v":""}]
[{"$f":"IF('Data Input'!A69=0,\"\",'Data Input'!A69)","v":""},{"$f":"IF(ISBLANK('Data Input'!A69),\"\",COUNTIF('Data Input'!C69:BU69,\"\")-1)","v":""},{"$f":"IF(ISBLANK('Data Input'!A69),\"\",COUNTIF('Data Input'!C69:BU69,\"0\"))","v":""},{"$f":"IF(ISBLANK('Data Input'!A69),\"\",SUM(B64,C64))","v":""},{"$f":"IF(ISBLANK('Data Input'!A69),\"\",SUM('Data Input'!C69:BU69))","v":""},{"$f":"IF(E64=\"\",\"\",E64/(COUNTA('Data Input'!$C$8:$BU$8)-1))","v":""},{"$f":"IF(ISBLANK('Data Input'!A69),\"\",SUM('Data Input'!H69,'Data Input'!AA69,'Data Input'!AO69,'Data Input'!AP69))","v":""},{"$f":"IF(G64=\"\",\"\",G64/COUNTIF('Data Input'!$C$8:$BU$8,\"CS\"))","v":""},{"$f":"IF(ISBLANK('Data Input'!A69),\"\",SUM('Data Input'!P69,'Data Input'!T69,'Data Input'!AD69,'Data Input'!AX69,'Data Input'!AY69))","v":""},{"$f":"IF(I64=\"\",\"\",I64/COUNTIF('Data Input'!$C$8:$BU$8,\"SE\"))","v":""},{"$f":"IF(ISBLANK('Data Input'!A69),\"\",SUM('Data Input'!K69,'Data Input'!L69,'Data Input'!M69,'Data Input'!O69,'Data Input'!Q69,'Data Input'!U69,'Data Input'!X69,'Data Input'!Y69,'Data Input'!Z69,'Data Input'!AB69,'Data Input'!AE69,'Data Input'!AG69,'Data Input'!AL69,'Data Input'!AU69,'Data Input'!AW69))","v":""},{"$f":"IF(K64=\"\",\"\",K64/COUNTIF('Data Input'!$C$8:$BU$8,\"P\"))","v":""},{"$f":"IF(ISBLANK('Data Input'!A69),\"\",SUM('Data Input'!I69,'Data Input'!S69))","v":""},{"$f":"IF(M64=\"\",\"\",M64/COUNTIF('Data Input'!$C$8:$BU$8,\"FS\"))","v":""},{"$f":"IF(ISBLANK('Data Input'!A69),\"\",SUM('Data Input'!D69,'Data Input'!E69,'Data Input'!F69,'Data Input'!G69,'Data Input'!R69,'Data Input'!V69,'Data Input'!W69,'Data Input'!AC69,'Data Input'!AF69,'Data Input'!AH69,'Data Input'!AJ69,'Data Input'!AK69,'Data Input'!AM69,'Data Input'!AQ69,'Data Input'!AR69,'Data Input'!AZ69))","v":""},{"$f":"IF(O64=\"\",\"\",O64/COUNTIF('Data Input'!$C$8:$BU$8,\"GT\"))","v":""},{"$f":"IF(ISBLANK('Data Input'!A69),\"\",SUM('Data Input'!C69,'Data Input'!J69,'Data Input'!N69,'Data Input'!AS69,'Data Input'!AT69,'Data Input'!AV69))","v":""},{"$f":"IF(Q64=\"\",\"\",Q64/COUNTIF('Data Input'!$C$8:$BU$8,\"V\"))","v":""},{"$f":"IF(ISBLANK('Data Input'!A69),\"\",SUM('Data Input'!AI69,'Data Input'!AN69))","v":""},{"$f":"IF(S64=\"\",\"\",S64/COUNTIF('Data Input'!$C$8:$BU$8,\"F/I\"))","v":""},{"$f":"IF(ISBLANK('Data Input'!C69),\"\",SUM('Data Input'!BB69:BU69))","v":""},{"$f":"IF(U64=\"\",\"\",U64/COUNTIF('Data Input'!$C$8:$BU$8,\"Sp\"))","v":""}]
[{"$f":"IF('Data Input'!A70=0,\"\",'Data Input'!A70)","v":""},{"$f":"IF(ISBLANK('Data Input'!A70),\"\",COUNTIF('Data Input'!C70:BU70,\"\")-1)","v":""},{"$f":"IF(ISBLANK('Data Input'!A70),\"\",COUNTIF('Data Input'!C70:BU70,\"0\"))","v":""},{"$f":"IF(ISBLANK('Data Input'!A70),\"\",SUM(B65,C65))","v":""},{"$f":"IF(ISBLANK('Data Input'!A70),\"\",SUM('Data Input'!C70:BU70))","v":""},{"$f":"IF(E65=\"\",\"\",E65/(COUNTA('Data Input'!$C$8:$BU$8)-1))","v":""},{"$f":"IF(ISBLANK('Data Input'!A70),\"\",SUM('Data Input'!H70,'Data Input'!AA70,'Data Input'!AO70,'Data Input'!AP70))","v":""},{"$f":"IF(G65=\"\",\"\",G65/COUNTIF('Data Input'!$C$8:$BU$8,\"CS\"))","v":""},{"$f":"IF(ISBLANK('Data Input'!A70),\"\",SUM('Data Input'!P70,'Data Input'!T70,'Data Input'!AD70,'Data Input'!AX70,'Data Input'!AY70))","v":""},{"$f":"IF(I65=\"\",\"\",I65/COUNTIF('Data Input'!$C$8:$BU$8,\"SE\"))","v":""},{"$f":"IF(ISBLANK('Data Input'!A70),\"\",SUM('Data Input'!K70,'Data Input'!L70,'Data Input'!M70,'Data Input'!O70,'Data Input'!Q70,'Data Input'!U70,'Data Input'!X70,'Data Input'!Y70,'Data Input'!Z70,'Data Input'!AB70,'Data Input'!AE70,'Data Input'!AG70,'Data Input'!AL70,'Data Input'!AU70,'Data Input'!AW70))","v":""},{"$f":"IF(K65=\"\",\"\",K65/COUNTIF('Data Input'!$C$8:$BU$8,\"P\"))","v":""},{"$f":"IF(ISBLANK('Data Input'!A70),\"\",SUM('Data Input'!I70,'Data Input'!S70))","v":""},{"$f":"IF(M65=\"\",\"\",M65/COUNTIF('Data Input'!$C$8:$BU$8,\"FS\"))","v":""},{"$f":"IF(ISBLANK('Data Input'!A70),\"\",SUM('Data Input'!D70,'Data Input'!E70,'Data Input'!F70,'Data Input'!G70,'Data Input'!R70,'Data Input'!V70,'Data Input'!W70,'Data Input'!AC70,'Data Input'!AF70,'Data Input'!AH70,'Data Input'!AJ70,'Data Input'!AK70,'Data Input'!AM70,'Data Input'!AQ70,'Data Input'!AR70,'Data Input'!AZ70))","v":""},{"$f":"IF(O65=\"\",\"\",O65/COUNTIF('Data Input'!$C$8:$BU$8,\"GT\"))","v":""},{"$f":"IF(ISBLANK('Data Input'!A70),\"\",SUM('Data Input'!C70,'Data Input'!J70,'Data Input'!N70,'Data Input'!AS70,'Data Input'!AT70,'Data Input'!AV70))","v":""},{"$f":"IF(Q65=\"\",\"\",Q65/COUNTIF('Data Input'!$C$8:$BU$8,\"V\"))","v":""},{"$f":"IF(ISBLANK('Data Input'!A70),\"\",SUM('Data Input'!AI70,'Data Input'!AN70))","v":""},{"$f":"IF(S65=\"\",\"\",S65/COUNTIF('Data Input'!$C$8:$BU$8,\"F/I\"))","v":""},{"$f":"IF(ISBLANK('Data Input'!C70),\"\",SUM('Data Input'!BB70:BU70))","v":""},{"$f":"IF(U65=\"\",\"\",U65/COUNTIF('Data Input'!$C$8:$BU$8,\"Sp\"))","v":""}]
[{"$f":"IF('Data Input'!A71=0,\"\",'Data Input'!A71)","v":""},{"$f":"IF(ISBLANK('Data Input'!A71),\"\",COUNTIF('Data Input'!C71:BU71,\"\")-1)","v":""},{"$f":"IF(ISBLANK('Data Input'!A71),\"\",COUNTIF('Data Input'!C71:BU71,\"0\"))","v":""},{"$f":"IF(ISBLANK('Data Input'!A71),\"\",SUM(B66,C66))","v":""},{"$f":"IF(ISBLANK('Data Input'!A71),\"\",SUM('Data Input'!C71:BU71))","v":""},{"$f":"IF(E66=\"\",\"\",E66/(COUNTA('Data Input'!$C$8:$BU$8)-1))","v":""},{"$f":"IF(ISBLANK('Data Input'!A71),\"\",SUM('Data Input'!H71,'Data Input'!AA71,'Data Input'!AO71,'Data Input'!AP71))","v":""},{"$f":"IF(G66=\"\",\"\",G66/COUNTIF('Data Input'!$C$8:$BU$8,\"CS\"))","v":""},{"$f":"IF(ISBLANK('Data Input'!A71),\"\",SUM('Data Input'!P71,'Data Input'!T71,'Data Input'!AD71,'Data Input'!AX71,'Data Input'!AY71))","v":""},{"$f":"IF(I66=\"\",\"\",I66/COUNTIF('Data Input'!$C$8:$BU$8,\"SE\"))","v":""},{"$f":"IF(ISBLANK('Data Input'!A71),\"\",SUM('Data Input'!K71,'Data Input'!L71,'Data Input'!M71,'Data Input'!O71,'Data Input'!Q71,'Data Input'!U71,'Data Input'!X71,'Data Input'!Y71,'Data Input'!Z71,'Data Input'!AB71,'Data Input'!AE71,'Data Input'!AG71,'Data Input'!AL71,'Data Input'!AU71,'Data Input'!AW71))","v":""},{"$f":"IF(K66=\"\",\"\",K66/COUNTIF('Data Input'!$C$8:$BU$8,\"P\"))","v":""},{"$f":"IF(ISBLANK('Data Input'!A71),\"\",SUM('Data Input'!I71,'Data Input'!S71))","v":""},{"$f":"IF(M66=\"\",\"\",M66/COUNTIF('Data Input'!$C$8:$BU$8,\"FS\"))","v":""},{"$f":"IF(ISBLANK('Data Input'!A71),\"\",SUM('Data Input'!D71,'Data Input'!E71,'Data Input'!F71,'Data Input'!G71,'Data Input'!R71,'Data Input'!V71,'Data Input'!W71,'Data Input'!AC71,'Data Input'!AF71,'Data Input'!AH71,'Data Input'!AJ71,'Data Input'!AK71,'Data Input'!AM71,'Data Input'!AQ71,'Data Input'!AR71,'Data Input'!AZ71))","v":""},{"$f":"IF(O66=\"\",\"\",O66/COUNTIF('Data Input'!$C$8:$BU$8,\"GT\"))","v":""},{"$f":"IF(ISBLANK('Data Input'!A71),\"\",SUM('Data Input'!C71,'Data Input'!J71,'Data Input'!N71,'Data Input'!AS71,'Data Input'!AT71,'Data Input'!AV71))","v":""},{"$f":"IF(Q66=\"\",\"\",Q66/COUNTIF('Data Input'!$C$8:$BU$8,\"V\"))","v":""},{"$f":"IF(ISBLANK('Data Input'!A71),\"\",SUM('Data Input'!AI71,'Data Input'!AN71))","v":""},{"$f":"IF(S66=\"\",\"\",S66/COUNTIF('Data Input'!$C$8:$BU$8,\"F/I\"))","v":""},{"$f":"IF(ISBLANK('Data Input'!C71),\"\",SUM('Data Input'!BB71:BU71))","v":""},{"$f":"IF(U66=\"\",\"\",U66/COUNTIF('Data Input'!$C$8:$BU$8,\"Sp\"))","v":""}]
[{"$f":"IF('Data Input'!A72=0,\"\",'Data Input'!A72)","v":""},{"$f":"IF(ISBLANK('Data Input'!A72),\"\",COUNTIF('Data Input'!C72:BU72,\"\")-1)","v":""},{"$f":"IF(ISBLANK('Data Input'!A72),\"\",COUNTIF('Data Input'!C72:BU72,\"0\"))","v":""},{"$f":"IF(ISBLANK('Data Input'!A72),\"\",SUM(B67,C67))","v":""},{"$f":"IF(ISBLANK('Data Input'!A72),\"\",SUM('Data Input'!C72:BU72))","v":""},{"$f":"IF(E67=\"\",\"\",E67/(COUNTA('Data Input'!$C$8:$BU$8)-1))","v":""},{"$f":"IF(ISBLANK('Data Input'!A72),\"\",SUM('Data Input'!H72,'Data Input'!AA72,'Data Input'!AO72,'Data Input'!AP72))","v":""},{"$f":"IF(G67=\"\",\"\",G67/COUNTIF('Data Input'!$C$8:$BU$8,\"CS\"))","v":""},{"$f":"IF(ISBLANK('Data Input'!A72),\"\",SUM('Data Input'!P72,'Data Input'!T72,'Data Input'!AD72,'Data Input'!AX72,'Data Input'!AY72))","v":""},{"$f":"IF(I67=\"\",\"\",I67/COUNTIF('Data Input'!$C$8:$BU$8,\"SE\"))","v":""},{"$f":"IF(ISBLANK('Data Input'!A72),\"\",SUM('Data Input'!K72,'Data Input'!L72,'Data Input'!M72,'Data Input'!O72,'Data Input'!Q72,'Data Input'!U72,'Data Input'!X72,'Data Input'!Y72,'Data Input'!Z72,'Data Input'!AB72,'Data Input'!AE72,'Data Input'!AG72,'Data Input'!AL72,'Data Input'!AU72,'Data Input'!AW72))","v":""},{"$f":"IF(K67=\"\",\"\",K67/COUNTIF('Data Input'!$C$8:$BU$8,\"P\"))","v":""},{"$f":"IF(ISBLANK('Data Input'!A72),\"\",SUM('Data Input'!I72,'Data Input'!S72))","v":""},{"$f":"IF(M67=\"\",\"\",M67/COUNTIF('Data Input'!$C$8:$BU$8,\"FS\"))","v":""},{"$f":"IF(ISBLANK('Data Input'!A72),\"\",SUM('Data Input'!D72,'Data Input'!E72,'Data Input'!F72,'Data Input'!G72,'Data Input'!R72,'Data Input'!V72,'Data Input'!W72,'Data Input'!AC72,'Data Input'!AF72,'Data Input'!AH72,'Data Input'!AJ72,'Data Input'!AK72,'Data Input'!AM72,'Data Input'!AQ72,'Data Input'!AR72,'Data Input'!AZ72))","v":""},{"$f":"IF(O67=\"\",\"\",O67/COUNTIF('Data Input'!$C$8:$BU$8,\"GT\"))","v":""},{"$f":"IF(ISBLANK('Data Input'!A72),\"\",SUM('Data Input'!C72,'Data Input'!J72,'Data Input'!N72,'Data Input'!AS72,'Data Input'!AT72,'Data Input'!AV72))","v":""},{"$f":"IF(Q67=\"\",\"\",Q67/COUNTIF('Data Input'!$C$8:$BU$8,\"V\"))","v":""},{"$f":"IF(ISBLANK('Data Input'!A72),\"\",SUM('Data Input'!AI72,'Data Input'!AN72))","v":""},{"$f":"IF(S67=\"\",\"\",S67/COUNTIF('Data Input'!$C$8:$BU$8,\"F/I\"))","v":""},{"$f":"IF(ISBLANK('Data Input'!C72),\"\",SUM('Data Input'!BB72:BU72))","v":""},{"$f":"IF(U67=\"\",\"\",U67/COUNTIF('Data Input'!$C$8:$BU$8,\"Sp\"))","v":""}]
[{"$f":"IF('Data Input'!A73=0,\"\",'Data Input'!A73)","v":""},{"$f":"IF(ISBLANK('Data Input'!A73),\"\",COUNTIF('Data Input'!C73:BU73,\"\")-1)","v":""},{"$f":"IF(ISBLANK('Data Input'!A73),\"\",COUNTIF('Data Input'!C73:BU73,\"0\"))","v":""},{"$f":"IF(ISBLANK('Data Input'!A73),\"\",SUM(B68,C68))","v":""},{"$f":"IF(ISBLANK('Data Input'!A73),\"\",SUM('Data Input'!C73:BU73))","v":""},{"$f":"IF(E68=\"\",\"\",E68/(COUNTA('Data Input'!$C$8:$BU$8)-1))","v":""},{"$f":"IF(ISBLANK('Data Input'!A73),\"\",SUM('Data Input'!H73,'Data Input'!AA73,'Data Input'!AO73,'Data Input'!AP73))","v":""},{"$f":"IF(G68=\"\",\"\",G68/COUNTIF('Data Input'!$C$8:$BU$8,\"CS\"))","v":""},{"$f":"IF(ISBLANK('Data Input'!A73),\"\",SUM('Data Input'!P73,'Data Input'!T73,'Data Input'!AD73,'Data Input'!AX73,'Data Input'!AY73))","v":""},{"$f":"IF(I68=\"\",\"\",I68/COUNTIF('Data Input'!$C$8:$BU$8,\"SE\"))","v":""},{"$f":"IF(ISBLANK('Data Input'!A73),\"\",SUM('Data Input'!K73,'Data Input'!L73,'Data Input'!M73,'Data Input'!O73,'Data Input'!Q73,'Data Input'!U73,'Data Input'!X73,'Data Input'!Y73,'Data Input'!Z73,'Data Input'!AB73,'Data Input'!AE73,'Data Input'!AG73,'Data Input'!AL73,'Data Input'!AU73,'Data Input'!AW73))","v":""},{"$f":"IF(K68=\"\",\"\",K68/COUNTIF('Data Input'!$C$8:$BU$8,\"P\"))","v":""},{"$f":"IF(ISBLANK('Data Input'!A73),\"\",SUM('Data Input'!I73,'Data Input'!S73))","v":""},{"$f":"IF(M68=\"\",\"\",M68/COUNTIF('Data Input'!$C$8:$BU$8,\"FS\"))","v":""},{"$f":"IF(ISBLANK('Data Input'!A73),\"\",SUM('Data Input'!D73,'Data Input'!E73,'Data Input'!F73,'Data Input'!G73,'Data Input'!R73,'Data Input'!V73,'Data Input'!W73,'Data Input'!AC73,'Data Input'!AF73,'Data Input'!AH73,'Data Input'!AJ73,'Data Input'!AK73,'Data Input'!AM73,'Data Input'!AQ73,'Data Input'!AR73,'Data Input'!AZ73))","v":""},{"$f":"IF(O68=\"\",\"\",O68/COUNTIF('Data Input'!$C$8:$BU$8,\"GT\"))","v":""},{"$f":"IF(ISBLANK('Data Input'!A73),\"\",SUM('Data Input'!C73,'Data Input'!J73,'Data Input'!N73,'Data Input'!AS73,'Data Input'!AT73,'Data Input'!AV73))","v":""},{"$f":"IF(Q68=\"\",\"\",Q68/COUNTIF('Data Input'!$C$8:$BU$8,\"V\"))","v":""},{"$f":"IF(ISBLANK('Data Input'!A73),\"\",SUM('Data Input'!AI73,'Data Input'!AN73))","v":""},{"$f":"IF(S68=\"\",\"\",S68/COUNTIF('Data Input'!$C$8:$BU$8,\"F/I\"))","v":""},{"$f":"IF(ISBLANK('Data Input'!C73),\"\",SUM('Data Input'!BB73:BU73))","v":""},{"$f":"IF(U68=\"\",\"\",U68/COUNTIF('Data Input'!$C$8:$BU$8,\"Sp\"))","v":""}]
[{"$f":"IF('Data Input'!A74=0,\"\",'Data Input'!A74)","v":""},{"$f":"IF(ISBLANK('Data Input'!A74),\"\",COUNTIF('Data Input'!C74:BU74,\"\")-1)","v":""},{"$f":"IF(ISBLANK('Data Input'!A74),\"\",COUNTIF('Data Input'!C74:BU74,\"0\"))","v":""},{"$f":"IF(ISBLANK('Data Input'!A74),\"\",SUM(B69,C69))","v":""},{"$f":"IF(ISBLANK('Data Input'!A74),\"\",SUM('Data Input'!C74:BU74))","v":""},{"$f":"IF(E69=\"\",\"\",E69/(COUNTA('Data Input'!$C$8:$BU$8)-1))","v":""},{"$f":"IF(ISBLANK('Data Input'!A74),\"\",SUM('Data Input'!H74,'Data Input'!AA74,'Data Input'!AO74,'Data Input'!AP74))","v":""},{"$f":"IF(G69=\"\",\"\",G69/COUNTIF('Data Input'!$C$8:$BU$8,\"CS\"))","v":""},{"$f":"IF(ISBLANK('Data Input'!A74),\"\",SUM('Data Input'!P74,'Data Input'!T74,'Data Input'!AD74,'Data Input'!AX74,'Data Input'!AY74))","v":""},{"$f":"IF(I69=\"\",\"\",I69/COUNTIF('Data Input'!$C$8:$BU$8,\"SE\"))","v":""},{"$f":"IF(ISBLANK('Data Input'!A74),\"\",SUM('Data Input'!K74,'Data Input'!L74,'Data Input'!M74,'Data Input'!O74,'Data Input'!Q74,'Data Input'!U74,'Data Input'!X74,'Data Input'!Y74,'Data Input'!Z74,'Data Input'!AB74,'Data Input'!AE74,'Data Input'!AG74,'Data Input'!AL74,'Data Input'!AU74,'Data Input'!AW74))","v":""},{"$f":"IF(K69=\"\",\"\",K69/COUNTIF('Data Input'!$C$8:$BU$8,\"P\"))","v":""},{"$f":"IF(ISBLANK('Data Input'!A74),\"\",SUM('Data Input'!I74,'Data Input'!S74))","v":""},{"$f":"IF(M69=\"\",\"\",M69/COUNTIF('Data Input'!$C$8:$BU$8,\"FS\"))","v":""},{"$f":"IF(ISBLANK('Data Input'!A74),\"\",SUM('Data Input'!D74,'Data Input'!E74,'Data Input'!F74,'Data Input'!G74,'Data Input'!R74,'Data Input'!V74,'Data Input'!W74,'Data Input'!AC74,'Data Input'!AF74,'Data Input'!AH74,'Data Input'!AJ74,'Data Input'!AK74,'Data Input'!AM74,'Data Input'!AQ74,'Data Input'!AR74,'Data Input'!AZ74))","v":""},{"$f":"IF(O69=\"\",\"\",O69/COUNTIF('Data Input'!$C$8:$BU$8,\"GT\"))","v":""},{"$f":"IF(ISBLANK('Data Input'!A74),\"\",SUM('Data Input'!C74,'Data Input'!J74,'Data Input'!N74,'Data Input'!AS74,'Data Input'!AT74,'Data Input'!AV74))","v":""},{"$f":"IF(Q69=\"\",\"\",Q69/COUNTIF('Data Input'!$C$8:$BU$8,\"V\"))","v":""},{"$f":"IF(ISBLANK('Data Input'!A74),\"\",SUM('Data Input'!AI74,'Data Input'!AN74))","v":""},{"$f":"IF(S69=\"\",\"\",S69/COUNTIF('Data Input'!$C$8:$BU$8,\"F/I\"))","v":""},{"$f":"IF(ISBLANK('Data Input'!C74),\"\",SUM('Data Input'!BB74:BU74))","v":""},{"$f":"IF(U69=\"\",\"\",U69/COUNTIF('Data Input'!$C$8:$BU$8,\"Sp\"))","v":""}]
[{"$f":"IF('Data Input'!A75=0,\"\",'Data Input'!A75)","v":""},{"$f":"IF(ISBLANK('Data Input'!A75),\"\",COUNTIF('Data Input'!C75:BU75,\"\")-1)","v":""},{"$f":"IF(ISBLANK('Data Input'!A75),\"\",COUNTIF('Data Input'!C75:BU75,\"0\"))","v":""},{"$f":"IF(ISBLANK('Data Input'!A75),\"\",SUM(B70,C70))","v":""},{"$f":"IF(ISBLANK('Data Input'!A75),\"\",SUM('Data Input'!C75:BU75))","v":""},{"$f":"IF(E70=\"\",\"\",E70/(COUNTA('Data Input'!$C$8:$BU$8)-1))","v":""},{"$f":"IF(ISBLANK('Data Input'!A75),\"\",SUM('Data Input'!H75,'Data Input'!AA75,'Data Input'!AO75,'Data Input'!AP75))","v":""},{"$f":"IF(G70=\"\",\"\",G70/COUNTIF('Data Input'!$C$8:$BU$8,\"CS\"))","v":""},{"$f":"IF(ISBLANK('Data Input'!A75),\"\",SUM('Data Input'!P75,'Data Input'!T75,'Data Input'!AD75,'Data Input'!AX75,'Data Input'!AY75))","v":""},{"$f":"IF(I70=\"\",\"\",I70/COUNTIF('Data Input'!$C$8:$BU$8,\"SE\"))","v":""},{"$f":"IF(ISBLANK('Data Input'!A75),\"\",SUM('Data Input'!K75,'Data Input'!L75,'Data Input'!M75,'Data Input'!O75,'Data Input'!Q75,'Data Input'!U75,'Data Input'!X75,'Data Input'!Y75,'Data Input'!Z75,'Data Input'!AB75,'Data Input'!AE75,'Data Input'!AG75,'Data Input'!AL75,'Data Input'!AU75,'Data Input'!AW75))","v":""},{"$f":"IF(K70=\"\",\"\",K70/COUNTIF('Data Input'!$C$8:$BU$8,\"P\"))","v":""},{"$f":"IF(ISBLANK('Data Input'!A75),\"\",SUM('Data Input'!I75,'Data Input'!S75))","v":""},{"$f":"IF(M70=\"\",\"\",M70/COUNTIF('Data Input'!$C$8:$BU$8,\"FS\"))","v":""},{"$f":"IF(ISBLANK('Data Input'!A75),\"\",SUM('Data Input'!D75,'Data Input'!E75,'Data Input'!F75,'Data Input'!G75,'Data Input'!R75,'Data Input'!V75,'Data Input'!W75,'Data Input'!AC75,'Data Input'!AF75,'Data Input'!AH75,'Data Input'!AJ75,'Data Input'!AK75,'Data Input'!AM75,'Data Input'!AQ75,'Data Input'!AR75,'Data Input'!AZ75))","v":""},{"$f":"IF(O70=\"\",\"\",O70/COUNTIF('Data Input'!$C$8:$BU$8,\"GT\"))","v":""},{"$f":"IF(ISBLANK('Data Input'!A75),\"\",SUM('Data Input'!C75,'Data Input'!J75,'Data Input'!N75,'Data Input'!AS75,'Data Input'!AT75,'Data Input'!AV75))","v":""},{"$f":"IF(Q70=\"\",\"\",Q70/COUNTIF('Data Input'!$C$8:$BU$8,\"V\"))","v":""},{"$f":"IF(ISBLANK('Data Input'!A75),\"\",SUM('Data Input'!AI75,'Data Input'!AN75))","v":""},{"$f":"IF(S70=\"\",\"\",S70/COUNTIF('Data Input'!$C$8:$BU$8,\"F/I\"))","v":""},{"$f":"IF(ISBLANK('Data Input'!C75),\"\",SUM('Data Input'!BB75:BU75))","v":""},{"$f":"IF(U70=\"\",\"\",U70/COUNTIF('Data Input'!$C$8:$BU$8,\"Sp\"))","v":""}]
[{"$f":"IF('Data Input'!A76=0,\"\",'Data Input'!A76)","v":""},{"$f":"IF(ISBLANK('Data Input'!A76),\"\",COUNTIF('Data Input'!C76:BU76,\"\")-1)","v":""},{"$f":"IF(ISBLANK('Data Input'!A76),\"\",COUNTIF('Data Input'!C76:BU76,\"0\"))","v":""},{"$f":"IF(ISBLANK('Data Input'!A76),\"\",SUM(B71,C71))","v":""},{"$f":"IF(ISBLANK('Data Input'!A76),\"\",SUM('Data Input'!C76:BU76))","v":""},{"$f":"IF(E71=\"\",\"\",E71/(COUNTA('Data Input'!$C$8:$BU$8)-1))","v":""},{"$f":"IF(ISBLANK('Data Input'!A76),\"\",SUM('Data Input'!H76,'Data Input'!AA76,'Data Input'!AO76,'Data Input'!AP76))","v":""},{"$f":"IF(G71=\"\",\"\",G71/COUNTIF('Data Input'!$C$8:$BU$8,\"CS\"))","v":""},{"$f":"IF(ISBLANK('Data Input'!A76),\"\",SUM('Data Input'!P76,'Data Input'!T76,'Data Input'!AD76,'Data Input'!AX76,'Data Input'!AY76))","v":""},{"$f":"IF(I71=\"\",\"\",I71/COUNTIF('Data Input'!$C$8:$BU$8,\"SE\"))","v":""},{"$f":"IF(ISBLANK('Data Input'!A76),\"\",SUM('Data Input'!K76,'Data Input'!L76,'Data Input'!M76,'Data Input'!O76,'Data Input'!Q76,'Data Input'!U76,'Data Input'!X76,'Data Input'!Y76,'Data Input'!Z76,'Data Input'!AB76,'Data Input'!AE76,'Data Input'!AG76,'Data Input'!AL76,'Data Input'!AU76,'Data Input'!AW76))","v":""},{"$f":"IF(K71=\"\",\"\",K71/COUNTIF('Data Input'!$C$8:$BU$8,\"P\"))","v":""},{"$f":"IF(ISBLANK('Data Input'!A76),\"\",SUM('Data Input'!I76,'Data Input'!S76))","v":""},{"$f":"IF(M71=\"\",\"\",M71/COUNTIF('Data Input'!$C$8:$BU$8,\"FS\"))","v":""},{"$f":"IF(ISBLANK('Data Input'!A76),\"\",SUM('Data Input'!D76,'Data Input'!E76,'Data Input'!F76,'Data Input'!G76,'Data Input'!R76,'Data Input'!V76,'Data Input'!W76,'Data Input'!AC76,'Data Input'!AF76,'Data Input'!AH76,'Data Input'!AJ76,'Data Input'!AK76,'Data Input'!AM76,'Data Input'!AQ76,'Data Input'!AR76,'Data Input'!AZ76))","v":""},{"$f":"IF(O71=\"\",\"\",O71/COUNTIF('Data Input'!$C$8:$BU$8,\"GT\"))","v":""},{"$f":"IF(ISBLANK('Data Input'!A76),\"\",SUM('Data Input'!C76,'Data Input'!J76,'Data Input'!N76,'Data Input'!AS76,'Data Input'!AT76,'Data Input'!AV76))","v":""},{"$f":"IF(Q71=\"\",\"\",Q71/COUNTIF('Data Input'!$C$8:$BU$8,\"V\"))","v":""},{"$f":"IF(ISBLANK('Data Input'!A76),\"\",SUM('Data Input'!AI76,'Data Input'!AN76))","v":""},{"$f":"IF(S71=\"\",\"\",S71/COUNTIF('Data Input'!$C$8:$BU$8,\"F/I\"))","v":""},{"$f":"IF(ISBLANK('Data Input'!C76),\"\",SUM('Data Input'!BB76:BU76))","v":""},{"$f":"IF(U71=\"\",\"\",U71/COUNTIF('Data Input'!$C$8:$BU$8,\"Sp\"))","v":""}]
[{"$f":"IF('Data Input'!A77=0,\"\",'Data Input'!A77)","v":""},{"$f":"IF(ISBLANK('Data Input'!A77),\"\",COUNTIF('Data Input'!C77:BU77,\"\")-1)","v":""},{"$f":"IF(ISBLANK('Data Input'!A77),\"\",COUNTIF('Data Input'!C77:BU77,\"0\"))","v":""},{"$f":"IF(ISBLANK('Data Input'!A77),\"\",SUM(B72,C72))","v":""},{"$f":"IF(ISBLANK('Data Input'!A77),\"\",SUM('Data Input'!C77:BU77))","v":""},{"$f":"IF(E72=\"\",\"\",E72/(COUNTA('Data Input'!$C$8:$BU$8)-1))","v":""},{"$f":"IF(ISBLANK('Data Input'!A77),\"\",SUM('Data Input'!H77,'Data Input'!AA77,'Data Input'!AO77,'Data Input'!AP77))","v":""},{"$f":"IF(G72=\"\",\"\",G72/COUNTIF('Data Input'!$C$8:$BU$8,\"CS\"))","v":""},{"$f":"IF(ISBLANK('Data Input'!A77),\"\",SUM('Data Input'!P77,'Data Input'!T77,'Data Input'!AD77,'Data Input'!AX77,'Data Input'!AY77))","v":""},{"$f":"IF(I72=\"\",\"\",I72/COUNTIF('Data Input'!$C$8:$BU$8,\"SE\"))","v":""},{"$f":"IF(ISBLANK('Data Input'!A77),\"\",SUM('Data Input'!K77,'Data Input'!L77,'Data Input'!M77,'Data Input'!O77,'Data Input'!Q77,'Data Input'!U77,'Data Input'!X77,'Data Input'!Y77,'Data Input'!Z77,'Data Input'!AB77,'Data Input'!AE77,'Data Input'!AG77,'Data Input'!AL77,'Data Input'!AU77,'Data Input'!AW77))","v":""},{"$f":"IF(K72=\"\",\"\",K72/COUNTIF('Data Input'!$C$8:$BU$8,\"P\"))","v":""},{"$f":"IF(ISBLANK('Data Input'!A77),\"\",SUM('Data Input'!I77,'Data Input'!S77))","v":""},{"$f":"IF(M72=\"\",\"\",M72/COUNTIF('Data Input'!$C$8:$BU$8,\"FS\"))","v":""},{"$f":"IF(ISBLANK('Data Input'!A77),\"\",SUM('Data Input'!D77,'Data Input'!E77,'Data Input'!F77,'Data Input'!G77,'Data Input'!R77,'Data Input'!V77,'Data Input'!W77,'Data Input'!AC77,'Data Input'!AF77,'Data Input'!AH77,'Data Input'!AJ77,'Data Input'!AK77,'Data Input'!AM77,'Data Input'!AQ77,'Data Input'!AR77,'Data Input'!AZ77))","v":""},{"$f":"IF(O72=\"\",\"\",O72/COUNTIF('Data Input'!$C$8:$BU$8,\"GT\"))","v":""},{"$f":"IF(ISBLANK('Data Input'!A77),\"\",SUM('Data Input'!C77,'Data Input'!J77,'Data Input'!N77,'Data Input'!AS77,'Data Input'!AT77,'Data Input'!AV77))","v":""},{"$f":"IF(Q72=\"\",\"\",Q72/COUNTIF('Data Input'!$C$8:$BU$8,\"V\"))","v":""},{"$f":"IF(ISBLANK('Data Input'!A77),\"\",SUM('Data Input'!AI77,'Data Input'!AN77))","v":""},{"$f":"IF(S72=\"\",\"\",S72/COUNTIF('Data Input'!$C$8:$BU$8,\"F/I\"))","v":""},{"$f":"IF(ISBLANK('Data Input'!C77),\"\",SUM('Data Input'!BB77:BU77))","v":""},{"$f":"IF(U72=\"\",\"\",U72/COUNTIF('Data Input'!$C$8:$BU$8,\"Sp\"))","v":""}]
[{"$f":"IF('Data Input'!A78=0,\"\",'Data Input'!A78)","v":""},{"$f":"IF(ISBLANK('Data Input'!A78),\"\",COUNTIF('Data Input'!C78:BU78,\"\")-1)","v":""},{"$f":"IF(ISBLANK('Data Input'!A78),\"\",COUNTIF('Data Input'!C78:BU78,\"0\"))","v":""},{"$f":"IF(ISBLANK('Data Input'!A78),\"\",SUM(B73,C73))","v":""},{"$f":"IF(ISBLANK('Data Input'!A78),\"\",SUM('Data Input'!C78:BU78))","v":""},{"$f":"IF(E73=\"\",\"\",E73/(COUNTA('Data Input'!$C$8:$BU$8)-1))","v":""},{"$f":"IF(ISBLANK('Data Input'!A78),\"\",SUM('Data Input'!H78,'Data Input'!AA78,'Data Input'!AO78,'Data Input'!AP78))","v":""},{"$f":"IF(G73=\"\",\"\",G73/COUNTIF('Data Input'!$C$8:$BU$8,\"CS\"))","v":""},{"$f":"IF(ISBLANK('Data Input'!A78),\"\",SUM('Data Input'!P78,'Data Input'!T78,'Data Input'!AD78,'Data Input'!AX78,'Data Input'!AY78))","v":""},{"$f":"IF(I73=\"\",\"\",I73/COUNTIF('Data Input'!$C$8:$BU$8,\"SE\"))","v":""},{"$f":"IF(ISBLANK('Data Input'!A78),\"\",SUM('Data Input'!K78,'Data Input'!L78,'Data Input'!M78,'Data Input'!O78,'Data Input'!Q78,'Data Input'!U78,'Data Input'!X78,'Data Input'!Y78,'Data Input'!Z78,'Data Input'!AB78,'Data Input'!AE78,'Data Input'!AG78,'Data Input'!AL78,'Data Input'!AU78,'Data Input'!AW78))","v":""},{"$f":"IF(K73=\"\",\"\",K73/COUNTIF('Data Input'!$C$8:$BU$8,\"P\"))","v":""},{"$f":"IF(ISBLANK('Data Input'!A78),\"\",SUM('Data Input'!I78,'Data Input'!S78))","v":""},{"$f":"IF(M73=\"\",\"\",M73/COUNTIF('Data Input'!$C$8:$BU$8,\"FS\"))","v":""},{"$f":"IF(ISBLANK('Data Input'!A78),\"\",SUM('Data Input'!D78,'Data Input'!E78,'Data Input'!F78,'Data Input'!G78,'Data Input'!R78,'Data Input'!V78,'Data Input'!W78,'Data Input'!AC78,'Data Input'!AF78,'Data Input'!AH78,'Data Input'!AJ78,'Data Input'!AK78,'Data Input'!AM78,'Data Input'!AQ78,'Data Input'!AR78,'Data Input'!AZ78))","v":""},{"$f":"IF(O73=\"\",\"\",O73/COUNTIF('Data Input'!$C$8:$BU$8,\"GT\"))","v":""},{"$f":"IF(ISBLANK('Data Input'!A78),\"\",SUM('Data Input'!C78,'Data Input'!J78,'Data Input'!N78,'Data Input'!AS78,'Data Input'!AT78,'Data Input'!AV78))","v":""},{"$f":"IF(Q73=\"\",\"\",Q73/COUNTIF('Data Input'!$C$8:$BU$8,\"V\"))","v":""},{"$f":"IF(ISBLANK('Data Input'!A78),\"\",SUM('Data Input'!AI78,'Data Input'!AN78))","v":""},{"$f":"IF(S73=\"\",\"\",S73/COUNTIF('Data Input'!$C$8:$BU$8,\"F/I\"))","v":""},{"$f":"IF(ISBLANK('Data Input'!C78),\"\",SUM('Data Input'!BB78:BU78))","v":""},{"$f":"IF(U73=\"\",\"\",U73/COUNTIF('Data Input'!$C$8:$BU$8,\"Sp\"))","v":""}]
[{"$f":"IF('Data Input'!A79=0,\"\",'Data Input'!A79)","v":""},{"$f":"IF(ISBLANK('Data Input'!A79),\"\",COUNTIF('Data Input'!C79:BU79,\"\")-1)","v":""},{"$f":"IF(ISBLANK('Data Input'!A79),\"\",COUNTIF('Data Input'!C79:BU79,\"0\"))","v":""},{"$f":"IF(ISBLANK('Data Input'!A79),\"\",SUM(B74,C74))","v":""},{"$f":"IF(ISBLANK('Data Input'!A79),\"\",SUM('Data Input'!C79:BU79))","v":""},{"$f":"IF(E74=\"\",\"\",E74/(COUNTA('Data Input'!$C$8:$BU$8)-1))","v":""},{"$f":"IF(ISBLANK('Data Input'!A79),\"\",SUM('Data Input'!H79,'Data Input'!AA79,'Data Input'!AO79,'Data Input'!AP79))","v":""},{"$f":"IF(G74=\"\",\"\",G74/COUNTIF('Data Input'!$C$8:$BU$8,\"CS\"))","v":""},{"$f":"IF(ISBLANK('Data Input'!A79),\"\",SUM('Data Input'!P79,'Data Input'!T79,'Data Input'!AD79,'Data Input'!AX79,'Data Input'!AY79))","v":""},{"$f":"IF(I74=\"\",\"\",I74/COUNTIF('Data Input'!$C$8:$BU$8,\"SE\"))","v":""},{"$f":"IF(ISBLANK('Data Input'!A79),\"\",SUM('Data Input'!K79,'Data Input'!L79,'Data Input'!M79,'Data Input'!O79,'Data Input'!Q79,'Data Input'!U79,'Data Input'!X79,'Data Input'!Y79,'Data Input'!Z79,'Data Input'!AB79,'Data Input'!AE79,'Data Input'!AG79,'Data Input'!AL79,'Data Input'!AU79,'Data Input'!AW79))","v":""},{"$f":"IF(K74=\"\",\"\",K74/COUNTIF('Data Input'!$C$8:$BU$8,\"P\"))","v":""},{"$f":"IF(ISBLANK('Data Input'!A79),\"\",SUM('Data Input'!I79,'Data Input'!S79))","v":""},{"$f":"IF(M74=\"\",\"\",M74/COUNTIF('Data Input'!$C$8:$BU$8,\"FS\"))","v":""},{"$f":"IF(ISBLANK('Data Input'!A79),\"\",SUM('Data Input'!D79,'Data Input'!E79,'Data Input'!F79,'Data Input'!G79,'Data Input'!R79,'Data Input'!V79,'Data Input'!W79,'Data Input'!AC79,'Data Input'!AF79,'Data Input'!AH79,'Data Input'!AJ79,'Data Input'!AK79,'Data Input'!AM79,'Data Input'!AQ79,'Data Input'!AR79,'Data Input'!AZ79))","v":""},{"$f":"IF(O74=\"\",\"\",O74/COUNTIF('Data Input'!$C$8:$BU$8,\"GT\"))","v":""},{"$f":"IF(ISBLANK('Data Input'!A79),\"\",SUM('Data Input'!C79,'Data Input'!J79,'Data Input'!N79,'Data Input'!AS79,'Data Input'!AT79,'Data Input'!AV79))","v":""},{"$f":"IF(Q74=\"\",\"\",Q74/COUNTIF('Data Input'!$C$8:$BU$8,\"V\"))","v":""},{"$f":"IF(ISBLANK('Data Input'!A79),\"\",SUM('Data Input'!AI79,'Data Input'!AN79))","v":""},{"$f":"IF(S74=\"\",\"\",S74/COUNTIF('Data Input'!$C$8:$BU$8,\"F/I\"))","v":""},{"$f":"IF(ISBLANK('Data Input'!C79),\"\",SUM('Data Input'!BB79:BU79))","v":""},{"$f":"IF(U74=\"\",\"\",U74/COUNTIF('Data Input'!$C$8:$BU$8,\"Sp\"))","v":""}]
[{"$f":"IF('Data Input'!A80=0,\"\",'Data Input'!A80)","v":""},{"$f":"IF(ISBLANK('Data Input'!A80),\"\",COUNTIF('Data Input'!C80:BU80,\"\")-1)","v":""},{"$f":"IF(ISBLANK('Data Input'!A80),\"\",COUNTIF('Data Input'!C80:BU80,\"0\"))","v":""},{"$f":"IF(ISBLANK('Data Input'!A80),\"\",SUM(B75,C75))","v":""},{"$f":"IF(ISBLANK('Data Input'!A80),\"\",SUM('Data Input'!C80:BU80))","v":""},{"$f":"IF(E75=\"\",\"\",E75/(COUNTA('Data Input'!$C$8:$BU$8)-1))","v":""},{"$f":"IF(ISBLANK('Data Input'!A80),\"\",SUM('Data Input'!H80,'Data Input'!AA80,'Data Input'!AO80,'Data Input'!AP80))","v":""},{"$f":"IF(G75=\"\",\"\",G75/COUNTIF('Data Input'!$C$8:$BU$8,\"CS\"))","v":""},{"$f":"IF(ISBLANK('Data Input'!A80),\"\",SUM('Data Input'!P80,'Data Input'!T80,'Data Input'!AD80,'Data Input'!AX80,'Data Input'!AY80))","v":""},{"$f":"IF(I75=\"\",\"\",I75/COUNTIF('Data Input'!$C$8:$BU$8,\"SE\"))","v":""},{"$f":"IF(ISBLANK('Data Input'!A80),\"\",SUM('Data Input'!K80,'Data Input'!L80,'Data Input'!M80,'Data Input'!O80,'Data Input'!Q80,'Data Input'!U80,'Data Input'!X80,'Data Input'!Y80,'Data Input'!Z80,'Data Input'!AB80,'Data Input'!AE80,'Data Input'!AG80,'Data Input'!AL80,'Data Input'!AU80,'Data Input'!AW80))","v":""},{"$f":"IF(K75=\"\",\"\",K75/COUNTIF('Data Input'!$C$8:$BU$8,\"P\"))","v":""},{"$f":"IF(ISBLANK('Data Input'!A80),\"\",SUM('Data Input'!I80,'Data Input'!S80))","v":""},{"$f":"IF(M75=\"\",\"\",M75/COUNTIF('Data Input'!$C$8:$BU$8,\"FS\"))","v":""},{"$f":"IF(ISBLANK('Data Input'!A80),\"\",SUM('Data Input'!D80,'Data Input'!E80,'Data Input'!F80,'Data Input'!G80,'Data Input'!R80,'Data Input'!V80,'Data Input'!W80,'Data Input'!AC80,'Data Input'!AF80,'Data Input'!AH80,'Data Input'!AJ80,'Data Input'!AK80,'Data Input'!AM80,'Data Input'!AQ80,'Data Input'!AR80,'Data Input'!AZ80))","v":""},{"$f":"IF(O75=\"\",\"\",O75/COUNTIF('Data Input'!$C$8:$BU$8,\"GT\"))","v":""},{"$f":"IF(ISBLANK('Data Input'!A80),\"\",SUM('Data Input'!C80,'Data Input'!J80,'Data Input'!N80,'Data Input'!AS80,'Data Input'!AT80,'Data Input'!AV80))","v":""},{"$f":"IF(Q75=\"\",\"\",Q75/COUNTIF('Data Input'!$C$8:$BU$8,\"V\"))","v":""},{"$f":"IF(ISBLANK('Data Input'!A80),\"\",SUM('Data Input'!AI80,'Data Input'!AN80))","v":""},{"$f":"IF(S75=\"\",\"\",S75/COUNTIF('Data Input'!$C$8:$BU$8,\"F/I\"))","v":""},{"$f":"IF(ISBLANK('Data Input'!C80),\"\",SUM('Data Input'!BB80:BU80))","v":""},{"$f":"IF(U75=\"\",\"\",U75/COUNTIF('Data Input'!$C$8:$BU$8,\"Sp\"))","v":""}]
[{"$f":"IF('Data Input'!A81=0,\"\",'Data Input'!A81)","v":""},{"$f":"IF(ISBLANK('Data Input'!A81),\"\",COUNTIF('Data Input'!C81:BU81,\"\")-1)","v":""},{"$f":"IF(ISBLANK('Data Input'!A81),\"\",COUNTIF('Data Input'!C81:BU81,\"0\"))","v":""},{"$f":"IF(ISBLANK('Data Input'!A81),\"\",SUM(B76,C76))","v":""},{"$f":"IF(ISBLANK('Data Input'!A81),\"\",SUM('Data Input'!C81:BU81))","v":""},{"$f":"IF(E76=\"\",\"\",E76/(COUNTA('Data Input'!$C$8:$BU$8)-1))","v":""},{"$f":"IF(ISBLANK('Data Input'!A81),\"\",SUM('Data Input'!H81,'Data Input'!AA81,'Data Input'!AO81,'Data Input'!AP81))","v":""},{"$f":"IF(G76=\"\",\"\",G76/COUNTIF('Data Input'!$C$8:$BU$8,\"CS\"))","v":""},{"$f":"IF(ISBLANK('Data Input'!A81),\"\",SUM('Data Input'!P81,'Data Input'!T81,'Data Input'!AD81,'Data Input'!AX81,'Data Input'!AY81))","v":""},{"$f":"IF(I76=\"\",\"\",I76/COUNTIF('Data Input'!$C$8:$BU$8,\"SE\"))","v":""},{"$f":"IF(ISBLANK('Data Input'!A81),\"\",SUM('Data Input'!K81,'Data Input'!L81,'Data Input'!M81,'Data Input'!O81,'Data Input'!Q81,'Data Input'!U81,'Data Input'!X81,'Data Input'!Y81,'Data Input'!Z81,'Data Input'!AB81,'Data Input'!AE81,'Data Input'!AG81,'Data Input'!AL81,'Data Input'!AU81,'Data Input'!AW81))","v":""},{"$f":"IF(K76=\"\",\"\",K76/COUNTIF('Data Input'!$C$8:$BU$8,\"P\"))","v":""},{"$f":"IF(ISBLANK('Data Input'!A81),\"\",SUM('Data Input'!I81,'Data Input'!S81))","v":""},{"$f":"IF(M76=\"\",\"\",M76/COUNTIF('Data Input'!$C$8:$BU$8,\"FS\"))","v":""},{"$f":"IF(ISBLANK('Data Input'!A81),\"\",SUM('Data Input'!D81,'Data Input'!E81,'Data Input'!F81,'Data Input'!G81,'Data Input'!R81,'Data Input'!V81,'Data Input'!W81,'Data Input'!AC81,'Data Input'!AF81,'Data Input'!AH81,'Data Input'!AJ81,'Data Input'!AK81,'Data Input'!AM81,'Data Input'!AQ81,'Data Input'!AR81,'Data Input'!AZ81))","v":""},{"$f":"IF(O76=\"\",\"\",O76/COUNTIF('Data Input'!$C$8:$BU$8,\"GT\"))","v":""},{"$f":"IF(ISBLANK('Data Input'!A81),\"\",SUM('Data Input'!C81,'Data Input'!J81,'Data Input'!N81,'Data Input'!AS81,'Data Input'!AT81,'Data Input'!AV81))","v":""},{"$f":"IF(Q76=\"\",\"\",Q76/COUNTIF('Data Input'!$C$8:$BU$8,\"V\"))","v":""},{"$f":"IF(ISBLANK('Data Input'!A81),\"\",SUM('Data Input'!AI81,'Data Input'!AN81))","v":""},{"$f":"IF(S76=\"\",\"\",S76/COUNTIF('Data Input'!$C$8:$BU$8,\"F/I\"))","v":""},{"$f":"IF(ISBLANK('Data Input'!C81),\"\",SUM('Data Input'!BB81:BU81))","v":""},{"$f":"IF(U76=\"\",\"\",U76/COUNTIF('Data Input'!$C$8:$BU$8,\"Sp\"))","v":""}]
[{"$f":"IF('Data Input'!A82=0,\"\",'Data Input'!A82)","v":""},{"$f":"IF(ISBLANK('Data Input'!A82),\"\",COUNTIF('Data Input'!C82:BU82,\"\")-1)","v":""},{"$f":"IF(ISBLANK('Data Input'!A82),\"\",COUNTIF('Data Input'!C82:BU82,\"0\"))","v":""},{"$f":"IF(ISBLANK('Data Input'!A82),\"\",SUM(B77,C77))","v":""},{"$f":"IF(ISBLANK('Data Input'!A82),\"\",SUM('Data Input'!C82:BU82))","v":""},{"$f":"IF(E77=\"\",\"\",E77/(COUNTA('Data Input'!$C$8:$BU$8)-1))","v":""},{"$f":"IF(ISBLANK('Data Input'!A82),\"\",SUM('Data Input'!H82,'Data Input'!AA82,'Data Input'!AO82,'Data Input'!AP82))","v":""},{"$f":"IF(G77=\"\",\"\",G77/COUNTIF('Data Input'!$C$8:$BU$8,\"CS\"))","v":""},{"$f":"IF(ISBLANK('Data Input'!A82),\"\",SUM('Data Input'!P82,'Data Input'!T82,'Data Input'!AD82,'Data Input'!AX82,'Data Input'!AY82))","v":""},{"$f":"IF(I77=\"\",\"\",I77/COUNTIF('Data Input'!$C$8:$BU$8,\"SE\"))","v":""},{"$f":"IF(ISBLANK('Data Input'!A82),\"\",SUM('Data Input'!K82,'Data Input'!L82,'Data Input'!M82,'Data Input'!O82,'Data Input'!Q82,'Data Input'!U82,'Data Input'!X82,'Data Input'!Y82,'Data Input'!Z82,'Data Input'!AB82,'Data Input'!AE82,'Data Input'!AG82,'Data Input'!AL82,'Data Input'!AU82,'Data Input'!AW82))","v":""},{"$f":"IF(K77=\"\",\"\",K77/COUNTIF('Data Input'!$C$8:$BU$8,\"P\"))","v":""},{"$f":"IF(ISBLANK('Data Input'!A82),\"\",SUM('Data Input'!I82,'Data Input'!S82))","v":""},{"$f":"IF(M77=\"\",\"\",M77/COUNTIF('Data Input'!$C$8:$BU$8,\"FS\"))","v":""},{"$f":"IF(ISBLANK('Data Input'!A82),\"\",SUM('Data Input'!D82,'Data Input'!E82,'Data Input'!F82,'Data Input'!G82,'Data Input'!R82,'Data Input'!V82,'Data Input'!W82,'Data Input'!AC82,'Data Input'!AF82,'Data Input'!AH82,'Data Input'!AJ82,'Data Input'!AK82,'Data Input'!AM82,'Data Input'!AQ82,'Data Input'!AR82,'Data Input'!AZ82))","v":""},{"$f":"IF(O77=\"\",\"\",O77/COUNTIF('Data Input'!$C$8:$BU$8,\"GT\"))","v":""},{"$f":"IF(ISBLANK('Data Input'!A82),\"\",SUM('Data Input'!C82,'Data Input'!J82,'Data Input'!N82,'Data Input'!AS82,'Data Input'!AT82,'Data Input'!AV82))","v":""},{"$f":"IF(Q77=\"\",\"\",Q77/COUNTIF('Data Input'!$C$8:$BU$8,\"V\"))","v":""},{"$f":"IF(ISBLANK('Data Input'!A82),\"\",SUM('Data Input'!AI82,'Data Input'!AN82))","v":""},{"$f":"IF(S77=\"\",\"\",S77/COUNTIF('Data Input'!$C$8:$BU$8,\"F/I\"))","v":""},{"$f":"IF(ISBLANK('Data Input'!C82),\"\",SUM('Data Input'!BB82:BU82))","v":""},{"$f":"IF(U77=\"\",\"\",U77/COUNTIF('Data Input'!$C$8:$BU$8,\"Sp\"))","v":""}]
[{"$f":"IF('Data Input'!A83=0,\"\",'Data Input'!A83)","v":""},{"$f":"IF(ISBLANK('Data Input'!A83),\"\",COUNTIF('Data Input'!C83:BU83,\"\")-1)","v":""},{"$f":"IF(ISBLANK('Data Input'!A83),\"\",COUNTIF('Data Input'!C83:BU83,\"0\"))","v":""},{"$f":"IF(ISBLANK('Data Input'!A83),\"\",SUM(B78,C78))","v":""},{"$f":"IF(ISBLANK('Data Input'!A83),\"\",SUM('Data Input'!C83:BU83))","v":""},{"$f":"IF(E78=\"\",\"\",E78/(COUNTA('Data Input'!$C$8:$BU$8)-1))","v":""},{"$f":"IF(ISBLANK('Data Input'!A83),\"\",SUM('Data Input'!H83,'Data Input'!AA83,'Data Input'!AO83,'Data Input'!AP83))","v":""},{"$f":"IF(G78=\"\",\"\",G78/COUNTIF('Data Input'!$C$8:$BU$8,\"CS\"))","v":""},{"$f":"IF(ISBLANK('Data Input'!A83),\"\",SUM('Data Input'!P83,'Data Input'!T83,'Data Input'!AD83,'Data Input'!AX83,'Data Input'!AY83))","v":""},{"$f":"IF(I78=\"\",\"\",I78/COUNTIF('Data Input'!$C$8:$BU$8,\"SE\"))","v":""},{"$f":"IF(ISBLANK('Data Input'!A83),\"\",SUM('Data Input'!K83,'Data Input'!L83,'Data Input'!M83,'Data Input'!O83,'Data Input'!Q83,'Data Input'!U83,'Data Input'!X83,'Data Input'!Y83,'Data Input'!Z83,'Data Input'!AB83,'Data Input'!AE83,'Data Input'!AG83,'Data Input'!AL83,'Data Input'!AU83,'Data Input'!AW83))","v":""},{"$f":"IF(K78=\"\",\"\",K78/COUNTIF('Data Input'!$C$8:$BU$8,\"P\"))","v":""},{"$f":"IF(ISBLANK('Data Input'!A83),\"\",SUM('Data Input'!I83,'Data Input'!S83))","v":""},{"$f":"IF(M78=\"\",\"\",M78/COUNTIF('Data Input'!$C$8:$BU$8,\"FS\"))","v":""},{"$f":"IF(ISBLANK('Data Input'!A83),\"\",SUM('Data Input'!D83,'Data Input'!E83,'Data Input'!F83,'Data Input'!G83,'Data Input'!R83,'Data Input'!V83,'Data Input'!W83,'Data Input'!AC83,'Data Input'!AF83,'Data Input'!AH83,'Data Input'!AJ83,'Data Input'!AK83,'Data Input'!AM83,'Data Input'!AQ83,'Data Input'!AR83,'Data Input'!AZ83))","v":""},{"$f":"IF(O78=\"\",\"\",O78/COUNTIF('Data Input'!$C$8:$BU$8,\"GT\"))","v":""},{"$f":"IF(ISBLANK('Data Input'!A83),\"\",SUM('Data Input'!C83,'Data Input'!J83,'Data Input'!N83,'Data Input'!AS83,'Data Input'!AT83,'Data Input'!AV83))","v":""},{"$f":"IF(Q78=\"\",\"\",Q78/COUNTIF('Data Input'!$C$8:$BU$8,\"V\"))","v":""},{"$f":"IF(ISBLANK('Data Input'!A83),\"\",SUM('Data Input'!AI83,'Data Input'!AN83))","v":""},{"$f":"IF(S78=\"\",\"\",S78/COUNTIF('Data Input'!$C$8:$BU$8,\"F/I\"))","v":""},{"$f":"IF(ISBLANK('Data Input'!C83),\"\",SUM('Data Input'!BB83:BU83))","v":""},{"$f":"IF(U78=\"\",\"\",U78/COUNTIF('Data Input'!$C$8:$BU$8,\"Sp\"))","v":""}]
[{"$f":"IF('Data Input'!A84=0,\"\",'Data Input'!A84)","v":""},{"$f":"IF(ISBLANK('Data Input'!A84),\"\",COUNTIF('Data Input'!C84:BU84,\"\")-1)","v":""},{"$f":"IF(ISBLANK('Data Input'!A84),\"\",COUNTIF('Data Input'!C84:BU84,\"0\"))","v":""},{"$f":"IF(ISBLANK('Data Input'!A84),\"\",SUM(B79,C79))","v":""},{"$f":"IF(ISBLANK('Data Input'!A84),\"\",SUM('Data Input'!C84:BU84))","v":""},{"$f":"IF(E79=\"\",\"\",E79/(COUNTA('Data Input'!$C$8:$BU$8)-1))","v":""},{"$f":"IF(ISBLANK('Data Input'!A84),\"\",SUM('Data Input'!H84,'Data Input'!AA84,'Data Input'!AO84,'Data Input'!AP84))","v":""},{"$f":"IF(G79=\"\",\"\",G79/COUNTIF('Data Input'!$C$8:$BU$8,\"CS\"))","v":""},{"$f":"IF(ISBLANK('Data Input'!A84),\"\",SUM('Data Input'!P84,'Data Input'!T84,'Data Input'!AD84,'Data Input'!AX84,'Data Input'!AY84))","v":""},{"$f":"IF(I79=\"\",\"\",I79/COUNTIF('Data Input'!$C$8:$BU$8,\"SE\"))","v":""},{"$f":"IF(ISBLANK('Data Input'!A84),\"\",SUM('Data Input'!K84,'Data Input'!L84,'Data Input'!M84,'Data Input'!O84,'Data Input'!Q84,'Data Input'!U84,'Data Input'!X84,'Data Input'!Y84,'Data Input'!Z84,'Data Input'!AB84,'Data Input'!AE84,'Data Input'!AG84,'Data Input'!AL84,'Data Input'!AU84,'Data Input'!AW84))","v":""},{"$f":"IF(K79=\"\",\"\",K79/COUNTIF('Data Input'!$C$8:$BU$8,\"P\"))","v":""},{"$f":"IF(ISBLANK('Data Input'!A84),\"\",SUM('Data Input'!I84,'Data Input'!S84))","v":""},{"$f":"IF(M79=\"\",\"\",M79/COUNTIF('Data Input'!$C$8:$BU$8,\"FS\"))","v":""},{"$f":"IF(ISBLANK('Data Input'!A84),\"\",SUM('Data Input'!D84,'Data Input'!E84,'Data Input'!F84,'Data Input'!G84,'Data Input'!R84,'Data Input'!V84,'Data Input'!W84,'Data Input'!AC84,'Data Input'!AF84,'Data Input'!AH84,'Data Input'!AJ84,'Data Input'!AK84,'Data Input'!AM84,'Data Input'!AQ84,'Data Input'!AR84,'Data Input'!AZ84))","v":""},{"$f":"IF(O79=\"\",\"\",O79/COUNTIF('Data Input'!$C$8:$BU$8,\"GT\"))","v":""},{"$f":"IF(ISBLANK('Data Input'!A84),\"\",SUM('Data Input'!C84,'Data Input'!J84,'Data Input'!N84,'Data Input'!AS84,'Data Input'!AT84,'Data Input'!AV84))","v":""},{"$f":"IF(Q79=\"\",\"\",Q79/COUNTIF('Data Input'!$C$8:$BU$8,\"V\"))","v":""},{"$f":"IF(ISBLANK('Data Input'!A84),\"\",SUM('Data Input'!AI84,'Data Input'!AN84))","v":""},{"$f":"IF(S79=\"\",\"\",S79/COUNTIF('Data Input'!$C$8:$BU$8,\"F/I\"))","v":""},{"$f":"IF(ISBLANK('Data Input'!C84),\"\",SUM('Data Input'!BB84:BU84))","v":""},{"$f":"IF(U79=\"\",\"\",U79/COUNTIF('Data Input'!$C$8:$BU$8,\"Sp\"))","v":""}]
[{"$f":"IF('Data Input'!A85=0,\"\",'Data Input'!A85)","v":""},{"$f":"IF(ISBLANK('Data Input'!A85),\"\",COUNTIF('Data Input'!C85:BU85,\"\")-1)","v":""},{"$f":"IF(ISBLANK('Data Input'!A85),\"\",COUNTIF('Data Input'!C85:BU85,\"0\"))","v":""},{"$f":"IF(ISBLANK('Data Input'!A85),\"\",SUM(B80,C80))","v":""},{"$f":"IF(ISBLANK('Data Input'!A85),\"\",SUM('Data Input'!C85:BU85))","v":""},{"$f":"IF(E80=\"\",\"\",E80/(COUNTA('Data Input'!$C$8:$BU$8)-1))","v":""},{"$f":"IF(ISBLANK('Data Input'!A85),\"\",SUM('Data Input'!H85,'Data Input'!AA85,'Data Input'!AO85,'Data Input'!AP85))","v":""},{"$f":"IF(G80=\"\",\"\",G80/COUNTIF('Data Input'!$C$8:$BU$8,\"CS\"))","v":""},{"$f":"IF(ISBLANK('Data Input'!A85),\"\",SUM('Data Input'!P85,'Data Input'!T85,'Data Input'!AD85,'Data Input'!AX85,'Data Input'!AY85))","v":""},{"$f":"IF(I80=\"\",\"\",I80/COUNTIF('Data Input'!$C$8:$BU$8,\"SE\"))","v":""},{"$f":"IF(ISBLANK('Data Input'!A85),\"\",SUM('Data Input'!K85,'Data Input'!L85,'Data Input'!M85,'Data Input'!O85,'Data Input'!Q85,'Data Input'!U85,'Data Input'!X85,'Data Input'!Y85,'Data Input'!Z85,'Data Input'!AB85,'Data Input'!AE85,'Data Input'!AG85,'Data Input'!AL85,'Data Input'!AU85,'Data Input'!AW85))","v":""},{"$f":"IF(K80=\"\",\"\",K80/COUNTIF('Data Input'!$C$8:$BU$8,\"P\"))","v":""},{"$f":"IF(ISBLANK('Data Input'!A85),\"\",SUM('Data Input'!I85,'Data Input'!S85))","v":""},{"$f":"IF(M80=\"\",\"\",M80/COUNTIF('Data Input'!$C$8:$BU$8,\"FS\"))","v":""},{"$f":"IF(ISBLANK('Data Input'!A85),\"\",SUM('Data Input'!D85,'Data Input'!E85,'Data Input'!F85,'Data Input'!G85,'Data Input'!R85,'Data Input'!V85,'Data Input'!W85,'Data Input'!AC85,'Data Input'!AF85,'Data Input'!AH85,'Data Input'!AJ85,'Data Input'!AK85,'Data Input'!AM85,'Data Input'!AQ85,'Data Input'!AR85,'Data Input'!AZ85))","v":""},{"$f":"IF(O80=\"\",\"\",O80/COUNTIF('Data Input'!$C$8:$BU$8,\"GT\"))","v":""},{"$f":"IF(ISBLANK('Data Input'!A85),\"\",SUM('Data Input'!C85,'Data Input'!J85,'Data Input'!N85,'Data Input'!AS85,'Data Input'!AT85,'Data Input'!AV85))","v":""},{"$f":"IF(Q80=\"\",\"\",Q80/COUNTIF('Data Input'!$C$8:$BU$8,\"V\"))","v":""},{"$f":"IF(ISBLANK('Data Input'!A85),\"\",SUM('Data Input'!AI85,'Data Input'!AN85))","v":""},{"$f":"IF(S80=\"\",\"\",S80/COUNTIF('Data Input'!$C$8:$BU$8,\"F/I\"))","v":""},{"$f":"IF(ISBLANK('Data Input'!C85),\"\",SUM('Data Input'!BB85:BU85))","v":""},{"$f":"IF(U80=\"\",\"\",U80/COUNTIF('Data Input'!$C$8:$BU$8,\"Sp\"))","v":""}]
[{"$f":"IF('Data Input'!A86=0,\"\",'Data Input'!A86)","v":""},{"$f":"IF(ISBLANK('Data Input'!A86),\"\",COUNTIF('Data Input'!C86:BU86,\"\")-1)","v":""},{"$f":"IF(ISBLANK('Data Input'!A86),\"\",COUNTIF('Data Input'!C86:BU86,\"0\"))","v":""},{"$f":"IF(ISBLANK('Data Input'!A86),\"\",SUM(B81,C81))","v":""},{"$f":"IF(ISBLANK('Data Input'!A86),\"\",SUM('Data Input'!C86:BU86))","v":""},{"$f":"IF(E81=\"\",\"\",E81/(COUNTA('Data Input'!$C$8:$BU$8)-1))","v":""},{"$f":"IF(ISBLANK('Data Input'!A86),\"\",SUM('Data Input'!H86,'Data Input'!AA86,'Data Input'!AO86,'Data Input'!AP86))","v":""},{"$f":"IF(G81=\"\",\"\",G81/COUNTIF('Data Input'!$C$8:$BU$8,\"CS\"))","v":""},{"$f":"IF(ISBLANK('Data Input'!A86),\"\",SUM('Data Input'!P86,'Data Input'!T86,'Data Input'!AD86,'Data Input'!AX86,'Data Input'!AY86))","v":""},{"$f":"IF(I81=\"\",\"\",I81/COUNTIF('Data Input'!$C$8:$BU$8,\"SE\"))","v":""},{"$f":"IF(ISBLANK('Data Input'!A86),\"\",SUM('Data Input'!K86,'Data Input'!L86,'Data Input'!M86,'Data Input'!O86,'Data Input'!Q86,'Data Input'!U86,'Data Input'!X86,'Data Input'!Y86,'Data Input'!Z86,'Data Input'!AB86,'Data Input'!AE86,'Data Input'!AG86,'Data Input'!AL86,'Data Input'!AU86,'Data Input'!AW86))","v":""},{"$f":"IF(K81=\"\",\"\",K81/COUNTIF('Data Input'!$C$8:$BU$8,\"P\"))","v":""},{"$f":"IF(ISBLANK('Data Input'!A86),\"\",SUM('Data Input'!I86,'Data Input'!S86))","v":""},{"$f":"IF(M81=\"\",\"\",M81/COUNTIF('Data Input'!$C$8:$BU$8,\"FS\"))","v":""},{"$f":"IF(ISBLANK('Data Input'!A86),\"\",SUM('Data Input'!D86,'Data Input'!E86,'Data Input'!F86,'Data Input'!G86,'Data Input'!R86,'Data Input'!V86,'Data Input'!W86,'Data Input'!AC86,'Data Input'!AF86,'Data Input'!AH86,'Data Input'!AJ86,'Data Input'!AK86,'Data Input'!AM86,'Data Input'!AQ86,'Data Input'!AR86,'Data Input'!AZ86))","v":""},{"$f":"IF(O81=\"\",\"\",O81/COUNTIF('Data Input'!$C$8:$BU$8,\"GT\"))","v":""},{"$f":"IF(ISBLANK('Data Input'!A86),\"\",SUM('Data Input'!C86,'Data Input'!J86,'Data Input'!N86,'Data Input'!AS86,'Data Input'!AT86,'Data Input'!AV86))","v":""},{"$f":"IF(Q81=\"\",\"\",Q81/COUNTIF('Data Input'!$C$8:$BU$8,\"V\"))","v":""},{"$f":"IF(ISBLANK('Data Input'!A86),\"\",SUM('Data Input'!AI86,'Data Input'!AN86))","v":""},{"$f":"IF(S81=\"\",\"\",S81/COUNTIF('Data Input'!$C$8:$BU$8,\"F/I\"))","v":""},{"$f":"IF(ISBLANK('Data Input'!C86),\"\",SUM('Data Input'!BB86:BU86))","v":""},{"$f":"IF(U81=\"\",\"\",U81/COUNTIF('Data Input'!$C$8:$BU$8,\"Sp\"))","v":""}]
[{"$f":"IF('Data Input'!A87=0,\"\",'Data Input'!A87)","v":""},{"$f":"IF(ISBLANK('Data Input'!A87),\"\",COUNTIF('Data Input'!C87:BU87,\"\")-1)","v":""},{"$f":"IF(ISBLANK('Data Input'!A87),\"\",COUNTIF('Data Input'!C87:BU87,\"0\"))","v":""},{"$f":"IF(ISBLANK('Data Input'!A87),\"\",SUM(B82,C82))","v":""},{"$f":"IF(ISBLANK('Data Input'!A87),\"\",SUM('Data Input'!C87:BU87))","v":""},{"$f":"IF(E82=\"\",\"\",E82/(COUNTA('Data Input'!$C$8:$BU$8)-1))","v":""},{"$f":"IF(ISBLANK('Data Input'!A87),\"\",SUM('Data Input'!H87,'Data Input'!AA87,'Data Input'!AO87,'Data Input'!AP87))","v":""},{"$f":"IF(G82=\"\",\"\",G82/COUNTIF('Data Input'!$C$8:$BU$8,\"CS\"))","v":""},{"$f":"IF(ISBLANK('Data Input'!A87),\"\",SUM('Data Input'!P87,'Data Input'!T87,'Data Input'!AD87,'Data Input'!AX87,'Data Input'!AY87))","v":""},{"$f":"IF(I82=\"\",\"\",I82/COUNTIF('Data Input'!$C$8:$BU$8,\"SE\"))","v":""},{"$f":"IF(ISBLANK('Data Input'!A87),\"\",SUM('Data Input'!K87,'Data Input'!L87,'Data Input'!M87,'Data Input'!O87,'Data Input'!Q87,'Data Input'!U87,'Data Input'!X87,'Data Input'!Y87,'Data Input'!Z87,'Data Input'!AB87,'Data Input'!AE87,'Data Input'!AG87,'Data Input'!AL87,'Data Input'!AU87,'Data Input'!AW87))","v":""},{"$f":"IF(K82=\"\",\"\",K82/COUNTIF('Data Input'!$C$8:$BU$8,\"P\"))","v":""},{"$f":"IF(ISBLANK('Data Input'!A87),\"\",SUM('Data Input'!I87,'Data Input'!S87))","v":""},{"$f":"IF(M82=\"\",\"\",M82/COUNTIF('Data Input'!$C$8:$BU$8,\"FS\"))","v":""},{"$f":"IF(ISBLANK('Data Input'!A87),\"\",SUM('Data Input'!D87,'Data Input'!E87,'Data Input'!F87,'Data Input'!G87,'Data Input'!R87,'Data Input'!V87,'Data Input'!W87,'Data Input'!AC87,'Data Input'!AF87,'Data Input'!AH87,'Data Input'!AJ87,'Data Input'!AK87,'Data Input'!AM87,'Data Input'!AQ87,'Data Input'!AR87,'Data Input'!AZ87))","v":""},{"$f":"IF(O82=\"\",\"\",O82/COUNTIF('Data Input'!$C$8:$BU$8,\"GT\"))","v":""},{"$f":"IF(ISBLANK('Data Input'!A87),\"\",SUM('Data Input'!C87,'Data Input'!J87,'Data Input'!N87,'Data Input'!AS87,'Data Input'!AT87,'Data Input'!AV87))","v":""},{"$f":"IF(Q82=\"\",\"\",Q82/COUNTIF('Data Input'!$C$8:$BU$8,\"V\"))","v":""},{"$f":"IF(ISBLANK('Data Input'!A87),\"\",SUM('Data Input'!AI87,'Data Input'!AN87))","v":""},{"$f":"IF(S82=\"\",\"\",S82/COUNTIF('Data Input'!$C$8:$BU$8,\"F/I\"))","v":""},{"$f":"IF(ISBLANK('Data Input'!C87),\"\",SUM('Data Input'!BB87:BU87))","v":""},{"$f":"IF(U82=\"\",\"\",U82/COUNTIF('Data Input'!$C$8:$BU$8,\"Sp\"))","v":""}]
[{"$f":"IF('Data Input'!A88=0,\"\",'Data Input'!A88)","v":""},{"$f":"IF(ISBLANK('Data Input'!A88),\"\",COUNTIF('Data Input'!C88:BU88,\"\")-1)","v":""},{"$f":"IF(ISBLANK('Data Input'!A88),\"\",COUNTIF('Data Input'!C88:BU88,\"0\"))","v":""},{"$f":"IF(ISBLANK('Data Input'!A88),\"\",SUM(B83,C83))","v":""},{"$f":"IF(ISBLANK('Data Input'!A88),\"\",SUM('Data Input'!C88:BU88))","v":""},{"$f":"IF(E83=\"\",\"\",E83/(COUNTA('Data Input'!$C$8:$BU$8)-1))","v":""},{"$f":"IF(ISBLANK('Data Input'!A88),\"\",SUM('Data Input'!H88,'Data Input'!AA88,'Data Input'!AO88,'Data Input'!AP88))","v":""},{"$f":"IF(G83=\"\",\"\",G83/COUNTIF('Data Input'!$C$8:$BU$8,\"CS\"))","v":""},{"$f":"IF(ISBLANK('Data Input'!A88),\"\",SUM('Data Input'!P88,'Data Input'!T88,'Data Input'!AD88,'Data Input'!AX88,'Data Input'!AY88))","v":""},{"$f":"IF(I83=\"\",\"\",I83/COUNTIF('Data Input'!$C$8:$BU$8,\"SE\"))","v":""},{"$f":"IF(ISBLANK('Data Input'!A88),\"\",SUM('Data Input'!K88,'Data Input'!L88,'Data Input'!M88,'Data Input'!O88,'Data Input'!Q88,'Data Input'!U88,'Data Input'!X88,'Data Input'!Y88,'Data Input'!Z88,'Data Input'!AB88,'Data Input'!AE88,'Data Input'!AG88,'Data Input'!AL88,'Data Input'!AU88,'Data Input'!AW88))","v":""},{"$f":"IF(K83=\"\",\"\",K83/COUNTIF('Data Input'!$C$8:$BU$8,\"P\"))","v":""},{"$f":"IF(ISBLANK('Data Input'!A88),\"\",SUM('Data Input'!I88,'Data Input'!S88))","v":""},{"$f":"IF(M83=\"\",\"\",M83/COUNTIF('Data Input'!$C$8:$BU$8,\"FS\"))","v":""},{"$f":"IF(ISBLANK('Data Input'!A88),\"\",SUM('Data Input'!D88,'Data Input'!E88,'Data Input'!F88,'Data Input'!G88,'Data Input'!R88,'Data Input'!V88,'Data Input'!W88,'Data Input'!AC88,'Data Input'!AF88,'Data Input'!AH88,'Data Input'!AJ88,'Data Input'!AK88,'Data Input'!AM88,'Data Input'!AQ88,'Data Input'!AR88,'Data Input'!AZ88))","v":""},{"$f":"IF(O83=\"\",\"\",O83/COUNTIF('Data Input'!$C$8:$BU$8,\"GT\"))","v":""},{"$f":"IF(ISBLANK('Data Input'!A88),\"\",SUM('Data Input'!C88,'Data Input'!J88,'Data Input'!N88,'Data Input'!AS88,'Data Input'!AT88,'Data Input'!AV88))","v":""},{"$f":"IF(Q83=\"\",\"\",Q83/COUNTIF('Data Input'!$C$8:$BU$8,\"V\"))","v":""},{"$f":"IF(ISBLANK('Data Input'!A88),\"\",SUM('Data Input'!AI88,'Data Input'!AN88))","v":""},{"$f":"IF(S83=\"\",\"\",S83/COUNTIF('Data Input'!$C$8:$BU$8,\"F/I\"))","v":""},{"$f":"IF(ISBLANK('Data Input'!C88),\"\",SUM('Data Input'!BB88:BU88))","v":""},{"$f":"IF(U83=\"\",\"\",U83/COUNTIF('Data Input'!$C$8:$BU$8,\"Sp\"))","v":""}]
[{"$f":"IF('Data Input'!A89=0,\"\",'Data Input'!A89)","v":""},{"$f":"IF(ISBLANK('Data Input'!A89),\"\",COUNTIF('Data Input'!C89:BU89,\"\")-1)","v":""},{"$f":"IF(ISBLANK('Data Input'!A89),\"\",COUNTIF('Data Input'!C89:BU89,\"0\"))","v":""},{"$f":"IF(ISBLANK('Data Input'!A89),\"\",SUM(B84,C84))","v":""},{"$f":"IF(ISBLANK('Data Input'!A89),\"\",SUM('Data Input'!C89:BU89))","v":""},{"$f":"IF(E84=\"\",\"\",E84/(COUNTA('Data Input'!$C$8:$BU$8)-1))","v":""},{"$f":"IF(ISBLANK('Data Input'!A89),\"\",SUM('Data Input'!H89,'Data Input'!AA89,'Data Input'!AO89,'Data Input'!AP89))","v":""},{"$f":"IF(G84=\"\",\"\",G84/COUNTIF('Data Input'!$C$8:$BU$8,\"CS\"))","v":""},{"$f":"IF(ISBLANK('Data Input'!A89),\"\",SUM('Data Input'!P89,'Data Input'!T89,'Data Input'!AD89,'Data Input'!AX89,'Data Input'!AY89))","v":""},{"$f":"IF(I84=\"\",\"\",I84/COUNTIF('Data Input'!$C$8:$BU$8,\"SE\"))","v":""},{"$f":"IF(ISBLANK('Data Input'!A89),\"\",SUM('Data Input'!K89,'Data Input'!L89,'Data Input'!M89,'Data Input'!O89,'Data Input'!Q89,'Data Input'!U89,'Data Input'!X89,'Data Input'!Y89,'Data Input'!Z89,'Data Input'!AB89,'Data Input'!AE89,'Data Input'!AG89,'Data Input'!AL89,'Data Input'!AU89,'Data Input'!AW89))","v":""},{"$f":"IF(K84=\"\",\"\",K84/COUNTIF('Data Input'!$C$8:$BU$8,\"P\"))","v":""},{"$f":"IF(ISBLANK('Data Input'!A89),\"\",SUM('Data Input'!I89,'Data Input'!S89))","v":""},{"$f":"IF(M84=\"\",\"\",M84/COUNTIF('Data Input'!$C$8:$BU$8,\"FS\"))","v":""},{"$f":"IF(ISBLANK('Data Input'!A89),\"\",SUM('Data Input'!D89,'Data Input'!E89,'Data Input'!F89,'Data Input'!G89,'Data Input'!R89,'Data Input'!V89,'Data Input'!W89,'Data Input'!AC89,'Data Input'!AF89,'Data Input'!AH89,'Data Input'!AJ89,'Data Input'!AK89,'Data Input'!AM89,'Data Input'!AQ89,'Data Input'!AR89,'Data Input'!AZ89))","v":""},{"$f":"IF(O84=\"\",\"\",O84/COUNTIF('Data Input'!$C$8:$BU$8,\"GT\"))","v":""},{"$f":"IF(ISBLANK('Data Input'!A89),\"\",SUM('Data Input'!C89,'Data Input'!J89,'Data Input'!N89,'Data Input'!AS89,'Data Input'!AT89,'Data Input'!AV89))","v":""},{"$f":"IF(Q84=\"\",\"\",Q84/COUNTIF('Data Input'!$C$8:$BU$8,\"V\"))","v":""},{"$f":"IF(ISBLANK('Data Input'!A89),\"\",SUM('Data Input'!AI89,'Data Input'!AN89))","v":""},{"$f":"IF(S84=\"\",\"\",S84/COUNTIF('Data Input'!$C$8:$BU$8,\"F/I\"))","v":""},{"$f":"IF(ISBLANK('Data Input'!C89),\"\",SUM('Data Input'!BB89:BU89))","v":""},{"$f":"IF(U84=\"\",\"\",U84/COUNTIF('Data Input'!$C$8:$BU$8,\"Sp\"))","v":""}]
[{"$f":"IF('Data Input'!A90=0,\"\",'Data Input'!A90)","v":""},{"$f":"IF(ISBLANK('Data Input'!A90),\"\",COUNTIF('Data Input'!C90:BU90,\"\")-1)","v":""},{"$f":"IF(ISBLANK('Data Input'!A90),\"\",COUNTIF('Data Input'!C90:BU90,\"0\"))","v":""},{"$f":"IF(ISBLANK('Data Input'!A90),\"\",SUM(B85,C85))","v":""},{"$f":"IF(ISBLANK('Data Input'!A90),\"\",SUM('Data Input'!C90:BU90))","v":""},{"$f":"IF(E85=\"\",\"\",E85/(COUNTA('Data Input'!$C$8:$BU$8)-1))","v":""},{"$f":"IF(ISBLANK('Data Input'!A90),\"\",SUM('Data Input'!H90,'Data Input'!AA90,'Data Input'!AO90,'Data Input'!AP90))","v":""},{"$f":"IF(G85=\"\",\"\",G85/COUNTIF('Data Input'!$C$8:$BU$8,\"CS\"))","v":""},{"$f":"IF(ISBLANK('Data Input'!A90),\"\",SUM('Data Input'!P90,'Data Input'!T90,'Data Input'!AD90,'Data Input'!AX90,'Data Input'!AY90))","v":""},{"$f":"IF(I85=\"\",\"\",I85/COUNTIF('Data Input'!$C$8:$BU$8,\"SE\"))","v":""},{"$f":"IF(ISBLANK('Data Input'!A90),\"\",SUM('Data Input'!K90,'Data Input'!L90,'Data Input'!M90,'Data Input'!O90,'Data Input'!Q90,'Data Input'!U90,'Data Input'!X90,'Data Input'!Y90,'Data Input'!Z90,'Data Input'!AB90,'Data Input'!AE90,'Data Input'!AG90,'Data Input'!AL90,'Data Input'!AU90,'Data Input'!AW90))","v":""},{"$f":"IF(K85=\"\",\"\",K85/COUNTIF('Data Input'!$C$8:$BU$8,\"P\"))","v":""},{"$f":"IF(ISBLANK('Data Input'!A90),\"\",SUM('Data Input'!I90,'Data Input'!S90))","v":""},{"$f":"IF(M85=\"\",\"\",M85/COUNTIF('Data Input'!$C$8:$BU$8,\"FS\"))","v":""},{"$f":"IF(ISBLANK('Data Input'!A90),\"\",SUM('Data Input'!D90,'Data Input'!E90,'Data Input'!F90,'Data Input'!G90,'Data Input'!R90,'Data Input'!V90,'Data Input'!W90,'Data Input'!AC90,'Data Input'!AF90,'Data Input'!AH90,'Data Input'!AJ90,'Data Input'!AK90,'Data Input'!AM90,'Data Input'!AQ90,'Data Input'!AR90,'Data Input'!AZ90))","v":""},{"$f":"IF(O85=\"\",\"\",O85/COUNTIF('Data Input'!$C$8:$BU$8,\"GT\"))","v":""},{"$f":"IF(ISBLANK('Data Input'!A90),\"\",SUM('Data Input'!C90,'Data Input'!J90,'Data Input'!N90,'Data Input'!AS90,'Data Input'!AT90,'Data Input'!AV90))","v":""},{"$f":"IF(Q85=\"\",\"\",Q85/COUNTIF('Data Input'!$C$8:$BU$8,\"V\"))","v":""},{"$f":"IF(ISBLANK('Data Input'!A90),\"\",SUM('Data Input'!AI90,'Data Input'!AN90))","v":""},{"$f":"IF(S85=\"\",\"\",S85/COUNTIF('Data Input'!$C$8:$BU$8,\"F/I\"))","v":""},{"$f":"IF(ISBLANK('Data Input'!C90),\"\",SUM('Data Input'!BB90:BU90))","v":""},{"$f":"IF(U85=\"\",\"\",U85/COUNTIF('Data Input'!$C$8:$BU$8,\"Sp\"))","v":""}]
[{"$f":"IF('Data Input'!A91=0,\"\",'Data Input'!A91)","v":""},{"$f":"IF(ISBLANK('Data Input'!A91),\"\",COUNTIF('Data Input'!C91:BU91,\"\")-1)","v":""},{"$f":"IF(ISBLANK('Data Input'!A91),\"\",COUNTIF('Data Input'!C91:BU91,\"0\"))","v":""},{"$f":"IF(ISBLANK('Data Input'!A91),\"\",SUM(B86,C86))","v":""},{"$f":"IF(ISBLANK('Data Input'!A91),\"\",SUM('Data Input'!C91:BU91))","v":""},{"$f":"IF(E86=\"\",\"\",E86/(COUNTA('Data Input'!$C$8:$BU$8)-1))","v":""},{"$f":"IF(ISBLANK('Data Input'!A91),\"\",SUM('Data Input'!H91,'Data Input'!AA91,'Data Input'!AO91,'Data Input'!AP91))","v":""},{"$f":"IF(G86=\"\",\"\",G86/COUNTIF('Data Input'!$C$8:$BU$8,\"CS\"))","v":""},{"$f":"IF(ISBLANK('Data Input'!A91),\"\",SUM('Data Input'!P91,'Data Input'!T91,'Data Input'!AD91,'Data Input'!AX91,'Data Input'!AY91))","v":""},{"$f":"IF(I86=\"\",\"\",I86/COUNTIF('Data Input'!$C$8:$BU$8,\"SE\"))","v":""},{"$f":"IF(ISBLANK('Data Input'!A91),\"\",SUM('Data Input'!K91,'Data Input'!L91,'Data Input'!M91,'Data Input'!O91,'Data Input'!Q91,'Data Input'!U91,'Data Input'!X91,'Data Input'!Y91,'Data Input'!Z91,'Data Input'!AB91,'Data Input'!AE91,'Data Input'!AG91,'Data Input'!AL91,'Data Input'!AU91,'Data Input'!AW91))","v":""},{"$f":"IF(K86=\"\",\"\",K86/COUNTIF('Data Input'!$C$8:$BU$8,\"P\"))","v":""},{"$f":"IF(ISBLANK('Data Input'!A91),\"\",SUM('Data Input'!I91,'Data Input'!S91))","v":""},{"$f":"IF(M86=\"\",\"\",M86/COUNTIF('Data Input'!$C$8:$BU$8,\"FS\"))","v":""},{"$f":"IF(ISBLANK('Data Input'!A91),\"\",SUM('Data Input'!D91,'Data Input'!E91,'Data Input'!F91,'Data Input'!G91,'Data Input'!R91,'Data Input'!V91,'Data Input'!W91,'Data Input'!AC91,'Data Input'!AF91,'Data Input'!AH91,'Data Input'!AJ91,'Data Input'!AK91,'Data Input'!AM91,'Data Input'!AQ91,'Data Input'!AR91,'Data Input'!AZ91))","v":""},{"$f":"IF(O86=\"\",\"\",O86/COUNTIF('Data Input'!$C$8:$BU$8,\"GT\"))","v":""},{"$f":"IF(ISBLANK('Data Input'!A91),\"\",SUM('Data Input'!C91,'Data Input'!J91,'Data Input'!N91,'Data Input'!AS91,'Data Input'!AT91,'Data Input'!AV91))","v":""},{"$f":"IF(Q86=\"\",\"\",Q86/COUNTIF('Data Input'!$C$8:$BU$8,\"V\"))","v":""},{"$f":"IF(ISBLANK('Data Input'!A91),\"\",SUM('Data Input'!AI91,'Data Input'!AN91))","v":""},{"$f":"IF(S86=\"\",\"\",S86/COUNTIF('Data Input'!$C$8:$BU$8,\"F/I\"))","v":""},{"$f":"IF(ISBLANK('Data Input'!C91),\"\",SUM('Data Input'!BB91:BU91))","v":""},{"$f":"IF(U86=\"\",\"\",U86/COUNTIF('Data Input'!$C$8:$BU$8,\"Sp\"))","v":""}]
[{"$f":"IF('Data Input'!A92=0,\"\",'Data Input'!A92)","v":""},{"$f":"IF(ISBLANK('Data Input'!A92),\"\",COUNTIF('Data Input'!C92:BU92,\"\")-1)","v":""},{"$f":"IF(ISBLANK('Data Input'!A92),\"\",COUNTIF('Data Input'!C92:BU92,\"0\"))","v":""},{"$f":"IF(ISBLANK('Data Input'!A92),\"\",SUM(B87,C87))","v":""},{"$f":"IF(ISBLANK('Data Input'!A92),\"\",SUM('Data Input'!C92:BU92))","v":""},{"$f":"IF(E87=\"\",\"\",E87/(COUNTA('Data Input'!$C$8:$BU$8)-1))","v":""},{"$f":"IF(ISBLANK('Data Input'!A92),\"\",SUM('Data Input'!H92,'Data Input'!AA92,'Data Input'!AO92,'Data Input'!AP92))","v":""},{"$f":"IF(G87=\"\",\"\",G87/COUNTIF('Data Input'!$C$8:$BU$8,\"CS\"))","v":""},{"$f":"IF(ISBLANK('Data Input'!A92),\"\",SUM('Data Input'!P92,'Data Input'!T92,'Data Input'!AD92,'Data Input'!AX92,'Data Input'!AY92))","v":""},{"$f":"IF(I87=\"\",\"\",I87/COUNTIF('Data Input'!$C$8:$BU$8,\"SE\"))","v":""},{"$f":"IF(ISBLANK('Data Input'!A92),\"\",SUM('Data Input'!K92,'Data Input'!L92,'Data Input'!M92,'Data Input'!O92,'Data Input'!Q92,'Data Input'!U92,'Data Input'!X92,'Data Input'!Y92,'Data Input'!Z92,'Data Input'!AB92,'Data Input'!AE92,'Data Input'!AG92,'Data Input'!AL92,'Data Input'!AU92,'Data Input'!AW92))","v":""},{"$f":"IF(K87=\"\",\"\",K87/COUNTIF('Data Input'!$C$8:$BU$8,\"P\"))","v":""},{"$f":"IF(ISBLANK('Data Input'!A92),\"\",SUM('Data Input'!I92,'Data Input'!S92))","v":""},{"$f":"IF(M87=\"\",\"\",M87/COUNTIF('Data Input'!$C$8:$BU$8,\"FS\"))","v":""},{"$f":"IF(ISBLANK('Data Input'!A92),\"\",SUM('Data Input'!D92,'Data Input'!E92,'Data Input'!F92,'Data Input'!G92,'Data Input'!R92,'Data Input'!V92,'Data Input'!W92,'Data Input'!AC92,'Data Input'!AF92,'Data Input'!AH92,'Data Input'!AJ92,'Data Input'!AK92,'Data Input'!AM92,'Data Input'!AQ92,'Data Input'!AR92,'Data Input'!AZ92))","v":""},{"$f":"IF(O87=\"\",\"\",O87/COUNTIF('Data Input'!$C$8:$BU$8,\"GT\"))","v":""},{"$f":"IF(ISBLANK('Data Input'!A92),\"\",SUM('Data Input'!C92,'Data Input'!J92,'Data Input'!N92,'Data Input'!AS92,'Data Input'!AT92,'Data Input'!AV92))","v":""},{"$f":"IF(Q87=\"\",\"\",Q87/COUNTIF('Data Input'!$C$8:$BU$8,\"V\"))","v":""},{"$f":"IF(ISBLANK('Data Input'!A92),\"\",SUM('Data Input'!AI92,'Data Input'!AN92))","v":""},{"$f":"IF(S87=\"\",\"\",S87/COUNTIF('Data Input'!$C$8:$BU$8,\"F/I\"))","v":""},{"$f":"IF(ISBLANK('Data Input'!C92),\"\",SUM('Data Input'!BB92:BU92))","v":""},{"$f":"IF(U87=\"\",\"\",U87/COUNTIF('Data Input'!$C$8:$BU$8,\"Sp\"))","v":""}]
[{"$f":"IF('Data Input'!A93=0,\"\",'Data Input'!A93)","v":""},{"$f":"IF(ISBLANK('Data Input'!A93),\"\",COUNTIF('Data Input'!C93:BU93,\"\")-1)","v":""},{"$f":"IF(ISBLANK('Data Input'!A93),\"\",COUNTIF('Data Input'!C93:BU93,\"0\"))","v":""},{"$f":"IF(ISBLANK('Data Input'!A93),\"\",SUM(B88,C88))","v":""},{"$f":"IF(ISBLANK('Data Input'!A93),\"\",SUM('Data Input'!C93:BU93))","v":""},{"$f":"IF(E88=\"\",\"\",E88/(COUNTA('Data Input'!$C$8:$BU$8)-1))","v":""},{"$f":"IF(ISBLANK('Data Input'!A93),\"\",SUM('Data Input'!H93,'Data Input'!AA93,'Data Input'!AO93,'Data Input'!AP93))","v":""},{"$f":"IF(G88=\"\",\"\",G88/COUNTIF('Data Input'!$C$8:$BU$8,\"CS\"))","v":""},{"$f":"IF(ISBLANK('Data Input'!A93),\"\",SUM('Data Input'!P93,'Data Input'!T93,'Data Input'!AD93,'Data Input'!AX93,'Data Input'!AY93))","v":""},{"$f":"IF(I88=\"\",\"\",I88/COUNTIF('Data Input'!$C$8:$BU$8,\"SE\"))","v":""},{"$f":"IF(ISBLANK('Data Input'!A93),\"\",SUM('Data Input'!K93,'Data Input'!L93,'Data Input'!M93,'Data Input'!O93,'Data Input'!Q93,'Data Input'!U93,'Data Input'!X93,'Data Input'!Y93,'Data Input'!Z93,'Data Input'!AB93,'Data Input'!AE93,'Data Input'!AG93,'Data Input'!AL93,'Data Input'!AU93,'Data Input'!AW93))","v":""},{"$f":"IF(K88=\"\",\"\",K88/COUNTIF('Data Input'!$C$8:$BU$8,\"P\"))","v":""},{"$f":"IF(ISBLANK('Data Input'!A93),\"\",SUM('Data Input'!I93,'Data Input'!S93))","v":""},{"$f":"IF(M88=\"\",\"\",M88/COUNTIF('Data Input'!$C$8:$BU$8,\"FS\"))","v":""},{"$f":"IF(ISBLANK('Data Input'!A93),\"\",SUM('Data Input'!D93,'Data Input'!E93,'Data Input'!F93,'Data Input'!G93,'Data Input'!R93,'Data Input'!V93,'Data Input'!W93,'Data Input'!AC93,'Data Input'!AF93,'Data Input'!AH93,'Data Input'!AJ93,'Data Input'!AK93,'Data Input'!AM93,'Data Input'!AQ93,'Data Input'!AR93,'Data Input'!AZ93))","v":""},{"$f":"IF(O88=\"\",\"\",O88/COUNTIF('Data Input'!$C$8:$BU$8,\"GT\"))","v":""},{"$f":"IF(ISBLANK('Data Input'!A93),\"\",SUM('Data Input'!C93,'Data Input'!J93,'Data Input'!N93,'Data Input'!AS93,'Data Input'!AT93,'Data Input'!AV93))","v":""},{"$f":"IF(Q88=\"\",\"\",Q88/COUNTIF('Data Input'!$C$8:$BU$8,\"V\"))","v":""},{"$f":"IF(ISBLANK('Data Input'!A93),\"\",SUM('Data Input'!AI93,'Data Input'!AN93))","v":""},{"$f":"IF(S88=\"\",\"\",S88/COUNTIF('Data Input'!$C$8:$BU$8,\"F/I\"))","v":""},{"$f":"IF(ISBLANK('Data Input'!C93),\"\",SUM('Data Input'!BB93:BU93))","v":""},{"$f":"IF(U88=\"\",\"\",U88/COUNTIF('Data Input'!$C$8:$BU$8,\"Sp\"))","v":""}]
[{"$f":"IF('Data Input'!A94=0,\"\",'Data Input'!A94)","v":""},{"$f":"IF(ISBLANK('Data Input'!A94),\"\",COUNTIF('Data Input'!C94:BU94,\"\")-1)","v":""},{"$f":"IF(ISBLANK('Data Input'!A94),\"\",COUNTIF('Data Input'!C94:BU94,\"0\"))","v":""},{"$f":"IF(ISBLANK('Data Input'!A94),\"\",SUM(B89,C89))","v":""},{"$f":"IF(ISBLANK('Data Input'!A94),\"\",SUM('Data Input'!C94:BU94))","v":""},{"$f":"IF(E89=\"\",\"\",E89/(COUNTA('Data Input'!$C$8:$BU$8)-1))","v":""},{"$f":"IF(ISBLANK('Data Input'!A94),\"\",SUM('Data Input'!H94,'Data Input'!AA94,'Data Input'!AO94,'Data Input'!AP94))","v":""},{"$f":"IF(G89=\"\",\"\",G89/COUNTIF('Data Input'!$C$8:$BU$8,\"CS\"))","v":""},{"$f":"IF(ISBLANK('Data Input'!A94),\"\",SUM('Data Input'!P94,'Data Input'!T94,'Data Input'!AD94,'Data Input'!AX94,'Data Input'!AY94))","v":""},{"$f":"IF(I89=\"\",\"\",I89/COUNTIF('Data Input'!$C$8:$BU$8,\"SE\"))","v":""},{"$f":"IF(ISBLANK('Data Input'!A94),\"\",SUM('Data Input'!K94,'Data Input'!L94,'Data Input'!M94,'Data Input'!O94,'Data Input'!Q94,'Data Input'!U94,'Data Input'!X94,'Data Input'!Y94,'Data Input'!Z94,'Data Input'!AB94,'Data Input'!AE94,'Data Input'!AG94,'Data Input'!AL94,'Data Input'!AU94,'Data Input'!AW94))","v":""},{"$f":"IF(K89=\"\",\"\",K89/COUNTIF('Data Input'!$C$8:$BU$8,\"P\"))","v":""},{"$f":"IF(ISBLANK('Data Input'!A94),\"\",SUM('Data Input'!I94,'Data Input'!S94))","v":""},{"$f":"IF(M89=\"\",\"\",M89/COUNTIF('Data Input'!$C$8:$BU$8,\"FS\"))","v":""},{"$f":"IF(ISBLANK('Data Input'!A94),\"\",SUM('Data Input'!D94,'Data Input'!E94,'Data Input'!F94,'Data Input'!G94,'Data Input'!R94,'Data Input'!V94,'Data Input'!W94,'Data Input'!AC94,'Data Input'!AF94,'Data Input'!AH94,'Data Input'!AJ94,'Data Input'!AK94,'Data Input'!AM94,'Data Input'!AQ94,'Data Input'!AR94,'Data Input'!AZ94))","v":""},{"$f":"IF(O89=\"\",\"\",O89/COUNTIF('Data Input'!$C$8:$BU$8,\"GT\"))","v":""},{"$f":"IF(ISBLANK('Data Input'!A94),\"\",SUM('Data Input'!C94,'Data Input'!J94,'Data Input'!N94,'Data Input'!AS94,'Data Input'!AT94,'Data Input'!AV94))","v":""},{"$f":"IF(Q89=\"\",\"\",Q89/COUNTIF('Data Input'!$C$8:$BU$8,\"V\"))","v":""},{"$f":"IF(ISBLANK('Data Input'!A94),\"\",SUM('Data Input'!AI94,'Data Input'!AN94))","v":""},{"$f":"IF(S89=\"\",\"\",S89/COUNTIF('Data Input'!$C$8:$BU$8,\"F/I\"))","v":""},{"$f":"IF(ISBLANK('Data Input'!C94),\"\",SUM('Data Input'!BB94:BU94))","v":""},{"$f":"IF(U89=\"\",\"\",U89/COUNTIF('Data Input'!$C$8:$BU$8,\"Sp\"))","v":""}]
[{"$f":"IF('Data Input'!A95=0,\"\",'Data Input'!A95)","v":""},{"$f":"IF(ISBLANK('Data Input'!A95),\"\",COUNTIF('Data Input'!C95:BU95,\"\")-1)","v":""},{"$f":"IF(ISBLANK('Data Input'!A95),\"\",COUNTIF('Data Input'!C95:BU95,\"0\"))","v":""},{"$f":"IF(ISBLANK('Data Input'!A95),\"\",SUM(B90,C90))","v":""},{"$f":"IF(ISBLANK('Data Input'!A95),\"\",SUM('Data Input'!C95:BU95))","v":""},{"$f":"IF(E90=\"\",\"\",E90/(COUNTA('Data Input'!$C$8:$BU$8)-1))","v":""},{"$f":"IF(ISBLANK('Data Input'!A95),\"\",SUM('Data Input'!H95,'Data Input'!AA95,'Data Input'!AO95,'Data Input'!AP95))","v":""},{"$f":"IF(G90=\"\",\"\",G90/COUNTIF('Data Input'!$C$8:$BU$8,\"CS\"))","v":""},{"$f":"IF(ISBLANK('Data Input'!A95),\"\",SUM('Data Input'!P95,'Data Input'!T95,'Data Input'!AD95,'Data Input'!AX95,'Data Input'!AY95))","v":""},{"$f":"IF(I90=\"\",\"\",I90/COUNTIF('Data Input'!$C$8:$BU$8,\"SE\"))","v":""},{"$f":"IF(ISBLANK('Data Input'!A95),\"\",SUM('Data Input'!K95,'Data Input'!L95,'Data Input'!M95,'Data Input'!O95,'Data Input'!Q95,'Data Input'!U95,'Data Input'!X95,'Data Input'!Y95,'Data Input'!Z95,'Data Input'!AB95,'Data Input'!AE95,'Data Input'!AG95,'Data Input'!AL95,'Data Input'!AU95,'Data Input'!AW95))","v":""},{"$f":"IF(K90=\"\",\"\",K90/COUNTIF('Data Input'!$C$8:$BU$8,\"P\"))","v":""},{"$f":"IF(ISBLANK('Data Input'!A95),\"\",SUM('Data Input'!I95,'Data Input'!S95))","v":""},{"$f":"IF(M90=\"\",\"\",M90/COUNTIF('Data Input'!$C$8:$BU$8,\"FS\"))","v":""},{"$f":"IF(ISBLANK('Data Input'!A95),\"\",SUM('Data Input'!D95,'Data Input'!E95,'Data Input'!F95,'Data Input'!G95,'Data Input'!R95,'Data Input'!V95,'Data Input'!W95,'Data Input'!AC95,'Data Input'!AF95,'Data Input'!AH95,'Data Input'!AJ95,'Data Input'!AK95,'Data Input'!AM95,'Data Input'!AQ95,'Data Input'!AR95,'Data Input'!AZ95))","v":""},{"$f":"IF(O90=\"\",\"\",O90/COUNTIF('Data Input'!$C$8:$BU$8,\"GT\"))","v":""},{"$f":"IF(ISBLANK('Data Input'!A95),\"\",SUM('Data Input'!C95,'Data Input'!J95,'Data Input'!N95,'Data Input'!AS95,'Data Input'!AT95,'Data Input'!AV95))","v":""},{"$f":"IF(Q90=\"\",\"\",Q90/COUNTIF('Data Input'!$C$8:$BU$8,\"V\"))","v":""},{"$f":"IF(ISBLANK('Data Input'!A95),\"\",SUM('Data Input'!AI95,'Data Input'!AN95))","v":""},{"$f":"IF(S90=\"\",\"\",S90/COUNTIF('Data Input'!$C$8:$BU$8,\"F/I\"))","v":""},{"$f":"IF(ISBLANK('Data Input'!C95),\"\",SUM('Data Input'!BB95:BU95))","v":""},{"$f":"IF(U90=\"\",\"\",U90/COUNTIF('Data Input'!$C$8:$BU$8,\"Sp\"))","v":""}]
[{"$f":"IF('Data Input'!A96=0,\"\",'Data Input'!A96)","v":""},{"$f":"IF(ISBLANK('Data Input'!A96),\"\",COUNTIF('Data Input'!C96:BU96,\"\")-1)","v":""},{"$f":"IF(ISBLANK('Data Input'!A96),\"\",COUNTIF('Data Input'!C96:BU96,\"0\"))","v":""},{"$f":"IF(ISBLANK('Data Input'!A96),\"\",SUM(B91,C91))","v":""},{"$f":"IF(ISBLANK('Data Input'!A96),\"\",SUM('Data Input'!C96:BU96))","v":""},{"$f":"IF(E91=\"\",\"\",E91/(COUNTA('Data Input'!$C$8:$BU$8)-1))","v":""},{"$f":"IF(ISBLANK('Data Input'!A96),\"\",SUM('Data Input'!H96,'Data Input'!AA96,'Data Input'!AO96,'Data Input'!AP96))","v":""},{"$f":"IF(G91=\"\",\"\",G91/COUNTIF('Data Input'!$C$8:$BU$8,\"CS\"))","v":""},{"$f":"IF(ISBLANK('Data Input'!A96),\"\",SUM('Data Input'!P96,'Data Input'!T96,'Data Input'!AD96,'Data Input'!AX96,'Data Input'!AY96))","v":""},{"$f":"IF(I91=\"\",\"\",I91/COUNTIF('Data Input'!$C$8:$BU$8,\"SE\"))","v":""},{"$f":"IF(ISBLANK('Data Input'!A96),\"\",SUM('Data Input'!K96,'Data Input'!L96,'Data Input'!M96,'Data Input'!O96,'Data Input'!Q96,'Data Input'!U96,'Data Input'!X96,'Data Input'!Y96,'Data Input'!Z96,'Data Input'!AB96,'Data Input'!AE96,'Data Input'!AG96,'Data Input'!AL96,'Data Input'!AU96,'Data Input'!AW96))","v":""},{"$f":"IF(K91=\"\",\"\",K91/COUNTIF('Data Input'!$C$8:$BU$8,\"P\"))","v":""},{"$f":"IF(ISBLANK('Data Input'!A96),\"\",SUM('Data Input'!I96,'Data Input'!S96))","v":""},{"$f":"IF(M91=\"\",\"\",M91/COUNTIF('Data Input'!$C$8:$BU$8,\"FS\"))","v":""},{"$f":"IF(ISBLANK('Data Input'!A96),\"\",SUM('Data Input'!D96,'Data Input'!E96,'Data Input'!F96,'Data Input'!G96,'Data Input'!R96,'Data Input'!V96,'Data Input'!W96,'Data Input'!AC96,'Data Input'!AF96,'Data Input'!AH96,'Data Input'!AJ96,'Data Input'!AK96,'Data Input'!AM96,'Data Input'!AQ96,'Data Input'!AR96,'Data Input'!AZ96))","v":""},{"$f":"IF(O91=\"\",\"\",O91/COUNTIF('Data Input'!$C$8:$BU$8,\"GT\"))","v":""},{"$f":"IF(ISBLANK('Data Input'!A96),\"\",SUM('Data Input'!C96,'Data Input'!J96,'Data Input'!N96,'Data Input'!AS96,'Data Input'!AT96,'Data Input'!AV96))","v":""},{"$f":"IF(Q91=\"\",\"\",Q91/COUNTIF('Data Input'!$C$8:$BU$8,\"V\"))","v":""},{"$f":"IF(ISBLANK('Data Input'!A96),\"\",SUM('Data Input'!AI96,'Data Input'!AN96))","v":""},{"$f":"IF(S91=\"\",\"\",S91/COUNTIF('Data Input'!$C$8:$BU$8,\"F/I\"))","v":""},{"$f":"IF(ISBLANK('Data Input'!C96),\"\",SUM('Data Input'!BB96:BU96))","v":""},{"$f":"IF(U91=\"\",\"\",U91/COUNTIF('Data Input'!$C$8:$BU$8,\"Sp\"))","v":""}]
[{"$f":"IF('Data Input'!A97=0,\"\",'Data Input'!A97)","v":""},{"$f":"IF(ISBLANK('Data Input'!A97),\"\",COUNTIF('Data Input'!C97:BU97,\"\")-1)","v":""},{"$f":"IF(ISBLANK('Data Input'!A97),\"\",COUNTIF('Data Input'!C97:BU97,\"0\"))","v":""},{"$f":"IF(ISBLANK('Data Input'!A97),\"\",SUM(B92,C92))","v":""},{"$f":"IF(ISBLANK('Data Input'!A97),\"\",SUM('Data Input'!C97:BU97))","v":""},{"$f":"IF(E92=\"\",\"\",E92/(COUNTA('Data Input'!$C$8:$BU$8)-1))","v":""},{"$f":"IF(ISBLANK('Data Input'!A97),\"\",SUM('Data Input'!H97,'Data Input'!AA97,'Data Input'!AO97,'Data Input'!AP97))","v":""},{"$f":"IF(G92=\"\",\"\",G92/COUNTIF('Data Input'!$C$8:$BU$8,\"CS\"))","v":""},{"$f":"IF(ISBLANK('Data Input'!A97),\"\",SUM('Data Input'!P97,'Data Input'!T97,'Data Input'!AD97,'Data Input'!AX97,'Data Input'!AY97))","v":""},{"$f":"IF(I92=\"\",\"\",I92/COUNTIF('Data Input'!$C$8:$BU$8,\"SE\"))","v":""},{"$f":"IF(ISBLANK('Data Input'!A97),\"\",SUM('Data Input'!K97,'Data Input'!L97,'Data Input'!M97,'Data Input'!O97,'Data Input'!Q97,'Data Input'!U97,'Data Input'!X97,'Data Input'!Y97,'Data Input'!Z97,'Data Input'!AB97,'Data Input'!AE97,'Data Input'!AG97,'Data Input'!AL97,'Data Input'!AU97,'Data Input'!AW97))","v":""},{"$f":"IF(K92=\"\",\"\",K92/COUNTIF('Data Input'!$C$8:$BU$8,\"P\"))","v":""},{"$f":"IF(ISBLANK('Data Input'!A97),\"\",SUM('Data Input'!I97,'Data Input'!S97))","v":""},{"$f":"IF(M92=\"\",\"\",M92/COUNTIF('Data Input'!$C$8:$BU$8,\"FS\"))","v":""},{"$f":"IF(ISBLANK('Data Input'!A97),\"\",SUM('Data Input'!D97,'Data Input'!E97,'Data Input'!F97,'Data Input'!G97,'Data Input'!R97,'Data Input'!V97,'Data Input'!W97,'Data Input'!AC97,'Data Input'!AF97,'Data Input'!AH97,'Data Input'!AJ97,'Data Input'!AK97,'Data Input'!AM97,'Data Input'!AQ97,'Data Input'!AR97,'Data Input'!AZ97))","v":""},{"$f":"IF(O92=\"\",\"\",O92/COUNTIF('Data Input'!$C$8:$BU$8,\"GT\"))","v":""},{"$f":"IF(ISBLANK('Data Input'!A97),\"\",SUM('Data Input'!C97,'Data Input'!J97,'Data Input'!N97,'Data Input'!AS97,'Data Input'!AT97,'Data Input'!AV97))","v":""},{"$f":"IF(Q92=\"\",\"\",Q92/COUNTIF('Data Input'!$C$8:$BU$8,\"V\"))","v":""},{"$f":"IF(ISBLANK('Data Input'!A97),\"\",SUM('Data Input'!AI97,'Data Input'!AN97))","v":""},{"$f":"IF(S92=\"\",\"\",S92/COUNTIF('Data Input'!$C$8:$BU$8,\"F/I\"))","v":""},{"$f":"IF(ISBLANK('Data Input'!C97),\"\",SUM('Data Input'!BB97:BU97))","v":""},{"$f":"IF(U92=\"\",\"\",U92/COUNTIF('Data Input'!$C$8:$BU$8,\"Sp\"))","v":""}]
[{"$f":"IF('Data Input'!A98=0,\"\",'Data Input'!A98)","v":""},{"$f":"IF(ISBLANK('Data Input'!A98),\"\",COUNTIF('Data Input'!C98:BU98,\"\")-1)","v":""},{"$f":"IF(ISBLANK('Data Input'!A98),\"\",COUNTIF('Data Input'!C98:BU98,\"0\"))","v":""},{"$f":"IF(ISBLANK('Data Input'!A98),\"\",SUM(B93,C93))","v":""},{"$f":"IF(ISBLANK('Data Input'!A98),\"\",SUM('Data Input'!C98:BU98))","v":""},{"$f":"IF(E93=\"\",\"\",E93/(COUNTA('Data Input'!$C$8:$BU$8)-1))","v":""},{"$f":"IF(ISBLANK('Data Input'!A98),\"\",SUM('Data Input'!H98,'Data Input'!AA98,'Data Input'!AO98,'Data Input'!AP98))","v":""},{"$f":"IF(G93=\"\",\"\",G93/COUNTIF('Data Input'!$C$8:$BU$8,\"CS\"))","v":""},{"$f":"IF(ISBLANK('Data Input'!A98),\"\",SUM('Data Input'!P98,'Data Input'!T98,'Data Input'!AD98,'Data Input'!AX98,'Data Input'!AY98))","v":""},{"$f":"IF(I93=\"\",\"\",I93/COUNTIF('Data Input'!$C$8:$BU$8,\"SE\"))","v":""},{"$f":"IF(ISBLANK('Data Input'!A98),\"\",SUM('Data Input'!K98,'Data Input'!L98,'Data Input'!M98,'Data Input'!O98,'Data Input'!Q98,'Data Input'!U98,'Data Input'!X98,'Data Input'!Y98,'Data Input'!Z98,'Data Input'!AB98,'Data Input'!AE98,'Data Input'!AG98,'Data Input'!AL98,'Data Input'!AU98,'Data Input'!AW98))","v":""},{"$f":"IF(K93=\"\",\"\",K93/COUNTIF('Data Input'!$C$8:$BU$8,\"P\"))","v":""},{"$f":"IF(ISBLANK('Data Input'!A98),\"\",SUM('Data Input'!I98,'Data Input'!S98))","v":""},{"$f":"IF(M93=\"\",\"\",M93/COUNTIF('Data Input'!$C$8:$BU$8,\"FS\"))","v":""},{"$f":"IF(ISBLANK('Data Input'!A98),\"\",SUM('Data Input'!D98,'Data Input'!E98,'Data Input'!F98,'Data Input'!G98,'Data Input'!R98,'Data Input'!V98,'Data Input'!W98,'Data Input'!AC98,'Data Input'!AF98,'Data Input'!AH98,'Data Input'!AJ98,'Data Input'!AK98,'Data Input'!AM98,'Data Input'!AQ98,'Data Input'!AR98,'Data Input'!AZ98))","v":""},{"$f":"IF(O93=\"\",\"\",O93/COUNTIF('Data Input'!$C$8:$BU$8,\"GT\"))","v":""},{"$f":"IF(ISBLANK('Data Input'!A98),\"\",SUM('Data Input'!C98,'Data Input'!J98,'Data Input'!N98,'Data Input'!AS98,'Data Input'!AT98,'Data Input'!AV98))","v":""},{"$f":"IF(Q93=\"\",\"\",Q93/COUNTIF('Data Input'!$C$8:$BU$8,\"V\"))","v":""},{"$f":"IF(ISBLANK('Data Input'!A98),\"\",SUM('Data Input'!AI98,'Data Input'!AN98))","v":""},{"$f":"IF(S93=\"\",\"\",S93/COUNTIF('Data Input'!$C$8:$BU$8,\"F/I\"))","v":""},{"$f":"IF(ISBLANK('Data Input'!C98),\"\",SUM('Data Input'!BB98:BU98))","v":""},{"$f":"IF(U93=\"\",\"\",U93/COUNTIF('Data Input'!$C$8:$BU$8,\"Sp\"))","v":""}]
[{"$f":"IF('Data Input'!A99=0,\"\",'Data Input'!A99)","v":""},{"$f":"IF(ISBLANK('Data Input'!A99),\"\",COUNTIF('Data Input'!C99:BU99,\"\")-1)","v":""},{"$f":"IF(ISBLANK('Data Input'!A99),\"\",COUNTIF('Data Input'!C99:BU99,\"0\"))","v":""},{"$f":"IF(ISBLANK('Data Input'!A99),\"\",SUM(B94,C94))","v":""},{"$f":"IF(ISBLANK('Data Input'!A99),\"\",SUM('Data Input'!C99:BU99))","v":""},{"$f":"IF(E94=\"\",\"\",E94/(COUNTA('Data Input'!$C$8:$BU$8)-1))","v":""},{"$f":"IF(ISBLANK('Data Input'!A99),\"\",SUM('Data Input'!H99,'Data Input'!AA99,'Data Input'!AO99,'Data Input'!AP99))","v":""},{"$f":"IF(G94=\"\",\"\",G94/COUNTIF('Data Input'!$C$8:$BU$8,\"CS\"))","v":""},{"$f":"IF(ISBLANK('Data Input'!A99),\"\",SUM('Data Input'!P99,'Data Input'!T99,'Data Input'!AD99,'Data Input'!AX99,'Data Input'!AY99))","v":""},{"$f":"IF(I94=\"\",\"\",I94/COUNTIF('Data Input'!$C$8:$BU$8,\"SE\"))","v":""},{"$f":"IF(ISBLANK('Data Input'!A99),\"\",SUM('Data Input'!K99,'Data Input'!L99,'Data Input'!M99,'Data Input'!O99,'Data Input'!Q99,'Data Input'!U99,'Data Input'!X99,'Data Input'!Y99,'Data Input'!Z99,'Data Input'!AB99,'Data Input'!AE99,'Data Input'!AG99,'Data Input'!AL99,'Data Input'!AU99,'Data Input'!AW99))","v":""},{"$f":"IF(K94=\"\",\"\",K94/COUNTIF('Data Input'!$C$8:$BU$8,\"P\"))","v":""},{"$f":"IF(ISBLANK('Data Input'!A99),\"\",SUM('Data Input'!I99,'Data Input'!S99))","v":""},{"$f":"IF(M94=\"\",\"\",M94/COUNTIF('Data Input'!$C$8:$BU$8,\"FS\"))","v":""},{"$f":"IF(ISBLANK('Data Input'!A99),\"\",SUM('Data Input'!D99,'Data Input'!E99,'Data Input'!F99,'Data Input'!G99,'Data Input'!R99,'Data Input'!V99,'Data Input'!W99,'Data Input'!AC99,'Data Input'!AF99,'Data Input'!AH99,'Data Input'!AJ99,'Data Input'!AK99,'Data Input'!AM99,'Data Input'!AQ99,'Data Input'!AR99,'Data Input'!AZ99))","v":""},{"$f":"IF(O94=\"\",\"\",O94/COUNTIF('Data Input'!$C$8:$BU$8,\"GT\"))","v":""},{"$f":"IF(ISBLANK('Data Input'!A99),\"\",SUM('Data Input'!C99,'Data Input'!J99,'Data Input'!N99,'Data Input'!AS99,'Data Input'!AT99,'Data Input'!AV99))","v":""},{"$f":"IF(Q94=\"\",\"\",Q94/COUNTIF('Data Input'!$C$8:$BU$8,\"V\"))","v":""},{"$f":"IF(ISBLANK('Data Input'!A99),\"\",SUM('Data Input'!AI99,'Data Input'!AN99))","v":""},{"$f":"IF(S94=\"\",\"\",S94/COUNTIF('Data Input'!$C$8:$BU$8,\"F/I\"))","v":""},{"$f":"IF(ISBLANK('Data Input'!C99),\"\",SUM('Data Input'!BB99:BU99))","v":""},{"$f":"IF(U94=\"\",\"\",U94/COUNTIF('Data Input'!$C$8:$BU$8,\"Sp\"))","v":""}]
[{"$f":"IF('Data Input'!A100=0,\"\",'Data Input'!A100)","v":""},{"$f":"IF(ISBLANK('Data Input'!A100),\"\",COUNTIF('Data Input'!C100:BU100,\"\")-1)","v":""},{"$f":"IF(ISBLANK('Data Input'!A100),\"\",COUNTIF('Data Input'!C100:BU100,\"0\"))","v":""},{"$f":"IF(ISBLANK('Data Input'!A100),\"\",SUM(B95,C95))","v":""},{"$f":"IF(ISBLANK('Data Input'!A100),\"\",SUM('Data Input'!C100:BU100))","v":""},{"$f":"IF(E95=\"\",\"\",E95/(COUNTA('Data Input'!$C$8:$BU$8)-1))","v":""},{"$f":"IF(ISBLANK('Data Input'!A100),\"\",SUM('Data Input'!H100,'Data Input'!AA100,'Data Input'!AO100,'Data Input'!AP100))","v":""},{"$f":"IF(G95=\"\",\"\",G95/COUNTIF('Data Input'!$C$8:$BU$8,\"CS\"))","v":""},{"$f":"IF(ISBLANK('Data Input'!A100),\"\",SUM('Data Input'!P100,'Data Input'!T100,'Data Input'!AD100,'Data Input'!AX100,'Data Input'!AY100))","v":""},{"$f":"IF(I95=\"\",\"\",I95/COUNTIF('Data Input'!$C$8:$BU$8,\"SE\"))","v":""},{"$f":"IF(ISBLANK('Data Input'!A100),\"\",SUM('Data Input'!K100,'Data Input'!L100,'Data Input'!M100,'Data Input'!O100,'Data Input'!Q100,'Data Input'!U100,'Data Input'!X100,'Data Input'!Y100,'Data Input'!Z100,'Data Input'!AB100,'Data Input'!AE100,'Data Input'!AG100,'Data Input'!AL100,'Data Input'!AU100,'Data Input'!AW100))","v":""},{"$f":"IF(K95=\"\",\"\",K95/COUNTIF('Data Input'!$C$8:$BU$8,\"P\"))","v":""},{"$f":"IF(ISBLANK('Data Input'!A100),\"\",SUM('Data Input'!I100,'Data Input'!S100))","v":""},{"$f":"IF(M95=\"\",\"\",M95/COUNTIF('Data Input'!$C$8:$BU$8,\"FS\"))","v":""},{"$f":"IF(ISBLANK('Data Input'!A100),\"\",SUM('Data Input'!D100,'Data Input'!E100,'Data Input'!F100,'Data Input'!G100,'Data Input'!R100,'Data Input'!V100,'Data Input'!W100,'Data Input'!AC100,'Data Input'!AF100,'Data Input'!AH100,'Data Input'!AJ100,'Data Input'!AK100,'Data Input'!AM100,'Data Input'!AQ100,'Data Input'!AR100,'Data Input'!AZ100))","v":""},{"$f":"IF(O95=\"\",\"\",O95/COUNTIF('Data Input'!$C$8:$BU$8,\"GT\"))","v":""},{"$f":"IF(ISBLANK('Data Input'!A100),\"\",SUM('Data Input'!C100,'Data Input'!J100,'Data Input'!N100,'Data Input'!AS100,'Data Input'!AT100,'Data Input'!AV100))","v":""},{"$f":"IF(Q95=\"\",\"\",Q95/COUNTIF('Data Input'!$C$8:$BU$8,\"V\"))","v":""},{"$f":"IF(ISBLANK('Data Input'!A100),\"\",SUM('Data Input'!AI100,'Data Input'!AN100))","v":""},{"$f":"IF(S95=\"\",\"\",S95/COUNTIF('Data Input'!$C$8:$BU$8,\"F/I\"))","v":""},{"$f":"IF(ISBLANK('Data Input'!C100),\"\",SUM('Data Input'!BB100:BU100))","v":""},{"$f":"IF(U95=\"\",\"\",U95/COUNTIF('Data Input'!$C$8:$BU$8,\"Sp\"))","v":""}]
[{"$f":"IF('Data Input'!A101=0,\"\",'Data Input'!A101)","v":""},{"$f":"IF(ISBLANK('Data Input'!A101),\"\",COUNTIF('Data Input'!C101:BU101,\"\")-1)","v":""},{"$f":"IF(ISBLANK('Data Input'!A101),\"\",COUNTIF('Data Input'!C101:BU101,\"0\"))","v":""},{"$f":"IF(ISBLANK('Data Input'!A101),\"\",SUM(B96,C96))","v":""},{"$f":"IF(ISBLANK('Data Input'!A101),\"\",SUM('Data Input'!C101:BU101))","v":""},{"$f":"IF(E96=\"\",\"\",E96/(COUNTA('Data Input'!$C$8:$BU$8)-1))","v":""},{"$f":"IF(ISBLANK('Data Input'!A101),\"\",SUM('Data Input'!H101,'Data Input'!AA101,'Data Input'!AO101,'Data Input'!AP101))","v":""},{"$f":"IF(G96=\"\",\"\",G96/COUNTIF('Data Input'!$C$8:$BU$8,\"CS\"))","v":""},{"$f":"IF(ISBLANK('Data Input'!A101),\"\",SUM('Data Input'!P101,'Data Input'!T101,'Data Input'!AD101,'Data Input'!AX101,'Data Input'!AY101))","v":""},{"$f":"IF(I96=\"\",\"\",I96/COUNTIF('Data Input'!$C$8:$BU$8,\"SE\"))","v":""},{"$f":"IF(ISBLANK('Data Input'!A101),\"\",SUM('Data Input'!K101,'Data Input'!L101,'Data Input'!M101,'Data Input'!O101,'Data Input'!Q101,'Data Input'!U101,'Data Input'!X101,'Data Input'!Y101,'Data Input'!Z101,'Data Input'!AB101,'Data Input'!AE101,'Data Input'!AG101,'Data Input'!AL101,'Data Input'!AU101,'Data Input'!AW101))","v":""},{"$f":"IF(K96=\"\",\"\",K96/COUNTIF('Data Input'!$C$8:$BU$8,\"P\"))","v":""},{"$f":"IF(ISBLANK('Data Input'!A101),\"\",SUM('Data Input'!I101,'Data Input'!S101))","v":""},{"$f":"IF(M96=\"\",\"\",M96/COUNTIF('Data Input'!$C$8:$BU$8,\"FS\"))","v":""},{"$f":"IF(ISBLANK('Data Input'!A101),\"\",SUM('Data Input'!D101,'Data Input'!E101,'Data Input'!F101,'Data Input'!G101,'Data Input'!R101,'Data Input'!V101,'Data Input'!W101,'Data Input'!AC101,'Data Input'!AF101,'Data Input'!AH101,'Data Input'!AJ101,'Data Input'!AK101,'Data Input'!AM101,'Data Input'!AQ101,'Data Input'!AR101,'Data Input'!AZ101))","v":""},{"$f":"IF(O96=\"\",\"\",O96/COUNTIF('Data Input'!$C$8:$BU$8,\"GT\"))","v":""},{"$f":"IF(ISBLANK('Data Input'!A101),\"\",SUM('Data Input'!C101,'Data Input'!J101,'Data Input'!N101,'Data Input'!AS101,'Data Input'!AT101,'Data Input'!AV101))","v":""},{"$f":"IF(Q96=\"\",\"\",Q96/COUNTIF('Data Input'!$C$8:$BU$8,\"V\"))","v":""},{"$f":"IF(ISBLANK('Data Input'!A101),\"\",SUM('Data Input'!AI101,'Data Input'!AN101))","v":""},{"$f":"IF(S96=\"\",\"\",S96/COUNTIF('Data Input'!$C$8:$BU$8,\"F/I\"))","v":""},{"$f":"IF(ISBLANK('Data Input'!C101),\"\",SUM('Data Input'!BB101:BU101))","v":""},{"$f":"IF(U96=\"\",\"\",U96/COUNTIF('Data Input'!$C$8:$BU$8,\"Sp\"))","v":""}]
[{"$f":"IF('Data Input'!A102=0,\"\",'Data Input'!A102)","v":""},{"$f":"IF(ISBLANK('Data Input'!A102),\"\",COUNTIF('Data Input'!C102:BU102,\"\")-1)","v":""},{"$f":"IF(ISBLANK('Data Input'!A102),\"\",COUNTIF('Data Input'!C102:BU102,\"0\"))","v":""},{"$f":"IF(ISBLANK('Data Input'!A102),\"\",SUM(B97,C97))","v":""},{"$f":"IF(ISBLANK('Data Input'!A102),\"\",SUM('Data Input'!C102:BU102))","v":""},{"$f":"IF(E97=\"\",\"\",E97/(COUNTA('Data Input'!$C$8:$BU$8)-1))","v":""},{"$f":"IF(ISBLANK('Data Input'!A102),\"\",SUM('Data Input'!H102,'Data Input'!AA102,'Data Input'!AO102,'Data Input'!AP102))","v":""},{"$f":"IF(G97=\"\",\"\",G97/COUNTIF('Data Input'!$C$8:$BU$8,\"CS\"))","v":""},{"$f":"IF(ISBLANK('Data Input'!A102),\"\",SUM('Data Input'!P102,'Data Input'!T102,'Data Input'!AD102,'Data Input'!AX102,'Data Input'!AY102))","v":""},{"$f":"IF(I97=\"\",\"\",I97/COUNTIF('Data Input'!$C$8:$BU$8,\"SE\"))","v":""},{"$f":"IF(ISBLANK('Data Input'!A102),\"\",SUM('Data Input'!K102,'Data Input'!L102,'Data Input'!M102,'Data Input'!O102,'Data Input'!Q102,'Data Input'!U102,'Data Input'!X102,'Data Input'!Y102,'Data Input'!Z102,'Data Input'!AB102,'Data Input'!AE102,'Data Input'!AG102,'Data Input'!AL102,'Data Input'!AU102,'Data Input'!AW102))","v":""},{"$f":"IF(K97=\"\",\"\",K97/COUNTIF('Data Input'!$C$8:$BU$8,\"P\"))","v":""},{"$f":"IF(ISBLANK('Data Input'!A102),\"\",SUM('Data Input'!I102,'Data Input'!S102))","v":""},{"$f":"IF(M97=\"\",\"\",M97/COUNTIF('Data Input'!$C$8:$BU$8,\"FS\"))","v":""},{"$f":"IF(ISBLANK('Data Input'!A102),\"\",SUM('Data Input'!D102,'Data Input'!E102,'Data Input'!F102,'Data Input'!G102,'Data Input'!R102,'Data Input'!V102,'Data Input'!W102,'Data Input'!AC102,'Data Input'!AF102,'Data Input'!AH102,'Data Input'!AJ102,'Data Input'!AK102,'Data Input'!AM102,'Data Input'!AQ102,'Data Input'!AR102,'Data Input'!AZ102))","v":""},{"$f":"IF(O97=\"\",\"\",O97/COUNTIF('Data Input'!$C$8:$BU$8,\"GT\"))","v":""},{"$f":"IF(ISBLANK('Data Input'!A102),\"\",SUM('Data Input'!C102,'Data Input'!J102,'Data Input'!N102,'Data Input'!AS102,'Data Input'!AT102,'Data Input'!AV102))","v":""},{"$f":"IF(Q97=\"\",\"\",Q97/COUNTIF('Data Input'!$C$8:$BU$8,\"V\"))","v":""},{"$f":"IF(ISBLANK('Data Input'!A102),\"\",SUM('Data Input'!AI102,'Data Input'!AN102))","v":""},{"$f":"IF(S97=\"\",\"\",S97/COUNTIF('Data Input'!$C$8:$BU$8,\"F/I\"))","v":""},{"$f":"IF(ISBLANK('Data Input'!C102),\"\",SUM('Data Input'!BB102:BU102))","v":""},{"$f":"IF(U97=\"\",\"\",U97/COUNTIF('Data Input'!$C$8:$BU$8,\"Sp\"))","v":""}]
[{"$f":"IF('Data Input'!A103=0,\"\",'Data Input'!A103)","v":""},{"$f":"IF(ISBLANK('Data Input'!A103),\"\",COUNTIF('Data Input'!C103:BU103,\"\")-1)","v":""},{"$f":"IF(ISBLANK('Data Input'!A103),\"\",COUNTIF('Data Input'!C103:BU103,\"0\"))","v":""},{"$f":"IF(ISBLANK('Data Input'!A103),\"\",SUM(B98,C98))","v":""},{"$f":"IF(ISBLANK('Data Input'!A103),\"\",SUM('Data Input'!C103:BU103))","v":""},{"$f":"IF(E98=\"\",\"\",E98/(COUNTA('Data Input'!$C$8:$BU$8)-1))","v":""},{"$f":"IF(ISBLANK('Data Input'!A103),\"\",SUM('Data Input'!H103,'Data Input'!AA103,'Data Input'!AO103,'Data Input'!AP103))","v":""},{"$f":"IF(G98=\"\",\"\",G98/COUNTIF('Data Input'!$C$8:$BU$8,\"CS\"))","v":""},{"$f":"IF(ISBLANK('Data Input'!A103),\"\",SUM('Data Input'!P103,'Data Input'!T103,'Data Input'!AD103,'Data Input'!AX103,'Data Input'!AY103))","v":""},{"$f":"IF(I98=\"\",\"\",I98/COUNTIF('Data Input'!$C$8:$BU$8,\"SE\"))","v":""},{"$f":"IF(ISBLANK('Data Input'!A103),\"\",SUM('Data Input'!K103,'Data Input'!L103,'Data Input'!M103,'Data Input'!O103,'Data Input'!Q103,'Data Input'!U103,'Data Input'!X103,'Data Input'!Y103,'Data Input'!Z103,'Data Input'!AB103,'Data Input'!AE103,'Data Input'!AG103,'Data Input'!AL103,'Data Input'!AU103,'Data Input'!AW103))","v":""},{"$f":"IF(K98=\"\",\"\",K98/COUNTIF('Data Input'!$C$8:$BU$8,\"P\"))","v":""},{"$f":"IF(ISBLANK('Data Input'!A103),\"\",SUM('Data Input'!I103,'Data Input'!S103))","v":""},{"$f":"IF(M98=\"\",\"\",M98/COUNTIF('Data Input'!$C$8:$BU$8,\"FS\"))","v":""},{"$f":"IF(ISBLANK('Data Input'!A103),\"\",SUM('Data Input'!D103,'Data Input'!E103,'Data Input'!F103,'Data Input'!G103,'Data Input'!R103,'Data Input'!V103,'Data Input'!W103,'Data Input'!AC103,'Data Input'!AF103,'Data Input'!AH103,'Data Input'!AJ103,'Data Input'!AK103,'Data Input'!AM103,'Data Input'!AQ103,'Data Input'!AR103,'Data Input'!AZ103))","v":""},{"$f":"IF(O98=\"\",\"\",O98/COUNTIF('Data Input'!$C$8:$BU$8,\"GT\"))","v":""},{"$f":"IF(ISBLANK('Data Input'!A103),\"\",SUM('Data Input'!C103,'Data Input'!J103,'Data Input'!N103,'Data Input'!AS103,'Data Input'!AT103,'Data Input'!AV103))","v":""},{"$f":"IF(Q98=\"\",\"\",Q98/COUNTIF('Data Input'!$C$8:$BU$8,\"V\"))","v":""},{"$f":"IF(ISBLANK('Data Input'!A103),\"\",SUM('Data Input'!AI103,'Data Input'!AN103))","v":""},{"$f":"IF(S98=\"\",\"\",S98/COUNTIF('Data Input'!$C$8:$BU$8,\"F/I\"))","v":""},{"$f":"IF(ISBLANK('Data Input'!C103),\"\",SUM('Data Input'!BB103:BU103))","v":""},{"$f":"IF(U98=\"\",\"\",U98/COUNTIF('Data Input'!$C$8:$BU$8,\"Sp\"))","v":""}]
[{"$f":"IF('Data Input'!A104=0,\"\",'Data Input'!A104)","v":""},{"$f":"IF(ISBLANK('Data Input'!A104),\"\",COUNTIF('Data Input'!C104:BU104,\"\")-1)","v":""},{"$f":"IF(ISBLANK('Data Input'!A104),\"\",COUNTIF('Data Input'!C104:BU104,\"0\"))","v":""},{"$f":"IF(ISBLANK('Data Input'!A104),\"\",SUM(B99,C99))","v":""},{"$f":"IF(ISBLANK('Data Input'!A104),\"\",SUM('Data Input'!C104:BU104))","v":""},{"$f":"IF(E99=\"\",\"\",E99/(COUNTA('Data Input'!$C$8:$BU$8)-1))","v":""},{"$f":"IF(ISBLANK('Data Input'!A104),\"\",SUM('Data Input'!H104,'Data Input'!AA104,'Data Input'!AO104,'Data Input'!AP104))","v":""},{"$f":"IF(G99=\"\",\"\",G99/COUNTIF('Data Input'!$C$8:$BU$8,\"CS\"))","v":""},{"$f":"IF(ISBLANK('Data Input'!A104),\"\",SUM('Data Input'!P104,'Data Input'!T104,'Data Input'!AD104,'Data Input'!AX104,'Data Input'!AY104))","v":""},{"$f":"IF(I99=\"\",\"\",I99/COUNTIF('Data Input'!$C$8:$BU$8,\"SE\"))","v":""},{"$f":"IF(ISBLANK('Data Input'!A104),\"\",SUM('Data Input'!K104,'Data Input'!L104,'Data Input'!M104,'Data Input'!O104,'Data Input'!Q104,'Data Input'!U104,'Data Input'!X104,'Data Input'!Y104,'Data Input'!Z104,'Data Input'!AB104,'Data Input'!AE104,'Data Input'!AG104,'Data Input'!AL104,'Data Input'!AU104,'Data Input'!AW104))","v":""},{"$f":"IF(K99=\"\",\"\",K99/COUNTIF('Data Input'!$C$8:$BU$8,\"P\"))","v":""},{"$f":"IF(ISBLANK('Data Input'!A104),\"\",SUM('Data Input'!I104,'Data Input'!S104))","v":""},{"$f":"IF(M99=\"\",\"\",M99/COUNTIF('Data Input'!$C$8:$BU$8,\"FS\"))","v":""},{"$f":"IF(ISBLANK('Data Input'!A104),\"\",SUM('Data Input'!D104,'Data Input'!E104,'Data Input'!F104,'Data Input'!G104,'Data Input'!R104,'Data Input'!V104,'Data Input'!W104,'Data Input'!AC104,'Data Input'!AF104,'Data Input'!AH104,'Data Input'!AJ104,'Data Input'!AK104,'Data Input'!AM104,'Data Input'!AQ104,'Data Input'!AR104,'Data Input'!AZ104))","v":""},{"$f":"IF(O99=\"\",\"\",O99/COUNTIF('Data Input'!$C$8:$BU$8,\"GT\"))","v":""},{"$f":"IF(ISBLANK('Data Input'!A104),\"\",SUM('Data Input'!C104,'Data Input'!J104,'Data Input'!N104,'Data Input'!AS104,'Data Input'!AT104,'Data Input'!AV104))","v":""},{"$f":"IF(Q99=\"\",\"\",Q99/COUNTIF('Data Input'!$C$8:$BU$8,\"V\"))","v":""},{"$f":"IF(ISBLANK('Data Input'!A104),\"\",SUM('Data Input'!AI104,'Data Input'!AN104))","v":""},{"$f":"IF(S99=\"\",\"\",S99/COUNTIF('Data Input'!$C$8:$BU$8,\"F/I\"))","v":""},{"$f":"IF(ISBLANK('Data Input'!C104),\"\",SUM('Data Input'!BB104:BU104))","v":""},{"$f":"IF(U99=\"\",\"\",U99/COUNTIF('Data Input'!$C$8:$BU$8,\"Sp\"))","v":""}]
[{"$f":"IF('Data Input'!A105=0,\"\",'Data Input'!A105)","v":""},{"$f":"IF(ISBLANK('Data Input'!A105),\"\",COUNTIF('Data Input'!C105:BU105,\"\")-1)","v":""},{"$f":"IF(ISBLANK('Data Input'!A105),\"\",COUNTIF('Data Input'!C105:BU105,\"0\"))","v":""},{"$f":"IF(ISBLANK('Data Input'!A105),\"\",SUM(B100,C100))","v":""},{"$f":"IF(ISBLANK('Data Input'!A105),\"\",SUM('Data Input'!C105:BU105))","v":""},{"$f":"IF(E100=\"\",\"\",E100/(COUNTA('Data Input'!$C$8:$BU$8)-1))","v":""},{"$f":"IF(ISBLANK('Data Input'!A105),\"\",SUM('Data Input'!H105,'Data Input'!AA105,'Data Input'!AO105,'Data Input'!AP105))","v":""},{"$f":"IF(G100=\"\",\"\",G100/COUNTIF('Data Input'!$C$8:$BU$8,\"CS\"))","v":""},{"$f":"IF(ISBLANK('Data Input'!A105),\"\",SUM('Data Input'!P105,'Data Input'!T105,'Data Input'!AD105,'Data Input'!AX105,'Data Input'!AY105))","v":""},{"$f":"IF(I100=\"\",\"\",I100/COUNTIF('Data Input'!$C$8:$BU$8,\"SE\"))","v":""},{"$f":"IF(ISBLANK('Data Input'!A105),\"\",SUM('Data Input'!K105,'Data Input'!L105,'Data Input'!M105,'Data Input'!O105,'Data Input'!Q105,'Data Input'!U105,'Data Input'!X105,'Data Input'!Y105,'Data Input'!Z105,'Data Input'!AB105,'Data Input'!AE105,'Data Input'!AG105,'Data Input'!AL105,'Data Input'!AU105,'Data Input'!AW105))","v":""},{"$f":"IF(K100=\"\",\"\",K100/COUNTIF('Data Input'!$C$8:$BU$8,\"P\"))","v":""},{"$f":"IF(ISBLANK('Data Input'!A105),\"\",SUM('Data Input'!I105,'Data Input'!S105))","v":""},{"$f":"IF(M100=\"\",\"\",M100/COUNTIF('Data Input'!$C$8:$BU$8,\"FS\"))","v":""},{"$f":"IF(ISBLANK('Data Input'!A105),\"\",SUM('Data Input'!D105,'Data Input'!E105,'Data Input'!F105,'Data Input'!G105,'Data Input'!R105,'Data Input'!V105,'Data Input'!W105,'Data Input'!AC105,'Data Input'!AF105,'Data Input'!AH105,'Data Input'!AJ105,'Data Input'!AK105,'Data Input'!AM105,'Data Input'!AQ105,'Data Input'!AR105,'Data Input'!AZ105))","v":""},{"$f":"IF(O100=\"\",\"\",O100/COUNTIF('Data Input'!$C$8:$BU$8,\"GT\"))","v":""},{"$f":"IF(ISBLANK('Data Input'!A105),\"\",SUM('Data Input'!C105,'Data Input'!J105,'Data Input'!N105,'Data Input'!AS105,'Data Input'!AT105,'Data Input'!AV105))","v":""},{"$f":"IF(Q100=\"\",\"\",Q100/COUNTIF('Data Input'!$C$8:$BU$8,\"V\"))","v":""},{"$f":"IF(ISBLANK('Data Input'!A105),\"\",SUM('Data Input'!AI105,'Data Input'!AN105))","v":""},{"$f":"IF(S100=\"\",\"\",S100/COUNTIF('Data Input'!$C$8:$BU$8,\"F/I\"))","v":""},{"$f":"IF(ISBLANK('Data Input'!C105),\"\",SUM('Data Input'!BB105:BU105))","v":""},{"$f":"IF(U100=\"\",\"\",U100/COUNTIF('Data Input'!$C$8:$BU$8,\"Sp\"))","v":""}]
[{"$f":"IF('Data Input'!A106=0,\"\",'Data Input'!A106)","v":""},{"$f":"IF(ISBLANK('Data Input'!A106),\"\",COUNTIF('Data Input'!C106:BU106,\"\")-1)","v":""},{"$f":"IF(ISBLANK('Data Input'!A106),\"\",COUNTIF('Data Input'!C106:BU106,\"0\"))","v":""},{"$f":"IF(ISBLANK('Data Input'!A106),\"\",SUM(B101,C101))","v":""},{"$f":"IF(ISBLANK('Data Input'!A106),\"\",SUM('Data Input'!C106:BU106))","v":""},{"$f":"IF(E101=\"\",\"\",E101/(COUNTA('Data Input'!$C$8:$BU$8)-1))","v":""},{"$f":"IF(ISBLANK('Data Input'!A106),\"\",SUM('Data Input'!H106,'Data Input'!AA106,'Data Input'!AO106,'Data Input'!AP106))","v":""},{"$f":"IF(G101=\"\",\"\",G101/COUNTIF('Data Input'!$C$8:$BU$8,\"CS\"))","v":""},{"$f":"IF(ISBLANK('Data Input'!A106),\"\",SUM('Data Input'!P106,'Data Input'!T106,'Data Input'!AD106,'Data Input'!AX106,'Data Input'!AY106))","v":""},{"$f":"IF(I101=\"\",\"\",I101/COUNTIF('Data Input'!$C$8:$BU$8,\"SE\"))","v":""},{"$f":"IF(ISBLANK('Data Input'!A106),\"\",SUM('Data Input'!K106,'Data Input'!L106,'Data Input'!M106,'Data Input'!O106,'Data Input'!Q106,'Data Input'!U106,'Data Input'!X106,'Data Input'!Y106,'Data Input'!Z106,'Data Input'!AB106,'Data Input'!AE106,'Data Input'!AG106,'Data Input'!AL106,'Data Input'!AU106,'Data Input'!AW106))","v":""},{"$f":"IF(K101=\"\",\"\",K101/COUNTIF('Data Input'!$C$8:$BU$8,\"P\"))","v":""},{"$f":"IF(ISBLANK('Data Input'!A106),\"\",SUM('Data Input'!I106,'Data Input'!S106))","v":""},{"$f":"IF(M101=\"\",\"\",M101/COUNTIF('Data Input'!$C$8:$BU$8,\"FS\"))","v":""},{"$f":"IF(ISBLANK('Data Input'!A106),\"\",SUM('Data Input'!D106,'Data Input'!E106,'Data Input'!F106,'Data Input'!G106,'Data Input'!R106,'Data Input'!V106,'Data Input'!W106,'Data Input'!AC106,'Data Input'!AF106,'Data Input'!AH106,'Data Input'!AJ106,'Data Input'!AK106,'Data Input'!AM106,'Data Input'!AQ106,'Data Input'!AR106,'Data Input'!AZ106))","v":""},{"$f":"IF(O101=\"\",\"\",O101/COUNTIF('Data Input'!$C$8:$BU$8,\"GT\"))","v":""},{"$f":"IF(ISBLANK('Data Input'!A106),\"\",SUM('Data Input'!C106,'Data Input'!J106,'Data Input'!N106,'Data Input'!AS106,'Data Input'!AT106,'Data Input'!AV106))","v":""},{"$f":"IF(Q101=\"\",\"\",Q101/COUNTIF('Data Input'!$C$8:$BU$8,\"V\"))","v":""},{"$f":"IF(ISBLANK('Data Input'!A106),\"\",SUM('Data Input'!AI106,'Data Input'!AN106))","v":""},{"$f":"IF(S101=\"\",\"\",S101/COUNTIF('Data Input'!$C$8:$BU$8,\"F/I\"))","v":""},{"$f":"IF(ISBLANK('Data Input'!C106),\"\",SUM('Data Input'!BB106:BU106))","v":""},{"$f":"IF(U101=\"\",\"\",U101/COUNTIF('Data Input'!$C$8:$BU$8,\"Sp\"))","v":""}]
[{"$f":"IF('Data Input'!A107=0,\"\",'Data Input'!A107)","v":""},{"$f":"IF(ISBLANK('Data Input'!A107),\"\",COUNTIF('Data Input'!C107:BU107,\"\")-1)","v":""},{"$f":"IF(ISBLANK('Data Input'!A107),\"\",COUNTIF('Data Input'!C107:BU107,\"0\"))","v":""},{"$f":"IF(ISBLANK('Data Input'!A107),\"\",SUM(B102,C102))","v":""},{"$f":"IF(ISBLANK('Data Input'!A107),\"\",SUM('Data Input'!C107:BU107))","v":""},{"$f":"IF(E102=\"\",\"\",E102/(COUNTA('Data Input'!$C$8:$BU$8)-1))","v":""},{"$f":"IF(ISBLANK('Data Input'!A107),\"\",SUM('Data Input'!H107,'Data Input'!AA107,'Data Input'!AO107,'Data Input'!AP107))","v":""},{"$f":"IF(G102=\"\",\"\",G102/COUNTIF('Data Input'!$C$8:$BU$8,\"CS\"))","v":""},{"$f":"IF(ISBLANK('Data Input'!A107),\"\",SUM('Data Input'!P107,'Data Input'!T107,'Data Input'!AD107,'Data Input'!AX107,'Data Input'!AY107))","v":""},{"$f":"IF(I102=\"\",\"\",I102/COUNTIF('Data Input'!$C$8:$BU$8,\"SE\"))","v":""},{"$f":"IF(ISBLANK('Data Input'!A107),\"\",SUM('Data Input'!K107,'Data Input'!L107,'Data Input'!M107,'Data Input'!O107,'Data Input'!Q107,'Data Input'!U107,'Data Input'!X107,'Data Input'!Y107,'Data Input'!Z107,'Data Input'!AB107,'Data Input'!AE107,'Data Input'!AG107,'Data Input'!AL107,'Data Input'!AU107,'Data Input'!AW107))","v":""},{"$f":"IF(K102=\"\",\"\",K102/COUNTIF('Data Input'!$C$8:$BU$8,\"P\"))","v":""},{"$f":"IF(ISBLANK('Data Input'!A107),\"\",SUM('Data Input'!I107,'Data Input'!S107))","v":""},{"$f":"IF(M102=\"\",\"\",M102/COUNTIF('Data Input'!$C$8:$BU$8,\"FS\"))","v":""},{"$f":"IF(ISBLANK('Data Input'!A107),\"\",SUM('Data Input'!D107,'Data Input'!E107,'Data Input'!F107,'Data Input'!G107,'Data Input'!R107,'Data Input'!V107,'Data Input'!W107,'Data Input'!AC107,'Data Input'!AF107,'Data Input'!AH107,'Data Input'!AJ107,'Data Input'!AK107,'Data Input'!AM107,'Data Input'!AQ107,'Data Input'!AR107,'Data Input'!AZ107))","v":""},{"$f":"IF(O102=\"\",\"\",O102/COUNTIF('Data Input'!$C$8:$BU$8,\"GT\"))","v":""},{"$f":"IF(ISBLANK('Data Input'!A107),\"\",SUM('Data Input'!C107,'Data Input'!J107,'Data Input'!N107,'Data Input'!AS107,'Data Input'!AT107,'Data Input'!AV107))","v":""},{"$f":"IF(Q102=\"\",\"\",Q102/COUNTIF('Data Input'!$C$8:$BU$8,\"V\"))","v":""},{"$f":"IF(ISBLANK('Data Input'!A107),\"\",SUM('Data Input'!AI107,'Data Input'!AN107))","v":""},{"$f":"IF(S102=\"\",\"\",S102/COUNTIF('Data Input'!$C$8:$BU$8,\"F/I\"))","v":""},{"$f":"IF(ISBLANK('Data Input'!C107),\"\",SUM('Data Input'!BB107:BU107))","v":""},{"$f":"IF(U102=\"\",\"\",U102/COUNTIF('Data Input'!$C$8:$BU$8,\"Sp\"))","v":""}]
[{"$f":"IF('Data Input'!A108=0,\"\",'Data Input'!A108)","v":""},{"$f":"IF(ISBLANK('Data Input'!A108),\"\",COUNTIF('Data Input'!C108:BU108,\"\")-1)","v":""},{"$f":"IF(ISBLANK('Data Input'!A108),\"\",COUNTIF('Data Input'!C108:BU108,\"0\"))","v":""},{"$f":"IF(ISBLANK('Data Input'!A108),\"\",SUM(B103,C103))","v":""},{"$f":"IF(ISBLANK('Data Input'!A108),\"\",SUM('Data Input'!C108:BU108))","v":""},{"$f":"IF(E103=\"\",\"\",E103/(COUNTA('Data Input'!$C$8:$BU$8)-1))","v":""},{"$f":"IF(ISBLANK('Data Input'!A108),\"\",SUM('Data Input'!H108,'Data Input'!AA108,'Data Input'!AO108,'Data Input'!AP108))","v":""},{"$f":"IF(G103=\"\",\"\",G103/COUNTIF('Data Input'!$C$8:$BU$8,\"CS\"))","v":""},{"$f":"IF(ISBLANK('Data Input'!A108),\"\",SUM('Data Input'!P108,'Data Input'!T108,'Data Input'!AD108,'Data Input'!AX108,'Data Input'!AY108))","v":""},{"$f":"IF(I103=\"\",\"\",I103/COUNTIF('Data Input'!$C$8:$BU$8,\"SE\"))","v":""},{"$f":"IF(ISBLANK('Data Input'!A108),\"\",SUM('Data Input'!K108,'Data Input'!L108,'Data Input'!M108,'Data Input'!O108,'Data Input'!Q108,'Data Input'!U108,'Data Input'!X108,'Data Input'!Y108,'Data Input'!Z108,'Data Input'!AB108,'Data Input'!AE108,'Data Input'!AG108,'Data Input'!AL108,'Data Input'!AU108,'Data Input'!AW108))","v":""},{"$f":"IF(K103=\"\",\"\",K103/COUNTIF('Data Input'!$C$8:$BU$8,\"P\"))","v":""},{"$f":"IF(ISBLANK('Data Input'!A108),\"\",SUM('Data Input'!I108,'Data Input'!S108))","v":""},{"$f":"IF(M103=\"\",\"\",M103/COUNTIF('Data Input'!$C$8:$BU$8,\"FS\"))","v":""},{"$f":"IF(ISBLANK('Data Input'!A108),\"\",SUM('Data Input'!D108,'Data Input'!E108,'Data Input'!F108,'Data Input'!G108,'Data Input'!R108,'Data Input'!V108,'Data Input'!W108,'Data Input'!AC108,'Data Input'!AF108,'Data Input'!AH108,'Data Input'!AJ108,'Data Input'!AK108,'Data Input'!AM108,'Data Input'!AQ108,'Data Input'!AR108,'Data Input'!AZ108))","v":""},{"$f":"IF(O103=\"\",\"\",O103/COUNTIF('Data Input'!$C$8:$BU$8,\"GT\"))","v":""},{"$f":"IF(ISBLANK('Data Input'!A108),\"\",SUM('Data Input'!C108,'Data Input'!J108,'Data Input'!N108,'Data Input'!AS108,'Data Input'!AT108,'Data Input'!AV108))","v":""},{"$f":"IF(Q103=\"\",\"\",Q103/COUNTIF('Data Input'!$C$8:$BU$8,\"V\"))","v":""},{"$f":"IF(ISBLANK('Data Input'!A108),\"\",SUM('Data Input'!AI108,'Data Input'!AN108))","v":""},{"$f":"IF(S103=\"\",\"\",S103/COUNTIF('Data Input'!$C$8:$BU$8,\"F/I\"))","v":""},{"$f":"IF(ISBLANK('Data Input'!C108),\"\",SUM('Data Input'!BB108:BU108))","v":""},{"$f":"IF(U103=\"\",\"\",U103/COUNTIF('Data Input'!$C$8:$BU$8,\"Sp\"))","v":""}]
[{"$f":"IF('Data Input'!A109=0,\"\",'Data Input'!A109)","v":""},{"$f":"IF(ISBLANK('Data Input'!A109),\"\",COUNTIF('Data Input'!C109:BU109,\"\")-1)","v":""},{"$f":"IF(ISBLANK('Data Input'!A109),\"\",COUNTIF('Data Input'!C109:BU109,\"0\"))","v":""},{"$f":"IF(ISBLANK('Data Input'!A109),\"\",SUM(B104,C104))","v":""},{"$f":"IF(ISBLANK('Data Input'!A109),\"\",SUM('Data Input'!C109:BU109))","v":""},{"$f":"IF(E104=\"\",\"\",E104/(COUNTA('Data Input'!$C$8:$BU$8)-1))","v":""},{"$f":"IF(ISBLANK('Data Input'!A109),\"\",SUM('Data Input'!H109,'Data Input'!AA109,'Data Input'!AO109,'Data Input'!AP109))","v":""},{"$f":"IF(G104=\"\",\"\",G104/COUNTIF('Data Input'!$C$8:$BU$8,\"CS\"))","v":""},{"$f":"IF(ISBLANK('Data Input'!A109),\"\",SUM('Data Input'!P109,'Data Input'!T109,'Data Input'!AD109,'Data Input'!AX109,'Data Input'!AY109))","v":""},{"$f":"IF(I104=\"\",\"\",I104/COUNTIF('Data Input'!$C$8:$BU$8,\"SE\"))","v":""},{"$f":"IF(ISBLANK('Data Input'!A109),\"\",SUM('Data Input'!K109,'Data Input'!L109,'Data Input'!M109,'Data Input'!O109,'Data Input'!Q109,'Data Input'!U109,'Data Input'!X109,'Data Input'!Y109,'Data Input'!Z109,'Data Input'!AB109,'Data Input'!AE109,'Data Input'!AG109,'Data Input'!AL109,'Data Input'!AU109,'Data Input'!AW109))","v":""},{"$f":"IF(K104=\"\",\"\",K104/COUNTIF('Data Input'!$C$8:$BU$8,\"P\"))","v":""},{"$f":"IF(ISBLANK('Data Input'!A109),\"\",SUM('Data Input'!I109,'Data Input'!S109))","v":""},{"$f":"IF(M104=\"\",\"\",M104/COUNTIF('Data Input'!$C$8:$BU$8,\"FS\"))","v":""},{"$f":"IF(ISBLANK('Data Input'!A109),\"\",SUM('Data Input'!D109,'Data Input'!E109,'Data Input'!F109,'Data Input'!G109,'Data Input'!R109,'Data Input'!V109,'Data Input'!W109,'Data Input'!AC109,'Data Input'!AF109,'Data Input'!AH109,'Data Input'!AJ109,'Data Input'!AK109,'Data Input'!AM109,'Data Input'!AQ109,'Data Input'!AR109,'Data Input'!AZ109))","v":""},{"$f":"IF(O104=\"\",\"\",O104/COUNTIF('Data Input'!$C$8:$BU$8,\"GT\"))","v":""},{"$f":"IF(ISBLANK('Data Input'!A109),\"\",SUM('Data Input'!C109,'Data Input'!J109,'Data Input'!N109,'Data Input'!AS109,'Data Input'!AT109,'Data Input'!AV109))","v":""},{"$f":"IF(Q104=\"\",\"\",Q104/COUNTIF('Data Input'!$C$8:$BU$8,\"V\"))","v":""},{"$f":"IF(ISBLANK('Data Input'!A109),\"\",SUM('Data Input'!AI109,'Data Input'!AN109))","v":""},{"$f":"IF(S104=\"\",\"\",S104/COUNTIF('Data Input'!$C$8:$BU$8,\"F/I\"))","v":""},{"$f":"IF(ISBLANK('Data Input'!C109),\"\",SUM('Data Input'!BB109:BU109))","v":""},{"$f":"IF(U104=\"\",\"\",U104/COUNTIF('Data Input'!$C$8:$BU$8,\"Sp\"))","v":""}]
[{"$f":"IF('Data Input'!A110=0,\"\",'Data Input'!A110)","v":""},{"$f":"IF(ISBLANK('Data Input'!A110),\"\",COUNTIF('Data Input'!C110:BU110,\"\")-1)","v":""},{"$f":"IF(ISBLANK('Data Input'!A110),\"\",COUNTIF('Data Input'!C110:BU110,\"0\"))","v":""},{"$f":"IF(ISBLANK('Data Input'!A110),\"\",SUM(B105,C105))","v":""},{"$f":"IF(ISBLANK('Data Input'!A110),\"\",SUM('Data Input'!C110:BU110))","v":""},{"$f":"IF(E105=\"\",\"\",E105/(COUNTA('Data Input'!$C$8:$BU$8)-1))","v":""},{"$f":"IF(ISBLANK('Data Input'!A110),\"\",SUM('Data Input'!H110,'Data Input'!AA110,'Data Input'!AO110,'Data Input'!AP110))","v":""},{"$f":"IF(G105=\"\",\"\",G105/COUNTIF('Data Input'!$C$8:$BU$8,\"CS\"))","v":""},{"$f":"IF(ISBLANK('Data Input'!A110),\"\",SUM('Data Input'!P110,'Data Input'!T110,'Data Input'!AD110,'Data Input'!AX110,'Data Input'!AY110))","v":""},{"$f":"IF(I105=\"\",\"\",I105/COUNTIF('Data Input'!$C$8:$BU$8,\"SE\"))","v":""},{"$f":"IF(ISBLANK('Data Input'!A110),\"\",SUM('Data Input'!K110,'Data Input'!L110,'Data Input'!M110,'Data Input'!O110,'Data Input'!Q110,'Data Input'!U110,'Data Input'!X110,'Data Input'!Y110,'Data Input'!Z110,'Data Input'!AB110,'Data Input'!AE110,'Data Input'!AG110,'Data Input'!AL110,'Data Input'!AU110,'Data Input'!AW110))","v":""},{"$f":"IF(K105=\"\",\"\",K105/COUNTIF('Data Input'!$C$8:$BU$8,\"P\"))","v":""},{"$f":"IF(ISBLANK('Data Input'!A110),\"\",SUM('Data Input'!I110,'Data Input'!S110))","v":""},{"$f":"IF(M105=\"\",\"\",M105/COUNTIF('Data Input'!$C$8:$BU$8,\"FS\"))","v":""},{"$f":"IF(ISBLANK('Data Input'!A110),\"\",SUM('Data Input'!D110,'Data Input'!E110,'Data Input'!F110,'Data Input'!G110,'Data Input'!R110,'Data Input'!V110,'Data Input'!W110,'Data Input'!AC110,'Data Input'!AF110,'Data Input'!AH110,'Data Input'!AJ110,'Data Input'!AK110,'Data Input'!AM110,'Data Input'!AQ110,'Data Input'!AR110,'Data Input'!AZ110))","v":""},{"$f":"IF(O105=\"\",\"\",O105/COUNTIF('Data Input'!$C$8:$BU$8,\"GT\"))","v":""},{"$f":"IF(ISBLANK('Data Input'!A110),\"\",SUM('Data Input'!C110,'Data Input'!J110,'Data Input'!N110,'Data Input'!AS110,'Data Input'!AT110,'Data Input'!AV110))","v":""},{"$f":"IF(Q105=\"\",\"\",Q105/COUNTIF('Data Input'!$C$8:$BU$8,\"V\"))","v":""},{"$f":"IF(ISBLANK('Data Input'!A110),\"\",SUM('Data Input'!AI110,'Data Input'!AN110))","v":""},{"$f":"IF(S105=\"\",\"\",S105/COUNTIF('Data Input'!$C$8:$BU$8,\"F/I\"))","v":""},{"$f":"IF(ISBLANK('Data Input'!C110),\"\",SUM('Data Input'!BB110:BU110))","v":""},{"$f":"IF(U105=\"\",\"\",U105/COUNTIF('Data Input'!$C$8:$BU$8,\"Sp\"))","v":""}]
[{"$f":"IF('Data Input'!A111=0,\"\",'Data Input'!A111)","v":""},{"$f":"IF(ISBLANK('Data Input'!A111),\"\",COUNTIF('Data Input'!C111:BU111,\"\")-1)","v":""},{"$f":"IF(ISBLANK('Data Input'!A111),\"\",COUNTIF('Data Input'!C111:BU111,\"0\"))","v":""},{"$f":"IF(ISBLANK('Data Input'!A111),\"\",SUM(B106,C106))","v":""},{"$f":"IF(ISBLANK('Data Input'!A111),\"\",SUM('Data Input'!C111:BU111))","v":""},{"$f":"IF(E106=\"\",\"\",E106/(COUNTA('Data Input'!$C$8:$BU$8)-1))","v":""},{"$f":"IF(ISBLANK('Data Input'!A111),\"\",SUM('Data Input'!H111,'Data Input'!AA111,'Data Input'!AO111,'Data Input'!AP111))","v":""},{"$f":"IF(G106=\"\",\"\",G106/COUNTIF('Data Input'!$C$8:$BU$8,\"CS\"))","v":""},{"$f":"IF(ISBLANK('Data Input'!A111),\"\",SUM('Data Input'!P111,'Data Input'!T111,'Data Input'!AD111,'Data Input'!AX111,'Data Input'!AY111))","v":""},{"$f":"IF(I106=\"\",\"\",I106/COUNTIF('Data Input'!$C$8:$BU$8,\"SE\"))","v":""},{"$f":"IF(ISBLANK('Data Input'!A111),\"\",SUM('Data Input'!K111,'Data Input'!L111,'Data Input'!M111,'Data Input'!O111,'Data Input'!Q111,'Data Input'!U111,'Data Input'!X111,'Data Input'!Y111,'Data Input'!Z111,'Data Input'!AB111,'Data Input'!AE111,'Data Input'!AG111,'Data Input'!AL111,'Data Input'!AU111,'Data Input'!AW111))","v":""},{"$f":"IF(K106=\"\",\"\",K106/COUNTIF('Data Input'!$C$8:$BU$8,\"P\"))","v":""},{"$f":"IF(ISBLANK('Data Input'!A111),\"\",SUM('Data Input'!I111,'Data Input'!S111))","v":""},{"$f":"IF(M106=\"\",\"\",M106/COUNTIF('Data Input'!$C$8:$BU$8,\"FS\"))","v":""},{"$f":"IF(ISBLANK('Data Input'!A111),\"\",SUM('Data Input'!D111,'Data Input'!E111,'Data Input'!F111,'Data Input'!G111,'Data Input'!R111,'Data Input'!V111,'Data Input'!W111,'Data Input'!AC111,'Data Input'!AF111,'Data Input'!AH111,'Data Input'!AJ111,'Data Input'!AK111,'Data Input'!AM111,'Data Input'!AQ111,'Data Input'!AR111,'Data Input'!AZ111))","v":""},{"$f":"IF(O106=\"\",\"\",O106/COUNTIF('Data Input'!$C$8:$BU$8,\"GT\"))","v":""},{"$f":"IF(ISBLANK('Data Input'!A111),\"\",SUM('Data Input'!C111,'Data Input'!J111,'Data Input'!N111,'Data Input'!AS111,'Data Input'!AT111,'Data Input'!AV111))","v":""},{"$f":"IF(Q106=\"\",\"\",Q106/COUNTIF('Data Input'!$C$8:$BU$8,\"V\"))","v":""},{"$f":"IF(ISBLANK('Data Input'!A111),\"\",SUM('Data Input'!AI111,'Data Input'!AN111))","v":""},{"$f":"IF(S106=\"\",\"\",S106/COUNTIF('Data Input'!$C$8:$BU$8,\"F/I\"))","v":""},{"$f":"IF(ISBLANK('Data Input'!C111),\"\",SUM('Data Input'!BB111:BU111))","v":""},{"$f":"IF(U106=\"\",\"\",U106/COUNTIF('Data Input'!$C$8:$BU$8,\"Sp\"))","v":""}]
[{"$f":"IF('Data Input'!A112=0,\"\",'Data Input'!A112)","v":""},{"$f":"IF(ISBLANK('Data Input'!A112),\"\",COUNTIF('Data Input'!C112:BU112,\"\")-1)","v":""},{"$f":"IF(ISBLANK('Data Input'!A112),\"\",COUNTIF('Data Input'!C112:BU112,\"0\"))","v":""},{"$f":"IF(ISBLANK('Data Input'!A112),\"\",SUM(B107,C107))","v":""},{"$f":"IF(ISBLANK('Data Input'!A112),\"\",SUM('Data Input'!C112:BU112))","v":""},{"$f":"IF(E107=\"\",\"\",E107/(COUNTA('Data Input'!$C$8:$BU$8)-1))","v":""},{"$f":"IF(ISBLANK('Data Input'!A112),\"\",SUM('Data Input'!H112,'Data Input'!AA112,'Data Input'!AO112,'Data Input'!AP112))","v":""},{"$f":"IF(G107=\"\",\"\",G107/COUNTIF('Data Input'!$C$8:$BU$8,\"CS\"))","v":""},{"$f":"IF(ISBLANK('Data Input'!A112),\"\",SUM('Data Input'!P112,'Data Input'!T112,'Data Input'!AD112,'Data Input'!AX112,'Data Input'!AY112))","v":""},{"$f":"IF(I107=\"\",\"\",I107/COUNTIF('Data Input'!$C$8:$BU$8,\"SE\"))","v":""},{"$f":"IF(ISBLANK('Data Input'!A112),\"\",SUM('Data Input'!K112,'Data Input'!L112,'Data Input'!M112,'Data Input'!O112,'Data Input'!Q112,'Data Input'!U112,'Data Input'!X112,'Data Input'!Y112,'Data Input'!Z112,'Data Input'!AB112,'Data Input'!AE112,'Data Input'!AG112,'Data Input'!AL112,'Data Input'!AU112,'Data Input'!AW112))","v":""},{"$f":"IF(K107=\"\",\"\",K107/COUNTIF('Data Input'!$C$8:$BU$8,\"P\"))","v":""},{"$f":"IF(ISBLANK('Data Input'!A112),\"\",SUM('Data Input'!I112,'Data Input'!S112))","v":""},{"$f":"IF(M107=\"\",\"\",M107/COUNTIF('Data Input'!$C$8:$BU$8,\"FS\"))","v":""},{"$f":"IF(ISBLANK('Data Input'!A112),\"\",SUM('Data Input'!D112,'Data Input'!E112,'Data Input'!F112,'Data Input'!G112,'Data Input'!R112,'Data Input'!V112,'Data Input'!W112,'Data Input'!AC112,'Data Input'!AF112,'Data Input'!AH112,'Data Input'!AJ112,'Data Input'!AK112,'Data Input'!AM112,'Data Input'!AQ112,'Data Input'!AR112,'Data Input'!AZ112))","v":""},{"$f":"IF(O107=\"\",\"\",O107/COUNTIF('Data Input'!$C$8:$BU$8,\"GT\"))","v":""},{"$f":"IF(ISBLANK('Data Input'!A112),\"\",SUM('Data Input'!C112,'Data Input'!J112,'Data Input'!N112,'Data Input'!AS112,'Data Input'!AT112,'Data Input'!AV112))","v":""},{"$f":"IF(Q107=\"\",\"\",Q107/COUNTIF('Data Input'!$C$8:$BU$8,\"V\"))","v":""},{"$f":"IF(ISBLANK('Data Input'!A112),\"\",SUM('Data Input'!AI112,'Data Input'!AN112))","v":""},{"$f":"IF(S107=\"\",\"\",S107/COUNTIF('Data Input'!$C$8:$BU$8,\"F/I\"))","v":""},{"$f":"IF(ISBLANK('Data Input'!C112),\"\",SUM('Data Input'!BB112:BU112))","v":""},{"$f":"IF(U107=\"\",\"\",U107/COUNTIF('Data Input'!$C$8:$BU$8,\"Sp\"))","v":""}]
[{"$f":"IF('Data Input'!A113=0,\"\",'Data Input'!A113)","v":""},{"$f":"IF(ISBLANK('Data Input'!A113),\"\",COUNTIF('Data Input'!C113:BU113,\"\")-1)","v":""},{"$f":"IF(ISBLANK('Data Input'!A113),\"\",COUNTIF('Data Input'!C113:BU113,\"0\"))","v":""},{"$f":"IF(ISBLANK('Data Input'!A113),\"\",SUM(B108,C108))","v":""},{"$f":"IF(ISBLANK('Data Input'!A113),\"\",SUM('Data Input'!C113:BU113))","v":""},{"$f":"IF(E108=\"\",\"\",E108/(COUNTA('Data Input'!$C$8:$BU$8)-1))","v":""},{"$f":"IF(ISBLANK('Data Input'!A113),\"\",SUM('Data Input'!H113,'Data Input'!AA113,'Data Input'!AO113,'Data Input'!AP113))","v":""},{"$f":"IF(G108=\"\",\"\",G108/COUNTIF('Data Input'!$C$8:$BU$8,\"CS\"))","v":""},{"$f":"IF(ISBLANK('Data Input'!A113),\"\",SUM('Data Input'!P113,'Data Input'!T113,'Data Input'!AD113,'Data Input'!AX113,'Data Input'!AY113))","v":""},{"$f":"IF(I108=\"\",\"\",I108/COUNTIF('Data Input'!$C$8:$BU$8,\"SE\"))","v":""},{"$f":"IF(ISBLANK('Data Input'!A113),\"\",SUM('Data Input'!K113,'Data Input'!L113,'Data Input'!M113,'Data Input'!O113,'Data Input'!Q113,'Data Input'!U113,'Data Input'!X113,'Data Input'!Y113,'Data Input'!Z113,'Data Input'!AB113,'Data Input'!AE113,'Data Input'!AG113,'Data Input'!AL113,'Data Input'!AU113,'Data Input'!AW113))","v":""},{"$f":"IF(K108=\"\",\"\",K108/COUNTIF('Data Input'!$C$8:$BU$8,\"P\"))","v":""},{"$f":"IF(ISBLANK('Data Input'!A113),\"\",SUM('Data Input'!I113,'Data Input'!S113))","v":""},{"$f":"IF(M108=\"\",\"\",M108/COUNTIF('Data Input'!$C$8:$BU$8,\"FS\"))","v":""},{"$f":"IF(ISBLANK('Data Input'!A113),\"\",SUM('Data Input'!D113,'Data Input'!E113,'Data Input'!F113,'Data Input'!G113,'Data Input'!R113,'Data Input'!V113,'Data Input'!W113,'Data Input'!AC113,'Data Input'!AF113,'Data Input'!AH113,'Data Input'!AJ113,'Data Input'!AK113,'Data Input'!AM113,'Data Input'!AQ113,'Data Input'!AR113,'Data Input'!AZ113))","v":""},{"$f":"IF(O108=\"\",\"\",O108/COUNTIF('Data Input'!$C$8:$BU$8,\"GT\"))","v":""},{"$f":"IF(ISBLANK('Data Input'!A113),\"\",SUM('Data Input'!C113,'Data Input'!J113,'Data Input'!N113,'Data Input'!AS113,'Data Input'!AT113,'Data Input'!AV113))","v":""},{"$f":"IF(Q108=\"\",\"\",Q108/COUNTIF('Data Input'!$C$8:$BU$8,\"V\"))","v":""},{"$f":"IF(ISBLANK('Data Input'!A113),\"\",SUM('Data Input'!AI113,'Data Input'!AN113))","v":""},{"$f":"IF(S108=\"\",\"\",S108/COUNTIF('Data Input'!$C$8:$BU$8,\"F/I\"))","v":""},{"$f":"IF(ISBLANK('Data Input'!C113),\"\",SUM('Data Input'!BB113:BU113))","v":""},{"$f":"IF(U108=\"\",\"\",U108/COUNTIF('Data Input'!$C$8:$BU$8,\"Sp\"))","v":""}]
[{"$f":"IF('Data Input'!A114=0,\"\",'Data Input'!A114)","v":""},{"$f":"IF(ISBLANK('Data Input'!A114),\"\",COUNTIF('Data Input'!C114:BU114,\"\")-1)","v":""},{"$f":"IF(ISBLANK('Data Input'!A114),\"\",COUNTIF('Data Input'!C114:BU114,\"0\"))","v":""},{"$f":"IF(ISBLANK('Data Input'!A114),\"\",SUM(B109,C109))","v":""},{"$f":"IF(ISBLANK('Data Input'!A114),\"\",SUM('Data Input'!C114:BU114))","v":""},{"$f":"IF(E109=\"\",\"\",E109/(COUNTA('Data Input'!$C$8:$BU$8)-1))","v":""},{"$f":"IF(ISBLANK('Data Input'!A114),\"\",SUM('Data Input'!H114,'Data Input'!AA114,'Data Input'!AO114,'Data Input'!AP114))","v":""},{"$f":"IF(G109=\"\",\"\",G109/COUNTIF('Data Input'!$C$8:$BU$8,\"CS\"))","v":""},{"$f":"IF(ISBLANK('Data Input'!A114),\"\",SUM('Data Input'!P114,'Data Input'!T114,'Data Input'!AD114,'Data Input'!AX114,'Data Input'!AY114))","v":""},{"$f":"IF(I109=\"\",\"\",I109/COUNTIF('Data Input'!$C$8:$BU$8,\"SE\"))","v":""},{"$f":"IF(ISBLANK('Data Input'!A114),\"\",SUM('Data Input'!K114,'Data Input'!L114,'Data Input'!M114,'Data Input'!O114,'Data Input'!Q114,'Data Input'!U114,'Data Input'!X114,'Data Input'!Y114,'Data Input'!Z114,'Data Input'!AB114,'Data Input'!AE114,'Data Input'!AG114,'Data Input'!AL114,'Data Input'!AU114,'Data Input'!AW114))","v":""},{"$f":"IF(K109=\"\",\"\",K109/COUNTIF('Data Input'!$C$8:$BU$8,\"P\"))","v":""},{"$f":"IF(ISBLANK('Data Input'!A114),\"\",SUM('Data Input'!I114,'Data Input'!S114))","v":""},{"$f":"IF(M109=\"\",\"\",M109/COUNTIF('Data Input'!$C$8:$BU$8,\"FS\"))","v":""},{"$f":"IF(ISBLANK('Data Input'!A114),\"\",SUM('Data Input'!D114,'Data Input'!E114,'Data Input'!F114,'Data Input'!G114,'Data Input'!R114,'Data Input'!V114,'Data Input'!W114,'Data Input'!AC114,'Data Input'!AF114,'Data Input'!AH114,'Data Input'!AJ114,'Data Input'!AK114,'Data Input'!AM114,'Data Input'!AQ114,'Data Input'!AR114,'Data Input'!AZ114))","v":""},{"$f":"IF(O109=\"\",\"\",O109/COUNTIF('Data Input'!$C$8:$BU$8,\"GT\"))","v":""},{"$f":"IF(ISBLANK('Data Input'!A114),\"\",SUM('Data Input'!C114,'Data Input'!J114,'Data Input'!N114,'Data Input'!AS114,'Data Input'!AT114,'Data Input'!AV114))","v":""},{"$f":"IF(Q109=\"\",\"\",Q109/COUNTIF('Data Input'!$C$8:$BU$8,\"V\"))","v":""},{"$f":"IF(ISBLANK('Data Input'!A114),\"\",SUM('Data Input'!AI114,'Data Input'!AN114))","v":""},{"$f":"IF(S109=\"\",\"\",S109/COUNTIF('Data Input'!$C$8:$BU$8,\"F/I\"))","v":""},{"$f":"IF(ISBLANK('Data Input'!C114),\"\",SUM('Data Input'!BB114:BU114))","v":""},{"$f":"IF(U109=\"\",\"\",U109/COUNTIF('Data Input'!$C$8:$BU$8,\"Sp\"))","v":""}]
[{"$f":"IF('Data Input'!A115=0,\"\",'Data Input'!A115)","v":""},{"$f":"IF(ISBLANK('Data Input'!A115),\"\",COUNTIF('Data Input'!C115:BU115,\"\")-1)","v":""},{"$f":"IF(ISBLANK('Data Input'!A115),\"\",COUNTIF('Data Input'!C115:BU115,\"0\"))","v":""},{"$f":"IF(ISBLANK('Data Input'!A115),\"\",SUM(B110,C110))","v":""},{"$f":"IF(ISBLANK('Data Input'!A115),\"\",SUM('Data Input'!C115:BU115))","v":""},{"$f":"IF(E110=\"\",\"\",E110/(COUNTA('Data Input'!$C$8:$BU$8)-1))","v":""},{"$f":"IF(ISBLANK('Data Input'!A115),\"\",SUM('Data Input'!H115,'Data Input'!AA115,'Data Input'!AO115,'Data Input'!AP115))","v":""},{"$f":"IF(G110=\"\",\"\",G110/COUNTIF('Data Input'!$C$8:$BU$8,\"CS\"))","v":""},{"$f":"IF(ISBLANK('Data Input'!A115),\"\",SUM('Data Input'!P115,'Data Input'!T115,'Data Input'!AD115,'Data Input'!AX115,'Data Input'!AY115))","v":""},{"$f":"IF(I110=\"\",\"\",I110/COUNTIF('Data Input'!$C$8:$BU$8,\"SE\"))","v":""},{"$f":"IF(ISBLANK('Data Input'!A115),\"\",SUM('Data Input'!K115,'Data Input'!L115,'Data Input'!M115,'Data Input'!O115,'Data Input'!Q115,'Data Input'!U115,'Data Input'!X115,'Data Input'!Y115,'Data Input'!Z115,'Data Input'!AB115,'Data Input'!AE115,'Data Input'!AG115,'Data Input'!AL115,'Data Input'!AU115,'Data Input'!AW115))","v":""},{"$f":"IF(K110=\"\",\"\",K110/COUNTIF('Data Input'!$C$8:$BU$8,\"P\"))","v":""},{"$f":"IF(ISBLANK('Data Input'!A115),\"\",SUM('Data Input'!I115,'Data Input'!S115))","v":""},{"$f":"IF(M110=\"\",\"\",M110/COUNTIF('Data Input'!$C$8:$BU$8,\"FS\"))","v":""},{"$f":"IF(ISBLANK('Data Input'!A115),\"\",SUM('Data Input'!D115,'Data Input'!E115,'Data Input'!F115,'Data Input'!G115,'Data Input'!R115,'Data Input'!V115,'Data Input'!W115,'Data Input'!AC115,'Data Input'!AF115,'Data Input'!AH115,'Data Input'!AJ115,'Data Input'!AK115,'Data Input'!AM115,'Data Input'!AQ115,'Data Input'!AR115,'Data Input'!AZ115))","v":""},{"$f":"IF(O110=\"\",\"\",O110/COUNTIF('Data Input'!$C$8:$BU$8,\"GT\"))","v":""},{"$f":"IF(ISBLANK('Data Input'!A115),\"\",SUM('Data Input'!C115,'Data Input'!J115,'Data Input'!N115,'Data Input'!AS115,'Data Input'!AT115,'Data Input'!AV115))","v":""},{"$f":"IF(Q110=\"\",\"\",Q110/COUNTIF('Data Input'!$C$8:$BU$8,\"V\"))","v":""},{"$f":"IF(ISBLANK('Data Input'!A115),\"\",SUM('Data Input'!AI115,'Data Input'!AN115))","v":""},{"$f":"IF(S110=\"\",\"\",S110/COUNTIF('Data Input'!$C$8:$BU$8,\"F/I\"))","v":""},{"$f":"IF(ISBLANK('Data Input'!C115),\"\",SUM('Data Input'!BB115:BU115))","v":""},{"$f":"IF(U110=\"\",\"\",U110/COUNTIF('Data Input'!$C$8:$BU$8,\"Sp\"))","v":""}]
[{"$f":"IF('Data Input'!A116=0,\"\",'Data Input'!A116)","v":""},{"$f":"IF(ISBLANK('Data Input'!A116),\"\",COUNTIF('Data Input'!C116:BU116,\"\")-1)","v":""},{"$f":"IF(ISBLANK('Data Input'!A116),\"\",COUNTIF('Data Input'!C116:BU116,\"0\"))","v":""},{"$f":"IF(ISBLANK('Data Input'!A116),\"\",SUM(B111,C111))","v":""},{"$f":"IF(ISBLANK('Data Input'!A116),\"\",SUM('Data Input'!C116:BU116))","v":""},{"$f":"IF(E111=\"\",\"\",E111/(COUNTA('Data Input'!$C$8:$BU$8)-1))","v":""},{"$f":"IF(ISBLANK('Data Input'!A116),\"\",SUM('Data Input'!H116,'Data Input'!AA116,'Data Input'!AO116,'Data Input'!AP116))","v":""},{"$f":"IF(G111=\"\",\"\",G111/COUNTIF('Data Input'!$C$8:$BU$8,\"CS\"))","v":""},{"$f":"IF(ISBLANK('Data Input'!A116),\"\",SUM('Data Input'!P116,'Data Input'!T116,'Data Input'!AD116,'Data Input'!AX116,'Data Input'!AY116))","v":""},{"$f":"IF(I111=\"\",\"\",I111/COUNTIF('Data Input'!$C$8:$BU$8,\"SE\"))","v":""},{"$f":"IF(ISBLANK('Data Input'!A116),\"\",SUM('Data Input'!K116,'Data Input'!L116,'Data Input'!M116,'Data Input'!O116,'Data Input'!Q116,'Data Input'!U116,'Data Input'!X116,'Data Input'!Y116,'Data Input'!Z116,'Data Input'!AB116,'Data Input'!AE116,'Data Input'!AG116,'Data Input'!AL116,'Data Input'!AU116,'Data Input'!AW116))","v":""},{"$f":"IF(K111=\"\",\"\",K111/COUNTIF('Data Input'!$C$8:$BU$8,\"P\"))","v":""},{"$f":"IF(ISBLANK('Data Input'!A116),\"\",SUM('Data Input'!I116,'Data Input'!S116))","v":""},{"$f":"IF(M111=\"\",\"\",M111/COUNTIF('Data Input'!$C$8:$BU$8,\"FS\"))","v":""},{"$f":"IF(ISBLANK('Data Input'!A116),\"\",SUM('Data Input'!D116,'Data Input'!E116,'Data Input'!F116,'Data Input'!G116,'Data Input'!R116,'Data Input'!V116,'Data Input'!W116,'Data Input'!AC116,'Data Input'!AF116,'Data Input'!AH116,'Data Input'!AJ116,'Data Input'!AK116,'Data Input'!AM116,'Data Input'!AQ116,'Data Input'!AR116,'Data Input'!AZ116))","v":""},{"$f":"IF(O111=\"\",\"\",O111/COUNTIF('Data Input'!$C$8:$BU$8,\"GT\"))","v":""},{"$f":"IF(ISBLANK('Data Input'!A116),\"\",SUM('Data Input'!C116,'Data Input'!J116,'Data Input'!N116,'Data Input'!AS116,'Data Input'!AT116,'Data Input'!AV116))","v":""},{"$f":"IF(Q111=\"\",\"\",Q111/COUNTIF('Data Input'!$C$8:$BU$8,\"V\"))","v":""},{"$f":"IF(ISBLANK('Data Input'!A116),\"\",SUM('Data Input'!AI116,'Data Input'!AN116))","v":""},{"$f":"IF(S111=\"\",\"\",S111/COUNTIF('Data Input'!$C$8:$BU$8,\"F/I\"))","v":""},{"$f":"IF(ISBLANK('Data Input'!C116),\"\",SUM('Data Input'!BB116:BU116))","v":""},{"$f":"IF(U111=\"\",\"\",U111/COUNTIF('Data Input'!$C$8:$BU$8,\"Sp\"))","v":""}]
[{"$f":"IF('Data Input'!A117=0,\"\",'Data Input'!A117)","v":""},{"$f":"IF(ISBLANK('Data Input'!A117),\"\",COUNTIF('Data Input'!C117:BU117,\"\")-1)","v":""},{"$f":"IF(ISBLANK('Data Input'!A117),\"\",COUNTIF('Data Input'!C117:BU117,\"0\"))","v":""},{"$f":"IF(ISBLANK('Data Input'!A117),\"\",SUM(B112,C112))","v":""},{"$f":"IF(ISBLANK('Data Input'!A117),\"\",SUM('Data Input'!C117:BU117))","v":""},{"$f":"IF(E112=\"\",\"\",E112/(COUNTA('Data Input'!$C$8:$BU$8)-1))","v":""},{"$f":"IF(ISBLANK('Data Input'!A117),\"\",SUM('Data Input'!H117,'Data Input'!AA117,'Data Input'!AO117,'Data Input'!AP117))","v":""},{"$f":"IF(G112=\"\",\"\",G112/COUNTIF('Data Input'!$C$8:$BU$8,\"CS\"))","v":""},{"$f":"IF(ISBLANK('Data Input'!A117),\"\",SUM('Data Input'!P117,'Data Input'!T117,'Data Input'!AD117,'Data Input'!AX117,'Data Input'!AY117))","v":""},{"$f":"IF(I112=\"\",\"\",I112/COUNTIF('Data Input'!$C$8:$BU$8,\"SE\"))","v":""},{"$f":"IF(ISBLANK('Data Input'!A117),\"\",SUM('Data Input'!K117,'Data Input'!L117,'Data Input'!M117,'Data Input'!O117,'Data Input'!Q117,'Data Input'!U117,'Data Input'!X117,'Data Input'!Y117,'Data Input'!Z117,'Data Input'!AB117,'Data Input'!AE117,'Data Input'!AG117,'Data Input'!AL117,'Data Input'!AU117,'Data Input'!AW117))","v":""},{"$f":"IF(K112=\"\",\"\",K112/COUNTIF('Data Input'!$C$8:$BU$8,\"P\"))","v":""},{"$f":"IF(ISBLANK('Data Input'!A117),\"\",SUM('Data Input'!I117,'Data Input'!S117))","v":""},{"$f":"IF(M112=\"\",\"\",M112/COUNTIF('Data Input'!$C$8:$BU$8,\"FS\"))","v":""},{"$f":"IF(ISBLANK('Data Input'!A117),\"\",SUM('Data Input'!D117,'Data Input'!E117,'Data Input'!F117,'Data Input'!G117,'Data Input'!R117,'Data Input'!V117,'Data Input'!W117,'Data Input'!AC117,'Data Input'!AF117,'Data Input'!AH117,'Data Input'!AJ117,'Data Input'!AK117,'Data Input'!AM117,'Data Input'!AQ117,'Data Input'!AR117,'Data Input'!AZ117))","v":""},{"$f":"IF(O112=\"\",\"\",O112/COUNTIF('Data Input'!$C$8:$BU$8,\"GT\"))","v":""},{"$f":"IF(ISBLANK('Data Input'!A117),\"\",SUM('Data Input'!C117,'Data Input'!J117,'Data Input'!N117,'Data Input'!AS117,'Data Input'!AT117,'Data Input'!AV117))","v":""},{"$f":"IF(Q112=\"\",\"\",Q112/COUNTIF('Data Input'!$C$8:$BU$8,\"V\"))","v":""},{"$f":"IF(ISBLANK('Data Input'!A117),\"\",SUM('Data Input'!AI117,'Data Input'!AN117))","v":""},{"$f":"IF(S112=\"\",\"\",S112/COUNTIF('Data Input'!$C$8:$BU$8,\"F/I\"))","v":""},{"$f":"IF(ISBLANK('Data Input'!C117),\"\",SUM('Data Input'!BB117:BU117))","v":""},{"$f":"IF(U112=\"\",\"\",U112/COUNTIF('Data Input'!$C$8:$BU$8,\"Sp\"))","v":""}]
[{"$f":"IF('Data Input'!A118=0,\"\",'Data Input'!A118)","v":""},{"$f":"IF(ISBLANK('Data Input'!A118),\"\",COUNTIF('Data Input'!C118:BU118,\"\")-1)","v":""},{"$f":"IF(ISBLANK('Data Input'!A118),\"\",COUNTIF('Data Input'!C118:BU118,\"0\"))","v":""},{"$f":"IF(ISBLANK('Data Input'!A118),\"\",SUM(B113,C113))","v":""},{"$f":"IF(ISBLANK('Data Input'!A118),\"\",SUM('Data Input'!C118:BU118))","v":""},{"$f":"IF(E113=\"\",\"\",E113/(COUNTA('Data Input'!$C$8:$BU$8)-1))","v":""},{"$f":"IF(ISBLANK('Data Input'!A118),\"\",SUM('Data Input'!H118,'Data Input'!AA118,'Data Input'!AO118,'Data Input'!AP118))","v":""},{"$f":"IF(G113=\"\",\"\",G113/COUNTIF('Data Input'!$C$8:$BU$8,\"CS\"))","v":""},{"$f":"IF(ISBLANK('Data Input'!A118),\"\",SUM('Data Input'!P118,'Data Input'!T118,'Data Input'!AD118,'Data Input'!AX118,'Data Input'!AY118))","v":""},{"$f":"IF(I113=\"\",\"\",I113/COUNTIF('Data Input'!$C$8:$BU$8,\"SE\"))","v":""},{"$f":"IF(ISBLANK('Data Input'!A118),\"\",SUM('Data Input'!K118,'Data Input'!L118,'Data Input'!M118,'Data Input'!O118,'Data Input'!Q118,'Data Input'!U118,'Data Input'!X118,'Data Input'!Y118,'Data Input'!Z118,'Data Input'!AB118,'Data Input'!AE118,'Data Input'!AG118,'Data Input'!AL118,'Data Input'!AU118,'Data Input'!AW118))","v":""},{"$f":"IF(K113=\"\",\"\",K113/COUNTIF('Data Input'!$C$8:$BU$8,\"P\"))","v":""},{"$f":"IF(ISBLANK('Data Input'!A118),\"\",SUM('Data Input'!I118,'Data Input'!S118))","v":""},{"$f":"IF(M113=\"\",\"\",M113/COUNTIF('Data Input'!$C$8:$BU$8,\"FS\"))","v":""},{"$f":"IF(ISBLANK('Data Input'!A118),\"\",SUM('Data Input'!D118,'Data Input'!E118,'Data Input'!F118,'Data Input'!G118,'Data Input'!R118,'Data Input'!V118,'Data Input'!W118,'Data Input'!AC118,'Data Input'!AF118,'Data Input'!AH118,'Data Input'!AJ118,'Data Input'!AK118,'Data Input'!AM118,'Data Input'!AQ118,'Data Input'!AR118,'Data Input'!AZ118))","v":""},{"$f":"IF(O113=\"\",\"\",O113/COUNTIF('Data Input'!$C$8:$BU$8,\"GT\"))","v":""},{"$f":"IF(ISBLANK('Data Input'!A118),\"\",SUM('Data Input'!C118,'Data Input'!J118,'Data Input'!N118,'Data Input'!AS118,'Data Input'!AT118,'Data Input'!AV118))","v":""},{"$f":"IF(Q113=\"\",\"\",Q113/COUNTIF('Data Input'!$C$8:$BU$8,\"V\"))","v":""},{"$f":"IF(ISBLANK('Data Input'!A118),\"\",SUM('Data Input'!AI118,'Data Input'!AN118))","v":""},{"$f":"IF(S113=\"\",\"\",S113/COUNTIF('Data Input'!$C$8:$BU$8,\"F/I\"))","v":""},{"$f":"IF(ISBLANK('Data Input'!C118),\"\",SUM('Data Input'!BB118:BU118))","v":""},{"$f":"IF(U113=\"\",\"\",U113/COUNTIF('Data Input'!$C$8:$BU$8,\"Sp\"))","v":""}]
[{"$f":"IF('Data Input'!A119=0,\"\",'Data Input'!A119)","v":""},{"$f":"IF(ISBLANK('Data Input'!A119),\"\",COUNTIF('Data Input'!C119:BU119,\"\")-1)","v":""},{"$f":"IF(ISBLANK('Data Input'!A119),\"\",COUNTIF('Data Input'!C119:BU119,\"0\"))","v":""},{"$f":"IF(ISBLANK('Data Input'!A119),\"\",SUM(B114,C114))","v":""},{"$f":"IF(ISBLANK('Data Input'!A119),\"\",SUM('Data Input'!C119:BU119))","v":""},{"$f":"IF(E114=\"\",\"\",E114/(COUNTA('Data Input'!$C$8:$BU$8)-1))","v":""},{"$f":"IF(ISBLANK('Data Input'!A119),\"\",SUM('Data Input'!H119,'Data Input'!AA119,'Data Input'!AO119,'Data Input'!AP119))","v":""},{"$f":"IF(G114=\"\",\"\",G114/COUNTIF('Data Input'!$C$8:$BU$8,\"CS\"))","v":""},{"$f":"IF(ISBLANK('Data Input'!A119),\"\",SUM('Data Input'!P119,'Data Input'!T119,'Data Input'!AD119,'Data Input'!AX119,'Data Input'!AY119))","v":""},{"$f":"IF(I114=\"\",\"\",I114/COUNTIF('Data Input'!$C$8:$BU$8,\"SE\"))","v":""},{"$f":"IF(ISBLANK('Data Input'!A119),\"\",SUM('Data Input'!K119,'Data Input'!L119,'Data Input'!M119,'Data Input'!O119,'Data Input'!Q119,'Data Input'!U119,'Data Input'!X119,'Data Input'!Y119,'Data Input'!Z119,'Data Input'!AB119,'Data Input'!AE119,'Data Input'!AG119,'Data Input'!AL119,'Data Input'!AU119,'Data Input'!AW119))","v":""},{"$f":"IF(K114=\"\",\"\",K114/COUNTIF('Data Input'!$C$8:$BU$8,\"P\"))","v":""},{"$f":"IF(ISBLANK('Data Input'!A119),\"\",SUM('Data Input'!I119,'Data Input'!S119))","v":""},{"$f":"IF(M114=\"\",\"\",M114/COUNTIF('Data Input'!$C$8:$BU$8,\"FS\"))","v":""},{"$f":"IF(ISBLANK('Data Input'!A119),\"\",SUM('Data Input'!D119,'Data Input'!E119,'Data Input'!F119,'Data Input'!G119,'Data Input'!R119,'Data Input'!V119,'Data Input'!W119,'Data Input'!AC119,'Data Input'!AF119,'Data Input'!AH119,'Data Input'!AJ119,'Data Input'!AK119,'Data Input'!AM119,'Data Input'!AQ119,'Data Input'!AR119,'Data Input'!AZ119))","v":""},{"$f":"IF(O114=\"\",\"\",O114/COUNTIF('Data Input'!$C$8:$BU$8,\"GT\"))","v":""},{"$f":"IF(ISBLANK('Data Input'!A119),\"\",SUM('Data Input'!C119,'Data Input'!J119,'Data Input'!N119,'Data Input'!AS119,'Data Input'!AT119,'Data Input'!AV119))","v":""},{"$f":"IF(Q114=\"\",\"\",Q114/COUNTIF('Data Input'!$C$8:$BU$8,\"V\"))","v":""},{"$f":"IF(ISBLANK('Data Input'!A119),\"\",SUM('Data Input'!AI119,'Data Input'!AN119))","v":""},{"$f":"IF(S114=\"\",\"\",S114/COUNTIF('Data Input'!$C$8:$BU$8,\"F/I\"))","v":""},{"$f":"IF(ISBLANK('Data Input'!C119),\"\",SUM('Data Input'!BB119:BU119))","v":""},{"$f":"IF(U114=\"\",\"\",U114/COUNTIF('Data Input'!$C$8:$BU$8,\"Sp\"))","v":""}]
[{"$f":"IF('Data Input'!A120=0,\"\",'Data Input'!A120)","v":""},{"$f":"IF(ISBLANK('Data Input'!A120),\"\",COUNTIF('Data Input'!C120:BU120,\"\")-1)","v":""},{"$f":"IF(ISBLANK('Data Input'!A120),\"\",COUNTIF('Data Input'!C120:BU120,\"0\"))","v":""},{"$f":"IF(ISBLANK('Data Input'!A120),\"\",SUM(B115,C115))","v":""},{"$f":"IF(ISBLANK('Data Input'!A120),\"\",SUM('Data Input'!C120:BU120))","v":""},{"$f":"IF(E115=\"\",\"\",E115/(COUNTA('Data Input'!$C$8:$BU$8)-1))","v":""},{"$f":"IF(ISBLANK('Data Input'!A120),\"\",SUM('Data Input'!H120,'Data Input'!AA120,'Data Input'!AO120,'Data Input'!AP120))","v":""},{"$f":"IF(G115=\"\",\"\",G115/COUNTIF('Data Input'!$C$8:$BU$8,\"CS\"))","v":""},{"$f":"IF(ISBLANK('Data Input'!A120),\"\",SUM('Data Input'!P120,'Data Input'!T120,'Data Input'!AD120,'Data Input'!AX120,'Data Input'!AY120))","v":""},{"$f":"IF(I115=\"\",\"\",I115/COUNTIF('Data Input'!$C$8:$BU$8,\"SE\"))","v":""},{"$f":"IF(ISBLANK('Data Input'!A120),\"\",SUM('Data Input'!K120,'Data Input'!L120,'Data Input'!M120,'Data Input'!O120,'Data Input'!Q120,'Data Input'!U120,'Data Input'!X120,'Data Input'!Y120,'Data Input'!Z120,'Data Input'!AB120,'Data Input'!AE120,'Data Input'!AG120,'Data Input'!AL120,'Data Input'!AU120,'Data Input'!AW120))","v":""},{"$f":"IF(K115=\"\",\"\",K115/COUNTIF('Data Input'!$C$8:$BU$8,\"P\"))","v":""},{"$f":"IF(ISBLANK('Data Input'!A120),\"\",SUM('Data Input'!I120,'Data Input'!S120))","v":""},{"$f":"IF(M115=\"\",\"\",M115/COUNTIF('Data Input'!$C$8:$BU$8,\"FS\"))","v":""},{"$f":"IF(ISBLANK('Data Input'!A120),\"\",SUM('Data Input'!D120,'Data Input'!E120,'Data Input'!F120,'Data Input'!G120,'Data Input'!R120,'Data Input'!V120,'Data Input'!W120,'Data Input'!AC120,'Data Input'!AF120,'Data Input'!AH120,'Data Input'!AJ120,'Data Input'!AK120,'Data Input'!AM120,'Data Input'!AQ120,'Data Input'!AR120,'Data Input'!AZ120))","v":""},{"$f":"IF(O115=\"\",\"\",O115/COUNTIF('Data Input'!$C$8:$BU$8,\"GT\"))","v":""},{"$f":"IF(ISBLANK('Data Input'!A120),\"\",SUM('Data Input'!C120,'Data Input'!J120,'Data Input'!N120,'Data Input'!AS120,'Data Input'!AT120,'Data Input'!AV120))","v":""},{"$f":"IF(Q115=\"\",\"\",Q115/COUNTIF('Data Input'!$C$8:$BU$8,\"V\"))","v":""},{"$f":"IF(ISBLANK('Data Input'!A120),\"\",SUM('Data Input'!AI120,'Data Input'!AN120))","v":""},{"$f":"IF(S115=\"\",\"\",S115/COUNTIF('Data Input'!$C$8:$BU$8,\"F/I\"))","v":""},{"$f":"IF(ISBLANK('Data Input'!C120),\"\",SUM('Data Input'!BB120:BU120))","v":""},{"$f":"IF(U115=\"\",\"\",U115/COUNTIF('Data Input'!$C$8:$BU$8,\"Sp\"))","v":""}]
[{"$f":"IF('Data Input'!A121=0,\"\",'Data Input'!A121)","v":""},{"$f":"IF(ISBLANK('Data Input'!A121),\"\",COUNTIF('Data Input'!C121:BU121,\"\")-1)","v":""},{"$f":"IF(ISBLANK('Data Input'!A121),\"\",COUNTIF('Data Input'!C121:BU121,\"0\"))","v":""},{"$f":"IF(ISBLANK('Data Input'!A121),\"\",SUM(B116,C116))","v":""},{"$f":"IF(ISBLANK('Data Input'!A121),\"\",SUM('Data Input'!C121:BU121))","v":""},{"$f":"IF(E116=\"\",\"\",E116/(COUNTA('Data Input'!$C$8:$BU$8)-1))","v":""},{"$f":"IF(ISBLANK('Data Input'!A121),\"\",SUM('Data Input'!H121,'Data Input'!AA121,'Data Input'!AO121,'Data Input'!AP121))","v":""},{"$f":"IF(G116=\"\",\"\",G116/COUNTIF('Data Input'!$C$8:$BU$8,\"CS\"))","v":""},{"$f":"IF(ISBLANK('Data Input'!A121),\"\",SUM('Data Input'!P121,'Data Input'!T121,'Data Input'!AD121,'Data Input'!AX121,'Data Input'!AY121))","v":""},{"$f":"IF(I116=\"\",\"\",I116/COUNTIF('Data Input'!$C$8:$BU$8,\"SE\"))","v":""},{"$f":"IF(ISBLANK('Data Input'!A121),\"\",SUM('Data Input'!K121,'Data Input'!L121,'Data Input'!M121,'Data Input'!O121,'Data Input'!Q121,'Data Input'!U121,'Data Input'!X121,'Data Input'!Y121,'Data Input'!Z121,'Data Input'!AB121,'Data Input'!AE121,'Data Input'!AG121,'Data Input'!AL121,'Data Input'!AU121,'Data Input'!AW121))","v":""},{"$f":"IF(K116=\"\",\"\",K116/COUNTIF('Data Input'!$C$8:$BU$8,\"P\"))","v":""},{"$f":"IF(ISBLANK('Data Input'!A121),\"\",SUM('Data Input'!I121,'Data Input'!S121))","v":""},{"$f":"IF(M116=\"\",\"\",M116/COUNTIF('Data Input'!$C$8:$BU$8,\"FS\"))","v":""},{"$f":"IF(ISBLANK('Data Input'!A121),\"\",SUM('Data Input'!D121,'Data Input'!E121,'Data Input'!F121,'Data Input'!G121,'Data Input'!R121,'Data Input'!V121,'Data Input'!W121,'Data Input'!AC121,'Data Input'!AF121,'Data Input'!AH121,'Data Input'!AJ121,'Data Input'!AK121,'Data Input'!AM121,'Data Input'!AQ121,'Data Input'!AR121,'Data Input'!AZ121))","v":""},{"$f":"IF(O116=\"\",\"\",O116/COUNTIF('Data Input'!$C$8:$BU$8,\"GT\"))","v":""},{"$f":"IF(ISBLANK('Data Input'!A121),\"\",SUM('Data Input'!C121,'Data Input'!J121,'Data Input'!N121,'Data Input'!AS121,'Data Input'!AT121,'Data Input'!AV121))","v":""},{"$f":"IF(Q116=\"\",\"\",Q116/COUNTIF('Data Input'!$C$8:$BU$8,\"V\"))","v":""},{"$f":"IF(ISBLANK('Data Input'!A121),\"\",SUM('Data Input'!AI121,'Data Input'!AN121))","v":""},{"$f":"IF(S116=\"\",\"\",S116/COUNTIF('Data Input'!$C$8:$BU$8,\"F/I\"))","v":""},{"$f":"IF(ISBLANK('Data Input'!C121),\"\",SUM('Data Input'!BB121:BU121))","v":""},{"$f":"IF(U116=\"\",\"\",U116/COUNTIF('Data Input'!$C$8:$BU$8,\"Sp\"))","v":""}]
[{"$f":"IF('Data Input'!A122=0,\"\",'Data Input'!A122)","v":""},{"$f":"IF(ISBLANK('Data Input'!A122),\"\",COUNTIF('Data Input'!C122:BU122,\"\")-1)","v":""},{"$f":"IF(ISBLANK('Data Input'!A122),\"\",COUNTIF('Data Input'!C122:BU122,\"0\"))","v":""},{"$f":"IF(ISBLANK('Data Input'!A122),\"\",SUM(B117,C117))","v":""},{"$f":"IF(ISBLANK('Data Input'!A122),\"\",SUM('Data Input'!C122:BU122))","v":""},{"$f":"IF(E117=\"\",\"\",E117/(COUNTA('Data Input'!$C$8:$BU$8)-1))","v":""},{"$f":"IF(ISBLANK('Data Input'!A122),\"\",SUM('Data Input'!H122,'Data Input'!AA122,'Data Input'!AO122,'Data Input'!AP122))","v":""},{"$f":"IF(G117=\"\",\"\",G117/COUNTIF('Data Input'!$C$8:$BU$8,\"CS\"))","v":""},{"$f":"IF(ISBLANK('Data Input'!A122),\"\",SUM('Data Input'!P122,'Data Input'!T122,'Data Input'!AD122,'Data Input'!AX122,'Data Input'!AY122))","v":""},{"$f":"IF(I117=\"\",\"\",I117/COUNTIF('Data Input'!$C$8:$BU$8,\"SE\"))","v":""},{"$f":"IF(ISBLANK('Data Input'!A122),\"\",SUM('Data Input'!K122,'Data Input'!L122,'Data Input'!M122,'Data Input'!O122,'Data Input'!Q122,'Data Input'!U122,'Data Input'!X122,'Data Input'!Y122,'Data Input'!Z122,'Data Input'!AB122,'Data Input'!AE122,'Data Input'!AG122,'Data Input'!AL122,'Data Input'!AU122,'Data Input'!AW122))","v":""},{"$f":"IF(K117=\"\",\"\",K117/COUNTIF('Data Input'!$C$8:$BU$8,\"P\"))","v":""},{"$f":"IF(ISBLANK('Data Input'!A122),\"\",SUM('Data Input'!I122,'Data Input'!S122))","v":""},{"$f":"IF(M117=\"\",\"\",M117/COUNTIF('Data Input'!$C$8:$BU$8,\"FS\"))","v":""},{"$f":"IF(ISBLANK('Data Input'!A122),\"\",SUM('Data Input'!D122,'Data Input'!E122,'Data Input'!F122,'Data Input'!G122,'Data Input'!R122,'Data Input'!V122,'Data Input'!W122,'Data Input'!AC122,'Data Input'!AF122,'Data Input'!AH122,'Data Input'!AJ122,'Data Input'!AK122,'Data Input'!AM122,'Data Input'!AQ122,'Data Input'!AR122,'Data Input'!AZ122))","v":""},{"$f":"IF(O117=\"\",\"\",O117/COUNTIF('Data Input'!$C$8:$BU$8,\"GT\"))","v":""},{"$f":"IF(ISBLANK('Data Input'!A122),\"\",SUM('Data Input'!C122,'Data Input'!J122,'Data Input'!N122,'Data Input'!AS122,'Data Input'!AT122,'Data Input'!AV122))","v":""},{"$f":"IF(Q117=\"\",\"\",Q117/COUNTIF('Data Input'!$C$8:$BU$8,\"V\"))","v":""},{"$f":"IF(ISBLANK('Data Input'!A122),\"\",SUM('Data Input'!AI122,'Data Input'!AN122))","v":""},{"$f":"IF(S117=\"\",\"\",S117/COUNTIF('Data Input'!$C$8:$BU$8,\"F/I\"))","v":""},{"$f":"IF(ISBLANK('Data Input'!C122),\"\",SUM('Data Input'!BB122:BU122))","v":""},{"$f":"IF(U117=\"\",\"\",U117/COUNTIF('Data Input'!$C$8:$BU$8,\"Sp\"))","v":""}]
[{"$f":"IF('Data Input'!A123=0,\"\",'Data Input'!A123)","v":""},{"$f":"IF(ISBLANK('Data Input'!A123),\"\",COUNTIF('Data Input'!C123:BU123,\"\")-1)","v":""},{"$f":"IF(ISBLANK('Data Input'!A123),\"\",COUNTIF('Data Input'!C123:BU123,\"0\"))","v":""},{"$f":"IF(ISBLANK('Data Input'!A123),\"\",SUM(B118,C118))","v":""},{"$f":"IF(ISBLANK('Data Input'!A123),\"\",SUM('Data Input'!C123:BU123))","v":""},{"$f":"IF(E118=\"\",\"\",E118/(COUNTA('Data Input'!$C$8:$BU$8)-1))","v":""},{"$f":"IF(ISBLANK('Data Input'!A123),\"\",SUM('Data Input'!H123,'Data Input'!AA123,'Data Input'!AO123,'Data Input'!AP123))","v":""},{"$f":"IF(G118=\"\",\"\",G118/COUNTIF('Data Input'!$C$8:$BU$8,\"CS\"))","v":""},{"$f":"IF(ISBLANK('Data Input'!A123),\"\",SUM('Data Input'!P123,'Data Input'!T123,'Data Input'!AD123,'Data Input'!AX123,'Data Input'!AY123))","v":""},{"$f":"IF(I118=\"\",\"\",I118/COUNTIF('Data Input'!$C$8:$BU$8,\"SE\"))","v":""},{"$f":"IF(ISBLANK('Data Input'!A123),\"\",SUM('Data Input'!K123,'Data Input'!L123,'Data Input'!M123,'Data Input'!O123,'Data Input'!Q123,'Data Input'!U123,'Data Input'!X123,'Data Input'!Y123,'Data Input'!Z123,'Data Input'!AB123,'Data Input'!AE123,'Data Input'!AG123,'Data Input'!AL123,'Data Input'!AU123,'Data Input'!AW123))","v":""},{"$f":"IF(K118=\"\",\"\",K118/COUNTIF('Data Input'!$C$8:$BU$8,\"P\"))","v":""},{"$f":"IF(ISBLANK('Data Input'!A123),\"\",SUM('Data Input'!I123,'Data Input'!S123))","v":""},{"$f":"IF(M118=\"\",\"\",M118/COUNTIF('Data Input'!$C$8:$BU$8,\"FS\"))","v":""},{"$f":"IF(ISBLANK('Data Input'!A123),\"\",SUM('Data Input'!D123,'Data Input'!E123,'Data Input'!F123,'Data Input'!G123,'Data Input'!R123,'Data Input'!V123,'Data Input'!W123,'Data Input'!AC123,'Data Input'!AF123,'Data Input'!AH123,'Data Input'!AJ123,'Data Input'!AK123,'Data Input'!AM123,'Data Input'!AQ123,'Data Input'!AR123,'Data Input'!AZ123))","v":""},{"$f":"IF(O118=\"\",\"\",O118/COUNTIF('Data Input'!$C$8:$BU$8,\"GT\"))","v":""},{"$f":"IF(ISBLANK('Data Input'!A123),\"\",SUM('Data Input'!C123,'Data Input'!J123,'Data Input'!N123,'Data Input'!AS123,'Data Input'!AT123,'Data Input'!AV123))","v":""},{"$f":"IF(Q118=\"\",\"\",Q118/COUNTIF('Data Input'!$C$8:$BU$8,\"V\"))","v":""},{"$f":"IF(ISBLANK('Data Input'!A123),\"\",SUM('Data Input'!AI123,'Data Input'!AN123))","v":""},{"$f":"IF(S118=\"\",\"\",S118/COUNTIF('Data Input'!$C$8:$BU$8,\"F/I\"))","v":""},{"$f":"IF(ISBLANK('Data Input'!C123),\"\",SUM('Data Input'!BB123:BU123))","v":""},{"$f":"IF(U118=\"\",\"\",U118/COUNTIF('Data Input'!$C$8:$BU$8,\"Sp\"))","v":""}]
[{"$f":"IF('Data Input'!A124=0,\"\",'Data Input'!A124)","v":""},{"$f":"IF(ISBLANK('Data Input'!A124),\"\",COUNTIF('Data Input'!C124:BU124,\"\")-1)","v":""},{"$f":"IF(ISBLANK('Data Input'!A124),\"\",COUNTIF('Data Input'!C124:BU124,\"0\"))","v":""},{"$f":"IF(ISBLANK('Data Input'!A124),\"\",SUM(B119,C119))","v":""},{"$f":"IF(ISBLANK('Data Input'!A124),\"\",SUM('Data Input'!C124:BU124))","v":""},{"$f":"IF(E119=\"\",\"\",E119/(COUNTA('Data Input'!$C$8:$BU$8)-1))","v":""},{"$f":"IF(ISBLANK('Data Input'!A124),\"\",SUM('Data Input'!H124,'Data Input'!AA124,'Data Input'!AO124,'Data Input'!AP124))","v":""},{"$f":"IF(G119=\"\",\"\",G119/COUNTIF('Data Input'!$C$8:$BU$8,\"CS\"))","v":""},{"$f":"IF(ISBLANK('Data Input'!A124),\"\",SUM('Data Input'!P124,'Data Input'!T124,'Data Input'!AD124,'Data Input'!AX124,'Data Input'!AY124))","v":""},{"$f":"IF(I119=\"\",\"\",I119/COUNTIF('Data Input'!$C$8:$BU$8,\"SE\"))","v":""},{"$f":"IF(ISBLANK('Data Input'!A124),\"\",SUM('Data Input'!K124,'Data Input'!L124,'Data Input'!M124,'Data Input'!O124,'Data Input'!Q124,'Data Input'!U124,'Data Input'!X124,'Data Input'!Y124,'Data Input'!Z124,'Data Input'!AB124,'Data Input'!AE124,'Data Input'!AG124,'Data Input'!AL124,'Data Input'!AU124,'Data Input'!AW124))","v":""},{"$f":"IF(K119=\"\",\"\",K119/COUNTIF('Data Input'!$C$8:$BU$8,\"P\"))","v":""},{"$f":"IF(ISBLANK('Data Input'!A124),\"\",SUM('Data Input'!I124,'Data Input'!S124))","v":""},{"$f":"IF(M119=\"\",\"\",M119/COUNTIF('Data Input'!$C$8:$BU$8,\"FS\"))","v":""},{"$f":"IF(ISBLANK('Data Input'!A124),\"\",SUM('Data Input'!D124,'Data Input'!E124,'Data Input'!F124,'Data Input'!G124,'Data Input'!R124,'Data Input'!V124,'Data Input'!W124,'Data Input'!AC124,'Data Input'!AF124,'Data Input'!AH124,'Data Input'!AJ124,'Data Input'!AK124,'Data Input'!AM124,'Data Input'!AQ124,'Data Input'!AR124,'Data Input'!AZ124))","v":""},{"$f":"IF(O119=\"\",\"\",O119/COUNTIF('Data Input'!$C$8:$BU$8,\"GT\"))","v":""},{"$f":"IF(ISBLANK('Data Input'!A124),\"\",SUM('Data Input'!C124,'Data Input'!J124,'Data Input'!N124,'Data Input'!AS124,'Data Input'!AT124,'Data Input'!AV124))","v":""},{"$f":"IF(Q119=\"\",\"\",Q119/COUNTIF('Data Input'!$C$8:$BU$8,\"V\"))","v":""},{"$f":"IF(ISBLANK('Data Input'!A124),\"\",SUM('Data Input'!AI124,'Data Input'!AN124))","v":""},{"$f":"IF(S119=\"\",\"\",S119/COUNTIF('Data Input'!$C$8:$BU$8,\"F/I\"))","v":""},{"$f":"IF(ISBLANK('Data Input'!C124),\"\",SUM('Data Input'!BB124:BU124))","v":""},{"$f":"IF(U119=\"\",\"\",U119/COUNTIF('Data Input'!$C$8:$BU$8,\"Sp\"))","v":""}]
[{"$f":"IF('Data Input'!A125=0,\"\",'Data Input'!A125)","v":""},{"$f":"IF(ISBLANK('Data Input'!A125),\"\",COUNTIF('Data Input'!C125:BU125,\"\")-1)","v":""},{"$f":"IF(ISBLANK('Data Input'!A125),\"\",COUNTIF('Data Input'!C125:BU125,\"0\"))","v":""},{"$f":"IF(ISBLANK('Data Input'!A125),\"\",SUM(B120,C120))","v":""},{"$f":"IF(ISBLANK('Data Input'!A125),\"\",SUM('Data Input'!C125:BU125))","v":""},{"$f":"IF(E120=\"\",\"\",E120/(COUNTA('Data Input'!$C$8:$BU$8)-1))","v":""},{"$f":"IF(ISBLANK('Data Input'!A125),\"\",SUM('Data Input'!H125,'Data Input'!AA125,'Data Input'!AO125,'Data Input'!AP125))","v":""},{"$f":"IF(G120=\"\",\"\",G120/COUNTIF('Data Input'!$C$8:$BU$8,\"CS\"))","v":""},{"$f":"IF(ISBLANK('Data Input'!A125),\"\",SUM('Data Input'!P125,'Data Input'!T125,'Data Input'!AD125,'Data Input'!AX125,'Data Input'!AY125))","v":""},{"$f":"IF(I120=\"\",\"\",I120/COUNTIF('Data Input'!$C$8:$BU$8,\"SE\"))","v":""},{"$f":"IF(ISBLANK('Data Input'!A125),\"\",SUM('Data Input'!K125,'Data Input'!L125,'Data Input'!M125,'Data Input'!O125,'Data Input'!Q125,'Data Input'!U125,'Data Input'!X125,'Data Input'!Y125,'Data Input'!Z125,'Data Input'!AB125,'Data Input'!AE125,'Data Input'!AG125,'Data Input'!AL125,'Data Input'!AU125,'Data Input'!AW125))","v":""},{"$f":"IF(K120=\"\",\"\",K120/COUNTIF('Data Input'!$C$8:$BU$8,\"P\"))","v":""},{"$f":"IF(ISBLANK('Data Input'!A125),\"\",SUM('Data Input'!I125,'Data Input'!S125))","v":""},{"$f":"IF(M120=\"\",\"\",M120/COUNTIF('Data Input'!$C$8:$BU$8,\"FS\"))","v":""},{"$f":"IF(ISBLANK('Data Input'!A125),\"\",SUM('Data Input'!D125,'Data Input'!E125,'Data Input'!F125,'Data Input'!G125,'Data Input'!R125,'Data Input'!V125,'Data Input'!W125,'Data Input'!AC125,'Data Input'!AF125,'Data Input'!AH125,'Data Input'!AJ125,'Data Input'!AK125,'Data Input'!AM125,'Data Input'!AQ125,'Data Input'!AR125,'Data Input'!AZ125))","v":""},{"$f":"IF(O120=\"\",\"\",O120/COUNTIF('Data Input'!$C$8:$BU$8,\"GT\"))","v":""},{"$f":"IF(ISBLANK('Data Input'!A125),\"\",SUM('Data Input'!C125,'Data Input'!J125,'Data Input'!N125,'Data Input'!AS125,'Data Input'!AT125,'Data Input'!AV125))","v":""},{"$f":"IF(Q120=\"\",\"\",Q120/COUNTIF('Data Input'!$C$8:$BU$8,\"V\"))","v":""},{"$f":"IF(ISBLANK('Data Input'!A125),\"\",SUM('Data Input'!AI125,'Data Input'!AN125))","v":""},{"$f":"IF(S120=\"\",\"\",S120/COUNTIF('Data Input'!$C$8:$BU$8,\"F/I\"))","v":""},{"$f":"IF(ISBLANK('Data Input'!C125),\"\",SUM('Data Input'!BB125:BU125))","v":""},{"$f":"IF(U120=\"\",\"\",U120/COUNTIF('Data Input'!$C$8:$BU$8,\"Sp\"))","v":""}]
[{"$f":"IF('Data Input'!A126=0,\"\",'Data Input'!A126)","v":""},{"$f":"IF(ISBLANK('Data Input'!A126),\"\",COUNTIF('Data Input'!C126:BU126,\"\")-1)","v":""},{"$f":"IF(ISBLANK('Data Input'!A126),\"\",COUNTIF('Data Input'!C126:BU126,\"0\"))","v":""},{"$f":"IF(ISBLANK('Data Input'!A126),\"\",SUM(B121,C121))","v":""},{"$f":"IF(ISBLANK('Data Input'!A126),\"\",SUM('Data Input'!C126:BU126))","v":""},{"$f":"IF(E121=\"\",\"\",E121/(COUNTA('Data Input'!$C$8:$BU$8)-1))","v":""},{"$f":"IF(ISBLANK('Data Input'!A126),\"\",SUM('Data Input'!H126,'Data Input'!AA126,'Data Input'!AO126,'Data Input'!AP126))","v":""},{"$f":"IF(G121=\"\",\"\",G121/COUNTIF('Data Input'!$C$8:$BU$8,\"CS\"))","v":""},{"$f":"IF(ISBLANK('Data Input'!A126),\"\",SUM('Data Input'!P126,'Data Input'!T126,'Data Input'!AD126,'Data Input'!AX126,'Data Input'!AY126))","v":""},{"$f":"IF(I121=\"\",\"\",I121/COUNTIF('Data Input'!$C$8:$BU$8,\"SE\"))","v":""},{"$f":"IF(ISBLANK('Data Input'!A126),\"\",SUM('Data Input'!K126,'Data Input'!L126,'Data Input'!M126,'Data Input'!O126,'Data Input'!Q126,'Data Input'!U126,'Data Input'!X126,'Data Input'!Y126,'Data Input'!Z126,'Data Input'!AB126,'Data Input'!AE126,'Data Input'!AG126,'Data Input'!AL126,'Data Input'!AU126,'Data Input'!AW126))","v":""},{"$f":"IF(K121=\"\",\"\",K121/COUNTIF('Data Input'!$C$8:$BU$8,\"P\"))","v":""},{"$f":"IF(ISBLANK('Data Input'!A126),\"\",SUM('Data Input'!I126,'Data Input'!S126))","v":""},{"$f":"IF(M121=\"\",\"\",M121/COUNTIF('Data Input'!$C$8:$BU$8,\"FS\"))","v":""},{"$f":"IF(ISBLANK('Data Input'!A126),\"\",SUM('Data Input'!D126,'Data Input'!E126,'Data Input'!F126,'Data Input'!G126,'Data Input'!R126,'Data Input'!V126,'Data Input'!W126,'Data Input'!AC126,'Data Input'!AF126,'Data Input'!AH126,'Data Input'!AJ126,'Data Input'!AK126,'Data Input'!AM126,'Data Input'!AQ126,'Data Input'!AR126,'Data Input'!AZ126))","v":""},{"$f":"IF(O121=\"\",\"\",O121/COUNTIF('Data Input'!$C$8:$BU$8,\"GT\"))","v":""},{"$f":"IF(ISBLANK('Data Input'!A126),\"\",SUM('Data Input'!C126,'Data Input'!J126,'Data Input'!N126,'Data Input'!AS126,'Data Input'!AT126,'Data Input'!AV126))","v":""},{"$f":"IF(Q121=\"\",\"\",Q121/COUNTIF('Data Input'!$C$8:$BU$8,\"V\"))","v":""},{"$f":"IF(ISBLANK('Data Input'!A126),\"\",SUM('Data Input'!AI126,'Data Input'!AN126))","v":""},{"$f":"IF(S121=\"\",\"\",S121/COUNTIF('Data Input'!$C$8:$BU$8,\"F/I\"))","v":""},{"$f":"IF(ISBLANK('Data Input'!C126),\"\",SUM('Data Input'!BB126:BU126))","v":""},{"$f":"IF(U121=\"\",\"\",U121/COUNTIF('Data Input'!$C$8:$BU$8,\"Sp\"))","v":""}]
[{"$f":"IF('Data Input'!A127=0,\"\",'Data Input'!A127)","v":""},{"$f":"IF(ISBLANK('Data Input'!A127),\"\",COUNTIF('Data Input'!C127:BU127,\"\")-1)","v":""},{"$f":"IF(ISBLANK('Data Input'!A127),\"\",COUNTIF('Data Input'!C127:BU127,\"0\"))","v":""},{"$f":"IF(ISBLANK('Data Input'!A127),\"\",SUM(B122,C122))","v":""},{"$f":"IF(ISBLANK('Data Input'!A127),\"\",SUM('Data Input'!C127:BU127))","v":""},{"$f":"IF(E122=\"\",\"\",E122/(COUNTA('Data Input'!$C$8:$BU$8)-1))","v":""},{"$f":"IF(ISBLANK('Data Input'!A127),\"\",SUM('Data Input'!H127,'Data Input'!AA127,'Data Input'!AO127,'Data Input'!AP127))","v":""},{"$f":"IF(G122=\"\",\"\",G122/COUNTIF('Data Input'!$C$8:$BU$8,\"CS\"))","v":""},{"$f":"IF(ISBLANK('Data Input'!A127),\"\",SUM('Data Input'!P127,'Data Input'!T127,'Data Input'!AD127,'Data Input'!AX127,'Data Input'!AY127))","v":""},{"$f":"IF(I122=\"\",\"\",I122/COUNTIF('Data Input'!$C$8:$BU$8,\"SE\"))","v":""},{"$f":"IF(ISBLANK('Data Input'!A127),\"\",SUM('Data Input'!K127,'Data Input'!L127,'Data Input'!M127,'Data Input'!O127,'Data Input'!Q127,'Data Input'!U127,'Data Input'!X127,'Data Input'!Y127,'Data Input'!Z127,'Data Input'!AB127,'Data Input'!AE127,'Data Input'!AG127,'Data Input'!AL127,'Data Input'!AU127,'Data Input'!AW127))","v":""},{"$f":"IF(K122=\"\",\"\",K122/COUNTIF('Data Input'!$C$8:$BU$8,\"P\"))","v":""},{"$f":"IF(ISBLANK('Data Input'!A127),\"\",SUM('Data Input'!I127,'Data Input'!S127))","v":""},{"$f":"IF(M122=\"\",\"\",M122/COUNTIF('Data Input'!$C$8:$BU$8,\"FS\"))","v":""},{"$f":"IF(ISBLANK('Data Input'!A127),\"\",SUM('Data Input'!D127,'Data Input'!E127,'Data Input'!F127,'Data Input'!G127,'Data Input'!R127,'Data Input'!V127,'Data Input'!W127,'Data Input'!AC127,'Data Input'!AF127,'Data Input'!AH127,'Data Input'!AJ127,'Data Input'!AK127,'Data Input'!AM127,'Data Input'!AQ127,'Data Input'!AR127,'Data Input'!AZ127))","v":""},{"$f":"IF(O122=\"\",\"\",O122/COUNTIF('Data Input'!$C$8:$BU$8,\"GT\"))","v":""},{"$f":"IF(ISBLANK('Data Input'!A127),\"\",SUM('Data Input'!C127,'Data Input'!J127,'Data Input'!N127,'Data Input'!AS127,'Data Input'!AT127,'Data Input'!AV127))","v":""},{"$f":"IF(Q122=\"\",\"\",Q122/COUNTIF('Data Input'!$C$8:$BU$8,\"V\"))","v":""},{"$f":"IF(ISBLANK('Data Input'!A127),\"\",SUM('Data Input'!AI127,'Data Input'!AN127))","v":""},{"$f":"IF(S122=\"\",\"\",S122/COUNTIF('Data Input'!$C$8:$BU$8,\"F/I\"))","v":""},{"$f":"IF(ISBLANK('Data Input'!C127),\"\",SUM('Data Input'!BB127:BU127))","v":""},{"$f":"IF(U122=\"\",\"\",U122/COUNTIF('Data Input'!$C$8:$BU$8,\"Sp\"))","v":""}]
[{"$f":"IF('Data Input'!A128=0,\"\",'Data Input'!A128)","v":""},{"$f":"IF(ISBLANK('Data Input'!A128),\"\",COUNTIF('Data Input'!C128:BU128,\"\")-1)","v":""},{"$f":"IF(ISBLANK('Data Input'!A128),\"\",COUNTIF('Data Input'!C128:BU128,\"0\"))","v":""},{"$f":"IF(ISBLANK('Data Input'!A128),\"\",SUM(B123,C123))","v":""},{"$f":"IF(ISBLANK('Data Input'!A128),\"\",SUM('Data Input'!C128:BU128))","v":""},{"$f":"IF(E123=\"\",\"\",E123/(COUNTA('Data Input'!$C$8:$BU$8)-1))","v":""},{"$f":"IF(ISBLANK('Data Input'!A128),\"\",SUM('Data Input'!H128,'Data Input'!AA128,'Data Input'!AO128,'Data Input'!AP128))","v":""},{"$f":"IF(G123=\"\",\"\",G123/COUNTIF('Data Input'!$C$8:$BU$8,\"CS\"))","v":""},{"$f":"IF(ISBLANK('Data Input'!A128),\"\",SUM('Data Input'!P128,'Data Input'!T128,'Data Input'!AD128,'Data Input'!AX128,'Data Input'!AY128))","v":""},{"$f":"IF(I123=\"\",\"\",I123/COUNTIF('Data Input'!$C$8:$BU$8,\"SE\"))","v":""},{"$f":"IF(ISBLANK('Data Input'!A128),\"\",SUM('Data Input'!K128,'Data Input'!L128,'Data Input'!M128,'Data Input'!O128,'Data Input'!Q128,'Data Input'!U128,'Data Input'!X128,'Data Input'!Y128,'Data Input'!Z128,'Data Input'!AB128,'Data Input'!AE128,'Data Input'!AG128,'Data Input'!AL128,'Data Input'!AU128,'Data Input'!AW128))","v":""},{"$f":"IF(K123=\"\",\"\",K123/COUNTIF('Data Input'!$C$8:$BU$8,\"P\"))","v":""},{"$f":"IF(ISBLANK('Data Input'!A128),\"\",SUM('Data Input'!I128,'Data Input'!S128))","v":""},{"$f":"IF(M123=\"\",\"\",M123/COUNTIF('Data Input'!$C$8:$BU$8,\"FS\"))","v":""},{"$f":"IF(ISBLANK('Data Input'!A128),\"\",SUM('Data Input'!D128,'Data Input'!E128,'Data Input'!F128,'Data Input'!G128,'Data Input'!R128,'Data Input'!V128,'Data Input'!W128,'Data Input'!AC128,'Data Input'!AF128,'Data Input'!AH128,'Data Input'!AJ128,'Data Input'!AK128,'Data Input'!AM128,'Data Input'!AQ128,'Data Input'!AR128,'Data Input'!AZ128))","v":""},{"$f":"IF(O123=\"\",\"\",O123/COUNTIF('Data Input'!$C$8:$BU$8,\"GT\"))","v":""},{"$f":"IF(ISBLANK('Data Input'!A128),\"\",SUM('Data Input'!C128,'Data Input'!J128,'Data Input'!N128,'Data Input'!AS128,'Data Input'!AT128,'Data Input'!AV128))","v":""},{"$f":"IF(Q123=\"\",\"\",Q123/COUNTIF('Data Input'!$C$8:$BU$8,\"V\"))","v":""},{"$f":"IF(ISBLANK('Data Input'!A128),\"\",SUM('Data Input'!AI128,'Data Input'!AN128))","v":""},{"$f":"IF(S123=\"\",\"\",S123/COUNTIF('Data Input'!$C$8:$BU$8,\"F/I\"))","v":""},{"$f":"IF(ISBLANK('Data Input'!C128),\"\",SUM('Data Input'!BB128:BU128))","v":""},{"$f":"IF(U123=\"\",\"\",U123/COUNTIF('Data Input'!$C$8:$BU$8,\"Sp\"))","v":""}]
[{"$f":"IF('Data Input'!A129=0,\"\",'Data Input'!A129)","v":""},{"$f":"IF(ISBLANK('Data Input'!A129),\"\",COUNTIF('Data Input'!C129:BU129,\"\")-1)","v":""},{"$f":"IF(ISBLANK('Data Input'!A129),\"\",COUNTIF('Data Input'!C129:BU129,\"0\"))","v":""},{"$f":"IF(ISBLANK('Data Input'!A129),\"\",SUM(B124,C124))","v":""},{"$f":"IF(ISBLANK('Data Input'!A129),\"\",SUM('Data Input'!C129:BU129))","v":""},{"$f":"IF(E124=\"\",\"\",E124/(COUNTA('Data Input'!$C$8:$BU$8)-1))","v":""},{"$f":"IF(ISBLANK('Data Input'!A129),\"\",SUM('Data Input'!H129,'Data Input'!AA129,'Data Input'!AO129,'Data Input'!AP129))","v":""},{"$f":"IF(G124=\"\",\"\",G124/COUNTIF('Data Input'!$C$8:$BU$8,\"CS\"))","v":""},{"$f":"IF(ISBLANK('Data Input'!A129),\"\",SUM('Data Input'!P129,'Data Input'!T129,'Data Input'!AD129,'Data Input'!AX129,'Data Input'!AY129))","v":""},{"$f":"IF(I124=\"\",\"\",I124/COUNTIF('Data Input'!$C$8:$BU$8,\"SE\"))","v":""},{"$f":"IF(ISBLANK('Data Input'!A129),\"\",SUM('Data Input'!K129,'Data Input'!L129,'Data Input'!M129,'Data Input'!O129,'Data Input'!Q129,'Data Input'!U129,'Data Input'!X129,'Data Input'!Y129,'Data Input'!Z129,'Data Input'!AB129,'Data Input'!AE129,'Data Input'!AG129,'Data Input'!AL129,'Data Input'!AU129,'Data Input'!AW129))","v":""},{"$f":"IF(K124=\"\",\"\",K124/COUNTIF('Data Input'!$C$8:$BU$8,\"P\"))","v":""},{"$f":"IF(ISBLANK('Data Input'!A129),\"\",SUM('Data Input'!I129,'Data Input'!S129))","v":""},{"$f":"IF(M124=\"\",\"\",M124/COUNTIF('Data Input'!$C$8:$BU$8,\"FS\"))","v":""},{"$f":"IF(ISBLANK('Data Input'!A129),\"\",SUM('Data Input'!D129,'Data Input'!E129,'Data Input'!F129,'Data Input'!G129,'Data Input'!R129,'Data Input'!V129,'Data Input'!W129,'Data Input'!AC129,'Data Input'!AF129,'Data Input'!AH129,'Data Input'!AJ129,'Data Input'!AK129,'Data Input'!AM129,'Data Input'!AQ129,'Data Input'!AR129,'Data Input'!AZ129))","v":""},{"$f":"IF(O124=\"\",\"\",O124/COUNTIF('Data Input'!$C$8:$BU$8,\"GT\"))","v":""},{"$f":"IF(ISBLANK('Data Input'!A129),\"\",SUM('Data Input'!C129,'Data Input'!J129,'Data Input'!N129,'Data Input'!AS129,'Data Input'!AT129,'Data Input'!AV129))","v":""},{"$f":"IF(Q124=\"\",\"\",Q124/COUNTIF('Data Input'!$C$8:$BU$8,\"V\"))","v":""},{"$f":"IF(ISBLANK('Data Input'!A129),\"\",SUM('Data Input'!AI129,'Data Input'!AN129))","v":""},{"$f":"IF(S124=\"\",\"\",S124/COUNTIF('Data Input'!$C$8:$BU$8,\"F/I\"))","v":""},{"$f":"IF(ISBLANK('Data Input'!C129),\"\",SUM('Data Input'!BB129:BU129))","v":""},{"$f":"IF(U124=\"\",\"\",U124/COUNTIF('Data Input'!$C$8:$BU$8,\"Sp\"))","v":""}]
[{"$f":"IF('Data Input'!A130=0,\"\",'Data Input'!A130)","v":""},{"$f":"IF(ISBLANK('Data Input'!A130),\"\",COUNTIF('Data Input'!C130:BU130,\"\")-1)","v":""},{"$f":"IF(ISBLANK('Data Input'!A130),\"\",COUNTIF('Data Input'!C130:BU130,\"0\"))","v":""},{"$f":"IF(ISBLANK('Data Input'!A130),\"\",SUM(B125,C125))","v":""},{"$f":"IF(ISBLANK('Data Input'!A130),\"\",SUM('Data Input'!C130:BU130))","v":""},{"$f":"IF(E125=\"\",\"\",E125/(COUNTA('Data Input'!$C$8:$BU$8)-1))","v":""},{"$f":"IF(ISBLANK('Data Input'!A130),\"\",SUM('Data Input'!H130,'Data Input'!AA130,'Data Input'!AO130,'Data Input'!AP130))","v":""},{"$f":"IF(G125=\"\",\"\",G125/COUNTIF('Data Input'!$C$8:$BU$8,\"CS\"))","v":""},{"$f":"IF(ISBLANK('Data Input'!A130),\"\",SUM('Data Input'!P130,'Data Input'!T130,'Data Input'!AD130,'Data Input'!AX130,'Data Input'!AY130))","v":""},{"$f":"IF(I125=\"\",\"\",I125/COUNTIF('Data Input'!$C$8:$BU$8,\"SE\"))","v":""},{"$f":"IF(ISBLANK('Data Input'!A130),\"\",SUM('Data Input'!K130,'Data Input'!L130,'Data Input'!M130,'Data Input'!O130,'Data Input'!Q130,'Data Input'!U130,'Data Input'!X130,'Data Input'!Y130,'Data Input'!Z130,'Data Input'!AB130,'Data Input'!AE130,'Data Input'!AG130,'Data Input'!AL130,'Data Input'!AU130,'Data Input'!AW130))","v":""},{"$f":"IF(K125=\"\",\"\",K125/COUNTIF('Data Input'!$C$8:$BU$8,\"P\"))","v":""},{"$f":"IF(ISBLANK('Data Input'!A130),\"\",SUM('Data Input'!I130,'Data Input'!S130))","v":""},{"$f":"IF(M125=\"\",\"\",M125/COUNTIF('Data Input'!$C$8:$BU$8,\"FS\"))","v":""},{"$f":"IF(ISBLANK('Data Input'!A130),\"\",SUM('Data Input'!D130,'Data Input'!E130,'Data Input'!F130,'Data Input'!G130,'Data Input'!R130,'Data Input'!V130,'Data Input'!W130,'Data Input'!AC130,'Data Input'!AF130,'Data Input'!AH130,'Data Input'!AJ130,'Data Input'!AK130,'Data Input'!AM130,'Data Input'!AQ130,'Data Input'!AR130,'Data Input'!AZ130))","v":""},{"$f":"IF(O125=\"\",\"\",O125/COUNTIF('Data Input'!$C$8:$BU$8,\"GT\"))","v":""},{"$f":"IF(ISBLANK('Data Input'!A130),\"\",SUM('Data Input'!C130,'Data Input'!J130,'Data Input'!N130,'Data Input'!AS130,'Data Input'!AT130,'Data Input'!AV130))","v":""},{"$f":"IF(Q125=\"\",\"\",Q125/COUNTIF('Data Input'!$C$8:$BU$8,\"V\"))","v":""},{"$f":"IF(ISBLANK('Data Input'!A130),\"\",SUM('Data Input'!AI130,'Data Input'!AN130))","v":""},{"$f":"IF(S125=\"\",\"\",S125/COUNTIF('Data Input'!$C$8:$BU$8,\"F/I\"))","v":""},{"$f":"IF(ISBLANK('Data Input'!C130),\"\",SUM('Data Input'!BB130:BU130))","v":""},{"$f":"IF(U125=\"\",\"\",U125/COUNTIF('Data Input'!$C$8:$BU$8,\"Sp\"))","v":""}]
[{"$f":"IF('Data Input'!A131=0,\"\",'Data Input'!A131)","v":""},{"$f":"IF(ISBLANK('Data Input'!A131),\"\",COUNTIF('Data Input'!C131:BU131,\"\")-1)","v":""},{"$f":"IF(ISBLANK('Data Input'!A131),\"\",COUNTIF('Data Input'!C131:BU131,\"0\"))","v":""},{"$f":"IF(ISBLANK('Data Input'!A131),\"\",SUM(B126,C126))","v":""},{"$f":"IF(ISBLANK('Data Input'!A131),\"\",SUM('Data Input'!C131:BU131))","v":""},{"$f":"IF(E126=\"\",\"\",E126/(COUNTA('Data Input'!$C$8:$BU$8)-1))","v":""},{"$f":"IF(ISBLANK('Data Input'!A131),\"\",SUM('Data Input'!H131,'Data Input'!AA131,'Data Input'!AO131,'Data Input'!AP131))","v":""},{"$f":"IF(G126=\"\",\"\",G126/COUNTIF('Data Input'!$C$8:$BU$8,\"CS\"))","v":""},{"$f":"IF(ISBLANK('Data Input'!A131),\"\",SUM('Data Input'!P131,'Data Input'!T131,'Data Input'!AD131,'Data Input'!AX131,'Data Input'!AY131))","v":""},{"$f":"IF(I126=\"\",\"\",I126/COUNTIF('Data Input'!$C$8:$BU$8,\"SE\"))","v":""},{"$f":"IF(ISBLANK('Data Input'!A131),\"\",SUM('Data Input'!K131,'Data Input'!L131,'Data Input'!M131,'Data Input'!O131,'Data Input'!Q131,'Data Input'!U131,'Data Input'!X131,'Data Input'!Y131,'Data Input'!Z131,'Data Input'!AB131,'Data Input'!AE131,'Data Input'!AG131,'Data Input'!AL131,'Data Input'!AU131,'Data Input'!AW131))","v":""},{"$f":"IF(K126=\"\",\"\",K126/COUNTIF('Data Input'!$C$8:$BU$8,\"P\"))","v":""},{"$f":"IF(ISBLANK('Data Input'!A131),\"\",SUM('Data Input'!I131,'Data Input'!S131))","v":""},{"$f":"IF(M126=\"\",\"\",M126/COUNTIF('Data Input'!$C$8:$BU$8,\"FS\"))","v":""},{"$f":"IF(ISBLANK('Data Input'!A131),\"\",SUM('Data Input'!D131,'Data Input'!E131,'Data Input'!F131,'Data Input'!G131,'Data Input'!R131,'Data Input'!V131,'Data Input'!W131,'Data Input'!AC131,'Data Input'!AF131,'Data Input'!AH131,'Data Input'!AJ131,'Data Input'!AK131,'Data Input'!AM131,'Data Input'!AQ131,'Data Input'!AR131,'Data Input'!AZ131))","v":""},{"$f":"IF(O126=\"\",\"\",O126/COUNTIF('Data Input'!$C$8:$BU$8,\"GT\"))","v":""},{"$f":"IF(ISBLANK('Data Input'!A131),\"\",SUM('Data Input'!C131,'Data Input'!J131,'Data Input'!N131,'Data Input'!AS131,'Data Input'!AT131,'Data Input'!AV131))","v":""},{"$f":"IF(Q126=\"\",\"\",Q126/COUNTIF('Data Input'!$C$8:$BU$8,\"V\"))","v":""},{"$f":"IF(ISBLANK('Data Input'!A131),\"\",SUM('Data Input'!AI131,'Data Input'!AN131))","v":""},{"$f":"IF(S126=\"\",\"\",S126/COUNTIF('Data Input'!$C$8:$BU$8,\"F/I\"))","v":""},{"$f":"IF(ISBLANK('Data Input'!C131),\"\",SUM('Data Input'!BB131:BU131))","v":""},{"$f":"IF(U126=\"\",\"\",U126/COUNTIF('Data Input'!$C$8:$BU$8,\"Sp\"))","v":""}]
[{"$f":"IF('Data Input'!A132=0,\"\",'Data Input'!A132)","v":""},{"$f":"IF(ISBLANK('Data Input'!A132),\"\",COUNTIF('Data Input'!C132:BU132,\"\")-1)","v":""},{"$f":"IF(ISBLANK('Data Input'!A132),\"\",COUNTIF('Data Input'!C132:BU132,\"0\"))","v":""},{"$f":"IF(ISBLANK('Data Input'!A132),\"\",SUM(B127,C127))","v":""},{"$f":"IF(ISBLANK('Data Input'!A132),\"\",SUM('Data Input'!C132:BU132))","v":""},{"$f":"IF(E127=\"\",\"\",E127/(COUNTA('Data Input'!$C$8:$BU$8)-1))","v":""},{"$f":"IF(ISBLANK('Data Input'!A132),\"\",SUM('Data Input'!H132,'Data Input'!AA132,'Data Input'!AO132,'Data Input'!AP132))","v":""},{"$f":"IF(G127=\"\",\"\",G127/COUNTIF('Data Input'!$C$8:$BU$8,\"CS\"))","v":""},{"$f":"IF(ISBLANK('Data Input'!A132),\"\",SUM('Data Input'!P132,'Data Input'!T132,'Data Input'!AD132,'Data Input'!AX132,'Data Input'!AY132))","v":""},{"$f":"IF(I127=\"\",\"\",I127/COUNTIF('Data Input'!$C$8:$BU$8,\"SE\"))","v":""},{"$f":"IF(ISBLANK('Data Input'!A132),\"\",SUM('Data Input'!K132,'Data Input'!L132,'Data Input'!M132,'Data Input'!O132,'Data Input'!Q132,'Data Input'!U132,'Data Input'!X132,'Data Input'!Y132,'Data Input'!Z132,'Data Input'!AB132,'Data Input'!AE132,'Data Input'!AG132,'Data Input'!AL132,'Data Input'!AU132,'Data Input'!AW132))","v":""},{"$f":"IF(K127=\"\",\"\",K127/COUNTIF('Data Input'!$C$8:$BU$8,\"P\"))","v":""},{"$f":"IF(ISBLANK('Data Input'!A132),\"\",SUM('Data Input'!I132,'Data Input'!S132))","v":""},{"$f":"IF(M127=\"\",\"\",M127/COUNTIF('Data Input'!$C$8:$BU$8,\"FS\"))","v":""},{"$f":"IF(ISBLANK('Data Input'!A132),\"\",SUM('Data Input'!D132,'Data Input'!E132,'Data Input'!F132,'Data Input'!G132,'Data Input'!R132,'Data Input'!V132,'Data Input'!W132,'Data Input'!AC132,'Data Input'!AF132,'Data Input'!AH132,'Data Input'!AJ132,'Data Input'!AK132,'Data Input'!AM132,'Data Input'!AQ132,'Data Input'!AR132,'Data Input'!AZ132))","v":""},{"$f":"IF(O127=\"\",\"\",O127/COUNTIF('Data Input'!$C$8:$BU$8,\"GT\"))","v":""},{"$f":"IF(ISBLANK('Data Input'!A132),\"\",SUM('Data Input'!C132,'Data Input'!J132,'Data Input'!N132,'Data Input'!AS132,'Data Input'!AT132,'Data Input'!AV132))","v":""},{"$f":"IF(Q127=\"\",\"\",Q127/COUNTIF('Data Input'!$C$8:$BU$8,\"V\"))","v":""},{"$f":"IF(ISBLANK('Data Input'!A132),\"\",SUM('Data Input'!AI132,'Data Input'!AN132))","v":""},{"$f":"IF(S127=\"\",\"\",S127/COUNTIF('Data Input'!$C$8:$BU$8,\"F/I\"))","v":""},{"$f":"IF(ISBLANK('Data Input'!C132),\"\",SUM('Data Input'!BB132:BU132))","v":""},{"$f":"IF(U127=\"\",\"\",U127/COUNTIF('Data Input'!$C$8:$BU$8,\"Sp\"))","v":""}]
[{"$f":"IF('Data Input'!A133=0,\"\",'Data Input'!A133)","v":""},{"$f":"IF(ISBLANK('Data Input'!A133),\"\",COUNTIF('Data Input'!C133:BU133,\"\")-1)","v":""},{"$f":"IF(ISBLANK('Data Input'!A133),\"\",COUNTIF('Data Input'!C133:BU133,\"0\"))","v":""},{"$f":"IF(ISBLANK('Data Input'!A133),\"\",SUM(B128,C128))","v":""},{"$f":"IF(ISBLANK('Data Input'!A133),\"\",SUM('Data Input'!C133:BU133))","v":""},{"$f":"IF(E128=\"\",\"\",E128/(COUNTA('Data Input'!$C$8:$BU$8)-1))","v":""},{"$f":"IF(ISBLANK('Data Input'!A133),\"\",SUM('Data Input'!H133,'Data Input'!AA133,'Data Input'!AO133,'Data Input'!AP133))","v":""},{"$f":"IF(G128=\"\",\"\",G128/COUNTIF('Data Input'!$C$8:$BU$8,\"CS\"))","v":""},{"$f":"IF(ISBLANK('Data Input'!A133),\"\",SUM('Data Input'!P133,'Data Input'!T133,'Data Input'!AD133,'Data Input'!AX133,'Data Input'!AY133))","v":""},{"$f":"IF(I128=\"\",\"\",I128/COUNTIF('Data Input'!$C$8:$BU$8,\"SE\"))","v":""},{"$f":"IF(ISBLANK('Data Input'!A133),\"\",SUM('Data Input'!K133,'Data Input'!L133,'Data Input'!M133,'Data Input'!O133,'Data Input'!Q133,'Data Input'!U133,'Data Input'!X133,'Data Input'!Y133,'Data Input'!Z133,'Data Input'!AB133,'Data Input'!AE133,'Data Input'!AG133,'Data Input'!AL133,'Data Input'!AU133,'Data Input'!AW133))","v":""},{"$f":"IF(K128=\"\",\"\",K128/COUNTIF('Data Input'!$C$8:$BU$8,\"P\"))","v":""},{"$f":"IF(ISBLANK('Data Input'!A133),\"\",SUM('Data Input'!I133,'Data Input'!S133))","v":""},{"$f":"IF(M128=\"\",\"\",M128/COUNTIF('Data Input'!$C$8:$BU$8,\"FS\"))","v":""},{"$f":"IF(ISBLANK('Data Input'!A133),\"\",SUM('Data Input'!D133,'Data Input'!E133,'Data Input'!F133,'Data Input'!G133,'Data Input'!R133,'Data Input'!V133,'Data Input'!W133,'Data Input'!AC133,'Data Input'!AF133,'Data Input'!AH133,'Data Input'!AJ133,'Data Input'!AK133,'Data Input'!AM133,'Data Input'!AQ133,'Data Input'!AR133,'Data Input'!AZ133))","v":""},{"$f":"IF(O128=\"\",\"\",O128/COUNTIF('Data Input'!$C$8:$BU$8,\"GT\"))","v":""},{"$f":"IF(ISBLANK('Data Input'!A133),\"\",SUM('Data Input'!C133,'Data Input'!J133,'Data Input'!N133,'Data Input'!AS133,'Data Input'!AT133,'Data Input'!AV133))","v":""},{"$f":"IF(Q128=\"\",\"\",Q128/COUNTIF('Data Input'!$C$8:$BU$8,\"V\"))","v":""},{"$f":"IF(ISBLANK('Data Input'!A133),\"\",SUM('Data Input'!AI133,'Data Input'!AN133))","v":""},{"$f":"IF(S128=\"\",\"\",S128/COUNTIF('Data Input'!$C$8:$BU$8,\"F/I\"))","v":""},{"$f":"IF(ISBLANK('Data Input'!C133),\"\",SUM('Data Input'!BB133:BU133))","v":""},{"$f":"IF(U128=\"\",\"\",U128/COUNTIF('Data Input'!$C$8:$BU$8,\"Sp\"))","v":""}]
[{"$f":"IF('Data Input'!A134=0,\"\",'Data Input'!A134)","v":""},{"$f":"IF(ISBLANK('Data Input'!A134),\"\",COUNTIF('Data Input'!C134:BU134,\"\")-1)","v":""},{"$f":"IF(ISBLANK('Data Input'!A134),\"\",COUNTIF('Data Input'!C134:BU134,\"0\"))","v":""},{"$f":"IF(ISBLANK('Data Input'!A134),\"\",SUM(B129,C129))","v":""},{"$f":"IF(ISBLANK('Data Input'!A134),\"\",SUM('Data Input'!C134:BU134))","v":""},{"$f":"IF(E129=\"\",\"\",E129/(COUNTA('Data Input'!$C$8:$BU$8)-1))","v":""},{"$f":"IF(ISBLANK('Data Input'!A134),\"\",SUM('Data Input'!H134,'Data Input'!AA134,'Data Input'!AO134,'Data Input'!AP134))","v":""},{"$f":"IF(G129=\"\",\"\",G129/COUNTIF('Data Input'!$C$8:$BU$8,\"CS\"))","v":""},{"$f":"IF(ISBLANK('Data Input'!A134),\"\",SUM('Data Input'!P134,'Data Input'!T134,'Data Input'!AD134,'Data Input'!AX134,'Data Input'!AY134))","v":""},{"$f":"IF(I129=\"\",\"\",I129/COUNTIF('Data Input'!$C$8:$BU$8,\"SE\"))","v":""},{"$f":"IF(ISBLANK('Data Input'!A134),\"\",SUM('Data Input'!K134,'Data Input'!L134,'Data Input'!M134,'Data Input'!O134,'Data Input'!Q134,'Data Input'!U134,'Data Input'!X134,'Data Input'!Y134,'Data Input'!Z134,'Data Input'!AB134,'Data Input'!AE134,'Data Input'!AG134,'Data Input'!AL134,'Data Input'!AU134,'Data Input'!AW134))","v":""},{"$f":"IF(K129=\"\",\"\",K129/COUNTIF('Data Input'!$C$8:$BU$8,\"P\"))","v":""},{"$f":"IF(ISBLANK('Data Input'!A134),\"\",SUM('Data Input'!I134,'Data Input'!S134))","v":""},{"$f":"IF(M129=\"\",\"\",M129/COUNTIF('Data Input'!$C$8:$BU$8,\"FS\"))","v":""},{"$f":"IF(ISBLANK('Data Input'!A134),\"\",SUM('Data Input'!D134,'Data Input'!E134,'Data Input'!F134,'Data Input'!G134,'Data Input'!R134,'Data Input'!V134,'Data Input'!W134,'Data Input'!AC134,'Data Input'!AF134,'Data Input'!AH134,'Data Input'!AJ134,'Data Input'!AK134,'Data Input'!AM134,'Data Input'!AQ134,'Data Input'!AR134,'Data Input'!AZ134))","v":""},{"$f":"IF(O129=\"\",\"\",O129/COUNTIF('Data Input'!$C$8:$BU$8,\"GT\"))","v":""},{"$f":"IF(ISBLANK('Data Input'!A134),\"\",SUM('Data Input'!C134,'Data Input'!J134,'Data Input'!N134,'Data Input'!AS134,'Data Input'!AT134,'Data Input'!AV134))","v":""},{"$f":"IF(Q129=\"\",\"\",Q129/COUNTIF('Data Input'!$C$8:$BU$8,\"V\"))","v":""},{"$f":"IF(ISBLANK('Data Input'!A134),\"\",SUM('Data Input'!AI134,'Data Input'!AN134))","v":""},{"$f":"IF(S129=\"\",\"\",S129/COUNTIF('Data Input'!$C$8:$BU$8,\"F/I\"))","v":""},{"$f":"IF(ISBLANK('Data Input'!C134),\"\",SUM('Data Input'!BB134:BU134))","v":""},{"$f":"IF(U129=\"\",\"\",U129/COUNTIF('Data Input'!$C$8:$BU$8,\"Sp\"))","v":""}]
[{"$f":"IF('Data Input'!A135=0,\"\",'Data Input'!A135)","v":""},{"$f":"IF(ISBLANK('Data Input'!A135),\"\",COUNTIF('Data Input'!C135:BU135,\"\")-1)","v":""},{"$f":"IF(ISBLANK('Data Input'!A135),\"\",COUNTIF('Data Input'!C135:BU135,\"0\"))","v":""},{"$f":"IF(ISBLANK('Data Input'!A135),\"\",SUM(B130,C130))","v":""},{"$f":"IF(ISBLANK('Data Input'!A135),\"\",SUM('Data Input'!C135:BU135))","v":""},{"$f":"IF(E130=\"\",\"\",E130/(COUNTA('Data Input'!$C$8:$BU$8)-1))","v":""},{"$f":"IF(ISBLANK('Data Input'!A135),\"\",SUM('Data Input'!H135,'Data Input'!AA135,'Data Input'!AO135,'Data Input'!AP135))","v":""},{"$f":"IF(G130=\"\",\"\",G130/COUNTIF('Data Input'!$C$8:$BU$8,\"CS\"))","v":""},{"$f":"IF(ISBLANK('Data Input'!A135),\"\",SUM('Data Input'!P135,'Data Input'!T135,'Data Input'!AD135,'Data Input'!AX135,'Data Input'!AY135))","v":""},{"$f":"IF(I130=\"\",\"\",I130/COUNTIF('Data Input'!$C$8:$BU$8,\"SE\"))","v":""},{"$f":"IF(ISBLANK('Data Input'!A135),\"\",SUM('Data Input'!K135,'Data Input'!L135,'Data Input'!M135,'Data Input'!O135,'Data Input'!Q135,'Data Input'!U135,'Data Input'!X135,'Data Input'!Y135,'Data Input'!Z135,'Data Input'!AB135,'Data Input'!AE135,'Data Input'!AG135,'Data Input'!AL135,'Data Input'!AU135,'Data Input'!AW135))","v":""},{"$f":"IF(K130=\"\",\"\",K130/COUNTIF('Data Input'!$C$8:$BU$8,\"P\"))","v":""},{"$f":"IF(ISBLANK('Data Input'!A135),\"\",SUM('Data Input'!I135,'Data Input'!S135))","v":""},{"$f":"IF(M130=\"\",\"\",M130/COUNTIF('Data Input'!$C$8:$BU$8,\"FS\"))","v":""},{"$f":"IF(ISBLANK('Data Input'!A135),\"\",SUM('Data Input'!D135,'Data Input'!E135,'Data Input'!F135,'Data Input'!G135,'Data Input'!R135,'Data Input'!V135,'Data Input'!W135,'Data Input'!AC135,'Data Input'!AF135,'Data Input'!AH135,'Data Input'!AJ135,'Data Input'!AK135,'Data Input'!AM135,'Data Input'!AQ135,'Data Input'!AR135,'Data Input'!AZ135))","v":""},{"$f":"IF(O130=\"\",\"\",O130/COUNTIF('Data Input'!$C$8:$BU$8,\"GT\"))","v":""},{"$f":"IF(ISBLANK('Data Input'!A135),\"\",SUM('Data Input'!C135,'Data Input'!J135,'Data Input'!N135,'Data Input'!AS135,'Data Input'!AT135,'Data Input'!AV135))","v":""},{"$f":"IF(Q130=\"\",\"\",Q130/COUNTIF('Data Input'!$C$8:$BU$8,\"V\"))","v":""},{"$f":"IF(ISBLANK('Data Input'!A135),\"\",SUM('Data Input'!AI135,'Data Input'!AN135))","v":""},{"$f":"IF(S130=\"\",\"\",S130/COUNTIF('Data Input'!$C$8:$BU$8,\"F/I\"))","v":""},{"$f":"IF(ISBLANK('Data Input'!C135),\"\",SUM('Data Input'!BB135:BU135))","v":""},{"$f":"IF(U130=\"\",\"\",U130/COUNTIF('Data Input'!$C$8:$BU$8,\"Sp\"))","v":""}]
[{"$f":"IF('Data Input'!A136=0,\"\",'Data Input'!A136)","v":""},{"$f":"IF(ISBLANK('Data Input'!A136),\"\",COUNTIF('Data Input'!C136:BU136,\"\")-1)","v":""},{"$f":"IF(ISBLANK('Data Input'!A136),\"\",COUNTIF('Data Input'!C136:BU136,\"0\"))","v":""},{"$f":"IF(ISBLANK('Data Input'!A136),\"\",SUM(B131,C131))","v":""},{"$f":"IF(ISBLANK('Data Input'!A136),\"\",SUM('Data Input'!C136:BU136))","v":""},{"$f":"IF(E131=\"\",\"\",E131/(COUNTA('Data Input'!$C$8:$BU$8)-1))","v":""},{"$f":"IF(ISBLANK('Data Input'!A136),\"\",SUM('Data Input'!H136,'Data Input'!AA136,'Data Input'!AO136,'Data Input'!AP136))","v":""},{"$f":"IF(G131=\"\",\"\",G131/COUNTIF('Data Input'!$C$8:$BU$8,\"CS\"))","v":""},{"$f":"IF(ISBLANK('Data Input'!A136),\"\",SUM('Data Input'!P136,'Data Input'!T136,'Data Input'!AD136,'Data Input'!AX136,'Data Input'!AY136))","v":""},{"$f":"IF(I131=\"\",\"\",I131/COUNTIF('Data Input'!$C$8:$BU$8,\"SE\"))","v":""},{"$f":"IF(ISBLANK('Data Input'!A136),\"\",SUM('Data Input'!K136,'Data Input'!L136,'Data Input'!M136,'Data Input'!O136,'Data Input'!Q136,'Data Input'!U136,'Data Input'!X136,'Data Input'!Y136,'Data Input'!Z136,'Data Input'!AB136,'Data Input'!AE136,'Data Input'!AG136,'Data Input'!AL136,'Data Input'!AU136,'Data Input'!AW136))","v":""},{"$f":"IF(K131=\"\",\"\",K131/COUNTIF('Data Input'!$C$8:$BU$8,\"P\"))","v":""},{"$f":"IF(ISBLANK('Data Input'!A136),\"\",SUM('Data Input'!I136,'Data Input'!S136))","v":""},{"$f":"IF(M131=\"\",\"\",M131/COUNTIF('Data Input'!$C$8:$BU$8,\"FS\"))","v":""},{"$f":"IF(ISBLANK('Data Input'!A136),\"\",SUM('Data Input'!D136,'Data Input'!E136,'Data Input'!F136,'Data Input'!G136,'Data Input'!R136,'Data Input'!V136,'Data Input'!W136,'Data Input'!AC136,'Data Input'!AF136,'Data Input'!AH136,'Data Input'!AJ136,'Data Input'!AK136,'Data Input'!AM136,'Data Input'!AQ136,'Data Input'!AR136,'Data Input'!AZ136))","v":""},{"$f":"IF(O131=\"\",\"\",O131/COUNTIF('Data Input'!$C$8:$BU$8,\"GT\"))","v":""},{"$f":"IF(ISBLANK('Data Input'!A136),\"\",SUM('Data Input'!C136,'Data Input'!J136,'Data Input'!N136,'Data Input'!AS136,'Data Input'!AT136,'Data Input'!AV136))","v":""},{"$f":"IF(Q131=\"\",\"\",Q131/COUNTIF('Data Input'!$C$8:$BU$8,\"V\"))","v":""},{"$f":"IF(ISBLANK('Data Input'!A136),\"\",SUM('Data Input'!AI136,'Data Input'!AN136))","v":""},{"$f":"IF(S131=\"\",\"\",S131/COUNTIF('Data Input'!$C$8:$BU$8,\"F/I\"))","v":""},{"$f":"IF(ISBLANK('Data Input'!C136),\"\",SUM('Data Input'!BB136:BU136))","v":""},{"$f":"IF(U131=\"\",\"\",U131/COUNTIF('Data Input'!$C$8:$BU$8,\"Sp\"))","v":""}]
[{"$f":"IF('Data Input'!A137=0,\"\",'Data Input'!A137)","v":""},{"$f":"IF(ISBLANK('Data Input'!A137),\"\",COUNTIF('Data Input'!C137:BU137,\"\")-1)","v":""},{"$f":"IF(ISBLANK('Data Input'!A137),\"\",COUNTIF('Data Input'!C137:BU137,\"0\"))","v":""},{"$f":"IF(ISBLANK('Data Input'!A137),\"\",SUM(B132,C132))","v":""},{"$f":"IF(ISBLANK('Data Input'!A137),\"\",SUM('Data Input'!C137:BU137))","v":""},{"$f":"IF(E132=\"\",\"\",E132/(COUNTA('Data Input'!$C$8:$BU$8)-1))","v":""},{"$f":"IF(ISBLANK('Data Input'!A137),\"\",SUM('Data Input'!H137,'Data Input'!AA137,'Data Input'!AO137,'Data Input'!AP137))","v":""},{"$f":"IF(G132=\"\",\"\",G132/COUNTIF('Data Input'!$C$8:$BU$8,\"CS\"))","v":""},{"$f":"IF(ISBLANK('Data Input'!A137),\"\",SUM('Data Input'!P137,'Data Input'!T137,'Data Input'!AD137,'Data Input'!AX137,'Data Input'!AY137))","v":""},{"$f":"IF(I132=\"\",\"\",I132/COUNTIF('Data Input'!$C$8:$BU$8,\"SE\"))","v":""},{"$f":"IF(ISBLANK('Data Input'!A137),\"\",SUM('Data Input'!K137,'Data Input'!L137,'Data Input'!M137,'Data Input'!O137,'Data Input'!Q137,'Data Input'!U137,'Data Input'!X137,'Data Input'!Y137,'Data Input'!Z137,'Data Input'!AB137,'Data Input'!AE137,'Data Input'!AG137,'Data Input'!AL137,'Data Input'!AU137,'Data Input'!AW137))","v":""},{"$f":"IF(K132=\"\",\"\",K132/COUNTIF('Data Input'!$C$8:$BU$8,\"P\"))","v":""},{"$f":"IF(ISBLANK('Data Input'!A137),\"\",SUM('Data Input'!I137,'Data Input'!S137))","v":""},{"$f":"IF(M132=\"\",\"\",M132/COUNTIF('Data Input'!$C$8:$BU$8,\"FS\"))","v":""},{"$f":"IF(ISBLANK('Data Input'!A137),\"\",SUM('Data Input'!D137,'Data Input'!E137,'Data Input'!F137,'Data Input'!G137,'Data Input'!R137,'Data Input'!V137,'Data Input'!W137,'Data Input'!AC137,'Data Input'!AF137,'Data Input'!AH137,'Data Input'!AJ137,'Data Input'!AK137,'Data Input'!AM137,'Data Input'!AQ137,'Data Input'!AR137,'Data Input'!AZ137))","v":""},{"$f":"IF(O132=\"\",\"\",O132/COUNTIF('Data Input'!$C$8:$BU$8,\"GT\"))","v":""},{"$f":"IF(ISBLANK('Data Input'!A137),\"\",SUM('Data Input'!C137,'Data Input'!J137,'Data Input'!N137,'Data Input'!AS137,'Data Input'!AT137,'Data Input'!AV137))","v":""},{"$f":"IF(Q132=\"\",\"\",Q132/COUNTIF('Data Input'!$C$8:$BU$8,\"V\"))","v":""},{"$f":"IF(ISBLANK('Data Input'!A137),\"\",SUM('Data Input'!AI137,'Data Input'!AN137))","v":""},{"$f":"IF(S132=\"\",\"\",S132/COUNTIF('Data Input'!$C$8:$BU$8,\"F/I\"))","v":""},{"$f":"IF(ISBLANK('Data Input'!C137),\"\",SUM('Data Input'!BB137:BU137))","v":""},{"$f":"IF(U132=\"\",\"\",U132/COUNTIF('Data Input'!$C$8:$BU$8,\"Sp\"))","v":""}]
[{"$f":"IF('Data Input'!A138=0,\"\",'Data Input'!A138)","v":""},{"$f":"IF(ISBLANK('Data Input'!A138),\"\",COUNTIF('Data Input'!C138:BU138,\"\")-1)","v":""},{"$f":"IF(ISBLANK('Data Input'!A138),\"\",COUNTIF('Data Input'!C138:BU138,\"0\"))","v":""},{"$f":"IF(ISBLANK('Data Input'!A138),\"\",SUM(B133,C133))","v":""},{"$f":"IF(ISBLANK('Data Input'!A138),\"\",SUM('Data Input'!C138:BU138))","v":""},{"$f":"IF(E133=\"\",\"\",E133/(COUNTA('Data Input'!$C$8:$BU$8)-1))","v":""},{"$f":"IF(ISBLANK('Data Input'!A138),\"\",SUM('Data Input'!H138,'Data Input'!AA138,'Data Input'!AO138,'Data Input'!AP138))","v":""},{"$f":"IF(G133=\"\",\"\",G133/COUNTIF('Data Input'!$C$8:$BU$8,\"CS\"))","v":""},{"$f":"IF(ISBLANK('Data Input'!A138),\"\",SUM('Data Input'!P138,'Data Input'!T138,'Data Input'!AD138,'Data Input'!AX138,'Data Input'!AY138))","v":""},{"$f":"IF(I133=\"\",\"\",I133/COUNTIF('Data Input'!$C$8:$BU$8,\"SE\"))","v":""},{"$f":"IF(ISBLANK('Data Input'!A138),\"\",SUM('Data Input'!K138,'Data Input'!L138,'Data Input'!M138,'Data Input'!O138,'Data Input'!Q138,'Data Input'!U138,'Data Input'!X138,'Data Input'!Y138,'Data Input'!Z138,'Data Input'!AB138,'Data Input'!AE138,'Data Input'!AG138,'Data Input'!AL138,'Data Input'!AU138,'Data Input'!AW138))","v":""},{"$f":"IF(K133=\"\",\"\",K133/COUNTIF('Data Input'!$C$8:$BU$8,\"P\"))","v":""},{"$f":"IF(ISBLANK('Data Input'!A138),\"\",SUM('Data Input'!I138,'Data Input'!S138))","v":""},{"$f":"IF(M133=\"\",\"\",M133/COUNTIF('Data Input'!$C$8:$BU$8,\"FS\"))","v":""},{"$f":"IF(ISBLANK('Data Input'!A138),\"\",SUM('Data Input'!D138,'Data Input'!E138,'Data Input'!F138,'Data Input'!G138,'Data Input'!R138,'Data Input'!V138,'Data Input'!W138,'Data Input'!AC138,'Data Input'!AF138,'Data Input'!AH138,'Data Input'!AJ138,'Data Input'!AK138,'Data Input'!AM138,'Data Input'!AQ138,'Data Input'!AR138,'Data Input'!AZ138))","v":""},{"$f":"IF(O133=\"\",\"\",O133/COUNTIF('Data Input'!$C$8:$BU$8,\"GT\"))","v":""},{"$f":"IF(ISBLANK('Data Input'!A138),\"\",SUM('Data Input'!C138,'Data Input'!J138,'Data Input'!N138,'Data Input'!AS138,'Data Input'!AT138,'Data Input'!AV138))","v":""},{"$f":"IF(Q133=\"\",\"\",Q133/COUNTIF('Data Input'!$C$8:$BU$8,\"V\"))","v":""},{"$f":"IF(ISBLANK('Data Input'!A138),\"\",SUM('Data Input'!AI138,'Data Input'!AN138))","v":""},{"$f":"IF(S133=\"\",\"\",S133/COUNTIF('Data Input'!$C$8:$BU$8,\"F/I\"))","v":""},{"$f":"IF(ISBLANK('Data Input'!C138),\"\",SUM('Data Input'!BB138:BU138))","v":""},{"$f":"IF(U133=\"\",\"\",U133/COUNTIF('Data Input'!$C$8:$BU$8,\"Sp\"))","v":""}]
[{"$f":"IF('Data Input'!A139=0,\"\",'Data Input'!A139)","v":""},{"$f":"IF(ISBLANK('Data Input'!A139),\"\",COUNTIF('Data Input'!C139:BU139,\"\")-1)","v":""},{"$f":"IF(ISBLANK('Data Input'!A139),\"\",COUNTIF('Data Input'!C139:BU139,\"0\"))","v":""},{"$f":"IF(ISBLANK('Data Input'!A139),\"\",SUM(B134,C134))","v":""},{"$f":"IF(ISBLANK('Data Input'!A139),\"\",SUM('Data Input'!C139:BU139))","v":""},{"$f":"IF(E134=\"\",\"\",E134/(COUNTA('Data Input'!$C$8:$BU$8)-1))","v":""},{"$f":"IF(ISBLANK('Data Input'!A139),\"\",SUM('Data Input'!H139,'Data Input'!AA139,'Data Input'!AO139,'Data Input'!AP139))","v":""},{"$f":"IF(G134=\"\",\"\",G134/COUNTIF('Data Input'!$C$8:$BU$8,\"CS\"))","v":""},{"$f":"IF(ISBLANK('Data Input'!A139),\"\",SUM('Data Input'!P139,'Data Input'!T139,'Data Input'!AD139,'Data Input'!AX139,'Data Input'!AY139))","v":""},{"$f":"IF(I134=\"\",\"\",I134/COUNTIF('Data Input'!$C$8:$BU$8,\"SE\"))","v":""},{"$f":"IF(ISBLANK('Data Input'!A139),\"\",SUM('Data Input'!K139,'Data Input'!L139,'Data Input'!M139,'Data Input'!O139,'Data Input'!Q139,'Data Input'!U139,'Data Input'!X139,'Data Input'!Y139,'Data Input'!Z139,'Data Input'!AB139,'Data Input'!AE139,'Data Input'!AG139,'Data Input'!AL139,'Data Input'!AU139,'Data Input'!AW139))","v":""},{"$f":"IF(K134=\"\",\"\",K134/COUNTIF('Data Input'!$C$8:$BU$8,\"P\"))","v":""},{"$f":"IF(ISBLANK('Data Input'!A139),\"\",SUM('Data Input'!I139,'Data Input'!S139))","v":""},{"$f":"IF(M134=\"\",\"\",M134/COUNTIF('Data Input'!$C$8:$BU$8,\"FS\"))","v":""},{"$f":"IF(ISBLANK('Data Input'!A139),\"\",SUM('Data Input'!D139,'Data Input'!E139,'Data Input'!F139,'Data Input'!G139,'Data Input'!R139,'Data Input'!V139,'Data Input'!W139,'Data Input'!AC139,'Data Input'!AF139,'Data Input'!AH139,'Data Input'!AJ139,'Data Input'!AK139,'Data Input'!AM139,'Data Input'!AQ139,'Data Input'!AR139,'Data Input'!AZ139))","v":""},{"$f":"IF(O134=\"\",\"\",O134/COUNTIF('Data Input'!$C$8:$BU$8,\"GT\"))","v":""},{"$f":"IF(ISBLANK('Data Input'!A139),\"\",SUM('Data Input'!C139,'Data Input'!J139,'Data Input'!N139,'Data Input'!AS139,'Data Input'!AT139,'Data Input'!AV139))","v":""},{"$f":"IF(Q134=\"\",\"\",Q134/COUNTIF('Data Input'!$C$8:$BU$8,\"V\"))","v":""},{"$f":"IF(ISBLANK('Data Input'!A139),\"\",SUM('Data Input'!AI139,'Data Input'!AN139))","v":""},{"$f":"IF(S134=\"\",\"\",S134/COUNTIF('Data Input'!$C$8:$BU$8,\"F/I\"))","v":""},{"$f":"IF(ISBLANK('Data Input'!C139),\"\",SUM('Data Input'!BB139:BU139))","v":""},{"$f":"IF(U134=\"\",\"\",U134/COUNTIF('Data Input'!$C$8:$BU$8,\"Sp\"))","v":""}]
[{"$f":"IF('Data Input'!A140=0,\"\",'Data Input'!A140)","v":""},{"$f":"IF(ISBLANK('Data Input'!A140),\"\",COUNTIF('Data Input'!C140:BU140,\"\")-1)","v":""},{"$f":"IF(ISBLANK('Data Input'!A140),\"\",COUNTIF('Data Input'!C140:BU140,\"0\"))","v":""},{"$f":"IF(ISBLANK('Data Input'!A140),\"\",SUM(B135,C135))","v":""},{"$f":"IF(ISBLANK('Data Input'!A140),\"\",SUM('Data Input'!C140:BU140))","v":""},{"$f":"IF(E135=\"\",\"\",E135/(COUNTA('Data Input'!$C$8:$BU$8)-1))","v":""},{"$f":"IF(ISBLANK('Data Input'!A140),\"\",SUM('Data Input'!H140,'Data Input'!AA140,'Data Input'!AO140,'Data Input'!AP140))","v":""},{"$f":"IF(G135=\"\",\"\",G135/COUNTIF('Data Input'!$C$8:$BU$8,\"CS\"))","v":""},{"$f":"IF(ISBLANK('Data Input'!A140),\"\",SUM('Data Input'!P140,'Data Input'!T140,'Data Input'!AD140,'Data Input'!AX140,'Data Input'!AY140))","v":""},{"$f":"IF(I135=\"\",\"\",I135/COUNTIF('Data Input'!$C$8:$BU$8,\"SE\"))","v":""},{"$f":"IF(ISBLANK('Data Input'!A140),\"\",SUM('Data Input'!K140,'Data Input'!L140,'Data Input'!M140,'Data Input'!O140,'Data Input'!Q140,'Data Input'!U140,'Data Input'!X140,'Data Input'!Y140,'Data Input'!Z140,'Data Input'!AB140,'Data Input'!AE140,'Data Input'!AG140,'Data Input'!AL140,'Data Input'!AU140,'Data Input'!AW140))","v":""},{"$f":"IF(K135=\"\",\"\",K135/COUNTIF('Data Input'!$C$8:$BU$8,\"P\"))","v":""},{"$f":"IF(ISBLANK('Data Input'!A140),\"\",SUM('Data Input'!I140,'Data Input'!S140))","v":""},{"$f":"IF(M135=\"\",\"\",M135/COUNTIF('Data Input'!$C$8:$BU$8,\"FS\"))","v":""},{"$f":"IF(ISBLANK('Data Input'!A140),\"\",SUM('Data Input'!D140,'Data Input'!E140,'Data Input'!F140,'Data Input'!G140,'Data Input'!R140,'Data Input'!V140,'Data Input'!W140,'Data Input'!AC140,'Data Input'!AF140,'Data Input'!AH140,'Data Input'!AJ140,'Data Input'!AK140,'Data Input'!AM140,'Data Input'!AQ140,'Data Input'!AR140,'Data Input'!AZ140))","v":""},{"$f":"IF(O135=\"\",\"\",O135/COUNTIF('Data Input'!$C$8:$BU$8,\"GT\"))","v":""},{"$f":"IF(ISBLANK('Data Input'!A140),\"\",SUM('Data Input'!C140,'Data Input'!J140,'Data Input'!N140,'Data Input'!AS140,'Data Input'!AT140,'Data Input'!AV140))","v":""},{"$f":"IF(Q135=\"\",\"\",Q135/COUNTIF('Data Input'!$C$8:$BU$8,\"V\"))","v":""},{"$f":"IF(ISBLANK('Data Input'!A140),\"\",SUM('Data Input'!AI140,'Data Input'!AN140))","v":""},{"$f":"IF(S135=\"\",\"\",S135/COUNTIF('Data Input'!$C$8:$BU$8,\"F/I\"))","v":""},{"$f":"IF(ISBLANK('Data Input'!C140),\"\",SUM('Data Input'!BB140:BU140))","v":""},{"$f":"IF(U135=\"\",\"\",U135/COUNTIF('Data Input'!$C$8:$BU$8,\"Sp\"))","v":""}]
[{"$f":"IF('Data Input'!A141=0,\"\",'Data Input'!A141)","v":""},{"$f":"IF(ISBLANK('Data Input'!A141),\"\",COUNTIF('Data Input'!C141:BU141,\"\")-1)","v":""},{"$f":"IF(ISBLANK('Data Input'!A141),\"\",COUNTIF('Data Input'!C141:BU141,\"0\"))","v":""},{"$f":"IF(ISBLANK('Data Input'!A141),\"\",SUM(B136,C136))","v":""},{"$f":"IF(ISBLANK('Data Input'!A141),\"\",SUM('Data Input'!C141:BU141))","v":""},{"$f":"IF(E136=\"\",\"\",E136/(COUNTA('Data Input'!$C$8:$BU$8)-1))","v":""},{"$f":"IF(ISBLANK('Data Input'!A141),\"\",SUM('Data Input'!H141,'Data Input'!AA141,'Data Input'!AO141,'Data Input'!AP141))","v":""},{"$f":"IF(G136=\"\",\"\",G136/COUNTIF('Data Input'!$C$8:$BU$8,\"CS\"))","v":""},{"$f":"IF(ISBLANK('Data Input'!A141),\"\",SUM('Data Input'!P141,'Data Input'!T141,'Data Input'!AD141,'Data Input'!AX141,'Data Input'!AY141))","v":""},{"$f":"IF(I136=\"\",\"\",I136/COUNTIF('Data Input'!$C$8:$BU$8,\"SE\"))","v":""},{"$f":"IF(ISBLANK('Data Input'!A141),\"\",SUM('Data Input'!K141,'Data Input'!L141,'Data Input'!M141,'Data Input'!O141,'Data Input'!Q141,'Data Input'!U141,'Data Input'!X141,'Data Input'!Y141,'Data Input'!Z141,'Data Input'!AB141,'Data Input'!AE141,'Data Input'!AG141,'Data Input'!AL141,'Data Input'!AU141,'Data Input'!AW141))","v":""},{"$f":"IF(K136=\"\",\"\",K136/COUNTIF('Data Input'!$C$8:$BU$8,\"P\"))","v":""},{"$f":"IF(ISBLANK('Data Input'!A141),\"\",SUM('Data Input'!I141,'Data Input'!S141))","v":""},{"$f":"IF(M136=\"\",\"\",M136/COUNTIF('Data Input'!$C$8:$BU$8,\"FS\"))","v":""},{"$f":"IF(ISBLANK('Data Input'!A141),\"\",SUM('Data Input'!D141,'Data Input'!E141,'Data Input'!F141,'Data Input'!G141,'Data Input'!R141,'Data Input'!V141,'Data Input'!W141,'Data Input'!AC141,'Data Input'!AF141,'Data Input'!AH141,'Data Input'!AJ141,'Data Input'!AK141,'Data Input'!AM141,'Data Input'!AQ141,'Data Input'!AR141,'Data Input'!AZ141))","v":""},{"$f":"IF(O136=\"\",\"\",O136/COUNTIF('Data Input'!$C$8:$BU$8,\"GT\"))","v":""},{"$f":"IF(ISBLANK('Data Input'!A141),\"\",SUM('Data Input'!C141,'Data Input'!J141,'Data Input'!N141,'Data Input'!AS141,'Data Input'!AT141,'Data Input'!AV141))","v":""},{"$f":"IF(Q136=\"\",\"\",Q136/COUNTIF('Data Input'!$C$8:$BU$8,\"V\"))","v":""},{"$f":"IF(ISBLANK('Data Input'!A141),\"\",SUM('Data Input'!AI141,'Data Input'!AN141))","v":""},{"$f":"IF(S136=\"\",\"\",S136/COUNTIF('Data Input'!$C$8:$BU$8,\"F/I\"))","v":""},{"$f":"IF(ISBLANK('Data Input'!C141),\"\",SUM('Data Input'!BB141:BU141))","v":""},{"$f":"IF(U136=\"\",\"\",U136/COUNTIF('Data Input'!$C$8:$BU$8,\"Sp\"))","v":""}]
[{"$f":"IF('Data Input'!A142=0,\"\",'Data Input'!A142)","v":""},{"$f":"IF(ISBLANK('Data Input'!A142),\"\",COUNTIF('Data Input'!C142:BU142,\"\")-1)","v":""},{"$f":"IF(ISBLANK('Data Input'!A142),\"\",COUNTIF('Data Input'!C142:BU142,\"0\"))","v":""},{"$f":"IF(ISBLANK('Data Input'!A142),\"\",SUM(B137,C137))","v":""},{"$f":"IF(ISBLANK('Data Input'!A142),\"\",SUM('Data Input'!C142:BU142))","v":""},{"$f":"IF(E137=\"\",\"\",E137/(COUNTA('Data Input'!$C$8:$BU$8)-1))","v":""},{"$f":"IF(ISBLANK('Data Input'!A142),\"\",SUM('Data Input'!H142,'Data Input'!AA142,'Data Input'!AO142,'Data Input'!AP142))","v":""},{"$f":"IF(G137=\"\",\"\",G137/COUNTIF('Data Input'!$C$8:$BU$8,\"CS\"))","v":""},{"$f":"IF(ISBLANK('Data Input'!A142),\"\",SUM('Data Input'!P142,'Data Input'!T142,'Data Input'!AD142,'Data Input'!AX142,'Data Input'!AY142))","v":""},{"$f":"IF(I137=\"\",\"\",I137/COUNTIF('Data Input'!$C$8:$BU$8,\"SE\"))","v":""},{"$f":"IF(ISBLANK('Data Input'!A142),\"\",SUM('Data Input'!K142,'Data Input'!L142,'Data Input'!M142,'Data Input'!O142,'Data Input'!Q142,'Data Input'!U142,'Data Input'!X142,'Data Input'!Y142,'Data Input'!Z142,'Data Input'!AB142,'Data Input'!AE142,'Data Input'!AG142,'Data Input'!AL142,'Data Input'!AU142,'Data Input'!AW142))","v":""},{"$f":"IF(K137=\"\",\"\",K137/COUNTIF('Data Input'!$C$8:$BU$8,\"P\"))","v":""},{"$f":"IF(ISBLANK('Data Input'!A142),\"\",SUM('Data Input'!I142,'Data Input'!S142))","v":""},{"$f":"IF(M137=\"\",\"\",M137/COUNTIF('Data Input'!$C$8:$BU$8,\"FS\"))","v":""},{"$f":"IF(ISBLANK('Data Input'!A142),\"\",SUM('Data Input'!D142,'Data Input'!E142,'Data Input'!F142,'Data Input'!G142,'Data Input'!R142,'Data Input'!V142,'Data Input'!W142,'Data Input'!AC142,'Data Input'!AF142,'Data Input'!AH142,'Data Input'!AJ142,'Data Input'!AK142,'Data Input'!AM142,'Data Input'!AQ142,'Data Input'!AR142,'Data Input'!AZ142))","v":""},{"$f":"IF(O137=\"\",\"\",O137/COUNTIF('Data Input'!$C$8:$BU$8,\"GT\"))","v":""},{"$f":"IF(ISBLANK('Data Input'!A142),\"\",SUM('Data Input'!C142,'Data Input'!J142,'Data Input'!N142,'Data Input'!AS142,'Data Input'!AT142,'Data Input'!AV142))","v":""},{"$f":"IF(Q137=\"\",\"\",Q137/COUNTIF('Data Input'!$C$8:$BU$8,\"V\"))","v":""},{"$f":"IF(ISBLANK('Data Input'!A142),\"\",SUM('Data Input'!AI142,'Data Input'!AN142))","v":""},{"$f":"IF(S137=\"\",\"\",S137/COUNTIF('Data Input'!$C$8:$BU$8,\"F/I\"))","v":""},{"$f":"IF(ISBLANK('Data Input'!C142),\"\",SUM('Data Input'!BB142:BU142))","v":""},{"$f":"IF(U137=\"\",\"\",U137/COUNTIF('Data Input'!$C$8:$BU$8,\"Sp\"))","v":""}]
[{"$f":"IF('Data Input'!A143=0,\"\",'Data Input'!A143)","v":""},{"$f":"IF(ISBLANK('Data Input'!A143),\"\",COUNTIF('Data Input'!C143:BU143,\"\")-1)","v":""},{"$f":"IF(ISBLANK('Data Input'!A143),\"\",COUNTIF('Data Input'!C143:BU143,\"0\"))","v":""},{"$f":"IF(ISBLANK('Data Input'!A143),\"\",SUM(B138,C138))","v":""},{"$f":"IF(ISBLANK('Data Input'!A143),\"\",SUM('Data Input'!C143:BU143))","v":""},{"$f":"IF(E138=\"\",\"\",E138/(COUNTA('Data Input'!$C$8:$BU$8)-1))","v":""},{"$f":"IF(ISBLANK('Data Input'!A143),\"\",SUM('Data Input'!H143,'Data Input'!AA143,'Data Input'!AO143,'Data Input'!AP143))","v":""},{"$f":"IF(G138=\"\",\"\",G138/COUNTIF('Data Input'!$C$8:$BU$8,\"CS\"))","v":""},{"$f":"IF(ISBLANK('Data Input'!A143),\"\",SUM('Data Input'!P143,'Data Input'!T143,'Data Input'!AD143,'Data Input'!AX143,'Data Input'!AY143))","v":""},{"$f":"IF(I138=\"\",\"\",I138/COUNTIF('Data Input'!$C$8:$BU$8,\"SE\"))","v":""},{"$f":"IF(ISBLANK('Data Input'!A143),\"\",SUM('Data Input'!K143,'Data Input'!L143,'Data Input'!M143,'Data Input'!O143,'Data Input'!Q143,'Data Input'!U143,'Data Input'!X143,'Data Input'!Y143,'Data Input'!Z143,'Data Input'!AB143,'Data Input'!AE143,'Data Input'!AG143,'Data Input'!AL143,'Data Input'!AU143,'Data Input'!AW143))","v":""},{"$f":"IF(K138=\"\",\"\",K138/COUNTIF('Data Input'!$C$8:$BU$8,\"P\"))","v":""},{"$f":"IF(ISBLANK('Data Input'!A143),\"\",SUM('Data Input'!I143,'Data Input'!S143))","v":""},{"$f":"IF(M138=\"\",\"\",M138/COUNTIF('Data Input'!$C$8:$BU$8,\"FS\"))","v":""},{"$f":"IF(ISBLANK('Data Input'!A143),\"\",SUM('Data Input'!D143,'Data Input'!E143,'Data Input'!F143,'Data Input'!G143,'Data Input'!R143,'Data Input'!V143,'Data Input'!W143,'Data Input'!AC143,'Data Input'!AF143,'Data Input'!AH143,'Data Input'!AJ143,'Data Input'!AK143,'Data Input'!AM143,'Data Input'!AQ143,'Data Input'!AR143,'Data Input'!AZ143))","v":""},{"$f":"IF(O138=\"\",\"\",O138/COUNTIF('Data Input'!$C$8:$BU$8,\"GT\"))","v":""},{"$f":"IF(ISBLANK('Data Input'!A143),\"\",SUM('Data Input'!C143,'Data Input'!J143,'Data Input'!N143,'Data Input'!AS143,'Data Input'!AT143,'Data Input'!AV143))","v":""},{"$f":"IF(Q138=\"\",\"\",Q138/COUNTIF('Data Input'!$C$8:$BU$8,\"V\"))","v":""},{"$f":"IF(ISBLANK('Data Input'!A143),\"\",SUM('Data Input'!AI143,'Data Input'!AN143))","v":""},{"$f":"IF(S138=\"\",\"\",S138/COUNTIF('Data Input'!$C$8:$BU$8,\"F/I\"))","v":""},{"$f":"IF(ISBLANK('Data Input'!C143),\"\",SUM('Data Input'!BB143:BU143))","v":""},{"$f":"IF(U138=\"\",\"\",U138/COUNTIF('Data Input'!$C$8:$BU$8,\"Sp\"))","v":""}]
[{"$f":"IF('Data Input'!A144=0,\"\",'Data Input'!A144)","v":""},{"$f":"IF(ISBLANK('Data Input'!A144),\"\",COUNTIF('Data Input'!C144:BU144,\"\")-1)","v":""},{"$f":"IF(ISBLANK('Data Input'!A144),\"\",COUNTIF('Data Input'!C144:BU144,\"0\"))","v":""},{"$f":"IF(ISBLANK('Data Input'!A144),\"\",SUM(B139,C139))","v":""},{"$f":"IF(ISBLANK('Data Input'!A144),\"\",SUM('Data Input'!C144:BU144))","v":""},{"$f":"IF(E139=\"\",\"\",E139/(COUNTA('Data Input'!$C$8:$BU$8)-1))","v":""},{"$f":"IF(ISBLANK('Data Input'!A144),\"\",SUM('Data Input'!H144,'Data Input'!AA144,'Data Input'!AO144,'Data Input'!AP144))","v":""},{"$f":"IF(G139=\"\",\"\",G139/COUNTIF('Data Input'!$C$8:$BU$8,\"CS\"))","v":""},{"$f":"IF(ISBLANK('Data Input'!A144),\"\",SUM('Data Input'!P144,'Data Input'!T144,'Data Input'!AD144,'Data Input'!AX144,'Data Input'!AY144))","v":""},{"$f":"IF(I139=\"\",\"\",I139/COUNTIF('Data Input'!$C$8:$BU$8,\"SE\"))","v":""},{"$f":"IF(ISBLANK('Data Input'!A144),\"\",SUM('Data Input'!K144,'Data Input'!L144,'Data Input'!M144,'Data Input'!O144,'Data Input'!Q144,'Data Input'!U144,'Data Input'!X144,'Data Input'!Y144,'Data Input'!Z144,'Data Input'!AB144,'Data Input'!AE144,'Data Input'!AG144,'Data Input'!AL144,'Data Input'!AU144,'Data Input'!AW144))","v":""},{"$f":"IF(K139=\"\",\"\",K139/COUNTIF('Data Input'!$C$8:$BU$8,\"P\"))","v":""},{"$f":"IF(ISBLANK('Data Input'!A144),\"\",SUM('Data Input'!I144,'Data Input'!S144))","v":""},{"$f":"IF(M139=\"\",\"\",M139/COUNTIF('Data Input'!$C$8:$BU$8,\"FS\"))","v":""},{"$f":"IF(ISBLANK('Data Input'!A144),\"\",SUM('Data Input'!D144,'Data Input'!E144,'Data Input'!F144,'Data Input'!G144,'Data Input'!R144,'Data Input'!V144,'Data Input'!W144,'Data Input'!AC144,'Data Input'!AF144,'Data Input'!AH144,'Data Input'!AJ144,'Data Input'!AK144,'Data Input'!AM144,'Data Input'!AQ144,'Data Input'!AR144,'Data Input'!AZ144))","v":""},{"$f":"IF(O139=\"\",\"\",O139/COUNTIF('Data Input'!$C$8:$BU$8,\"GT\"))","v":""},{"$f":"IF(ISBLANK('Data Input'!A144),\"\",SUM('Data Input'!C144,'Data Input'!J144,'Data Input'!N144,'Data Input'!AS144,'Data Input'!AT144,'Data Input'!AV144))","v":""},{"$f":"IF(Q139=\"\",\"\",Q139/COUNTIF('Data Input'!$C$8:$BU$8,\"V\"))","v":""},{"$f":"IF(ISBLANK('Data Input'!A144),\"\",SUM('Data Input'!AI144,'Data Input'!AN144))","v":""},{"$f":"IF(S139=\"\",\"\",S139/COUNTIF('Data Input'!$C$8:$BU$8,\"F/I\"))","v":""},{"$f":"IF(ISBLANK('Data Input'!C144),\"\",SUM('Data Input'!BB144:BU144))","v":""},{"$f":"IF(U139=\"\",\"\",U139/COUNTIF('Data Input'!$C$8:$BU$8,\"Sp\"))","v":""}]
[{"$f":"IF('Data Input'!A145=0,\"\",'Data Input'!A145)","v":""},{"$f":"IF(ISBLANK('Data Input'!A145),\"\",COUNTIF('Data Input'!C145:BU145,\"\")-1)","v":""},{"$f":"IF(ISBLANK('Data Input'!A145),\"\",COUNTIF('Data Input'!C145:BU145,\"0\"))","v":""},{"$f":"IF(ISBLANK('Data Input'!A145),\"\",SUM(B140,C140))","v":""},{"$f":"IF(ISBLANK('Data Input'!A145),\"\",SUM('Data Input'!C145:BU145))","v":""},{"$f":"IF(E140=\"\",\"\",E140/(COUNTA('Data Input'!$C$8:$BU$8)-1))","v":""},{"$f":"IF(ISBLANK('Data Input'!A145),\"\",SUM('Data Input'!H145,'Data Input'!AA145,'Data Input'!AO145,'Data Input'!AP145))","v":""},{"$f":"IF(G140=\"\",\"\",G140/COUNTIF('Data Input'!$C$8:$BU$8,\"CS\"))","v":""},{"$f":"IF(ISBLANK('Data Input'!A145),\"\",SUM('Data Input'!P145,'Data Input'!T145,'Data Input'!AD145,'Data Input'!AX145,'Data Input'!AY145))","v":""},{"$f":"IF(I140=\"\",\"\",I140/COUNTIF('Data Input'!$C$8:$BU$8,\"SE\"))","v":""},{"$f":"IF(ISBLANK('Data Input'!A145),\"\",SUM('Data Input'!K145,'Data Input'!L145,'Data Input'!M145,'Data Input'!O145,'Data Input'!Q145,'Data Input'!U145,'Data Input'!X145,'Data Input'!Y145,'Data Input'!Z145,'Data Input'!AB145,'Data Input'!AE145,'Data Input'!AG145,'Data Input'!AL145,'Data Input'!AU145,'Data Input'!AW145))","v":""},{"$f":"IF(K140=\"\",\"\",K140/COUNTIF('Data Input'!$C$8:$BU$8,\"P\"))","v":""},{"$f":"IF(ISBLANK('Data Input'!A145),\"\",SUM('Data Input'!I145,'Data Input'!S145))","v":""},{"$f":"IF(M140=\"\",\"\",M140/COUNTIF('Data Input'!$C$8:$BU$8,\"FS\"))","v":""},{"$f":"IF(ISBLANK('Data Input'!A145),\"\",SUM('Data Input'!D145,'Data Input'!E145,'Data Input'!F145,'Data Input'!G145,'Data Input'!R145,'Data Input'!V145,'Data Input'!W145,'Data Input'!AC145,'Data Input'!AF145,'Data Input'!AH145,'Data Input'!AJ145,'Data Input'!AK145,'Data Input'!AM145,'Data Input'!AQ145,'Data Input'!AR145,'Data Input'!AZ145))","v":""},{"$f":"IF(O140=\"\",\"\",O140/COUNTIF('Data Input'!$C$8:$BU$8,\"GT\"))","v":""},{"$f":"IF(ISBLANK('Data Input'!A145),\"\",SUM('Data Input'!C145,'Data Input'!J145,'Data Input'!N145,'Data Input'!AS145,'Data Input'!AT145,'Data Input'!AV145))","v":""},{"$f":"IF(Q140=\"\",\"\",Q140/COUNTIF('Data Input'!$C$8:$BU$8,\"V\"))","v":""},{"$f":"IF(ISBLANK('Data Input'!A145),\"\",SUM('Data Input'!AI145,'Data Input'!AN145))","v":""},{"$f":"IF(S140=\"\",\"\",S140/COUNTIF('Data Input'!$C$8:$BU$8,\"F/I\"))","v":""},{"$f":"IF(ISBLANK('Data Input'!C145),\"\",SUM('Data Input'!BB145:BU145))","v":""},{"$f":"IF(U140=\"\",\"\",U140/COUNTIF('Data Input'!$C$8:$BU$8,\"Sp\"))","v":""}]
[{"$f":"IF('Data Input'!A146=0,\"\",'Data Input'!A146)","v":""},{"$f":"IF(ISBLANK('Data Input'!A146),\"\",COUNTIF('Data Input'!C146:BU146,\"\")-1)","v":""},{"$f":"IF(ISBLANK('Data Input'!A146),\"\",COUNTIF('Data Input'!C146:BU146,\"0\"))","v":""},{"$f":"IF(ISBLANK('Data Input'!A146),\"\",SUM(B141,C141))","v":""},{"$f":"IF(ISBLANK('Data Input'!A146),\"\",SUM('Data Input'!C146:BU146))","v":""},{"$f":"IF(E141=\"\",\"\",E141/(COUNTA('Data Input'!$C$8:$BU$8)-1))","v":""},{"$f":"IF(ISBLANK('Data Input'!A146),\"\",SUM('Data Input'!H146,'Data Input'!AA146,'Data Input'!AO146,'Data Input'!AP146))","v":""},{"$f":"IF(G141=\"\",\"\",G141/COUNTIF('Data Input'!$C$8:$BU$8,\"CS\"))","v":""},{"$f":"IF(ISBLANK('Data Input'!A146),\"\",SUM('Data Input'!P146,'Data Input'!T146,'Data Input'!AD146,'Data Input'!AX146,'Data Input'!AY146))","v":""},{"$f":"IF(I141=\"\",\"\",I141/COUNTIF('Data Input'!$C$8:$BU$8,\"SE\"))","v":""},{"$f":"IF(ISBLANK('Data Input'!A146),\"\",SUM('Data Input'!K146,'Data Input'!L146,'Data Input'!M146,'Data Input'!O146,'Data Input'!Q146,'Data Input'!U146,'Data Input'!X146,'Data Input'!Y146,'Data Input'!Z146,'Data Input'!AB146,'Data Input'!AE146,'Data Input'!AG146,'Data Input'!AL146,'Data Input'!AU146,'Data Input'!AW146))","v":""},{"$f":"IF(K141=\"\",\"\",K141/COUNTIF('Data Input'!$C$8:$BU$8,\"P\"))","v":""},{"$f":"IF(ISBLANK('Data Input'!A146),\"\",SUM('Data Input'!I146,'Data Input'!S146))","v":""},{"$f":"IF(M141=\"\",\"\",M141/COUNTIF('Data Input'!$C$8:$BU$8,\"FS\"))","v":""},{"$f":"IF(ISBLANK('Data Input'!A146),\"\",SUM('Data Input'!D146,'Data Input'!E146,'Data Input'!F146,'Data Input'!G146,'Data Input'!R146,'Data Input'!V146,'Data Input'!W146,'Data Input'!AC146,'Data Input'!AF146,'Data Input'!AH146,'Data Input'!AJ146,'Data Input'!AK146,'Data Input'!AM146,'Data Input'!AQ146,'Data Input'!AR146,'Data Input'!AZ146))","v":""},{"$f":"IF(O141=\"\",\"\",O141/COUNTIF('Data Input'!$C$8:$BU$8,\"GT\"))","v":""},{"$f":"IF(ISBLANK('Data Input'!A146),\"\",SUM('Data Input'!C146,'Data Input'!J146,'Data Input'!N146,'Data Input'!AS146,'Data Input'!AT146,'Data Input'!AV146))","v":""},{"$f":"IF(Q141=\"\",\"\",Q141/COUNTIF('Data Input'!$C$8:$BU$8,\"V\"))","v":""},{"$f":"IF(ISBLANK('Data Input'!A146),\"\",SUM('Data Input'!AI146,'Data Input'!AN146))","v":""},{"$f":"IF(S141=\"\",\"\",S141/COUNTIF('Data Input'!$C$8:$BU$8,\"F/I\"))","v":""},{"$f":"IF(ISBLANK('Data Input'!C146),\"\",SUM('Data Input'!BB146:BU146))","v":""},{"$f":"IF(U141=\"\",\"\",U141/COUNTIF('Data Input'!$C$8:$BU$8,\"Sp\"))","v":""}]
[{"$f":"IF('Data Input'!A147=0,\"\",'Data Input'!A147)","v":""},{"$f":"IF(ISBLANK('Data Input'!A147),\"\",COUNTIF('Data Input'!C147:BU147,\"\")-1)","v":""},{"$f":"IF(ISBLANK('Data Input'!A147),\"\",COUNTIF('Data Input'!C147:BU147,\"0\"))","v":""},{"$f":"IF(ISBLANK('Data Input'!A147),\"\",SUM(B142,C142))","v":""},{"$f":"IF(ISBLANK('Data Input'!A147),\"\",SUM('Data Input'!C147:BU147))","v":""},{"$f":"IF(E142=\"\",\"\",E142/(COUNTA('Data Input'!$C$8:$BU$8)-1))","v":""},{"$f":"IF(ISBLANK('Data Input'!A147),\"\",SUM('Data Input'!H147,'Data Input'!AA147,'Data Input'!AO147,'Data Input'!AP147))","v":""},{"$f":"IF(G142=\"\",\"\",G142/COUNTIF('Data Input'!$C$8:$BU$8,\"CS\"))","v":""},{"$f":"IF(ISBLANK('Data Input'!A147),\"\",SUM('Data Input'!P147,'Data Input'!T147,'Data Input'!AD147,'Data Input'!AX147,'Data Input'!AY147))","v":""},{"$f":"IF(I142=\"\",\"\",I142/COUNTIF('Data Input'!$C$8:$BU$8,\"SE\"))","v":""},{"$f":"IF(ISBLANK('Data Input'!A147),\"\",SUM('Data Input'!K147,'Data Input'!L147,'Data Input'!M147,'Data Input'!O147,'Data Input'!Q147,'Data Input'!U147,'Data Input'!X147,'Data Input'!Y147,'Data Input'!Z147,'Data Input'!AB147,'Data Input'!AE147,'Data Input'!AG147,'Data Input'!AL147,'Data Input'!AU147,'Data Input'!AW147))","v":""},{"$f":"IF(K142=\"\",\"\",K142/COUNTIF('Data Input'!$C$8:$BU$8,\"P\"))","v":""},{"$f":"IF(ISBLANK('Data Input'!A147),\"\",SUM('Data Input'!I147,'Data Input'!S147))","v":""},{"$f":"IF(M142=\"\",\"\",M142/COUNTIF('Data Input'!$C$8:$BU$8,\"FS\"))","v":""},{"$f":"IF(ISBLANK('Data Input'!A147),\"\",SUM('Data Input'!D147,'Data Input'!E147,'Data Input'!F147,'Data Input'!G147,'Data Input'!R147,'Data Input'!V147,'Data Input'!W147,'Data Input'!AC147,'Data Input'!AF147,'Data Input'!AH147,'Data Input'!AJ147,'Data Input'!AK147,'Data Input'!AM147,'Data Input'!AQ147,'Data Input'!AR147,'Data Input'!AZ147))","v":""},{"$f":"IF(O142=\"\",\"\",O142/COUNTIF('Data Input'!$C$8:$BU$8,\"GT\"))","v":""},{"$f":"IF(ISBLANK('Data Input'!A147),\"\",SUM('Data Input'!C147,'Data Input'!J147,'Data Input'!N147,'Data Input'!AS147,'Data Input'!AT147,'Data Input'!AV147))","v":""},{"$f":"IF(Q142=\"\",\"\",Q142/COUNTIF('Data Input'!$C$8:$BU$8,\"V\"))","v":""},{"$f":"IF(ISBLANK('Data Input'!A147),\"\",SUM('Data Input'!AI147,'Data Input'!AN147))","v":""},{"$f":"IF(S142=\"\",\"\",S142/COUNTIF('Data Input'!$C$8:$BU$8,\"F/I\"))","v":""},{"$f":"IF(ISBLANK('Data Input'!C147),\"\",SUM('Data Input'!BB147:BU147))","v":""},{"$f":"IF(U142=\"\",\"\",U142/COUNTIF('Data Input'!$C$8:$BU$8,\"Sp\"))","v":""}]
[{"$f":"IF('Data Input'!A148=0,\"\",'Data Input'!A148)","v":""},{"$f":"IF(ISBLANK('Data Input'!A148),\"\",COUNTIF('Data Input'!C148:BU148,\"\")-1)","v":""},{"$f":"IF(ISBLANK('Data Input'!A148),\"\",COUNTIF('Data Input'!C148:BU148,\"0\"))","v":""},{"$f":"IF(ISBLANK('Data Input'!A148),\"\",SUM(B143,C143))","v":""},{"$f":"IF(ISBLANK('Data Input'!A148),\"\",SUM('Data Input'!C148:BU148))","v":""},{"$f":"IF(E143=\"\",\"\",E143/(COUNTA('Data Input'!$C$8:$BU$8)-1))","v":""},{"$f":"IF(ISBLANK('Data Input'!A148),\"\",SUM('Data Input'!H148,'Data Input'!AA148,'Data Input'!AO148,'Data Input'!AP148))","v":""},{"$f":"IF(G143=\"\",\"\",G143/COUNTIF('Data Input'!$C$8:$BU$8,\"CS\"))","v":""},{"$f":"IF(ISBLANK('Data Input'!A148),\"\",SUM('Data Input'!P148,'Data Input'!T148,'Data Input'!AD148,'Data Input'!AX148,'Data Input'!AY148))","v":""},{"$f":"IF(I143=\"\",\"\",I143/COUNTIF('Data Input'!$C$8:$BU$8,\"SE\"))","v":""},{"$f":"IF(ISBLANK('Data Input'!A148),\"\",SUM('Data Input'!K148,'Data Input'!L148,'Data Input'!M148,'Data Input'!O148,'Data Input'!Q148,'Data Input'!U148,'Data Input'!X148,'Data Input'!Y148,'Data Input'!Z148,'Data Input'!AB148,'Data Input'!AE148,'Data Input'!AG148,'Data Input'!AL148,'Data Input'!AU148,'Data Input'!AW148))","v":""},{"$f":"IF(K143=\"\",\"\",K143/COUNTIF('Data Input'!$C$8:$BU$8,\"P\"))","v":""},{"$f":"IF(ISBLANK('Data Input'!A148),\"\",SUM('Data Input'!I148,'Data Input'!S148))","v":""},{"$f":"IF(M143=\"\",\"\",M143/COUNTIF('Data Input'!$C$8:$BU$8,\"FS\"))","v":""},{"$f":"IF(ISBLANK('Data Input'!A148),\"\",SUM('Data Input'!D148,'Data Input'!E148,'Data Input'!F148,'Data Input'!G148,'Data Input'!R148,'Data Input'!V148,'Data Input'!W148,'Data Input'!AC148,'Data Input'!AF148,'Data Input'!AH148,'Data Input'!AJ148,'Data Input'!AK148,'Data Input'!AM148,'Data Input'!AQ148,'Data Input'!AR148,'Data Input'!AZ148))","v":""},{"$f":"IF(O143=\"\",\"\",O143/COUNTIF('Data Input'!$C$8:$BU$8,\"GT\"))","v":""},{"$f":"IF(ISBLANK('Data Input'!A148),\"\",SUM('Data Input'!C148,'Data Input'!J148,'Data Input'!N148,'Data Input'!AS148,'Data Input'!AT148,'Data Input'!AV148))","v":""},{"$f":"IF(Q143=\"\",\"\",Q143/COUNTIF('Data Input'!$C$8:$BU$8,\"V\"))","v":""},{"$f":"IF(ISBLANK('Data Input'!A148),\"\",SUM('Data Input'!AI148,'Data Input'!AN148))","v":""},{"$f":"IF(S143=\"\",\"\",S143/COUNTIF('Data Input'!$C$8:$BU$8,\"F/I\"))","v":""},{"$f":"IF(ISBLANK('Data Input'!C148),\"\",SUM('Data Input'!BB148:BU148))","v":""},{"$f":"IF(U143=\"\",\"\",U143/COUNTIF('Data Input'!$C$8:$BU$8,\"Sp\"))","v":""}]
[{"$f":"IF('Data Input'!A149=0,\"\",'Data Input'!A149)","v":""},{"$f":"IF(ISBLANK('Data Input'!A149),\"\",COUNTIF('Data Input'!C149:BU149,\"\")-1)","v":""},{"$f":"IF(ISBLANK('Data Input'!A149),\"\",COUNTIF('Data Input'!C149:BU149,\"0\"))","v":""},{"$f":"IF(ISBLANK('Data Input'!A149),\"\",SUM(B144,C144))","v":""},{"$f":"IF(ISBLANK('Data Input'!A149),\"\",SUM('Data Input'!C149:BU149))","v":""},{"$f":"IF(E144=\"\",\"\",E144/(COUNTA('Data Input'!$C$8:$BU$8)-1))","v":""},{"$f":"IF(ISBLANK('Data Input'!A149),\"\",SUM('Data Input'!H149,'Data Input'!AA149,'Data Input'!AO149,'Data Input'!AP149))","v":""},{"$f":"IF(G144=\"\",\"\",G144/COUNTIF('Data Input'!$C$8:$BU$8,\"CS\"))","v":""},{"$f":"IF(ISBLANK('Data Input'!A149),\"\",SUM('Data Input'!P149,'Data Input'!T149,'Data Input'!AD149,'Data Input'!AX149,'Data Input'!AY149))","v":""},{"$f":"IF(I144=\"\",\"\",I144/COUNTIF('Data Input'!$C$8:$BU$8,\"SE\"))","v":""},{"$f":"IF(ISBLANK('Data Input'!A149),\"\",SUM('Data Input'!K149,'Data Input'!L149,'Data Input'!M149,'Data Input'!O149,'Data Input'!Q149,'Data Input'!U149,'Data Input'!X149,'Data Input'!Y149,'Data Input'!Z149,'Data Input'!AB149,'Data Input'!AE149,'Data Input'!AG149,'Data Input'!AL149,'Data Input'!AU149,'Data Input'!AW149))","v":""},{"$f":"IF(K144=\"\",\"\",K144/COUNTIF('Data Input'!$C$8:$BU$8,\"P\"))","v":""},{"$f":"IF(ISBLANK('Data Input'!A149),\"\",SUM('Data Input'!I149,'Data Input'!S149))","v":""},{"$f":"IF(M144=\"\",\"\",M144/COUNTIF('Data Input'!$C$8:$BU$8,\"FS\"))","v":""},{"$f":"IF(ISBLANK('Data Input'!A149),\"\",SUM('Data Input'!D149,'Data Input'!E149,'Data Input'!F149,'Data Input'!G149,'Data Input'!R149,'Data Input'!V149,'Data Input'!W149,'Data Input'!AC149,'Data Input'!AF149,'Data Input'!AH149,'Data Input'!AJ149,'Data Input'!AK149,'Data Input'!AM149,'Data Input'!AQ149,'Data Input'!AR149,'Data Input'!AZ149))","v":""},{"$f":"IF(O144=\"\",\"\",O144/COUNTIF('Data Input'!$C$8:$BU$8,\"GT\"))","v":""},{"$f":"IF(ISBLANK('Data Input'!A149),\"\",SUM('Data Input'!C149,'Data Input'!J149,'Data Input'!N149,'Data Input'!AS149,'Data Input'!AT149,'Data Input'!AV149))","v":""},{"$f":"IF(Q144=\"\",\"\",Q144/COUNTIF('Data Input'!$C$8:$BU$8,\"V\"))","v":""},{"$f":"IF(ISBLANK('Data Input'!A149),\"\",SUM('Data Input'!AI149,'Data Input'!AN149))","v":""},{"$f":"IF(S144=\"\",\"\",S144/COUNTIF('Data Input'!$C$8:$BU$8,\"F/I\"))","v":""},{"$f":"IF(ISBLANK('Data Input'!C149),\"\",SUM('Data Input'!BB149:BU149))","v":""},{"$f":"IF(U144=\"\",\"\",U144/COUNTIF('Data Input'!$C$8:$BU$8,\"Sp\"))","v":""}]
[{"$f":"IF('Data Input'!A150=0,\"\",'Data Input'!A150)","v":""},{"$f":"IF(ISBLANK('Data Input'!A150),\"\",COUNTIF('Data Input'!C150:BU150,\"\")-1)","v":""},{"$f":"IF(ISBLANK('Data Input'!A150),\"\",COUNTIF('Data Input'!C150:BU150,\"0\"))","v":""},{"$f":"IF(ISBLANK('Data Input'!A150),\"\",SUM(B145,C145))","v":""},{"$f":"IF(ISBLANK('Data Input'!A150),\"\",SUM('Data Input'!C150:BU150))","v":""},{"$f":"IF(E145=\"\",\"\",E145/(COUNTA('Data Input'!$C$8:$BU$8)-1))","v":""},{"$f":"IF(ISBLANK('Data Input'!A150),\"\",SUM('Data Input'!H150,'Data Input'!AA150,'Data Input'!AO150,'Data Input'!AP150))","v":""},{"$f":"IF(G145=\"\",\"\",G145/COUNTIF('Data Input'!$C$8:$BU$8,\"CS\"))","v":""},{"$f":"IF(ISBLANK('Data Input'!A150),\"\",SUM('Data Input'!P150,'Data Input'!T150,'Data Input'!AD150,'Data Input'!AX150,'Data Input'!AY150))","v":""},{"$f":"IF(I145=\"\",\"\",I145/COUNTIF('Data Input'!$C$8:$BU$8,\"SE\"))","v":""},{"$f":"IF(ISBLANK('Data Input'!A150),\"\",SUM('Data Input'!K150,'Data Input'!L150,'Data Input'!M150,'Data Input'!O150,'Data Input'!Q150,'Data Input'!U150,'Data Input'!X150,'Data Input'!Y150,'Data Input'!Z150,'Data Input'!AB150,'Data Input'!AE150,'Data Input'!AG150,'Data Input'!AL150,'Data Input'!AU150,'Data Input'!AW150))","v":""},{"$f":"IF(K145=\"\",\"\",K145/COUNTIF('Data Input'!$C$8:$BU$8,\"P\"))","v":""},{"$f":"IF(ISBLANK('Data Input'!A150),\"\",SUM('Data Input'!I150,'Data Input'!S150))","v":""},{"$f":"IF(M145=\"\",\"\",M145/COUNTIF('Data Input'!$C$8:$BU$8,\"FS\"))","v":""},{"$f":"IF(ISBLANK('Data Input'!A150),\"\",SUM('Data Input'!D150,'Data Input'!E150,'Data Input'!F150,'Data Input'!G150,'Data Input'!R150,'Data Input'!V150,'Data Input'!W150,'Data Input'!AC150,'Data Input'!AF150,'Data Input'!AH150,'Data Input'!AJ150,'Data Input'!AK150,'Data Input'!AM150,'Data Input'!AQ150,'Data Input'!AR150,'Data Input'!AZ150))","v":""},{"$f":"IF(O145=\"\",\"\",O145/COUNTIF('Data Input'!$C$8:$BU$8,\"GT\"))","v":""},{"$f":"IF(ISBLANK('Data Input'!A150),\"\",SUM('Data Input'!C150,'Data Input'!J150,'Data Input'!N150,'Data Input'!AS150,'Data Input'!AT150,'Data Input'!AV150))","v":""},{"$f":"IF(Q145=\"\",\"\",Q145/COUNTIF('Data Input'!$C$8:$BU$8,\"V\"))","v":""},{"$f":"IF(ISBLANK('Data Input'!A150),\"\",SUM('Data Input'!AI150,'Data Input'!AN150))","v":""},{"$f":"IF(S145=\"\",\"\",S145/COUNTIF('Data Input'!$C$8:$BU$8,\"F/I\"))","v":""},{"$f":"IF(ISBLANK('Data Input'!C150),\"\",SUM('Data Input'!BB150:BU150))","v":""},{"$f":"IF(U145=\"\",\"\",U145/COUNTIF('Data Input'!$C$8:$BU$8,\"Sp\"))","v":""}]
[{"$f":"IF('Data Input'!A151=0,\"\",'Data Input'!A151)","v":""},{"$f":"IF(ISBLANK('Data Input'!A151),\"\",COUNTIF('Data Input'!C151:BU151,\"\")-1)","v":""},{"$f":"IF(ISBLANK('Data Input'!A151),\"\",COUNTIF('Data Input'!C151:BU151,\"0\"))","v":""},{"$f":"IF(ISBLANK('Data Input'!A151),\"\",SUM(B146,C146))","v":""},{"$f":"IF(ISBLANK('Data Input'!A151),\"\",SUM('Data Input'!C151:BU151))","v":""},{"$f":"IF(E146=\"\",\"\",E146/(COUNTA('Data Input'!$C$8:$BU$8)-1))","v":""},{"$f":"IF(ISBLANK('Data Input'!A151),\"\",SUM('Data Input'!H151,'Data Input'!AA151,'Data Input'!AO151,'Data Input'!AP151))","v":""},{"$f":"IF(G146=\"\",\"\",G146/COUNTIF('Data Input'!$C$8:$BU$8,\"CS\"))","v":""},{"$f":"IF(ISBLANK('Data Input'!A151),\"\",SUM('Data Input'!P151,'Data Input'!T151,'Data Input'!AD151,'Data Input'!AX151,'Data Input'!AY151))","v":""},{"$f":"IF(I146=\"\",\"\",I146/COUNTIF('Data Input'!$C$8:$BU$8,\"SE\"))","v":""},{"$f":"IF(ISBLANK('Data Input'!A151),\"\",SUM('Data Input'!K151,'Data Input'!L151,'Data Input'!M151,'Data Input'!O151,'Data Input'!Q151,'Data Input'!U151,'Data Input'!X151,'Data Input'!Y151,'Data Input'!Z151,'Data Input'!AB151,'Data Input'!AE151,'Data Input'!AG151,'Data Input'!AL151,'Data Input'!AU151,'Data Input'!AW151))","v":""},{"$f":"IF(K146=\"\",\"\",K146/COUNTIF('Data Input'!$C$8:$BU$8,\"P\"))","v":""},{"$f":"IF(ISBLANK('Data Input'!A151),\"\",SUM('Data Input'!I151,'Data Input'!S151))","v":""},{"$f":"IF(M146=\"\",\"\",M146/COUNTIF('Data Input'!$C$8:$BU$8,\"FS\"))","v":""},{"$f":"IF(ISBLANK('Data Input'!A151),\"\",SUM('Data Input'!D151,'Data Input'!E151,'Data Input'!F151,'Data Input'!G151,'Data Input'!R151,'Data Input'!V151,'Data Input'!W151,'Data Input'!AC151,'Data Input'!AF151,'Data Input'!AH151,'Data Input'!AJ151,'Data Input'!AK151,'Data Input'!AM151,'Data Input'!AQ151,'Data Input'!AR151,'Data Input'!AZ151))","v":""},{"$f":"IF(O146=\"\",\"\",O146/COUNTIF('Data Input'!$C$8:$BU$8,\"GT\"))","v":""},{"$f":"IF(ISBLANK('Data Input'!A151),\"\",SUM('Data Input'!C151,'Data Input'!J151,'Data Input'!N151,'Data Input'!AS151,'Data Input'!AT151,'Data Input'!AV151))","v":""},{"$f":"IF(Q146=\"\",\"\",Q146/COUNTIF('Data Input'!$C$8:$BU$8,\"V\"))","v":""},{"$f":"IF(ISBLANK('Data Input'!A151),\"\",SUM('Data Input'!AI151,'Data Input'!AN151))","v":""},{"$f":"IF(S146=\"\",\"\",S146/COUNTIF('Data Input'!$C$8:$BU$8,\"F/I\"))","v":""},{"$f":"IF(ISBLANK('Data Input'!C151),\"\",SUM('Data Input'!BB151:BU151))","v":""},{"$f":"IF(U146=\"\",\"\",U146/COUNTIF('Data Input'!$C$8:$BU$8,\"Sp\"))","v":""}]
[{"$f":"IF('Data Input'!A152=0,\"\",'Data Input'!A152)","v":""},{"$f":"IF(ISBLANK('Data Input'!A152),\"\",COUNTIF('Data Input'!C152:BU152,\"\")-1)","v":""},{"$f":"IF(ISBLANK('Data Input'!A152),\"\",COUNTIF('Data Input'!C152:BU152,\"0\"))","v":""},{"$f":"IF(ISBLANK('Data Input'!A152),\"\",SUM(B147,C147))","v":""},{"$f":"IF(ISBLANK('Data Input'!A152),\"\",SUM('Data Input'!C152:BU152))","v":""},{"$f":"IF(E147=\"\",\"\",E147/(COUNTA('Data Input'!$C$8:$BU$8)-1))","v":""},{"$f":"IF(ISBLANK('Data Input'!A152),\"\",SUM('Data Input'!H152,'Data Input'!AA152,'Data Input'!AO152,'Data Input'!AP152))","v":""},{"$f":"IF(G147=\"\",\"\",G147/COUNTIF('Data Input'!$C$8:$BU$8,\"CS\"))","v":""},{"$f":"IF(ISBLANK('Data Input'!A152),\"\",SUM('Data Input'!P152,'Data Input'!T152,'Data Input'!AD152,'Data Input'!AX152,'Data Input'!AY152))","v":""},{"$f":"IF(I147=\"\",\"\",I147/COUNTIF('Data Input'!$C$8:$BU$8,\"SE\"))","v":""},{"$f":"IF(ISBLANK('Data Input'!A152),\"\",SUM('Data Input'!K152,'Data Input'!L152,'Data Input'!M152,'Data Input'!O152,'Data Input'!Q152,'Data Input'!U152,'Data Input'!X152,'Data Input'!Y152,'Data Input'!Z152,'Data Input'!AB152,'Data Input'!AE152,'Data Input'!AG152,'Data Input'!AL152,'Data Input'!AU152,'Data Input'!AW152))","v":""},{"$f":"IF(K147=\"\",\"\",K147/COUNTIF('Data Input'!$C$8:$BU$8,\"P\"))","v":""},{"$f":"IF(ISBLANK('Data Input'!A152),\"\",SUM('Data Input'!I152,'Data Input'!S152))","v":""},{"$f":"IF(M147=\"\",\"\",M147/COUNTIF('Data Input'!$C$8:$BU$8,\"FS\"))","v":""},{"$f":"IF(ISBLANK('Data Input'!A152),\"\",SUM('Data Input'!D152,'Data Input'!E152,'Data Input'!F152,'Data Input'!G152,'Data Input'!R152,'Data Input'!V152,'Data Input'!W152,'Data Input'!AC152,'Data Input'!AF152,'Data Input'!AH152,'Data Input'!AJ152,'Data Input'!AK152,'Data Input'!AM152,'Data Input'!AQ152,'Data Input'!AR152,'Data Input'!AZ152))","v":""},{"$f":"IF(O147=\"\",\"\",O147/COUNTIF('Data Input'!$C$8:$BU$8,\"GT\"))","v":""},{"$f":"IF(ISBLANK('Data Input'!A152),\"\",SUM('Data Input'!C152,'Data Input'!J152,'Data Input'!N152,'Data Input'!AS152,'Data Input'!AT152,'Data Input'!AV152))","v":""},{"$f":"IF(Q147=\"\",\"\",Q147/COUNTIF('Data Input'!$C$8:$BU$8,\"V\"))","v":""},{"$f":"IF(ISBLANK('Data Input'!A152),\"\",SUM('Data Input'!AI152,'Data Input'!AN152))","v":""},{"$f":"IF(S147=\"\",\"\",S147/COUNTIF('Data Input'!$C$8:$BU$8,\"F/I\"))","v":""},{"$f":"IF(ISBLANK('Data Input'!C152),\"\",SUM('Data Input'!BB152:BU152))","v":""},{"$f":"IF(U147=\"\",\"\",U147/COUNTIF('Data Input'!$C$8:$BU$8,\"Sp\"))","v":""}]
[{"$f":"IF('Data Input'!A153=0,\"\",'Data Input'!A153)","v":""},{"$f":"IF(ISBLANK('Data Input'!A153),\"\",COUNTIF('Data Input'!C153:BU153,\"\")-1)","v":""},{"$f":"IF(ISBLANK('Data Input'!A153),\"\",COUNTIF('Data Input'!C153:BU153,\"0\"))","v":""},{"$f":"IF(ISBLANK('Data Input'!A153),\"\",SUM(B148,C148))","v":""},{"$f":"IF(ISBLANK('Data Input'!A153),\"\",SUM('Data Input'!C153:BU153))","v":""},{"$f":"IF(E148=\"\",\"\",E148/(COUNTA('Data Input'!$C$8:$BU$8)-1))","v":""},{"$f":"IF(ISBLANK('Data Input'!A153),\"\",SUM('Data Input'!H153,'Data Input'!AA153,'Data Input'!AO153,'Data Input'!AP153))","v":""},{"$f":"IF(G148=\"\",\"\",G148/COUNTIF('Data Input'!$C$8:$BU$8,\"CS\"))","v":""},{"$f":"IF(ISBLANK('Data Input'!A153),\"\",SUM('Data Input'!P153,'Data Input'!T153,'Data Input'!AD153,'Data Input'!AX153,'Data Input'!AY153))","v":""},{"$f":"IF(I148=\"\",\"\",I148/COUNTIF('Data Input'!$C$8:$BU$8,\"SE\"))","v":""},{"$f":"IF(ISBLANK('Data Input'!A153),\"\",SUM('Data Input'!K153,'Data Input'!L153,'Data Input'!M153,'Data Input'!O153,'Data Input'!Q153,'Data Input'!U153,'Data Input'!X153,'Data Input'!Y153,'Data Input'!Z153,'Data Input'!AB153,'Data Input'!AE153,'Data Input'!AG153,'Data Input'!AL153,'Data Input'!AU153,'Data Input'!AW153))","v":""},{"$f":"IF(K148=\"\",\"\",K148/COUNTIF('Data Input'!$C$8:$BU$8,\"P\"))","v":""},{"$f":"IF(ISBLANK('Data Input'!A153),\"\",SUM('Data Input'!I153,'Data Input'!S153))","v":""},{"$f":"IF(M148=\"\",\"\",M148/COUNTIF('Data Input'!$C$8:$BU$8,\"FS\"))","v":""},{"$f":"IF(ISBLANK('Data Input'!A153),\"\",SUM('Data Input'!D153,'Data Input'!E153,'Data Input'!F153,'Data Input'!G153,'Data Input'!R153,'Data Input'!V153,'Data Input'!W153,'Data Input'!AC153,'Data Input'!AF153,'Data Input'!AH153,'Data Input'!AJ153,'Data Input'!AK153,'Data Input'!AM153,'Data Input'!AQ153,'Data Input'!AR153,'Data Input'!AZ153))","v":""},{"$f":"IF(O148=\"\",\"\",O148/COUNTIF('Data Input'!$C$8:$BU$8,\"GT\"))","v":""},{"$f":"IF(ISBLANK('Data Input'!A153),\"\",SUM('Data Input'!C153,'Data Input'!J153,'Data Input'!N153,'Data Input'!AS153,'Data Input'!AT153,'Data Input'!AV153))","v":""},{"$f":"IF(Q148=\"\",\"\",Q148/COUNTIF('Data Input'!$C$8:$BU$8,\"V\"))","v":""},{"$f":"IF(ISBLANK('Data Input'!A153),\"\",SUM('Data Input'!AI153,'Data Input'!AN153))","v":""},{"$f":"IF(S148=\"\",\"\",S148/COUNTIF('Data Input'!$C$8:$BU$8,\"F/I\"))","v":""},{"$f":"IF(ISBLANK('Data Input'!C153),\"\",SUM('Data Input'!BB153:BU153))","v":""},{"$f":"IF(U148=\"\",\"\",U148/COUNTIF('Data Input'!$C$8:$BU$8,\"Sp\"))","v":""}]
[{"$f":"IF('Data Input'!A154=0,\"\",'Data Input'!A154)","v":""},{"$f":"IF(ISBLANK('Data Input'!A154),\"\",COUNTIF('Data Input'!C154:BU154,\"\")-1)","v":""},{"$f":"IF(ISBLANK('Data Input'!A154),\"\",COUNTIF('Data Input'!C154:BU154,\"0\"))","v":""},{"$f":"IF(ISBLANK('Data Input'!A154),\"\",SUM(B149,C149))","v":""},{"$f":"IF(ISBLANK('Data Input'!A154),\"\",SUM('Data Input'!C154:BU154))","v":""},{"$f":"IF(E149=\"\",\"\",E149/(COUNTA('Data Input'!$C$8:$BU$8)-1))","v":""},{"$f":"IF(ISBLANK('Data Input'!A154),\"\",SUM('Data Input'!H154,'Data Input'!AA154,'Data Input'!AO154,'Data Input'!AP154))","v":""},{"$f":"IF(G149=\"\",\"\",G149/COUNTIF('Data Input'!$C$8:$BU$8,\"CS\"))","v":""},{"$f":"IF(ISBLANK('Data Input'!A154),\"\",SUM('Data Input'!P154,'Data Input'!T154,'Data Input'!AD154,'Data Input'!AX154,'Data Input'!AY154))","v":""},{"$f":"IF(I149=\"\",\"\",I149/COUNTIF('Data Input'!$C$8:$BU$8,\"SE\"))","v":""},{"$f":"IF(ISBLANK('Data Input'!A154),\"\",SUM('Data Input'!K154,'Data Input'!L154,'Data Input'!M154,'Data Input'!O154,'Data Input'!Q154,'Data Input'!U154,'Data Input'!X154,'Data Input'!Y154,'Data Input'!Z154,'Data Input'!AB154,'Data Input'!AE154,'Data Input'!AG154,'Data Input'!AL154,'Data Input'!AU154,'Data Input'!AW154))","v":""},{"$f":"IF(K149=\"\",\"\",K149/COUNTIF('Data Input'!$C$8:$BU$8,\"P\"))","v":""},{"$f":"IF(ISBLANK('Data Input'!A154),\"\",SUM('Data Input'!I154,'Data Input'!S154))","v":""},{"$f":"IF(M149=\"\",\"\",M149/COUNTIF('Data Input'!$C$8:$BU$8,\"FS\"))","v":""},{"$f":"IF(ISBLANK('Data Input'!A154),\"\",SUM('Data Input'!D154,'Data Input'!E154,'Data Input'!F154,'Data Input'!G154,'Data Input'!R154,'Data Input'!V154,'Data Input'!W154,'Data Input'!AC154,'Data Input'!AF154,'Data Input'!AH154,'Data Input'!AJ154,'Data Input'!AK154,'Data Input'!AM154,'Data Input'!AQ154,'Data Input'!AR154,'Data Input'!AZ154))","v":""},{"$f":"IF(O149=\"\",\"\",O149/COUNTIF('Data Input'!$C$8:$BU$8,\"GT\"))","v":""},{"$f":"IF(ISBLANK('Data Input'!A154),\"\",SUM('Data Input'!C154,'Data Input'!J154,'Data Input'!N154,'Data Input'!AS154,'Data Input'!AT154,'Data Input'!AV154))","v":""},{"$f":"IF(Q149=\"\",\"\",Q149/COUNTIF('Data Input'!$C$8:$BU$8,\"V\"))","v":""},{"$f":"IF(ISBLANK('Data Input'!A154),\"\",SUM('Data Input'!AI154,'Data Input'!AN154))","v":""},{"$f":"IF(S149=\"\",\"\",S149/COUNTIF('Data Input'!$C$8:$BU$8,\"F/I\"))","v":""},{"$f":"IF(ISBLANK('Data Input'!C154),\"\",SUM('Data Input'!BB154:BU154))","v":""},{"$f":"IF(U149=\"\",\"\",U149/COUNTIF('Data Input'!$C$8:$BU$8,\"Sp\"))","v":""}]
[{"$f":"IF('Data Input'!A155=0,\"\",'Data Input'!A155)","v":""},{"$f":"IF(ISBLANK('Data Input'!A155),\"\",COUNTIF('Data Input'!C155:BU155,\"\")-1)","v":""},{"$f":"IF(ISBLANK('Data Input'!A155),\"\",COUNTIF('Data Input'!C155:BU155,\"0\"))","v":""},{"$f":"IF(ISBLANK('Data Input'!A155),\"\",SUM(B150,C150))","v":""},{"$f":"IF(ISBLANK('Data Input'!A155),\"\",SUM('Data Input'!C155:BU155))","v":""},{"$f":"IF(E150=\"\",\"\",E150/(COUNTA('Data Input'!$C$8:$BU$8)-1))","v":""},{"$f":"IF(ISBLANK('Data Input'!A155),\"\",SUM('Data Input'!H155,'Data Input'!AA155,'Data Input'!AO155,'Data Input'!AP155))","v":""},{"$f":"IF(G150=\"\",\"\",G150/COUNTIF('Data Input'!$C$8:$BU$8,\"CS\"))","v":""},{"$f":"IF(ISBLANK('Data Input'!A155),\"\",SUM('Data Input'!P155,'Data Input'!T155,'Data Input'!AD155,'Data Input'!AX155,'Data Input'!AY155))","v":""},{"$f":"IF(I150=\"\",\"\",I150/COUNTIF('Data Input'!$C$8:$BU$8,\"SE\"))","v":""},{"$f":"IF(ISBLANK('Data Input'!A155),\"\",SUM('Data Input'!K155,'Data Input'!L155,'Data Input'!M155,'Data Input'!O155,'Data Input'!Q155,'Data Input'!U155,'Data Input'!X155,'Data Input'!Y155,'Data Input'!Z155,'Data Input'!AB155,'Data Input'!AE155,'Data Input'!AG155,'Data Input'!AL155,'Data Input'!AU155,'Data Input'!AW155))","v":""},{"$f":"IF(K150=\"\",\"\",K150/COUNTIF('Data Input'!$C$8:$BU$8,\"P\"))","v":""},{"$f":"IF(ISBLANK('Data Input'!A155),\"\",SUM('Data Input'!I155,'Data Input'!S155))","v":""},{"$f":"IF(M150=\"\",\"\",M150/COUNTIF('Data Input'!$C$8:$BU$8,\"FS\"))","v":""},{"$f":"IF(ISBLANK('Data Input'!A155),\"\",SUM('Data Input'!D155,'Data Input'!E155,'Data Input'!F155,'Data Input'!G155,'Data Input'!R155,'Data Input'!V155,'Data Input'!W155,'Data Input'!AC155,'Data Input'!AF155,'Data Input'!AH155,'Data Input'!AJ155,'Data Input'!AK155,'Data Input'!AM155,'Data Input'!AQ155,'Data Input'!AR155,'Data Input'!AZ155))","v":""},{"$f":"IF(O150=\"\",\"\",O150/COUNTIF('Data Input'!$C$8:$BU$8,\"GT\"))","v":""},{"$f":"IF(ISBLANK('Data Input'!A155),\"\",SUM('Data Input'!C155,'Data Input'!J155,'Data Input'!N155,'Data Input'!AS155,'Data Input'!AT155,'Data Input'!AV155))","v":""},{"$f":"IF(Q150=\"\",\"\",Q150/COUNTIF('Data Input'!$C$8:$BU$8,\"V\"))","v":""},{"$f":"IF(ISBLANK('Data Input'!A155),\"\",SUM('Data Input'!AI155,'Data Input'!AN155))","v":""},{"$f":"IF(S150=\"\",\"\",S150/COUNTIF('Data Input'!$C$8:$BU$8,\"F/I\"))","v":""},{"$f":"IF(ISBLANK('Data Input'!C155),\"\",SUM('Data Input'!BB155:BU155))","v":""},{"$f":"IF(U150=\"\",\"\",U150/COUNTIF('Data Input'!$C$8:$BU$8,\"Sp\"))","v":""}]
[{"$f":"IF('Data Input'!A156=0,\"\",'Data Input'!A156)","v":""},{"$f":"IF(ISBLANK('Data Input'!A156),\"\",COUNTIF('Data Input'!C156:BU156,\"\")-1)","v":""},{"$f":"IF(ISBLANK('Data Input'!A156),\"\",COUNTIF('Data Input'!C156:BU156,\"0\"))","v":""},{"$f":"IF(ISBLANK('Data Input'!A156),\"\",SUM(B151,C151))","v":""},{"$f":"IF(ISBLANK('Data Input'!A156),\"\",SUM('Data Input'!C156:BU156))","v":""},{"$f":"IF(E151=\"\",\"\",E151/(COUNTA('Data Input'!$C$8:$BU$8)-1))","v":""},{"$f":"IF(ISBLANK('Data Input'!A156),\"\",SUM('Data Input'!H156,'Data Input'!AA156,'Data Input'!AO156,'Data Input'!AP156))","v":""},{"$f":"IF(G151=\"\",\"\",G151/COUNTIF('Data Input'!$C$8:$BU$8,\"CS\"))","v":""},{"$f":"IF(ISBLANK('Data Input'!A156),\"\",SUM('Data Input'!P156,'Data Input'!T156,'Data Input'!AD156,'Data Input'!AX156,'Data Input'!AY156))","v":""},{"$f":"IF(I151=\"\",\"\",I151/COUNTIF('Data Input'!$C$8:$BU$8,\"SE\"))","v":""},{"$f":"IF(ISBLANK('Data Input'!A156),\"\",SUM('Data Input'!K156,'Data Input'!L156,'Data Input'!M156,'Data Input'!O156,'Data Input'!Q156,'Data Input'!U156,'Data Input'!X156,'Data Input'!Y156,'Data Input'!Z156,'Data Input'!AB156,'Data Input'!AE156,'Data Input'!AG156,'Data Input'!AL156,'Data Input'!AU156,'Data Input'!AW156))","v":""},{"$f":"IF(K151=\"\",\"\",K151/COUNTIF('Data Input'!$C$8:$BU$8,\"P\"))","v":""},{"$f":"IF(ISBLANK('Data Input'!A156),\"\",SUM('Data Input'!I156,'Data Input'!S156))","v":""},{"$f":"IF(M151=\"\",\"\",M151/COUNTIF('Data Input'!$C$8:$BU$8,\"FS\"))","v":""},{"$f":"IF(ISBLANK('Data Input'!A156),\"\",SUM('Data Input'!D156,'Data Input'!E156,'Data Input'!F156,'Data Input'!G156,'Data Input'!R156,'Data Input'!V156,'Data Input'!W156,'Data Input'!AC156,'Data Input'!AF156,'Data Input'!AH156,'Data Input'!AJ156,'Data Input'!AK156,'Data Input'!AM156,'Data Input'!AQ156,'Data Input'!AR156,'Data Input'!AZ156))","v":""},{"$f":"IF(O151=\"\",\"\",O151/COUNTIF('Data Input'!$C$8:$BU$8,\"GT\"))","v":""},{"$f":"IF(ISBLANK('Data Input'!A156),\"\",SUM('Data Input'!C156,'Data Input'!J156,'Data Input'!N156,'Data Input'!AS156,'Data Input'!AT156,'Data Input'!AV156))","v":""},{"$f":"IF(Q151=\"\",\"\",Q151/COUNTIF('Data Input'!$C$8:$BU$8,\"V\"))","v":""},{"$f":"IF(ISBLANK('Data Input'!A156),\"\",SUM('Data Input'!AI156,'Data Input'!AN156))","v":""},{"$f":"IF(S151=\"\",\"\",S151/COUNTIF('Data Input'!$C$8:$BU$8,\"F/I\"))","v":""},{"$f":"IF(ISBLANK('Data Input'!C156),\"\",SUM('Data Input'!BB156:BU156))","v":""},{"$f":"IF(U151=\"\",\"\",U151/COUNTIF('Data Input'!$C$8:$BU$8,\"Sp\"))","v":""}]
[{"$f":"IF('Data Input'!A157=0,\"\",'Data Input'!A157)","v":""},{"$f":"IF(ISBLANK('Data Input'!A157),\"\",COUNTIF('Data Input'!C157:BU157,\"\")-1)","v":""},{"$f":"IF(ISBLANK('Data Input'!A157),\"\",COUNTIF('Data Input'!C157:BU157,\"0\"))","v":""},{"$f":"IF(ISBLANK('Data Input'!A157),\"\",SUM(B152,C152))","v":""},{"$f":"IF(ISBLANK('Data Input'!A157),\"\",SUM('Data Input'!C157:BU157))","v":""},{"$f":"IF(E152=\"\",\"\",E152/(COUNTA('Data Input'!$C$8:$BU$8)-1))","v":""},{"$f":"IF(ISBLANK('Data Input'!A157),\"\",SUM('Data Input'!H157,'Data Input'!AA157,'Data Input'!AO157,'Data Input'!AP157))","v":""},{"$f":"IF(G152=\"\",\"\",G152/COUNTIF('Data Input'!$C$8:$BU$8,\"CS\"))","v":""},{"$f":"IF(ISBLANK('Data Input'!A157),\"\",SUM('Data Input'!P157,'Data Input'!T157,'Data Input'!AD157,'Data Input'!AX157,'Data Input'!AY157))","v":""},{"$f":"IF(I152=\"\",\"\",I152/COUNTIF('Data Input'!$C$8:$BU$8,\"SE\"))","v":""},{"$f":"IF(ISBLANK('Data Input'!A157),\"\",SUM('Data Input'!K157,'Data Input'!L157,'Data Input'!M157,'Data Input'!O157,'Data Input'!Q157,'Data Input'!U157,'Data Input'!X157,'Data Input'!Y157,'Data Input'!Z157,'Data Input'!AB157,'Data Input'!AE157,'Data Input'!AG157,'Data Input'!AL157,'Data Input'!AU157,'Data Input'!AW157))","v":""},{"$f":"IF(K152=\"\",\"\",K152/COUNTIF('Data Input'!$C$8:$BU$8,\"P\"))","v":""},{"$f":"IF(ISBLANK('Data Input'!A157),\"\",SUM('Data Input'!I157,'Data Input'!S157))","v":""},{"$f":"IF(M152=\"\",\"\",M152/COUNTIF('Data Input'!$C$8:$BU$8,\"FS\"))","v":""},{"$f":"IF(ISBLANK('Data Input'!A157),\"\",SUM('Data Input'!D157,'Data Input'!E157,'Data Input'!F157,'Data Input'!G157,'Data Input'!R157,'Data Input'!V157,'Data Input'!W157,'Data Input'!AC157,'Data Input'!AF157,'Data Input'!AH157,'Data Input'!AJ157,'Data Input'!AK157,'Data Input'!AM157,'Data Input'!AQ157,'Data Input'!AR157,'Data Input'!AZ157))","v":""},{"$f":"IF(O152=\"\",\"\",O152/COUNTIF('Data Input'!$C$8:$BU$8,\"GT\"))","v":""},{"$f":"IF(ISBLANK('Data Input'!A157),\"\",SUM('Data Input'!C157,'Data Input'!J157,'Data Input'!N157,'Data Input'!AS157,'Data Input'!AT157,'Data Input'!AV157))","v":""},{"$f":"IF(Q152=\"\",\"\",Q152/COUNTIF('Data Input'!$C$8:$BU$8,\"V\"))","v":""},{"$f":"IF(ISBLANK('Data Input'!A157),\"\",SUM('Data Input'!AI157,'Data Input'!AN157))","v":""},{"$f":"IF(S152=\"\",\"\",S152/COUNTIF('Data Input'!$C$8:$BU$8,\"F/I\"))","v":""},{"$f":"IF(ISBLANK('Data Input'!C157),\"\",SUM('Data Input'!BB157:BU157))","v":""},{"$f":"IF(U152=\"\",\"\",U152/COUNTIF('Data Input'!$C$8:$BU$8,\"Sp\"))","v":""}]
[{"$f":"IF('Data Input'!A158=0,\"\",'Data Input'!A158)","v":""},{"$f":"IF(ISBLANK('Data Input'!A158),\"\",COUNTIF('Data Input'!C158:BU158,\"\")-1)","v":""},{"$f":"IF(ISBLANK('Data Input'!A158),\"\",COUNTIF('Data Input'!C158:BU158,\"0\"))","v":""},{"$f":"IF(ISBLANK('Data Input'!A158),\"\",SUM(B153,C153))","v":""},{"$f":"IF(ISBLANK('Data Input'!A158),\"\",SUM('Data Input'!C158:BU158))","v":""},{"$f":"IF(E153=\"\",\"\",E153/(COUNTA('Data Input'!$C$8:$BU$8)-1))","v":""},{"$f":"IF(ISBLANK('Data Input'!A158),\"\",SUM('Data Input'!H158,'Data Input'!AA158,'Data Input'!AO158,'Data Input'!AP158))","v":""},{"$f":"IF(G153=\"\",\"\",G153/COUNTIF('Data Input'!$C$8:$BU$8,\"CS\"))","v":""},{"$f":"IF(ISBLANK('Data Input'!A158),\"\",SUM('Data Input'!P158,'Data Input'!T158,'Data Input'!AD158,'Data Input'!AX158,'Data Input'!AY158))","v":""},{"$f":"IF(I153=\"\",\"\",I153/COUNTIF('Data Input'!$C$8:$BU$8,\"SE\"))","v":""},{"$f":"IF(ISBLANK('Data Input'!A158),\"\",SUM('Data Input'!K158,'Data Input'!L158,'Data Input'!M158,'Data Input'!O158,'Data Input'!Q158,'Data Input'!U158,'Data Input'!X158,'Data Input'!Y158,'Data Input'!Z158,'Data Input'!AB158,'Data Input'!AE158,'Data Input'!AG158,'Data Input'!AL158,'Data Input'!AU158,'Data Input'!AW158))","v":""},{"$f":"IF(K153=\"\",\"\",K153/COUNTIF('Data Input'!$C$8:$BU$8,\"P\"))","v":""},{"$f":"IF(ISBLANK('Data Input'!A158),\"\",SUM('Data Input'!I158,'Data Input'!S158))","v":""},{"$f":"IF(M153=\"\",\"\",M153/COUNTIF('Data Input'!$C$8:$BU$8,\"FS\"))","v":""},{"$f":"IF(ISBLANK('Data Input'!A158),\"\",SUM('Data Input'!D158,'Data Input'!E158,'Data Input'!F158,'Data Input'!G158,'Data Input'!R158,'Data Input'!V158,'Data Input'!W158,'Data Input'!AC158,'Data Input'!AF158,'Data Input'!AH158,'Data Input'!AJ158,'Data Input'!AK158,'Data Input'!AM158,'Data Input'!AQ158,'Data Input'!AR158,'Data Input'!AZ158))","v":""},{"$f":"IF(O153=\"\",\"\",O153/COUNTIF('Data Input'!$C$8:$BU$8,\"GT\"))","v":""},{"$f":"IF(ISBLANK('Data Input'!A158),\"\",SUM('Data Input'!C158,'Data Input'!J158,'Data Input'!N158,'Data Input'!AS158,'Data Input'!AT158,'Data Input'!AV158))","v":""},{"$f":"IF(Q153=\"\",\"\",Q153/COUNTIF('Data Input'!$C$8:$BU$8,\"V\"))","v":""},{"$f":"IF(ISBLANK('Data Input'!A158),\"\",SUM('Data Input'!AI158,'Data Input'!AN158))","v":""},{"$f":"IF(S153=\"\",\"\",S153/COUNTIF('Data Input'!$C$8:$BU$8,\"F/I\"))","v":""},{"$f":"IF(ISBLANK('Data Input'!C158),\"\",SUM('Data Input'!BB158:BU158))","v":""},{"$f":"IF(U153=\"\",\"\",U153/COUNTIF('Data Input'!$C$8:$BU$8,\"Sp\"))","v":""}]
[{"$f":"IF('Data Input'!A159=0,\"\",'Data Input'!A159)","v":""},{"$f":"IF(ISBLANK('Data Input'!A159),\"\",COUNTIF('Data Input'!C159:BU159,\"\")-1)","v":""},{"$f":"IF(ISBLANK('Data Input'!A159),\"\",COUNTIF('Data Input'!C159:BU159,\"0\"))","v":""},{"$f":"IF(ISBLANK('Data Input'!A159),\"\",SUM(B154,C154))","v":""},{"$f":"IF(ISBLANK('Data Input'!A159),\"\",SUM('Data Input'!C159:BU159))","v":""},{"$f":"IF(E154=\"\",\"\",E154/(COUNTA('Data Input'!$C$8:$BU$8)-1))","v":""},{"$f":"IF(ISBLANK('Data Input'!A159),\"\",SUM('Data Input'!H159,'Data Input'!AA159,'Data Input'!AO159,'Data Input'!AP159))","v":""},{"$f":"IF(G154=\"\",\"\",G154/COUNTIF('Data Input'!$C$8:$BU$8,\"CS\"))","v":""},{"$f":"IF(ISBLANK('Data Input'!A159),\"\",SUM('Data Input'!P159,'Data Input'!T159,'Data Input'!AD159,'Data Input'!AX159,'Data Input'!AY159))","v":""},{"$f":"IF(I154=\"\",\"\",I154/COUNTIF('Data Input'!$C$8:$BU$8,\"SE\"))","v":""},{"$f":"IF(ISBLANK('Data Input'!A159),\"\",SUM('Data Input'!K159,'Data Input'!L159,'Data Input'!M159,'Data Input'!O159,'Data Input'!Q159,'Data Input'!U159,'Data Input'!X159,'Data Input'!Y159,'Data Input'!Z159,'Data Input'!AB159,'Data Input'!AE159,'Data Input'!AG159,'Data Input'!AL159,'Data Input'!AU159,'Data Input'!AW159))","v":""},{"$f":"IF(K154=\"\",\"\",K154/COUNTIF('Data Input'!$C$8:$BU$8,\"P\"))","v":""},{"$f":"IF(ISBLANK('Data Input'!A159),\"\",SUM('Data Input'!I159,'Data Input'!S159))","v":""},{"$f":"IF(M154=\"\",\"\",M154/COUNTIF('Data Input'!$C$8:$BU$8,\"FS\"))","v":""},{"$f":"IF(ISBLANK('Data Input'!A159),\"\",SUM('Data Input'!D159,'Data Input'!E159,'Data Input'!F159,'Data Input'!G159,'Data Input'!R159,'Data Input'!V159,'Data Input'!W159,'Data Input'!AC159,'Data Input'!AF159,'Data Input'!AH159,'Data Input'!AJ159,'Data Input'!AK159,'Data Input'!AM159,'Data Input'!AQ159,'Data Input'!AR159,'Data Input'!AZ159))","v":""},{"$f":"IF(O154=\"\",\"\",O154/COUNTIF('Data Input'!$C$8:$BU$8,\"GT\"))","v":""},{"$f":"IF(ISBLANK('Data Input'!A159),\"\",SUM('Data Input'!C159,'Data Input'!J159,'Data Input'!N159,'Data Input'!AS159,'Data Input'!AT159,'Data Input'!AV159))","v":""},{"$f":"IF(Q154=\"\",\"\",Q154/COUNTIF('Data Input'!$C$8:$BU$8,\"V\"))","v":""},{"$f":"IF(ISBLANK('Data Input'!A159),\"\",SUM('Data Input'!AI159,'Data Input'!AN159))","v":""},{"$f":"IF(S154=\"\",\"\",S154/COUNTIF('Data Input'!$C$8:$BU$8,\"F/I\"))","v":""},{"$f":"IF(ISBLANK('Data Input'!C159),\"\",SUM('Data Input'!BB159:BU159))","v":""},{"$f":"IF(U154=\"\",\"\",U154/COUNTIF('Data Input'!$C$8:$BU$8,\"Sp\"))","v":""}]
[{"$f":"IF('Data Input'!A160=0,\"\",'Data Input'!A160)","v":""},{"$f":"IF(ISBLANK('Data Input'!A160),\"\",COUNTIF('Data Input'!C160:BU160,\"\")-1)","v":""},{"$f":"IF(ISBLANK('Data Input'!A160),\"\",COUNTIF('Data Input'!C160:BU160,\"0\"))","v":""},{"$f":"IF(ISBLANK('Data Input'!A160),\"\",SUM(B155,C155))","v":""},{"$f":"IF(ISBLANK('Data Input'!A160),\"\",SUM('Data Input'!C160:BU160))","v":""},{"$f":"IF(E155=\"\",\"\",E155/(COUNTA('Data Input'!$C$8:$BU$8)-1))","v":""},{"$f":"IF(ISBLANK('Data Input'!A160),\"\",SUM('Data Input'!H160,'Data Input'!AA160,'Data Input'!AO160,'Data Input'!AP160))","v":""},{"$f":"IF(G155=\"\",\"\",G155/COUNTIF('Data Input'!$C$8:$BU$8,\"CS\"))","v":""},{"$f":"IF(ISBLANK('Data Input'!A160),\"\",SUM('Data Input'!P160,'Data Input'!T160,'Data Input'!AD160,'Data Input'!AX160,'Data Input'!AY160))","v":""},{"$f":"IF(I155=\"\",\"\",I155/COUNTIF('Data Input'!$C$8:$BU$8,\"SE\"))","v":""},{"$f":"IF(ISBLANK('Data Input'!A160),\"\",SUM('Data Input'!K160,'Data Input'!L160,'Data Input'!M160,'Data Input'!O160,'Data Input'!Q160,'Data Input'!U160,'Data Input'!X160,'Data Input'!Y160,'Data Input'!Z160,'Data Input'!AB160,'Data Input'!AE160,'Data Input'!AG160,'Data Input'!AL160,'Data Input'!AU160,'Data Input'!AW160))","v":""},{"$f":"IF(K155=\"\",\"\",K155/COUNTIF('Data Input'!$C$8:$BU$8,\"P\"))","v":""},{"$f":"IF(ISBLANK('Data Input'!A160),\"\",SUM('Data Input'!I160,'Data Input'!S160))","v":""},{"$f":"IF(M155=\"\",\"\",M155/COUNTIF('Data Input'!$C$8:$BU$8,\"FS\"))","v":""},{"$f":"IF(ISBLANK('Data Input'!A160),\"\",SUM('Data Input'!D160,'Data Input'!E160,'Data Input'!F160,'Data Input'!G160,'Data Input'!R160,'Data Input'!V160,'Data Input'!W160,'Data Input'!AC160,'Data Input'!AF160,'Data Input'!AH160,'Data Input'!AJ160,'Data Input'!AK160,'Data Input'!AM160,'Data Input'!AQ160,'Data Input'!AR160,'Data Input'!AZ160))","v":""},{"$f":"IF(O155=\"\",\"\",O155/COUNTIF('Data Input'!$C$8:$BU$8,\"GT\"))","v":""},{"$f":"IF(ISBLANK('Data Input'!A160),\"\",SUM('Data Input'!C160,'Data Input'!J160,'Data Input'!N160,'Data Input'!AS160,'Data Input'!AT160,'Data Input'!AV160))","v":""},{"$f":"IF(Q155=\"\",\"\",Q155/COUNTIF('Data Input'!$C$8:$BU$8,\"V\"))","v":""},{"$f":"IF(ISBLANK('Data Input'!A160),\"\",SUM('Data Input'!AI160,'Data Input'!AN160))","v":""},{"$f":"IF(S155=\"\",\"\",S155/COUNTIF('Data Input'!$C$8:$BU$8,\"F/I\"))","v":""},{"$f":"IF(ISBLANK('Data Input'!C160),\"\",SUM('Data Input'!BB160:BU160))","v":""},{"$f":"IF(U155=\"\",\"\",U155/COUNTIF('Data Input'!$C$8:$BU$8,\"Sp\"))","v":""}]
[{"$f":"IF('Data Input'!A161=0,\"\",'Data Input'!A161)","v":""},{"$f":"IF(ISBLANK('Data Input'!A161),\"\",COUNTIF('Data Input'!C161:BU161,\"\")-1)","v":""},{"$f":"IF(ISBLANK('Data Input'!A161),\"\",COUNTIF('Data Input'!C161:BU161,\"0\"))","v":""},{"$f":"IF(ISBLANK('Data Input'!A161),\"\",SUM(B156,C156))","v":""},{"$f":"IF(ISBLANK('Data Input'!A161),\"\",SUM('Data Input'!C161:BU161))","v":""},{"$f":"IF(E156=\"\",\"\",E156/(COUNTA('Data Input'!$C$8:$BU$8)-1))","v":""},{"$f":"IF(ISBLANK('Data Input'!A161),\"\",SUM('Data Input'!H161,'Data Input'!AA161,'Data Input'!AO161,'Data Input'!AP161))","v":""},{"$f":"IF(G156=\"\",\"\",G156/COUNTIF('Data Input'!$C$8:$BU$8,\"CS\"))","v":""},{"$f":"IF(ISBLANK('Data Input'!A161),\"\",SUM('Data Input'!P161,'Data Input'!T161,'Data Input'!AD161,'Data Input'!AX161,'Data Input'!AY161))","v":""},{"$f":"IF(I156=\"\",\"\",I156/COUNTIF('Data Input'!$C$8:$BU$8,\"SE\"))","v":""},{"$f":"IF(ISBLANK('Data Input'!A161),\"\",SUM('Data Input'!K161,'Data Input'!L161,'Data Input'!M161,'Data Input'!O161,'Data Input'!Q161,'Data Input'!U161,'Data Input'!X161,'Data Input'!Y161,'Data Input'!Z161,'Data Input'!AB161,'Data Input'!AE161,'Data Input'!AG161,'Data Input'!AL161,'Data Input'!AU161,'Data Input'!AW161))","v":""},{"$f":"IF(K156=\"\",\"\",K156/COUNTIF('Data Input'!$C$8:$BU$8,\"P\"))","v":""},{"$f":"IF(ISBLANK('Data Input'!A161),\"\",SUM('Data Input'!I161,'Data Input'!S161))","v":""},{"$f":"IF(M156=\"\",\"\",M156/COUNTIF('Data Input'!$C$8:$BU$8,\"FS\"))","v":""},{"$f":"IF(ISBLANK('Data Input'!A161),\"\",SUM('Data Input'!D161,'Data Input'!E161,'Data Input'!F161,'Data Input'!G161,'Data Input'!R161,'Data Input'!V161,'Data Input'!W161,'Data Input'!AC161,'Data Input'!AF161,'Data Input'!AH161,'Data Input'!AJ161,'Data Input'!AK161,'Data Input'!AM161,'Data Input'!AQ161,'Data Input'!AR161,'Data Input'!AZ161))","v":""},{"$f":"IF(O156=\"\",\"\",O156/COUNTIF('Data Input'!$C$8:$BU$8,\"GT\"))","v":""},{"$f":"IF(ISBLANK('Data Input'!A161),\"\",SUM('Data Input'!C161,'Data Input'!J161,'Data Input'!N161,'Data Input'!AS161,'Data Input'!AT161,'Data Input'!AV161))","v":""},{"$f":"IF(Q156=\"\",\"\",Q156/COUNTIF('Data Input'!$C$8:$BU$8,\"V\"))","v":""},{"$f":"IF(ISBLANK('Data Input'!A161),\"\",SUM('Data Input'!AI161,'Data Input'!AN161))","v":""},{"$f":"IF(S156=\"\",\"\",S156/COUNTIF('Data Input'!$C$8:$BU$8,\"F/I\"))","v":""},{"$f":"IF(ISBLANK('Data Input'!C161),\"\",SUM('Data Input'!BB161:BU161))","v":""},{"$f":"IF(U156=\"\",\"\",U156/COUNTIF('Data Input'!$C$8:$BU$8,\"Sp\"))","v":""}]
[{"$f":"IF('Data Input'!A162=0,\"\",'Data Input'!A162)","v":""},{"$f":"IF(ISBLANK('Data Input'!A162),\"\",COUNTIF('Data Input'!C162:BU162,\"\")-1)","v":""},{"$f":"IF(ISBLANK('Data Input'!A162),\"\",COUNTIF('Data Input'!C162:BU162,\"0\"))","v":""},{"$f":"IF(ISBLANK('Data Input'!A162),\"\",SUM(B157,C157))","v":""},{"$f":"IF(ISBLANK('Data Input'!A162),\"\",SUM('Data Input'!C162:BU162))","v":""},{"$f":"IF(E157=\"\",\"\",E157/(COUNTA('Data Input'!$C$8:$BU$8)-1))","v":""},{"$f":"IF(ISBLANK('Data Input'!A162),\"\",SUM('Data Input'!H162,'Data Input'!AA162,'Data Input'!AO162,'Data Input'!AP162))","v":""},{"$f":"IF(G157=\"\",\"\",G157/COUNTIF('Data Input'!$C$8:$BU$8,\"CS\"))","v":""},{"$f":"IF(ISBLANK('Data Input'!A162),\"\",SUM('Data Input'!P162,'Data Input'!T162,'Data Input'!AD162,'Data Input'!AX162,'Data Input'!AY162))","v":""},{"$f":"IF(I157=\"\",\"\",I157/COUNTIF('Data Input'!$C$8:$BU$8,\"SE\"))","v":""},{"$f":"IF(ISBLANK('Data Input'!A162),\"\",SUM('Data Input'!K162,'Data Input'!L162,'Data Input'!M162,'Data Input'!O162,'Data Input'!Q162,'Data Input'!U162,'Data Input'!X162,'Data Input'!Y162,'Data Input'!Z162,'Data Input'!AB162,'Data Input'!AE162,'Data Input'!AG162,'Data Input'!AL162,'Data Input'!AU162,'Data Input'!AW162))","v":""},{"$f":"IF(K157=\"\",\"\",K157/COUNTIF('Data Input'!$C$8:$BU$8,\"P\"))","v":""},{"$f":"IF(ISBLANK('Data Input'!A162),\"\",SUM('Data Input'!I162,'Data Input'!S162))","v":""},{"$f":"IF(M157=\"\",\"\",M157/COUNTIF('Data Input'!$C$8:$BU$8,\"FS\"))","v":""},{"$f":"IF(ISBLANK('Data Input'!A162),\"\",SUM('Data Input'!D162,'Data Input'!E162,'Data Input'!F162,'Data Input'!G162,'Data Input'!R162,'Data Input'!V162,'Data Input'!W162,'Data Input'!AC162,'Data Input'!AF162,'Data Input'!AH162,'Data Input'!AJ162,'Data Input'!AK162,'Data Input'!AM162,'Data Input'!AQ162,'Data Input'!AR162,'Data Input'!AZ162))","v":""},{"$f":"IF(O157=\"\",\"\",O157/COUNTIF('Data Input'!$C$8:$BU$8,\"GT\"))","v":""},{"$f":"IF(ISBLANK('Data Input'!A162),\"\",SUM('Data Input'!C162,'Data Input'!J162,'Data Input'!N162,'Data Input'!AS162,'Data Input'!AT162,'Data Input'!AV162))","v":""},{"$f":"IF(Q157=\"\",\"\",Q157/COUNTIF('Data Input'!$C$8:$BU$8,\"V\"))","v":""},{"$f":"IF(ISBLANK('Data Input'!A162),\"\",SUM('Data Input'!AI162,'Data Input'!AN162))","v":""},{"$f":"IF(S157=\"\",\"\",S157/COUNTIF('Data Input'!$C$8:$BU$8,\"F/I\"))","v":""},{"$f":"IF(ISBLANK('Data Input'!C162),\"\",SUM('Data Input'!BB162:BU162))","v":""},{"$f":"IF(U157=\"\",\"\",U157/COUNTIF('Data Input'!$C$8:$BU$8,\"Sp\"))","v":""}]
[{"$f":"IF('Data Input'!A163=0,\"\",'Data Input'!A163)","v":""},{"$f":"IF(ISBLANK('Data Input'!A163),\"\",COUNTIF('Data Input'!C163:BU163,\"\")-1)","v":""},{"$f":"IF(ISBLANK('Data Input'!A163),\"\",COUNTIF('Data Input'!C163:BU163,\"0\"))","v":""},{"$f":"IF(ISBLANK('Data Input'!A163),\"\",SUM(B158,C158))","v":""},{"$f":"IF(ISBLANK('Data Input'!A163),\"\",SUM('Data Input'!C163:BU163))","v":""},{"$f":"IF(E158=\"\",\"\",E158/(COUNTA('Data Input'!$C$8:$BU$8)-1))","v":""},{"$f":"IF(ISBLANK('Data Input'!A163),\"\",SUM('Data Input'!H163,'Data Input'!AA163,'Data Input'!AO163,'Data Input'!AP163))","v":""},{"$f":"IF(G158=\"\",\"\",G158/COUNTIF('Data Input'!$C$8:$BU$8,\"CS\"))","v":""},{"$f":"IF(ISBLANK('Data Input'!A163),\"\",SUM('Data Input'!P163,'Data Input'!T163,'Data Input'!AD163,'Data Input'!AX163,'Data Input'!AY163))","v":""},{"$f":"IF(I158=\"\",\"\",I158/COUNTIF('Data Input'!$C$8:$BU$8,\"SE\"))","v":""},{"$f":"IF(ISBLANK('Data Input'!A163),\"\",SUM('Data Input'!K163,'Data Input'!L163,'Data Input'!M163,'Data Input'!O163,'Data Input'!Q163,'Data Input'!U163,'Data Input'!X163,'Data Input'!Y163,'Data Input'!Z163,'Data Input'!AB163,'Data Input'!AE163,'Data Input'!AG163,'Data Input'!AL163,'Data Input'!AU163,'Data Input'!AW163))","v":""},{"$f":"IF(K158=\"\",\"\",K158/COUNTIF('Data Input'!$C$8:$BU$8,\"P\"))","v":""},{"$f":"IF(ISBLANK('Data Input'!A163),\"\",SUM('Data Input'!I163,'Data Input'!S163))","v":""},{"$f":"IF(M158=\"\",\"\",M158/COUNTIF('Data Input'!$C$8:$BU$8,\"FS\"))","v":""},{"$f":"IF(ISBLANK('Data Input'!A163),\"\",SUM('Data Input'!D163,'Data Input'!E163,'Data Input'!F163,'Data Input'!G163,'Data Input'!R163,'Data Input'!V163,'Data Input'!W163,'Data Input'!AC163,'Data Input'!AF163,'Data Input'!AH163,'Data Input'!AJ163,'Data Input'!AK163,'Data Input'!AM163,'Data Input'!AQ163,'Data Input'!AR163,'Data Input'!AZ163))","v":""},{"$f":"IF(O158=\"\",\"\",O158/COUNTIF('Data Input'!$C$8:$BU$8,\"GT\"))","v":""},{"$f":"IF(ISBLANK('Data Input'!A163),\"\",SUM('Data Input'!C163,'Data Input'!J163,'Data Input'!N163,'Data Input'!AS163,'Data Input'!AT163,'Data Input'!AV163))","v":""},{"$f":"IF(Q158=\"\",\"\",Q158/COUNTIF('Data Input'!$C$8:$BU$8,\"V\"))","v":""},{"$f":"IF(ISBLANK('Data Input'!A163),\"\",SUM('Data Input'!AI163,'Data Input'!AN163))","v":""},{"$f":"IF(S158=\"\",\"\",S158/COUNTIF('Data Input'!$C$8:$BU$8,\"F/I\"))","v":""},{"$f":"IF(ISBLANK('Data Input'!C163),\"\",SUM('Data Input'!BB163:BU163))","v":""},{"$f":"IF(U158=\"\",\"\",U158/COUNTIF('Data Input'!$C$8:$BU$8,\"Sp\"))","v":""}]
[{"$f":"IF('Data Input'!A164=0,\"\",'Data Input'!A164)","v":""},{"$f":"IF(ISBLANK('Data Input'!A164),\"\",COUNTIF('Data Input'!C164:BU164,\"\")-1)","v":""},{"$f":"IF(ISBLANK('Data Input'!A164),\"\",COUNTIF('Data Input'!C164:BU164,\"0\"))","v":""},{"$f":"IF(ISBLANK('Data Input'!A164),\"\",SUM(B159,C159))","v":""},{"$f":"IF(ISBLANK('Data Input'!A164),\"\",SUM('Data Input'!C164:BU164))","v":""},{"$f":"IF(E159=\"\",\"\",E159/(COUNTA('Data Input'!$C$8:$BU$8)-1))","v":""},{"$f":"IF(ISBLANK('Data Input'!A164),\"\",SUM('Data Input'!H164,'Data Input'!AA164,'Data Input'!AO164,'Data Input'!AP164))","v":""},{"$f":"IF(G159=\"\",\"\",G159/COUNTIF('Data Input'!$C$8:$BU$8,\"CS\"))","v":""},{"$f":"IF(ISBLANK('Data Input'!A164),\"\",SUM('Data Input'!P164,'Data Input'!T164,'Data Input'!AD164,'Data Input'!AX164,'Data Input'!AY164))","v":""},{"$f":"IF(I159=\"\",\"\",I159/COUNTIF('Data Input'!$C$8:$BU$8,\"SE\"))","v":""},{"$f":"IF(ISBLANK('Data Input'!A164),\"\",SUM('Data Input'!K164,'Data Input'!L164,'Data Input'!M164,'Data Input'!O164,'Data Input'!Q164,'Data Input'!U164,'Data Input'!X164,'Data Input'!Y164,'Data Input'!Z164,'Data Input'!AB164,'Data Input'!AE164,'Data Input'!AG164,'Data Input'!AL164,'Data Input'!AU164,'Data Input'!AW164))","v":""},{"$f":"IF(K159=\"\",\"\",K159/COUNTIF('Data Input'!$C$8:$BU$8,\"P\"))","v":""},{"$f":"IF(ISBLANK('Data Input'!A164),\"\",SUM('Data Input'!I164,'Data Input'!S164))","v":""},{"$f":"IF(M159=\"\",\"\",M159/COUNTIF('Data Input'!$C$8:$BU$8,\"FS\"))","v":""},{"$f":"IF(ISBLANK('Data Input'!A164),\"\",SUM('Data Input'!D164,'Data Input'!E164,'Data Input'!F164,'Data Input'!G164,'Data Input'!R164,'Data Input'!V164,'Data Input'!W164,'Data Input'!AC164,'Data Input'!AF164,'Data Input'!AH164,'Data Input'!AJ164,'Data Input'!AK164,'Data Input'!AM164,'Data Input'!AQ164,'Data Input'!AR164,'Data Input'!AZ164))","v":""},{"$f":"IF(O159=\"\",\"\",O159/COUNTIF('Data Input'!$C$8:$BU$8,\"GT\"))","v":""},{"$f":"IF(ISBLANK('Data Input'!A164),\"\",SUM('Data Input'!C164,'Data Input'!J164,'Data Input'!N164,'Data Input'!AS164,'Data Input'!AT164,'Data Input'!AV164))","v":""},{"$f":"IF(Q159=\"\",\"\",Q159/COUNTIF('Data Input'!$C$8:$BU$8,\"V\"))","v":""},{"$f":"IF(ISBLANK('Data Input'!A164),\"\",SUM('Data Input'!AI164,'Data Input'!AN164))","v":""},{"$f":"IF(S159=\"\",\"\",S159/COUNTIF('Data Input'!$C$8:$BU$8,\"F/I\"))","v":""},{"$f":"IF(ISBLANK('Data Input'!C164),\"\",SUM('Data Input'!BB164:BU164))","v":""},{"$f":"IF(U159=\"\",\"\",U159/COUNTIF('Data Input'!$C$8:$BU$8,\"Sp\"))","v":""}]
[{"$f":"IF('Data Input'!A165=0,\"\",'Data Input'!A165)","v":""},{"$f":"IF(ISBLANK('Data Input'!A165),\"\",COUNTIF('Data Input'!C165:BU165,\"\")-1)","v":""},{"$f":"IF(ISBLANK('Data Input'!A165),\"\",COUNTIF('Data Input'!C165:BU165,\"0\"))","v":""},{"$f":"IF(ISBLANK('Data Input'!A165),\"\",SUM(B160,C160))","v":""},{"$f":"IF(ISBLANK('Data Input'!A165),\"\",SUM('Data Input'!C165:BU165))","v":""},{"$f":"IF(E160=\"\",\"\",E160/(COUNTA('Data Input'!$C$8:$BU$8)-1))","v":""},{"$f":"IF(ISBLANK('Data Input'!A165),\"\",SUM('Data Input'!H165,'Data Input'!AA165,'Data Input'!AO165,'Data Input'!AP165))","v":""},{"$f":"IF(G160=\"\",\"\",G160/COUNTIF('Data Input'!$C$8:$BU$8,\"CS\"))","v":""},{"$f":"IF(ISBLANK('Data Input'!A165),\"\",SUM('Data Input'!P165,'Data Input'!T165,'Data Input'!AD165,'Data Input'!AX165,'Data Input'!AY165))","v":""},{"$f":"IF(I160=\"\",\"\",I160/COUNTIF('Data Input'!$C$8:$BU$8,\"SE\"))","v":""},{"$f":"IF(ISBLANK('Data Input'!A165),\"\",SUM('Data Input'!K165,'Data Input'!L165,'Data Input'!M165,'Data Input'!O165,'Data Input'!Q165,'Data Input'!U165,'Data Input'!X165,'Data Input'!Y165,'Data Input'!Z165,'Data Input'!AB165,'Data Input'!AE165,'Data Input'!AG165,'Data Input'!AL165,'Data Input'!AU165,'Data Input'!AW165))","v":""},{"$f":"IF(K160=\"\",\"\",K160/COUNTIF('Data Input'!$C$8:$BU$8,\"P\"))","v":""},{"$f":"IF(ISBLANK('Data Input'!A165),\"\",SUM('Data Input'!I165,'Data Input'!S165))","v":""},{"$f":"IF(M160=\"\",\"\",M160/COUNTIF('Data Input'!$C$8:$BU$8,\"FS\"))","v":""},{"$f":"IF(ISBLANK('Data Input'!A165),\"\",SUM('Data Input'!D165,'Data Input'!E165,'Data Input'!F165,'Data Input'!G165,'Data Input'!R165,'Data Input'!V165,'Data Input'!W165,'Data Input'!AC165,'Data Input'!AF165,'Data Input'!AH165,'Data Input'!AJ165,'Data Input'!AK165,'Data Input'!AM165,'Data Input'!AQ165,'Data Input'!AR165,'Data Input'!AZ165))","v":""},{"$f":"IF(O160=\"\",\"\",O160/COUNTIF('Data Input'!$C$8:$BU$8,\"GT\"))","v":""},{"$f":"IF(ISBLANK('Data Input'!A165),\"\",SUM('Data Input'!C165,'Data Input'!J165,'Data Input'!N165,'Data Input'!AS165,'Data Input'!AT165,'Data Input'!AV165))","v":""},{"$f":"IF(Q160=\"\",\"\",Q160/COUNTIF('Data Input'!$C$8:$BU$8,\"V\"))","v":""},{"$f":"IF(ISBLANK('Data Input'!A165),\"\",SUM('Data Input'!AI165,'Data Input'!AN165))","v":""},{"$f":"IF(S160=\"\",\"\",S160/COUNTIF('Data Input'!$C$8:$BU$8,\"F/I\"))","v":""},{"$f":"IF(ISBLANK('Data Input'!C165),\"\",SUM('Data Input'!BB165:BU165))","v":""},{"$f":"IF(U160=\"\",\"\",U160/COUNTIF('Data Input'!$C$8:$BU$8,\"Sp\"))","v":""}]
[{"$f":"IF('Data Input'!A166=0,\"\",'Data Input'!A166)","v":""},{"$f":"IF(ISBLANK('Data Input'!A166),\"\",COUNTIF('Data Input'!C166:BU166,\"\")-1)","v":""},{"$f":"IF(ISBLANK('Data Input'!A166),\"\",COUNTIF('Data Input'!C166:BU166,\"0\"))","v":""},{"$f":"IF(ISBLANK('Data Input'!A166),\"\",SUM(B161,C161))","v":""},{"$f":"IF(ISBLANK('Data Input'!A166),\"\",SUM('Data Input'!C166:BU166))","v":""},{"$f":"IF(E161=\"\",\"\",E161/(COUNTA('Data Input'!$C$8:$BU$8)-1))","v":""},{"$f":"IF(ISBLANK('Data Input'!A166),\"\",SUM('Data Input'!H166,'Data Input'!AA166,'Data Input'!AO166,'Data Input'!AP166))","v":""},{"$f":"IF(G161=\"\",\"\",G161/COUNTIF('Data Input'!$C$8:$BU$8,\"CS\"))","v":""},{"$f":"IF(ISBLANK('Data Input'!A166),\"\",SUM('Data Input'!P166,'Data Input'!T166,'Data Input'!AD166,'Data Input'!AX166,'Data Input'!AY166))","v":""},{"$f":"IF(I161=\"\",\"\",I161/COUNTIF('Data Input'!$C$8:$BU$8,\"SE\"))","v":""},{"$f":"IF(ISBLANK('Data Input'!A166),\"\",SUM('Data Input'!K166,'Data Input'!L166,'Data Input'!M166,'Data Input'!O166,'Data Input'!Q166,'Data Input'!U166,'Data Input'!X166,'Data Input'!Y166,'Data Input'!Z166,'Data Input'!AB166,'Data Input'!AE166,'Data Input'!AG166,'Data Input'!AL166,'Data Input'!AU166,'Data Input'!AW166))","v":""},{"$f":"IF(K161=\"\",\"\",K161/COUNTIF('Data Input'!$C$8:$BU$8,\"P\"))","v":""},{"$f":"IF(ISBLANK('Data Input'!A166),\"\",SUM('Data Input'!I166,'Data Input'!S166))","v":""},{"$f":"IF(M161=\"\",\"\",M161/COUNTIF('Data Input'!$C$8:$BU$8,\"FS\"))","v":""},{"$f":"IF(ISBLANK('Data Input'!A166),\"\",SUM('Data Input'!D166,'Data Input'!E166,'Data Input'!F166,'Data Input'!G166,'Data Input'!R166,'Data Input'!V166,'Data Input'!W166,'Data Input'!AC166,'Data Input'!AF166,'Data Input'!AH166,'Data Input'!AJ166,'Data Input'!AK166,'Data Input'!AM166,'Data Input'!AQ166,'Data Input'!AR166,'Data Input'!AZ166))","v":""},{"$f":"IF(O161=\"\",\"\",O161/COUNTIF('Data Input'!$C$8:$BU$8,\"GT\"))","v":""},{"$f":"IF(ISBLANK('Data Input'!A166),\"\",SUM('Data Input'!C166,'Data Input'!J166,'Data Input'!N166,'Data Input'!AS166,'Data Input'!AT166,'Data Input'!AV166))","v":""},{"$f":"IF(Q161=\"\",\"\",Q161/COUNTIF('Data Input'!$C$8:$BU$8,\"V\"))","v":""},{"$f":"IF(ISBLANK('Data Input'!A166),\"\",SUM('Data Input'!AI166,'Data Input'!AN166))","v":""},{"$f":"IF(S161=\"\",\"\",S161/COUNTIF('Data Input'!$C$8:$BU$8,\"F/I\"))","v":""},{"$f":"IF(ISBLANK('Data Input'!C166),\"\",SUM('Data Input'!BB166:BU166))","v":""},{"$f":"IF(U161=\"\",\"\",U161/COUNTIF('Data Input'!$C$8:$BU$8,\"Sp\"))","v":""}]
[{"$f":"IF('Data Input'!A167=0,\"\",'Data Input'!A167)","v":""},{"$f":"IF(ISBLANK('Data Input'!A167),\"\",COUNTIF('Data Input'!C167:BU167,\"\")-1)","v":""},{"$f":"IF(ISBLANK('Data Input'!A167),\"\",COUNTIF('Data Input'!C167:BU167,\"0\"))","v":""},{"$f":"IF(ISBLANK('Data Input'!A167),\"\",SUM(B162,C162))","v":""},{"$f":"IF(ISBLANK('Data Input'!A167),\"\",SUM('Data Input'!C167:BU167))","v":""},{"$f":"IF(E162=\"\",\"\",E162/(COUNTA('Data Input'!$C$8:$BU$8)-1))","v":""},{"$f":"IF(ISBLANK('Data Input'!A167),\"\",SUM('Data Input'!H167,'Data Input'!AA167,'Data Input'!AO167,'Data Input'!AP167))","v":""},{"$f":"IF(G162=\"\",\"\",G162/COUNTIF('Data Input'!$C$8:$BU$8,\"CS\"))","v":""},{"$f":"IF(ISBLANK('Data Input'!A167),\"\",SUM('Data Input'!P167,'Data Input'!T167,'Data Input'!AD167,'Data Input'!AX167,'Data Input'!AY167))","v":""},{"$f":"IF(I162=\"\",\"\",I162/COUNTIF('Data Input'!$C$8:$BU$8,\"SE\"))","v":""},{"$f":"IF(ISBLANK('Data Input'!A167),\"\",SUM('Data Input'!K167,'Data Input'!L167,'Data Input'!M167,'Data Input'!O167,'Data Input'!Q167,'Data Input'!U167,'Data Input'!X167,'Data Input'!Y167,'Data Input'!Z167,'Data Input'!AB167,'Data Input'!AE167,'Data Input'!AG167,'Data Input'!AL167,'Data Input'!AU167,'Data Input'!AW167))","v":""},{"$f":"IF(K162=\"\",\"\",K162/COUNTIF('Data Input'!$C$8:$BU$8,\"P\"))","v":""},{"$f":"IF(ISBLANK('Data Input'!A167),\"\",SUM('Data Input'!I167,'Data Input'!S167))","v":""},{"$f":"IF(M162=\"\",\"\",M162/COUNTIF('Data Input'!$C$8:$BU$8,\"FS\"))","v":""},{"$f":"IF(ISBLANK('Data Input'!A167),\"\",SUM('Data Input'!D167,'Data Input'!E167,'Data Input'!F167,'Data Input'!G167,'Data Input'!R167,'Data Input'!V167,'Data Input'!W167,'Data Input'!AC167,'Data Input'!AF167,'Data Input'!AH167,'Data Input'!AJ167,'Data Input'!AK167,'Data Input'!AM167,'Data Input'!AQ167,'Data Input'!AR167,'Data Input'!AZ167))","v":""},{"$f":"IF(O162=\"\",\"\",O162/COUNTIF('Data Input'!$C$8:$BU$8,\"GT\"))","v":""},{"$f":"IF(ISBLANK('Data Input'!A167),\"\",SUM('Data Input'!C167,'Data Input'!J167,'Data Input'!N167,'Data Input'!AS167,'Data Input'!AT167,'Data Input'!AV167))","v":""},{"$f":"IF(Q162=\"\",\"\",Q162/COUNTIF('Data Input'!$C$8:$BU$8,\"V\"))","v":""},{"$f":"IF(ISBLANK('Data Input'!A167),\"\",SUM('Data Input'!AI167,'Data Input'!AN167))","v":""},{"$f":"IF(S162=\"\",\"\",S162/COUNTIF('Data Input'!$C$8:$BU$8,\"F/I\"))","v":""},{"$f":"IF(ISBLANK('Data Input'!C167),\"\",SUM('Data Input'!BB167:BU167))","v":""},{"$f":"IF(U162=\"\",\"\",U162/COUNTIF('Data Input'!$C$8:$BU$8,\"Sp\"))","v":""}]
[{"$f":"IF('Data Input'!A168=0,\"\",'Data Input'!A168)","v":""},{"$f":"IF(ISBLANK('Data Input'!A168),\"\",COUNTIF('Data Input'!C168:BU168,\"\")-1)","v":""},{"$f":"IF(ISBLANK('Data Input'!A168),\"\",COUNTIF('Data Input'!C168:BU168,\"0\"))","v":""},{"$f":"IF(ISBLANK('Data Input'!A168),\"\",SUM(B163,C163))","v":""},{"$f":"IF(ISBLANK('Data Input'!A168),\"\",SUM('Data Input'!C168:BU168))","v":""},{"$f":"IF(E163=\"\",\"\",E163/(COUNTA('Data Input'!$C$8:$BU$8)-1))","v":""},{"$f":"IF(ISBLANK('Data Input'!A168),\"\",SUM('Data Input'!H168,'Data Input'!AA168,'Data Input'!AO168,'Data Input'!AP168))","v":""},{"$f":"IF(G163=\"\",\"\",G163/COUNTIF('Data Input'!$C$8:$BU$8,\"CS\"))","v":""},{"$f":"IF(ISBLANK('Data Input'!A168),\"\",SUM('Data Input'!P168,'Data Input'!T168,'Data Input'!AD168,'Data Input'!AX168,'Data Input'!AY168))","v":""},{"$f":"IF(I163=\"\",\"\",I163/COUNTIF('Data Input'!$C$8:$BU$8,\"SE\"))","v":""},{"$f":"IF(ISBLANK('Data Input'!A168),\"\",SUM('Data Input'!K168,'Data Input'!L168,'Data Input'!M168,'Data Input'!O168,'Data Input'!Q168,'Data Input'!U168,'Data Input'!X168,'Data Input'!Y168,'Data Input'!Z168,'Data Input'!AB168,'Data Input'!AE168,'Data Input'!AG168,'Data Input'!AL168,'Data Input'!AU168,'Data Input'!AW168))","v":""},{"$f":"IF(K163=\"\",\"\",K163/COUNTIF('Data Input'!$C$8:$BU$8,\"P\"))","v":""},{"$f":"IF(ISBLANK('Data Input'!A168),\"\",SUM('Data Input'!I168,'Data Input'!S168))","v":""},{"$f":"IF(M163=\"\",\"\",M163/COUNTIF('Data Input'!$C$8:$BU$8,\"FS\"))","v":""},{"$f":"IF(ISBLANK('Data Input'!A168),\"\",SUM('Data Input'!D168,'Data Input'!E168,'Data Input'!F168,'Data Input'!G168,'Data Input'!R168,'Data Input'!V168,'Data Input'!W168,'Data Input'!AC168,'Data Input'!AF168,'Data Input'!AH168,'Data Input'!AJ168,'Data Input'!AK168,'Data Input'!AM168,'Data Input'!AQ168,'Data Input'!AR168,'Data Input'!AZ168))","v":""},{"$f":"IF(O163=\"\",\"\",O163/COUNTIF('Data Input'!$C$8:$BU$8,\"GT\"))","v":""},{"$f":"IF(ISBLANK('Data Input'!A168),\"\",SUM('Data Input'!C168,'Data Input'!J168,'Data Input'!N168,'Data Input'!AS168,'Data Input'!AT168,'Data Input'!AV168))","v":""},{"$f":"IF(Q163=\"\",\"\",Q163/COUNTIF('Data Input'!$C$8:$BU$8,\"V\"))","v":""},{"$f":"IF(ISBLANK('Data Input'!A168),\"\",SUM('Data Input'!AI168,'Data Input'!AN168))","v":""},{"$f":"IF(S163=\"\",\"\",S163/COUNTIF('Data Input'!$C$8:$BU$8,\"F/I\"))","v":""},{"$f":"IF(ISBLANK('Data Input'!C168),\"\",SUM('Data Input'!BB168:BU168))","v":""},{"$f":"IF(U163=\"\",\"\",U163/COUNTIF('Data Input'!$C$8:$BU$8,\"Sp\"))","v":""}]
[{"$f":"IF('Data Input'!A169=0,\"\",'Data Input'!A169)","v":""},{"$f":"IF(ISBLANK('Data Input'!A169),\"\",COUNTIF('Data Input'!C169:BU169,\"\")-1)","v":""},{"$f":"IF(ISBLANK('Data Input'!A169),\"\",COUNTIF('Data Input'!C169:BU169,\"0\"))","v":""},{"$f":"IF(ISBLANK('Data Input'!A169),\"\",SUM(B164,C164))","v":""},{"$f":"IF(ISBLANK('Data Input'!A169),\"\",SUM('Data Input'!C169:BU169))","v":""},{"$f":"IF(E164=\"\",\"\",E164/(COUNTA('Data Input'!$C$8:$BU$8)-1))","v":""},{"$f":"IF(ISBLANK('Data Input'!A169),\"\",SUM('Data Input'!H169,'Data Input'!AA169,'Data Input'!AO169,'Data Input'!AP169))","v":""},{"$f":"IF(G164=\"\",\"\",G164/COUNTIF('Data Input'!$C$8:$BU$8,\"CS\"))","v":""},{"$f":"IF(ISBLANK('Data Input'!A169),\"\",SUM('Data Input'!P169,'Data Input'!T169,'Data Input'!AD169,'Data Input'!AX169,'Data Input'!AY169))","v":""},{"$f":"IF(I164=\"\",\"\",I164/COUNTIF('Data Input'!$C$8:$BU$8,\"SE\"))","v":""},{"$f":"IF(ISBLANK('Data Input'!A169),\"\",SUM('Data Input'!K169,'Data Input'!L169,'Data Input'!M169,'Data Input'!O169,'Data Input'!Q169,'Data Input'!U169,'Data Input'!X169,'Data Input'!Y169,'Data Input'!Z169,'Data Input'!AB169,'Data Input'!AE169,'Data Input'!AG169,'Data Input'!AL169,'Data Input'!AU169,'Data Input'!AW169))","v":""},{"$f":"IF(K164=\"\",\"\",K164/COUNTIF('Data Input'!$C$8:$BU$8,\"P\"))","v":""},{"$f":"IF(ISBLANK('Data Input'!A169),\"\",SUM('Data Input'!I169,'Data Input'!S169))","v":""},{"$f":"IF(M164=\"\",\"\",M164/COUNTIF('Data Input'!$C$8:$BU$8,\"FS\"))","v":""},{"$f":"IF(ISBLANK('Data Input'!A169),\"\",SUM('Data Input'!D169,'Data Input'!E169,'Data Input'!F169,'Data Input'!G169,'Data Input'!R169,'Data Input'!V169,'Data Input'!W169,'Data Input'!AC169,'Data Input'!AF169,'Data Input'!AH169,'Data Input'!AJ169,'Data Input'!AK169,'Data Input'!AM169,'Data Input'!AQ169,'Data Input'!AR169,'Data Input'!AZ169))","v":""},{"$f":"IF(O164=\"\",\"\",O164/COUNTIF('Data Input'!$C$8:$BU$8,\"GT\"))","v":""},{"$f":"IF(ISBLANK('Data Input'!A169),\"\",SUM('Data Input'!C169,'Data Input'!J169,'Data Input'!N169,'Data Input'!AS169,'Data Input'!AT169,'Data Input'!AV169))","v":""},{"$f":"IF(Q164=\"\",\"\",Q164/COUNTIF('Data Input'!$C$8:$BU$8,\"V\"))","v":""},{"$f":"IF(ISBLANK('Data Input'!A169),\"\",SUM('Data Input'!AI169,'Data Input'!AN169))","v":""},{"$f":"IF(S164=\"\",\"\",S164/COUNTIF('Data Input'!$C$8:$BU$8,\"F/I\"))","v":""},{"$f":"IF(ISBLANK('Data Input'!C169),\"\",SUM('Data Input'!BB169:BU169))","v":""},{"$f":"IF(U164=\"\",\"\",U164/COUNTIF('Data Input'!$C$8:$BU$8,\"Sp\"))","v":""}]
[{"$f":"IF('Data Input'!A170=0,\"\",'Data Input'!A170)","v":""},{"$f":"IF(ISBLANK('Data Input'!A170),\"\",COUNTIF('Data Input'!C170:BU170,\"\")-1)","v":""},{"$f":"IF(ISBLANK('Data Input'!A170),\"\",COUNTIF('Data Input'!C170:BU170,\"0\"))","v":""},{"$f":"IF(ISBLANK('Data Input'!A170),\"\",SUM(B165,C165))","v":""},{"$f":"IF(ISBLANK('Data Input'!A170),\"\",SUM('Data Input'!C170:BU170))","v":""},{"$f":"IF(E165=\"\",\"\",E165/(COUNTA('Data Input'!$C$8:$BU$8)-1))","v":""},{"$f":"IF(ISBLANK('Data Input'!A170),\"\",SUM('Data Input'!H170,'Data Input'!AA170,'Data Input'!AO170,'Data Input'!AP170))","v":""},{"$f":"IF(G165=\"\",\"\",G165/COUNTIF('Data Input'!$C$8:$BU$8,\"CS\"))","v":""},{"$f":"IF(ISBLANK('Data Input'!A170),\"\",SUM('Data Input'!P170,'Data Input'!T170,'Data Input'!AD170,'Data Input'!AX170,'Data Input'!AY170))","v":""},{"$f":"IF(I165=\"\",\"\",I165/COUNTIF('Data Input'!$C$8:$BU$8,\"SE\"))","v":""},{"$f":"IF(ISBLANK('Data Input'!A170),\"\",SUM('Data Input'!K170,'Data Input'!L170,'Data Input'!M170,'Data Input'!O170,'Data Input'!Q170,'Data Input'!U170,'Data Input'!X170,'Data Input'!Y170,'Data Input'!Z170,'Data Input'!AB170,'Data Input'!AE170,'Data Input'!AG170,'Data Input'!AL170,'Data Input'!AU170,'Data Input'!AW170))","v":""},{"$f":"IF(K165=\"\",\"\",K165/COUNTIF('Data Input'!$C$8:$BU$8,\"P\"))","v":""},{"$f":"IF(ISBLANK('Data Input'!A170),\"\",SUM('Data Input'!I170,'Data Input'!S170))","v":""},{"$f":"IF(M165=\"\",\"\",M165/COUNTIF('Data Input'!$C$8:$BU$8,\"FS\"))","v":""},{"$f":"IF(ISBLANK('Data Input'!A170),\"\",SUM('Data Input'!D170,'Data Input'!E170,'Data Input'!F170,'Data Input'!G170,'Data Input'!R170,'Data Input'!V170,'Data Input'!W170,'Data Input'!AC170,'Data Input'!AF170,'Data Input'!AH170,'Data Input'!AJ170,'Data Input'!AK170,'Data Input'!AM170,'Data Input'!AQ170,'Data Input'!AR170,'Data Input'!AZ170))","v":""},{"$f":"IF(O165=\"\",\"\",O165/COUNTIF('Data Input'!$C$8:$BU$8,\"GT\"))","v":""},{"$f":"IF(ISBLANK('Data Input'!A170),\"\",SUM('Data Input'!C170,'Data Input'!J170,'Data Input'!N170,'Data Input'!AS170,'Data Input'!AT170,'Data Input'!AV170))","v":""},{"$f":"IF(Q165=\"\",\"\",Q165/COUNTIF('Data Input'!$C$8:$BU$8,\"V\"))","v":""},{"$f":"IF(ISBLANK('Data Input'!A170),\"\",SUM('Data Input'!AI170,'Data Input'!AN170))","v":""},{"$f":"IF(S165=\"\",\"\",S165/COUNTIF('Data Input'!$C$8:$BU$8,\"F/I\"))","v":""},{"$f":"IF(ISBLANK('Data Input'!C170),\"\",SUM('Data Input'!BB170:BU170))","v":""},{"$f":"IF(U165=\"\",\"\",U165/COUNTIF('Data Input'!$C$8:$BU$8,\"Sp\"))","v":""}]
[{"$f":"IF('Data Input'!A171=0,\"\",'Data Input'!A171)","v":""},{"$f":"IF(ISBLANK('Data Input'!A171),\"\",COUNTIF('Data Input'!C171:BU171,\"\")-1)","v":""},{"$f":"IF(ISBLANK('Data Input'!A171),\"\",COUNTIF('Data Input'!C171:BU171,\"0\"))","v":""},{"$f":"IF(ISBLANK('Data Input'!A171),\"\",SUM(B166,C166))","v":""},{"$f":"IF(ISBLANK('Data Input'!A171),\"\",SUM('Data Input'!C171:BU171))","v":""},{"$f":"IF(E166=\"\",\"\",E166/(COUNTA('Data Input'!$C$8:$BU$8)-1))","v":""},{"$f":"IF(ISBLANK('Data Input'!A171),\"\",SUM('Data Input'!H171,'Data Input'!AA171,'Data Input'!AO171,'Data Input'!AP171))","v":""},{"$f":"IF(G166=\"\",\"\",G166/COUNTIF('Data Input'!$C$8:$BU$8,\"CS\"))","v":""},{"$f":"IF(ISBLANK('Data Input'!A171),\"\",SUM('Data Input'!P171,'Data Input'!T171,'Data Input'!AD171,'Data Input'!AX171,'Data Input'!AY171))","v":""},{"$f":"IF(I166=\"\",\"\",I166/COUNTIF('Data Input'!$C$8:$BU$8,\"SE\"))","v":""},{"$f":"IF(ISBLANK('Data Input'!A171),\"\",SUM('Data Input'!K171,'Data Input'!L171,'Data Input'!M171,'Data Input'!O171,'Data Input'!Q171,'Data Input'!U171,'Data Input'!X171,'Data Input'!Y171,'Data Input'!Z171,'Data Input'!AB171,'Data Input'!AE171,'Data Input'!AG171,'Data Input'!AL171,'Data Input'!AU171,'Data Input'!AW171))","v":""},{"$f":"IF(K166=\"\",\"\",K166/COUNTIF('Data Input'!$C$8:$BU$8,\"P\"))","v":""},{"$f":"IF(ISBLANK('Data Input'!A171),\"\",SUM('Data Input'!I171,'Data Input'!S171))","v":""},{"$f":"IF(M166=\"\",\"\",M166/COUNTIF('Data Input'!$C$8:$BU$8,\"FS\"))","v":""},{"$f":"IF(ISBLANK('Data Input'!A171),\"\",SUM('Data Input'!D171,'Data Input'!E171,'Data Input'!F171,'Data Input'!G171,'Data Input'!R171,'Data Input'!V171,'Data Input'!W171,'Data Input'!AC171,'Data Input'!AF171,'Data Input'!AH171,'Data Input'!AJ171,'Data Input'!AK171,'Data Input'!AM171,'Data Input'!AQ171,'Data Input'!AR171,'Data Input'!AZ171))","v":""},{"$f":"IF(O166=\"\",\"\",O166/COUNTIF('Data Input'!$C$8:$BU$8,\"GT\"))","v":""},{"$f":"IF(ISBLANK('Data Input'!A171),\"\",SUM('Data Input'!C171,'Data Input'!J171,'Data Input'!N171,'Data Input'!AS171,'Data Input'!AT171,'Data Input'!AV171))","v":""},{"$f":"IF(Q166=\"\",\"\",Q166/COUNTIF('Data Input'!$C$8:$BU$8,\"V\"))","v":""},{"$f":"IF(ISBLANK('Data Input'!A171),\"\",SUM('Data Input'!AI171,'Data Input'!AN171))","v":""},{"$f":"IF(S166=\"\",\"\",S166/COUNTIF('Data Input'!$C$8:$BU$8,\"F/I\"))","v":""},{"$f":"IF(ISBLANK('Data Input'!C171),\"\",SUM('Data Input'!BB171:BU171))","v":""},{"$f":"IF(U166=\"\",\"\",U166/COUNTIF('Data Input'!$C$8:$BU$8,\"Sp\"))","v":""}]
[{"$f":"IF('Data Input'!A172=0,\"\",'Data Input'!A172)","v":""},{"$f":"IF(ISBLANK('Data Input'!A172),\"\",COUNTIF('Data Input'!C172:BU172,\"\")-1)","v":""},{"$f":"IF(ISBLANK('Data Input'!A172),\"\",COUNTIF('Data Input'!C172:BU172,\"0\"))","v":""},{"$f":"IF(ISBLANK('Data Input'!A172),\"\",SUM(B167,C167))","v":""},{"$f":"IF(ISBLANK('Data Input'!A172),\"\",SUM('Data Input'!C172:BU172))","v":""},{"$f":"IF(E167=\"\",\"\",E167/(COUNTA('Data Input'!$C$8:$BU$8)-1))","v":""},{"$f":"IF(ISBLANK('Data Input'!A172),\"\",SUM('Data Input'!H172,'Data Input'!AA172,'Data Input'!AO172,'Data Input'!AP172))","v":""},{"$f":"IF(G167=\"\",\"\",G167/COUNTIF('Data Input'!$C$8:$BU$8,\"CS\"))","v":""},{"$f":"IF(ISBLANK('Data Input'!A172),\"\",SUM('Data Input'!P172,'Data Input'!T172,'Data Input'!AD172,'Data Input'!AX172,'Data Input'!AY172))","v":""},{"$f":"IF(I167=\"\",\"\",I167/COUNTIF('Data Input'!$C$8:$BU$8,\"SE\"))","v":""},{"$f":"IF(ISBLANK('Data Input'!A172),\"\",SUM('Data Input'!K172,'Data Input'!L172,'Data Input'!M172,'Data Input'!O172,'Data Input'!Q172,'Data Input'!U172,'Data Input'!X172,'Data Input'!Y172,'Data Input'!Z172,'Data Input'!AB172,'Data Input'!AE172,'Data Input'!AG172,'Data Input'!AL172,'Data Input'!AU172,'Data Input'!AW172))","v":""},{"$f":"IF(K167=\"\",\"\",K167/COUNTIF('Data Input'!$C$8:$BU$8,\"P\"))","v":""},{"$f":"IF(ISBLANK('Data Input'!A172),\"\",SUM('Data Input'!I172,'Data Input'!S172))","v":""},{"$f":"IF(M167=\"\",\"\",M167/COUNTIF('Data Input'!$C$8:$BU$8,\"FS\"))","v":""},{"$f":"IF(ISBLANK('Data Input'!A172),\"\",SUM('Data Input'!D172,'Data Input'!E172,'Data Input'!F172,'Data Input'!G172,'Data Input'!R172,'Data Input'!V172,'Data Input'!W172,'Data Input'!AC172,'Data Input'!AF172,'Data Input'!AH172,'Data Input'!AJ172,'Data Input'!AK172,'Data Input'!AM172,'Data Input'!AQ172,'Data Input'!AR172,'Data Input'!AZ172))","v":""},{"$f":"IF(O167=\"\",\"\",O167/COUNTIF('Data Input'!$C$8:$BU$8,\"GT\"))","v":""},{"$f":"IF(ISBLANK('Data Input'!A172),\"\",SUM('Data Input'!C172,'Data Input'!J172,'Data Input'!N172,'Data Input'!AS172,'Data Input'!AT172,'Data Input'!AV172))","v":""},{"$f":"IF(Q167=\"\",\"\",Q167/COUNTIF('Data Input'!$C$8:$BU$8,\"V\"))","v":""},{"$f":"IF(ISBLANK('Data Input'!A172),\"\",SUM('Data Input'!AI172,'Data Input'!AN172))","v":""},{"$f":"IF(S167=\"\",\"\",S167/COUNTIF('Data Input'!$C$8:$BU$8,\"F/I\"))","v":""},{"$f":"IF(ISBLANK('Data Input'!C172),\"\",SUM('Data Input'!BB172:BU172))","v":""},{"$f":"IF(U167=\"\",\"\",U167/COUNTIF('Data Input'!$C$8:$BU$8,\"Sp\"))","v":""}]
[{"$f":"IF('Data Input'!A173=0,\"\",'Data Input'!A173)","v":""},{"$f":"IF(ISBLANK('Data Input'!A173),\"\",COUNTIF('Data Input'!C173:BU173,\"\")-1)","v":""},{"$f":"IF(ISBLANK('Data Input'!A173),\"\",COUNTIF('Data Input'!C173:BU173,\"0\"))","v":""},{"$f":"IF(ISBLANK('Data Input'!A173),\"\",SUM(B168,C168))","v":""},{"$f":"IF(ISBLANK('Data Input'!A173),\"\",SUM('Data Input'!C173:BU173))","v":""},{"$f":"IF(E168=\"\",\"\",E168/(COUNTA('Data Input'!$C$8:$BU$8)-1))","v":""},{"$f":"IF(ISBLANK('Data Input'!A173),\"\",SUM('Data Input'!H173,'Data Input'!AA173,'Data Input'!AO173,'Data Input'!AP173))","v":""},{"$f":"IF(G168=\"\",\"\",G168/COUNTIF('Data Input'!$C$8:$BU$8,\"CS\"))","v":""},{"$f":"IF(ISBLANK('Data Input'!A173),\"\",SUM('Data Input'!P173,'Data Input'!T173,'Data Input'!AD173,'Data Input'!AX173,'Data Input'!AY173))","v":""},{"$f":"IF(I168=\"\",\"\",I168/COUNTIF('Data Input'!$C$8:$BU$8,\"SE\"))","v":""},{"$f":"IF(ISBLANK('Data Input'!A173),\"\",SUM('Data Input'!K173,'Data Input'!L173,'Data Input'!M173,'Data Input'!O173,'Data Input'!Q173,'Data Input'!U173,'Data Input'!X173,'Data Input'!Y173,'Data Input'!Z173,'Data Input'!AB173,'Data Input'!AE173,'Data Input'!AG173,'Data Input'!AL173,'Data Input'!AU173,'Data Input'!AW173))","v":""},{"$f":"IF(K168=\"\",\"\",K168/COUNTIF('Data Input'!$C$8:$BU$8,\"P\"))","v":""},{"$f":"IF(ISBLANK('Data Input'!A173),\"\",SUM('Data Input'!I173,'Data Input'!S173))","v":""},{"$f":"IF(M168=\"\",\"\",M168/COUNTIF('Data Input'!$C$8:$BU$8,\"FS\"))","v":""},{"$f":"IF(ISBLANK('Data Input'!A173),\"\",SUM('Data Input'!D173,'Data Input'!E173,'Data Input'!F173,'Data Input'!G173,'Data Input'!R173,'Data Input'!V173,'Data Input'!W173,'Data Input'!AC173,'Data Input'!AF173,'Data Input'!AH173,'Data Input'!AJ173,'Data Input'!AK173,'Data Input'!AM173,'Data Input'!AQ173,'Data Input'!AR173,'Data Input'!AZ173))","v":""},{"$f":"IF(O168=\"\",\"\",O168/COUNTIF('Data Input'!$C$8:$BU$8,\"GT\"))","v":""},{"$f":"IF(ISBLANK('Data Input'!A173),\"\",SUM('Data Input'!C173,'Data Input'!J173,'Data Input'!N173,'Data Input'!AS173,'Data Input'!AT173,'Data Input'!AV173))","v":""},{"$f":"IF(Q168=\"\",\"\",Q168/COUNTIF('Data Input'!$C$8:$BU$8,\"V\"))","v":""},{"$f":"IF(ISBLANK('Data Input'!A173),\"\",SUM('Data Input'!AI173,'Data Input'!AN173))","v":""},{"$f":"IF(S168=\"\",\"\",S168/COUNTIF('Data Input'!$C$8:$BU$8,\"F/I\"))","v":""},{"$f":"IF(ISBLANK('Data Input'!C173),\"\",SUM('Data Input'!BB173:BU173))","v":""},{"$f":"IF(U168=\"\",\"\",U168/COUNTIF('Data Input'!$C$8:$BU$8,\"Sp\"))","v":""}]
[{"$f":"IF('Data Input'!A174=0,\"\",'Data Input'!A174)","v":""},{"$f":"IF(ISBLANK('Data Input'!A174),\"\",COUNTIF('Data Input'!C174:BU174,\"\")-1)","v":""},{"$f":"IF(ISBLANK('Data Input'!A174),\"\",COUNTIF('Data Input'!C174:BU174,\"0\"))","v":""},{"$f":"IF(ISBLANK('Data Input'!A174),\"\",SUM(B169,C169))","v":""},{"$f":"IF(ISBLANK('Data Input'!A174),\"\",SUM('Data Input'!C174:BU174))","v":""},{"$f":"IF(E169=\"\",\"\",E169/(COUNTA('Data Input'!$C$8:$BU$8)-1))","v":""},{"$f":"IF(ISBLANK('Data Input'!A174),\"\",SUM('Data Input'!H174,'Data Input'!AA174,'Data Input'!AO174,'Data Input'!AP174))","v":""},{"$f":"IF(G169=\"\",\"\",G169/COUNTIF('Data Input'!$C$8:$BU$8,\"CS\"))","v":""},{"$f":"IF(ISBLANK('Data Input'!A174),\"\",SUM('Data Input'!P174,'Data Input'!T174,'Data Input'!AD174,'Data Input'!AX174,'Data Input'!AY174))","v":""},{"$f":"IF(I169=\"\",\"\",I169/COUNTIF('Data Input'!$C$8:$BU$8,\"SE\"))","v":""},{"$f":"IF(ISBLANK('Data Input'!A174),\"\",SUM('Data Input'!K174,'Data Input'!L174,'Data Input'!M174,'Data Input'!O174,'Data Input'!Q174,'Data Input'!U174,'Data Input'!X174,'Data Input'!Y174,'Data Input'!Z174,'Data Input'!AB174,'Data Input'!AE174,'Data Input'!AG174,'Data Input'!AL174,'Data Input'!AU174,'Data Input'!AW174))","v":""},{"$f":"IF(K169=\"\",\"\",K169/COUNTIF('Data Input'!$C$8:$BU$8,\"P\"))","v":""},{"$f":"IF(ISBLANK('Data Input'!A174),\"\",SUM('Data Input'!I174,'Data Input'!S174))","v":""},{"$f":"IF(M169=\"\",\"\",M169/COUNTIF('Data Input'!$C$8:$BU$8,\"FS\"))","v":""},{"$f":"IF(ISBLANK('Data Input'!A174),\"\",SUM('Data Input'!D174,'Data Input'!E174,'Data Input'!F174,'Data Input'!G174,'Data Input'!R174,'Data Input'!V174,'Data Input'!W174,'Data Input'!AC174,'Data Input'!AF174,'Data Input'!AH174,'Data Input'!AJ174,'Data Input'!AK174,'Data Input'!AM174,'Data Input'!AQ174,'Data Input'!AR174,'Data Input'!AZ174))","v":""},{"$f":"IF(O169=\"\",\"\",O169/COUNTIF('Data Input'!$C$8:$BU$8,\"GT\"))","v":""},{"$f":"IF(ISBLANK('Data Input'!A174),\"\",SUM('Data Input'!C174,'Data Input'!J174,'Data Input'!N174,'Data Input'!AS174,'Data Input'!AT174,'Data Input'!AV174))","v":""},{"$f":"IF(Q169=\"\",\"\",Q169/COUNTIF('Data Input'!$C$8:$BU$8,\"V\"))","v":""},{"$f":"IF(ISBLANK('Data Input'!A174),\"\",SUM('Data Input'!AI174,'Data Input'!AN174))","v":""},{"$f":"IF(S169=\"\",\"\",S169/COUNTIF('Data Input'!$C$8:$BU$8,\"F/I\"))","v":""},{"$f":"IF(ISBLANK('Data Input'!C174),\"\",SUM('Data Input'!BB174:BU174))","v":""},{"$f":"IF(U169=\"\",\"\",U169/COUNTIF('Data Input'!$C$8:$BU$8,\"Sp\"))","v":""}]
[{"$f":"IF('Data Input'!A175=0,\"\",'Data Input'!A175)","v":""},{"$f":"IF(ISBLANK('Data Input'!A175),\"\",COUNTIF('Data Input'!C175:BU175,\"\")-1)","v":""},{"$f":"IF(ISBLANK('Data Input'!A175),\"\",COUNTIF('Data Input'!C175:BU175,\"0\"))","v":""},{"$f":"IF(ISBLANK('Data Input'!A175),\"\",SUM(B170,C170))","v":""},{"$f":"IF(ISBLANK('Data Input'!A175),\"\",SUM('Data Input'!C175:BU175))","v":""},{"$f":"IF(E170=\"\",\"\",E170/(COUNTA('Data Input'!$C$8:$BU$8)-1))","v":""},{"$f":"IF(ISBLANK('Data Input'!A175),\"\",SUM('Data Input'!H175,'Data Input'!AA175,'Data Input'!AO175,'Data Input'!AP175))","v":""},{"$f":"IF(G170=\"\",\"\",G170/COUNTIF('Data Input'!$C$8:$BU$8,\"CS\"))","v":""},{"$f":"IF(ISBLANK('Data Input'!A175),\"\",SUM('Data Input'!P175,'Data Input'!T175,'Data Input'!AD175,'Data Input'!AX175,'Data Input'!AY175))","v":""},{"$f":"IF(I170=\"\",\"\",I170/COUNTIF('Data Input'!$C$8:$BU$8,\"SE\"))","v":""},{"$f":"IF(ISBLANK('Data Input'!A175),\"\",SUM('Data Input'!K175,'Data Input'!L175,'Data Input'!M175,'Data Input'!O175,'Data Input'!Q175,'Data Input'!U175,'Data Input'!X175,'Data Input'!Y175,'Data Input'!Z175,'Data Input'!AB175,'Data Input'!AE175,'Data Input'!AG175,'Data Input'!AL175,'Data Input'!AU175,'Data Input'!AW175))","v":""},{"$f":"IF(K170=\"\",\"\",K170/COUNTIF('Data Input'!$C$8:$BU$8,\"P\"))","v":""},{"$f":"IF(ISBLANK('Data Input'!A175),\"\",SUM('Data Input'!I175,'Data Input'!S175))","v":""},{"$f":"IF(M170=\"\",\"\",M170/COUNTIF('Data Input'!$C$8:$BU$8,\"FS\"))","v":""},{"$f":"IF(ISBLANK('Data Input'!A175),\"\",SUM('Data Input'!D175,'Data Input'!E175,'Data Input'!F175,'Data Input'!G175,'Data Input'!R175,'Data Input'!V175,'Data Input'!W175,'Data Input'!AC175,'Data Input'!AF175,'Data Input'!AH175,'Data Input'!AJ175,'Data Input'!AK175,'Data Input'!AM175,'Data Input'!AQ175,'Data Input'!AR175,'Data Input'!AZ175))","v":""},{"$f":"IF(O170=\"\",\"\",O170/COUNTIF('Data Input'!$C$8:$BU$8,\"GT\"))","v":""},{"$f":"IF(ISBLANK('Data Input'!A175),\"\",SUM('Data Input'!C175,'Data Input'!J175,'Data Input'!N175,'Data Input'!AS175,'Data Input'!AT175,'Data Input'!AV175))","v":""},{"$f":"IF(Q170=\"\",\"\",Q170/COUNTIF('Data Input'!$C$8:$BU$8,\"V\"))","v":""},{"$f":"IF(ISBLANK('Data Input'!A175),\"\",SUM('Data Input'!AI175,'Data Input'!AN175))","v":""},{"$f":"IF(S170=\"\",\"\",S170/COUNTIF('Data Input'!$C$8:$BU$8,\"F/I\"))","v":""},{"$f":"IF(ISBLANK('Data Input'!C175),\"\",SUM('Data Input'!BB175:BU175))","v":""},{"$f":"IF(U170=\"\",\"\",U170/COUNTIF('Data Input'!$C$8:$BU$8,\"Sp\"))","v":""}]
[{"$f":"IF('Data Input'!A176=0,\"\",'Data Input'!A176)","v":""},{"$f":"IF(ISBLANK('Data Input'!A176),\"\",COUNTIF('Data Input'!C176:BU176,\"\")-1)","v":""},{"$f":"IF(ISBLANK('Data Input'!A176),\"\",COUNTIF('Data Input'!C176:BU176,\"0\"))","v":""},{"$f":"IF(ISBLANK('Data Input'!A176),\"\",SUM(B171,C171))","v":""},{"$f":"IF(ISBLANK('Data Input'!A176),\"\",SUM('Data Input'!C176:BU176))","v":""},{"$f":"IF(E171=\"\",\"\",E171/(COUNTA('Data Input'!$C$8:$BU$8)-1))","v":""},{"$f":"IF(ISBLANK('Data Input'!A176),\"\",SUM('Data Input'!H176,'Data Input'!AA176,'Data Input'!AO176,'Data Input'!AP176))","v":""},{"$f":"IF(G171=\"\",\"\",G171/COUNTIF('Data Input'!$C$8:$BU$8,\"CS\"))","v":""},{"$f":"IF(ISBLANK('Data Input'!A176),\"\",SUM('Data Input'!P176,'Data Input'!T176,'Data Input'!AD176,'Data Input'!AX176,'Data Input'!AY176))","v":""},{"$f":"IF(I171=\"\",\"\",I171/COUNTIF('Data Input'!$C$8:$BU$8,\"SE\"))","v":""},{"$f":"IF(ISBLANK('Data Input'!A176),\"\",SUM('Data Input'!K176,'Data Input'!L176,'Data Input'!M176,'Data Input'!O176,'Data Input'!Q176,'Data Input'!U176,'Data Input'!X176,'Data Input'!Y176,'Data Input'!Z176,'Data Input'!AB176,'Data Input'!AE176,'Data Input'!AG176,'Data Input'!AL176,'Data Input'!AU176,'Data Input'!AW176))","v":""},{"$f":"IF(K171=\"\",\"\",K171/COUNTIF('Data Input'!$C$8:$BU$8,\"P\"))","v":""},{"$f":"IF(ISBLANK('Data Input'!A176),\"\",SUM('Data Input'!I176,'Data Input'!S176))","v":""},{"$f":"IF(M171=\"\",\"\",M171/COUNTIF('Data Input'!$C$8:$BU$8,\"FS\"))","v":""},{"$f":"IF(ISBLANK('Data Input'!A176),\"\",SUM('Data Input'!D176,'Data Input'!E176,'Data Input'!F176,'Data Input'!G176,'Data Input'!R176,'Data Input'!V176,'Data Input'!W176,'Data Input'!AC176,'Data Input'!AF176,'Data Input'!AH176,'Data Input'!AJ176,'Data Input'!AK176,'Data Input'!AM176,'Data Input'!AQ176,'Data Input'!AR176,'Data Input'!AZ176))","v":""},{"$f":"IF(O171=\"\",\"\",O171/COUNTIF('Data Input'!$C$8:$BU$8,\"GT\"))","v":""},{"$f":"IF(ISBLANK('Data Input'!A176),\"\",SUM('Data Input'!C176,'Data Input'!J176,'Data Input'!N176,'Data Input'!AS176,'Data Input'!AT176,'Data Input'!AV176))","v":""},{"$f":"IF(Q171=\"\",\"\",Q171/COUNTIF('Data Input'!$C$8:$BU$8,\"V\"))","v":""},{"$f":"IF(ISBLANK('Data Input'!A176),\"\",SUM('Data Input'!AI176,'Data Input'!AN176))","v":""},{"$f":"IF(S171=\"\",\"\",S171/COUNTIF('Data Input'!$C$8:$BU$8,\"F/I\"))","v":""},{"$f":"IF(ISBLANK('Data Input'!C176),\"\",SUM('Data Input'!BB176:BU176))","v":""},{"$f":"IF(U171=\"\",\"\",U171/COUNTIF('Data Input'!$C$8:$BU$8,\"Sp\"))","v":""}]
[{"$f":"IF('Data Input'!A177=0,\"\",'Data Input'!A177)","v":""},{"$f":"IF(ISBLANK('Data Input'!A177),\"\",COUNTIF('Data Input'!C177:BU177,\"\")-1)","v":""},{"$f":"IF(ISBLANK('Data Input'!A177),\"\",COUNTIF('Data Input'!C177:BU177,\"0\"))","v":""},{"$f":"IF(ISBLANK('Data Input'!A177),\"\",SUM(B172,C172))","v":""},{"$f":"IF(ISBLANK('Data Input'!A177),\"\",SUM('Data Input'!C177:BU177))","v":""},{"$f":"IF(E172=\"\",\"\",E172/(COUNTA('Data Input'!$C$8:$BU$8)-1))","v":""},{"$f":"IF(ISBLANK('Data Input'!A177),\"\",SUM('Data Input'!H177,'Data Input'!AA177,'Data Input'!AO177,'Data Input'!AP177))","v":""},{"$f":"IF(G172=\"\",\"\",G172/COUNTIF('Data Input'!$C$8:$BU$8,\"CS\"))","v":""},{"$f":"IF(ISBLANK('Data Input'!A177),\"\",SUM('Data Input'!P177,'Data Input'!T177,'Data Input'!AD177,'Data Input'!AX177,'Data Input'!AY177))","v":""},{"$f":"IF(I172=\"\",\"\",I172/COUNTIF('Data Input'!$C$8:$BU$8,\"SE\"))","v":""},{"$f":"IF(ISBLANK('Data Input'!A177),\"\",SUM('Data Input'!K177,'Data Input'!L177,'Data Input'!M177,'Data Input'!O177,'Data Input'!Q177,'Data Input'!U177,'Data Input'!X177,'Data Input'!Y177,'Data Input'!Z177,'Data Input'!AB177,'Data Input'!AE177,'Data Input'!AG177,'Data Input'!AL177,'Data Input'!AU177,'Data Input'!AW177))","v":""},{"$f":"IF(K172=\"\",\"\",K172/COUNTIF('Data Input'!$C$8:$BU$8,\"P\"))","v":""},{"$f":"IF(ISBLANK('Data Input'!A177),\"\",SUM('Data Input'!I177,'Data Input'!S177))","v":""},{"$f":"IF(M172=\"\",\"\",M172/COUNTIF('Data Input'!$C$8:$BU$8,\"FS\"))","v":""},{"$f":"IF(ISBLANK('Data Input'!A177),\"\",SUM('Data Input'!D177,'Data Input'!E177,'Data Input'!F177,'Data Input'!G177,'Data Input'!R177,'Data Input'!V177,'Data Input'!W177,'Data Input'!AC177,'Data Input'!AF177,'Data Input'!AH177,'Data Input'!AJ177,'Data Input'!AK177,'Data Input'!AM177,'Data Input'!AQ177,'Data Input'!AR177,'Data Input'!AZ177))","v":""},{"$f":"IF(O172=\"\",\"\",O172/COUNTIF('Data Input'!$C$8:$BU$8,\"GT\"))","v":""},{"$f":"IF(ISBLANK('Data Input'!A177),\"\",SUM('Data Input'!C177,'Data Input'!J177,'Data Input'!N177,'Data Input'!AS177,'Data Input'!AT177,'Data Input'!AV177))","v":""},{"$f":"IF(Q172=\"\",\"\",Q172/COUNTIF('Data Input'!$C$8:$BU$8,\"V\"))","v":""},{"$f":"IF(ISBLANK('Data Input'!A177),\"\",SUM('Data Input'!AI177,'Data Input'!AN177))","v":""},{"$f":"IF(S172=\"\",\"\",S172/COUNTIF('Data Input'!$C$8:$BU$8,\"F/I\"))","v":""},{"$f":"IF(ISBLANK('Data Input'!C177),\"\",SUM('Data Input'!BB177:BU177))","v":""},{"$f":"IF(U172=\"\",\"\",U172/COUNTIF('Data Input'!$C$8:$BU$8,\"Sp\"))","v":""}]
[{"$f":"IF('Data Input'!A178=0,\"\",'Data Input'!A178)","v":""},{"$f":"IF(ISBLANK('Data Input'!A178),\"\",COUNTIF('Data Input'!C178:BU178,\"\")-1)","v":""},{"$f":"IF(ISBLANK('Data Input'!A178),\"\",COUNTIF('Data Input'!C178:BU178,\"0\"))","v":""},{"$f":"IF(ISBLANK('Data Input'!A178),\"\",SUM(B173,C173))","v":""},{"$f":"IF(ISBLANK('Data Input'!A178),\"\",SUM('Data Input'!C178:BU178))","v":""},{"$f":"IF(E173=\"\",\"\",E173/(COUNTA('Data Input'!$C$8:$BU$8)-1))","v":""},{"$f":"IF(ISBLANK('Data Input'!A178),\"\",SUM('Data Input'!H178,'Data Input'!AA178,'Data Input'!AO178,'Data Input'!AP178))","v":""},{"$f":"IF(G173=\"\",\"\",G173/COUNTIF('Data Input'!$C$8:$BU$8,\"CS\"))","v":""},{"$f":"IF(ISBLANK('Data Input'!A178),\"\",SUM('Data Input'!P178,'Data Input'!T178,'Data Input'!AD178,'Data Input'!AX178,'Data Input'!AY178))","v":""},{"$f":"IF(I173=\"\",\"\",I173/COUNTIF('Data Input'!$C$8:$BU$8,\"SE\"))","v":""},{"$f":"IF(ISBLANK('Data Input'!A178),\"\",SUM('Data Input'!K178,'Data Input'!L178,'Data Input'!M178,'Data Input'!O178,'Data Input'!Q178,'Data Input'!U178,'Data Input'!X178,'Data Input'!Y178,'Data Input'!Z178,'Data Input'!AB178,'Data Input'!AE178,'Data Input'!AG178,'Data Input'!AL178,'Data Input'!AU178,'Data Input'!AW178))","v":""},{"$f":"IF(K173=\"\",\"\",K173/COUNTIF('Data Input'!$C$8:$BU$8,\"P\"))","v":""},{"$f":"IF(ISBLANK('Data Input'!A178),\"\",SUM('Data Input'!I178,'Data Input'!S178))","v":""},{"$f":"IF(M173=\"\",\"\",M173/COUNTIF('Data Input'!$C$8:$BU$8,\"FS\"))","v":""},{"$f":"IF(ISBLANK('Data Input'!A178),\"\",SUM('Data Input'!D178,'Data Input'!E178,'Data Input'!F178,'Data Input'!G178,'Data Input'!R178,'Data Input'!V178,'Data Input'!W178,'Data Input'!AC178,'Data Input'!AF178,'Data Input'!AH178,'Data Input'!AJ178,'Data Input'!AK178,'Data Input'!AM178,'Data Input'!AQ178,'Data Input'!AR178,'Data Input'!AZ178))","v":""},{"$f":"IF(O173=\"\",\"\",O173/COUNTIF('Data Input'!$C$8:$BU$8,\"GT\"))","v":""},{"$f":"IF(ISBLANK('Data Input'!A178),\"\",SUM('Data Input'!C178,'Data Input'!J178,'Data Input'!N178,'Data Input'!AS178,'Data Input'!AT178,'Data Input'!AV178))","v":""},{"$f":"IF(Q173=\"\",\"\",Q173/COUNTIF('Data Input'!$C$8:$BU$8,\"V\"))","v":""},{"$f":"IF(ISBLANK('Data Input'!A178),\"\",SUM('Data Input'!AI178,'Data Input'!AN178))","v":""},{"$f":"IF(S173=\"\",\"\",S173/COUNTIF('Data Input'!$C$8:$BU$8,\"F/I\"))","v":""},{"$f":"IF(ISBLANK('Data Input'!C178),\"\",SUM('Data Input'!BB178:BU178))","v":""},{"$f":"IF(U173=\"\",\"\",U173/COUNTIF('Data Input'!$C$8:$BU$8,\"Sp\"))","v":""}]
[{"$f":"IF('Data Input'!A179=0,\"\",'Data Input'!A179)","v":""},{"$f":"IF(ISBLANK('Data Input'!A179),\"\",COUNTIF('Data Input'!C179:BU179,\"\")-1)","v":""},{"$f":"IF(ISBLANK('Data Input'!A179),\"\",COUNTIF('Data Input'!C179:BU179,\"0\"))","v":""},{"$f":"IF(ISBLANK('Data Input'!A179),\"\",SUM(B174,C174))","v":""},{"$f":"IF(ISBLANK('Data Input'!A179),\"\",SUM('Data Input'!C179:BU179))","v":""},{"$f":"IF(E174=\"\",\"\",E174/(COUNTA('Data Input'!$C$8:$BU$8)-1))","v":""},{"$f":"IF(ISBLANK('Data Input'!A179),\"\",SUM('Data Input'!H179,'Data Input'!AA179,'Data Input'!AO179,'Data Input'!AP179))","v":""},{"$f":"IF(G174=\"\",\"\",G174/COUNTIF('Data Input'!$C$8:$BU$8,\"CS\"))","v":""},{"$f":"IF(ISBLANK('Data Input'!A179),\"\",SUM('Data Input'!P179,'Data Input'!T179,'Data Input'!AD179,'Data Input'!AX179,'Data Input'!AY179))","v":""},{"$f":"IF(I174=\"\",\"\",I174/COUNTIF('Data Input'!$C$8:$BU$8,\"SE\"))","v":""},{"$f":"IF(ISBLANK('Data Input'!A179),\"\",SUM('Data Input'!K179,'Data Input'!L179,'Data Input'!M179,'Data Input'!O179,'Data Input'!Q179,'Data Input'!U179,'Data Input'!X179,'Data Input'!Y179,'Data Input'!Z179,'Data Input'!AB179,'Data Input'!AE179,'Data Input'!AG179,'Data Input'!AL179,'Data Input'!AU179,'Data Input'!AW179))","v":""},{"$f":"IF(K174=\"\",\"\",K174/COUNTIF('Data Input'!$C$8:$BU$8,\"P\"))","v":""},{"$f":"IF(ISBLANK('Data Input'!A179),\"\",SUM('Data Input'!I179,'Data Input'!S179))","v":""},{"$f":"IF(M174=\"\",\"\",M174/COUNTIF('Data Input'!$C$8:$BU$8,\"FS\"))","v":""},{"$f":"IF(ISBLANK('Data Input'!A179),\"\",SUM('Data Input'!D179,'Data Input'!E179,'Data Input'!F179,'Data Input'!G179,'Data Input'!R179,'Data Input'!V179,'Data Input'!W179,'Data Input'!AC179,'Data Input'!AF179,'Data Input'!AH179,'Data Input'!AJ179,'Data Input'!AK179,'Data Input'!AM179,'Data Input'!AQ179,'Data Input'!AR179,'Data Input'!AZ179))","v":""},{"$f":"IF(O174=\"\",\"\",O174/COUNTIF('Data Input'!$C$8:$BU$8,\"GT\"))","v":""},{"$f":"IF(ISBLANK('Data Input'!A179),\"\",SUM('Data Input'!C179,'Data Input'!J179,'Data Input'!N179,'Data Input'!AS179,'Data Input'!AT179,'Data Input'!AV179))","v":""},{"$f":"IF(Q174=\"\",\"\",Q174/COUNTIF('Data Input'!$C$8:$BU$8,\"V\"))","v":""},{"$f":"IF(ISBLANK('Data Input'!A179),\"\",SUM('Data Input'!AI179,'Data Input'!AN179))","v":""},{"$f":"IF(S174=\"\",\"\",S174/COUNTIF('Data Input'!$C$8:$BU$8,\"F/I\"))","v":""},{"$f":"IF(ISBLANK('Data Input'!C179),\"\",SUM('Data Input'!BB179:BU179))","v":""},{"$f":"IF(U174=\"\",\"\",U174/COUNTIF('Data Input'!$C$8:$BU$8,\"Sp\"))","v":""}]
[{"$f":"IF('Data Input'!A180=0,\"\",'Data Input'!A180)","v":""},{"$f":"IF(ISBLANK('Data Input'!A180),\"\",COUNTIF('Data Input'!C180:BU180,\"\")-1)","v":""},{"$f":"IF(ISBLANK('Data Input'!A180),\"\",COUNTIF('Data Input'!C180:BU180,\"0\"))","v":""},{"$f":"IF(ISBLANK('Data Input'!A180),\"\",SUM(B175,C175))","v":""},{"$f":"IF(ISBLANK('Data Input'!A180),\"\",SUM('Data Input'!C180:BU180))","v":""},{"$f":"IF(E175=\"\",\"\",E175/(COUNTA('Data Input'!$C$8:$BU$8)-1))","v":""},{"$f":"IF(ISBLANK('Data Input'!A180),\"\",SUM('Data Input'!H180,'Data Input'!AA180,'Data Input'!AO180,'Data Input'!AP180))","v":""},{"$f":"IF(G175=\"\",\"\",G175/COUNTIF('Data Input'!$C$8:$BU$8,\"CS\"))","v":""},{"$f":"IF(ISBLANK('Data Input'!A180),\"\",SUM('Data Input'!P180,'Data Input'!T180,'Data Input'!AD180,'Data Input'!AX180,'Data Input'!AY180))","v":""},{"$f":"IF(I175=\"\",\"\",I175/COUNTIF('Data Input'!$C$8:$BU$8,\"SE\"))","v":""},{"$f":"IF(ISBLANK('Data Input'!A180),\"\",SUM('Data Input'!K180,'Data Input'!L180,'Data Input'!M180,'Data Input'!O180,'Data Input'!Q180,'Data Input'!U180,'Data Input'!X180,'Data Input'!Y180,'Data Input'!Z180,'Data Input'!AB180,'Data Input'!AE180,'Data Input'!AG180,'Data Input'!AL180,'Data Input'!AU180,'Data Input'!AW180))","v":""},{"$f":"IF(K175=\"\",\"\",K175/COUNTIF('Data Input'!$C$8:$BU$8,\"P\"))","v":""},{"$f":"IF(ISBLANK('Data Input'!A180),\"\",SUM('Data Input'!I180,'Data Input'!S180))","v":""},{"$f":"IF(M175=\"\",\"\",M175/COUNTIF('Data Input'!$C$8:$BU$8,\"FS\"))","v":""},{"$f":"IF(ISBLANK('Data Input'!A180),\"\",SUM('Data Input'!D180,'Data Input'!E180,'Data Input'!F180,'Data Input'!G180,'Data Input'!R180,'Data Input'!V180,'Data Input'!W180,'Data Input'!AC180,'Data Input'!AF180,'Data Input'!AH180,'Data Input'!AJ180,'Data Input'!AK180,'Data Input'!AM180,'Data Input'!AQ180,'Data Input'!AR180,'Data Input'!AZ180))","v":""},{"$f":"IF(O175=\"\",\"\",O175/COUNTIF('Data Input'!$C$8:$BU$8,\"GT\"))","v":""},{"$f":"IF(ISBLANK('Data Input'!A180),\"\",SUM('Data Input'!C180,'Data Input'!J180,'Data Input'!N180,'Data Input'!AS180,'Data Input'!AT180,'Data Input'!AV180))","v":""},{"$f":"IF(Q175=\"\",\"\",Q175/COUNTIF('Data Input'!$C$8:$BU$8,\"V\"))","v":""},{"$f":"IF(ISBLANK('Data Input'!A180),\"\",SUM('Data Input'!AI180,'Data Input'!AN180))","v":""},{"$f":"IF(S175=\"\",\"\",S175/COUNTIF('Data Input'!$C$8:$BU$8,\"F/I\"))","v":""},{"$f":"IF(ISBLANK('Data Input'!C180),\"\",SUM('Data Input'!BB180:BU180))","v":""},{"$f":"IF(U175=\"\",\"\",U175/COUNTIF('Data Input'!$C$8:$BU$8,\"Sp\"))","v":""}]
[{"$f":"IF('Data Input'!A181=0,\"\",'Data Input'!A181)","v":""},{"$f":"IF(ISBLANK('Data Input'!A181),\"\",COUNTIF('Data Input'!C181:BU181,\"\")-1)","v":""},{"$f":"IF(ISBLANK('Data Input'!A181),\"\",COUNTIF('Data Input'!C181:BU181,\"0\"))","v":""},{"$f":"IF(ISBLANK('Data Input'!A181),\"\",SUM(B176,C176))","v":""},{"$f":"IF(ISBLANK('Data Input'!A181),\"\",SUM('Data Input'!C181:BU181))","v":""},{"$f":"IF(E176=\"\",\"\",E176/(COUNTA('Data Input'!$C$8:$BU$8)-1))","v":""},{"$f":"IF(ISBLANK('Data Input'!A181),\"\",SUM('Data Input'!H181,'Data Input'!AA181,'Data Input'!AO181,'Data Input'!AP181))","v":""},{"$f":"IF(G176=\"\",\"\",G176/COUNTIF('Data Input'!$C$8:$BU$8,\"CS\"))","v":""},{"$f":"IF(ISBLANK('Data Input'!A181),\"\",SUM('Data Input'!P181,'Data Input'!T181,'Data Input'!AD181,'Data Input'!AX181,'Data Input'!AY181))","v":""},{"$f":"IF(I176=\"\",\"\",I176/COUNTIF('Data Input'!$C$8:$BU$8,\"SE\"))","v":""},{"$f":"IF(ISBLANK('Data Input'!A181),\"\",SUM('Data Input'!K181,'Data Input'!L181,'Data Input'!M181,'Data Input'!O181,'Data Input'!Q181,'Data Input'!U181,'Data Input'!X181,'Data Input'!Y181,'Data Input'!Z181,'Data Input'!AB181,'Data Input'!AE181,'Data Input'!AG181,'Data Input'!AL181,'Data Input'!AU181,'Data Input'!AW181))","v":""},{"$f":"IF(K176=\"\",\"\",K176/COUNTIF('Data Input'!$C$8:$BU$8,\"P\"))","v":""},{"$f":"IF(ISBLANK('Data Input'!A181),\"\",SUM('Data Input'!I181,'Data Input'!S181))","v":""},{"$f":"IF(M176=\"\",\"\",M176/COUNTIF('Data Input'!$C$8:$BU$8,\"FS\"))","v":""},{"$f":"IF(ISBLANK('Data Input'!A181),\"\",SUM('Data Input'!D181,'Data Input'!E181,'Data Input'!F181,'Data Input'!G181,'Data Input'!R181,'Data Input'!V181,'Data Input'!W181,'Data Input'!AC181,'Data Input'!AF181,'Data Input'!AH181,'Data Input'!AJ181,'Data Input'!AK181,'Data Input'!AM181,'Data Input'!AQ181,'Data Input'!AR181,'Data Input'!AZ181))","v":""},{"$f":"IF(O176=\"\",\"\",O176/COUNTIF('Data Input'!$C$8:$BU$8,\"GT\"))","v":""},{"$f":"IF(ISBLANK('Data Input'!A181),\"\",SUM('Data Input'!C181,'Data Input'!J181,'Data Input'!N181,'Data Input'!AS181,'Data Input'!AT181,'Data Input'!AV181))","v":""},{"$f":"IF(Q176=\"\",\"\",Q176/COUNTIF('Data Input'!$C$8:$BU$8,\"V\"))","v":""},{"$f":"IF(ISBLANK('Data Input'!A181),\"\",SUM('Data Input'!AI181,'Data Input'!AN181))","v":""},{"$f":"IF(S176=\"\",\"\",S176/COUNTIF('Data Input'!$C$8:$BU$8,\"F/I\"))","v":""},{"$f":"IF(ISBLANK('Data Input'!C181),\"\",SUM('Data Input'!BB181:BU181))","v":""},{"$f":"IF(U176=\"\",\"\",U176/COUNTIF('Data Input'!$C$8:$BU$8,\"Sp\"))","v":""}]
[{"$f":"IF('Data Input'!A182=0,\"\",'Data Input'!A182)","v":""},{"$f":"IF(ISBLANK('Data Input'!A182),\"\",COUNTIF('Data Input'!C182:BU182,\"\")-1)","v":""},{"$f":"IF(ISBLANK('Data Input'!A182),\"\",COUNTIF('Data Input'!C182:BU182,\"0\"))","v":""},{"$f":"IF(ISBLANK('Data Input'!A182),\"\",SUM(B177,C177))","v":""},{"$f":"IF(ISBLANK('Data Input'!A182),\"\",SUM('Data Input'!C182:BU182))","v":""},{"$f":"IF(E177=\"\",\"\",E177/(COUNTA('Data Input'!$C$8:$BU$8)-1))","v":""},{"$f":"IF(ISBLANK('Data Input'!A182),\"\",SUM('Data Input'!H182,'Data Input'!AA182,'Data Input'!AO182,'Data Input'!AP182))","v":""},{"$f":"IF(G177=\"\",\"\",G177/COUNTIF('Data Input'!$C$8:$BU$8,\"CS\"))","v":""},{"$f":"IF(ISBLANK('Data Input'!A182),\"\",SUM('Data Input'!P182,'Data Input'!T182,'Data Input'!AD182,'Data Input'!AX182,'Data Input'!AY182))","v":""},{"$f":"IF(I177=\"\",\"\",I177/COUNTIF('Data Input'!$C$8:$BU$8,\"SE\"))","v":""},{"$f":"IF(ISBLANK('Data Input'!A182),\"\",SUM('Data Input'!K182,'Data Input'!L182,'Data Input'!M182,'Data Input'!O182,'Data Input'!Q182,'Data Input'!U182,'Data Input'!X182,'Data Input'!Y182,'Data Input'!Z182,'Data Input'!AB182,'Data Input'!AE182,'Data Input'!AG182,'Data Input'!AL182,'Data Input'!AU182,'Data Input'!AW182))","v":""},{"$f":"IF(K177=\"\",\"\",K177/COUNTIF('Data Input'!$C$8:$BU$8,\"P\"))","v":""},{"$f":"IF(ISBLANK('Data Input'!A182),\"\",SUM('Data Input'!I182,'Data Input'!S182))","v":""},{"$f":"IF(M177=\"\",\"\",M177/COUNTIF('Data Input'!$C$8:$BU$8,\"FS\"))","v":""},{"$f":"IF(ISBLANK('Data Input'!A182),\"\",SUM('Data Input'!D182,'Data Input'!E182,'Data Input'!F182,'Data Input'!G182,'Data Input'!R182,'Data Input'!V182,'Data Input'!W182,'Data Input'!AC182,'Data Input'!AF182,'Data Input'!AH182,'Data Input'!AJ182,'Data Input'!AK182,'Data Input'!AM182,'Data Input'!AQ182,'Data Input'!AR182,'Data Input'!AZ182))","v":""},{"$f":"IF(O177=\"\",\"\",O177/COUNTIF('Data Input'!$C$8:$BU$8,\"GT\"))","v":""},{"$f":"IF(ISBLANK('Data Input'!A182),\"\",SUM('Data Input'!C182,'Data Input'!J182,'Data Input'!N182,'Data Input'!AS182,'Data Input'!AT182,'Data Input'!AV182))","v":""},{"$f":"IF(Q177=\"\",\"\",Q177/COUNTIF('Data Input'!$C$8:$BU$8,\"V\"))","v":""},{"$f":"IF(ISBLANK('Data Input'!A182),\"\",SUM('Data Input'!AI182,'Data Input'!AN182))","v":""},{"$f":"IF(S177=\"\",\"\",S177/COUNTIF('Data Input'!$C$8:$BU$8,\"F/I\"))","v":""},{"$f":"IF(ISBLANK('Data Input'!C182),\"\",SUM('Data Input'!BB182:BU182))","v":""},{"$f":"IF(U177=\"\",\"\",U177/COUNTIF('Data Input'!$C$8:$BU$8,\"Sp\"))","v":""}]
[{"$f":"IF('Data Input'!A183=0,\"\",'Data Input'!A183)","v":""},{"$f":"IF(ISBLANK('Data Input'!A183),\"\",COUNTIF('Data Input'!C183:BU183,\"\")-1)","v":""},{"$f":"IF(ISBLANK('Data Input'!A183),\"\",COUNTIF('Data Input'!C183:BU183,\"0\"))","v":""},{"$f":"IF(ISBLANK('Data Input'!A183),\"\",SUM(B178,C178))","v":""},{"$f":"IF(ISBLANK('Data Input'!A183),\"\",SUM('Data Input'!C183:BU183))","v":""},{"$f":"IF(E178=\"\",\"\",E178/(COUNTA('Data Input'!$C$8:$BU$8)-1))","v":""},{"$f":"IF(ISBLANK('Data Input'!A183),\"\",SUM('Data Input'!H183,'Data Input'!AA183,'Data Input'!AO183,'Data Input'!AP183))","v":""},{"$f":"IF(G178=\"\",\"\",G178/COUNTIF('Data Input'!$C$8:$BU$8,\"CS\"))","v":""},{"$f":"IF(ISBLANK('Data Input'!A183),\"\",SUM('Data Input'!P183,'Data Input'!T183,'Data Input'!AD183,'Data Input'!AX183,'Data Input'!AY183))","v":""},{"$f":"IF(I178=\"\",\"\",I178/COUNTIF('Data Input'!$C$8:$BU$8,\"SE\"))","v":""},{"$f":"IF(ISBLANK('Data Input'!A183),\"\",SUM('Data Input'!K183,'Data Input'!L183,'Data Input'!M183,'Data Input'!O183,'Data Input'!Q183,'Data Input'!U183,'Data Input'!X183,'Data Input'!Y183,'Data Input'!Z183,'Data Input'!AB183,'Data Input'!AE183,'Data Input'!AG183,'Data Input'!AL183,'Data Input'!AU183,'Data Input'!AW183))","v":""},{"$f":"IF(K178=\"\",\"\",K178/COUNTIF('Data Input'!$C$8:$BU$8,\"P\"))","v":""},{"$f":"IF(ISBLANK('Data Input'!A183),\"\",SUM('Data Input'!I183,'Data Input'!S183))","v":""},{"$f":"IF(M178=\"\",\"\",M178/COUNTIF('Data Input'!$C$8:$BU$8,\"FS\"))","v":""},{"$f":"IF(ISBLANK('Data Input'!A183),\"\",SUM('Data Input'!D183,'Data Input'!E183,'Data Input'!F183,'Data Input'!G183,'Data Input'!R183,'Data Input'!V183,'Data Input'!W183,'Data Input'!AC183,'Data Input'!AF183,'Data Input'!AH183,'Data Input'!AJ183,'Data Input'!AK183,'Data Input'!AM183,'Data Input'!AQ183,'Data Input'!AR183,'Data Input'!AZ183))","v":""},{"$f":"IF(O178=\"\",\"\",O178/COUNTIF('Data Input'!$C$8:$BU$8,\"GT\"))","v":""},{"$f":"IF(ISBLANK('Data Input'!A183),\"\",SUM('Data Input'!C183,'Data Input'!J183,'Data Input'!N183,'Data Input'!AS183,'Data Input'!AT183,'Data Input'!AV183))","v":""},{"$f":"IF(Q178=\"\",\"\",Q178/COUNTIF('Data Input'!$C$8:$BU$8,\"V\"))","v":""},{"$f":"IF(ISBLANK('Data Input'!A183),\"\",SUM('Data Input'!AI183,'Data Input'!AN183))","v":""},{"$f":"IF(S178=\"\",\"\",S178/COUNTIF('Data Input'!$C$8:$BU$8,\"F/I\"))","v":""},{"$f":"IF(ISBLANK('Data Input'!C183),\"\",SUM('Data Input'!BB183:BU183))","v":""},{"$f":"IF(U178=\"\",\"\",U178/COUNTIF('Data Input'!$C$8:$BU$8,\"Sp\"))","v":""}]
[{"$f":"IF('Data Input'!A184=0,\"\",'Data Input'!A184)","v":""},{"$f":"IF(ISBLANK('Data Input'!A184),\"\",COUNTIF('Data Input'!C184:BU184,\"\")-1)","v":""},{"$f":"IF(ISBLANK('Data Input'!A184),\"\",COUNTIF('Data Input'!C184:BU184,\"0\"))","v":""},{"$f":"IF(ISBLANK('Data Input'!A184),\"\",SUM(B179,C179))","v":""},{"$f":"IF(ISBLANK('Data Input'!A184),\"\",SUM('Data Input'!C184:BU184))","v":""},{"$f":"IF(E179=\"\",\"\",E179/(COUNTA('Data Input'!$C$8:$BU$8)-1))","v":""},{"$f":"IF(ISBLANK('Data Input'!A184),\"\",SUM('Data Input'!H184,'Data Input'!AA184,'Data Input'!AO184,'Data Input'!AP184))","v":""},{"$f":"IF(G179=\"\",\"\",G179/COUNTIF('Data Input'!$C$8:$BU$8,\"CS\"))","v":""},{"$f":"IF(ISBLANK('Data Input'!A184),\"\",SUM('Data Input'!P184,'Data Input'!T184,'Data Input'!AD184,'Data Input'!AX184,'Data Input'!AY184))","v":""},{"$f":"IF(I179=\"\",\"\",I179/COUNTIF('Data Input'!$C$8:$BU$8,\"SE\"))","v":""},{"$f":"IF(ISBLANK('Data Input'!A184),\"\",SUM('Data Input'!K184,'Data Input'!L184,'Data Input'!M184,'Data Input'!O184,'Data Input'!Q184,'Data Input'!U184,'Data Input'!X184,'Data Input'!Y184,'Data Input'!Z184,'Data Input'!AB184,'Data Input'!AE184,'Data Input'!AG184,'Data Input'!AL184,'Data Input'!AU184,'Data Input'!AW184))","v":""},{"$f":"IF(K179=\"\",\"\",K179/COUNTIF('Data Input'!$C$8:$BU$8,\"P\"))","v":""},{"$f":"IF(ISBLANK('Data Input'!A184),\"\",SUM('Data Input'!I184,'Data Input'!S184))","v":""},{"$f":"IF(M179=\"\",\"\",M179/COUNTIF('Data Input'!$C$8:$BU$8,\"FS\"))","v":""},{"$f":"IF(ISBLANK('Data Input'!A184),\"\",SUM('Data Input'!D184,'Data Input'!E184,'Data Input'!F184,'Data Input'!G184,'Data Input'!R184,'Data Input'!V184,'Data Input'!W184,'Data Input'!AC184,'Data Input'!AF184,'Data Input'!AH184,'Data Input'!AJ184,'Data Input'!AK184,'Data Input'!AM184,'Data Input'!AQ184,'Data Input'!AR184,'Data Input'!AZ184))","v":""},{"$f":"IF(O179=\"\",\"\",O179/COUNTIF('Data Input'!$C$8:$BU$8,\"GT\"))","v":""},{"$f":"IF(ISBLANK('Data Input'!A184),\"\",SUM('Data Input'!C184,'Data Input'!J184,'Data Input'!N184,'Data Input'!AS184,'Data Input'!AT184,'Data Input'!AV184))","v":""},{"$f":"IF(Q179=\"\",\"\",Q179/COUNTIF('Data Input'!$C$8:$BU$8,\"V\"))","v":""},{"$f":"IF(ISBLANK('Data Input'!A184),\"\",SUM('Data Input'!AI184,'Data Input'!AN184))","v":""},{"$f":"IF(S179=\"\",\"\",S179/COUNTIF('Data Input'!$C$8:$BU$8,\"F/I\"))","v":""},{"$f":"IF(ISBLANK('Data Input'!C184),\"\",SUM('Data Input'!BB184:BU184))","v":""},{"$f":"IF(U179=\"\",\"\",U179/COUNTIF('Data Input'!$C$8:$BU$8,\"Sp\"))","v":""}]
[{"$f":"IF('Data Input'!A185=0,\"\",'Data Input'!A185)","v":""},{"$f":"IF(ISBLANK('Data Input'!A185),\"\",COUNTIF('Data Input'!C185:BU185,\"\")-1)","v":""},{"$f":"IF(ISBLANK('Data Input'!A185),\"\",COUNTIF('Data Input'!C185:BU185,\"0\"))","v":""},{"$f":"IF(ISBLANK('Data Input'!A185),\"\",SUM(B180,C180))","v":""},{"$f":"IF(ISBLANK('Data Input'!A185),\"\",SUM('Data Input'!C185:BU185))","v":""},{"$f":"IF(E180=\"\",\"\",E180/(COUNTA('Data Input'!$C$8:$BU$8)-1))","v":""},{"$f":"IF(ISBLANK('Data Input'!A185),\"\",SUM('Data Input'!H185,'Data Input'!AA185,'Data Input'!AO185,'Data Input'!AP185))","v":""},{"$f":"IF(G180=\"\",\"\",G180/COUNTIF('Data Input'!$C$8:$BU$8,\"CS\"))","v":""},{"$f":"IF(ISBLANK('Data Input'!A185),\"\",SUM('Data Input'!P185,'Data Input'!T185,'Data Input'!AD185,'Data Input'!AX185,'Data Input'!AY185))","v":""},{"$f":"IF(I180=\"\",\"\",I180/COUNTIF('Data Input'!$C$8:$BU$8,\"SE\"))","v":""},{"$f":"IF(ISBLANK('Data Input'!A185),\"\",SUM('Data Input'!K185,'Data Input'!L185,'Data Input'!M185,'Data Input'!O185,'Data Input'!Q185,'Data Input'!U185,'Data Input'!X185,'Data Input'!Y185,'Data Input'!Z185,'Data Input'!AB185,'Data Input'!AE185,'Data Input'!AG185,'Data Input'!AL185,'Data Input'!AU185,'Data Input'!AW185))","v":""},{"$f":"IF(K180=\"\",\"\",K180/COUNTIF('Data Input'!$C$8:$BU$8,\"P\"))","v":""},{"$f":"IF(ISBLANK('Data Input'!A185),\"\",SUM('Data Input'!I185,'Data Input'!S185))","v":""},{"$f":"IF(M180=\"\",\"\",M180/COUNTIF('Data Input'!$C$8:$BU$8,\"FS\"))","v":""},{"$f":"IF(ISBLANK('Data Input'!A185),\"\",SUM('Data Input'!D185,'Data Input'!E185,'Data Input'!F185,'Data Input'!G185,'Data Input'!R185,'Data Input'!V185,'Data Input'!W185,'Data Input'!AC185,'Data Input'!AF185,'Data Input'!AH185,'Data Input'!AJ185,'Data Input'!AK185,'Data Input'!AM185,'Data Input'!AQ185,'Data Input'!AR185,'Data Input'!AZ185))","v":""},{"$f":"IF(O180=\"\",\"\",O180/COUNTIF('Data Input'!$C$8:$BU$8,\"GT\"))","v":""},{"$f":"IF(ISBLANK('Data Input'!A185),\"\",SUM('Data Input'!C185,'Data Input'!J185,'Data Input'!N185,'Data Input'!AS185,'Data Input'!AT185,'Data Input'!AV185))","v":""},{"$f":"IF(Q180=\"\",\"\",Q180/COUNTIF('Data Input'!$C$8:$BU$8,\"V\"))","v":""},{"$f":"IF(ISBLANK('Data Input'!A185),\"\",SUM('Data Input'!AI185,'Data Input'!AN185))","v":""},{"$f":"IF(S180=\"\",\"\",S180/COUNTIF('Data Input'!$C$8:$BU$8,\"F/I\"))","v":""},{"$f":"IF(ISBLANK('Data Input'!C185),\"\",SUM('Data Input'!BB185:BU185))","v":""},{"$f":"IF(U180=\"\",\"\",U180/COUNTIF('Data Input'!$C$8:$BU$8,\"Sp\"))","v":""}]
[{"$f":"IF('Data Input'!A186=0,\"\",'Data Input'!A186)","v":""},{"$f":"IF(ISBLANK('Data Input'!A186),\"\",COUNTIF('Data Input'!C186:BU186,\"\")-1)","v":""},{"$f":"IF(ISBLANK('Data Input'!A186),\"\",COUNTIF('Data Input'!C186:BU186,\"0\"))","v":""},{"$f":"IF(ISBLANK('Data Input'!A186),\"\",SUM(B181,C181))","v":""},{"$f":"IF(ISBLANK('Data Input'!A186),\"\",SUM('Data Input'!C186:BU186))","v":""},{"$f":"IF(E181=\"\",\"\",E181/(COUNTA('Data Input'!$C$8:$BU$8)-1))","v":""},{"$f":"IF(ISBLANK('Data Input'!A186),\"\",SUM('Data Input'!H186,'Data Input'!AA186,'Data Input'!AO186,'Data Input'!AP186))","v":""},{"$f":"IF(G181=\"\",\"\",G181/COUNTIF('Data Input'!$C$8:$BU$8,\"CS\"))","v":""},{"$f":"IF(ISBLANK('Data Input'!A186),\"\",SUM('Data Input'!P186,'Data Input'!T186,'Data Input'!AD186,'Data Input'!AX186,'Data Input'!AY186))","v":""},{"$f":"IF(I181=\"\",\"\",I181/COUNTIF('Data Input'!$C$8:$BU$8,\"SE\"))","v":""},{"$f":"IF(ISBLANK('Data Input'!A186),\"\",SUM('Data Input'!K186,'Data Input'!L186,'Data Input'!M186,'Data Input'!O186,'Data Input'!Q186,'Data Input'!U186,'Data Input'!X186,'Data Input'!Y186,'Data Input'!Z186,'Data Input'!AB186,'Data Input'!AE186,'Data Input'!AG186,'Data Input'!AL186,'Data Input'!AU186,'Data Input'!AW186))","v":""},{"$f":"IF(K181=\"\",\"\",K181/COUNTIF('Data Input'!$C$8:$BU$8,\"P\"))","v":""},{"$f":"IF(ISBLANK('Data Input'!A186),\"\",SUM('Data Input'!I186,'Data Input'!S186))","v":""},{"$f":"IF(M181=\"\",\"\",M181/COUNTIF('Data Input'!$C$8:$BU$8,\"FS\"))","v":""},{"$f":"IF(ISBLANK('Data Input'!A186),\"\",SUM('Data Input'!D186,'Data Input'!E186,'Data Input'!F186,'Data Input'!G186,'Data Input'!R186,'Data Input'!V186,'Data Input'!W186,'Data Input'!AC186,'Data Input'!AF186,'Data Input'!AH186,'Data Input'!AJ186,'Data Input'!AK186,'Data Input'!AM186,'Data Input'!AQ186,'Data Input'!AR186,'Data Input'!AZ186))","v":""},{"$f":"IF(O181=\"\",\"\",O181/COUNTIF('Data Input'!$C$8:$BU$8,\"GT\"))","v":""},{"$f":"IF(ISBLANK('Data Input'!A186),\"\",SUM('Data Input'!C186,'Data Input'!J186,'Data Input'!N186,'Data Input'!AS186,'Data Input'!AT186,'Data Input'!AV186))","v":""},{"$f":"IF(Q181=\"\",\"\",Q181/COUNTIF('Data Input'!$C$8:$BU$8,\"V\"))","v":""},{"$f":"IF(ISBLANK('Data Input'!A186),\"\",SUM('Data Input'!AI186,'Data Input'!AN186))","v":""},{"$f":"IF(S181=\"\",\"\",S181/COUNTIF('Data Input'!$C$8:$BU$8,\"F/I\"))","v":""},{"$f":"IF(ISBLANK('Data Input'!C186),\"\",SUM('Data Input'!BB186:BU186))","v":""},{"$f":"IF(U181=\"\",\"\",U181/COUNTIF('Data Input'!$C$8:$BU$8,\"Sp\"))","v":""}]
[{"$f":"IF('Data Input'!A187=0,\"\",'Data Input'!A187)","v":""},{"$f":"IF(ISBLANK('Data Input'!A187),\"\",COUNTIF('Data Input'!C187:BU187,\"\")-1)","v":""},{"$f":"IF(ISBLANK('Data Input'!A187),\"\",COUNTIF('Data Input'!C187:BU187,\"0\"))","v":""},{"$f":"IF(ISBLANK('Data Input'!A187),\"\",SUM(B182,C182))","v":""},{"$f":"IF(ISBLANK('Data Input'!A187),\"\",SUM('Data Input'!C187:BU187))","v":""},{"$f":"IF(E182=\"\",\"\",E182/(COUNTA('Data Input'!$C$8:$BU$8)-1))","v":""},{"$f":"IF(ISBLANK('Data Input'!A187),\"\",SUM('Data Input'!H187,'Data Input'!AA187,'Data Input'!AO187,'Data Input'!AP187))","v":""},{"$f":"IF(G182=\"\",\"\",G182/COUNTIF('Data Input'!$C$8:$BU$8,\"CS\"))","v":""},{"$f":"IF(ISBLANK('Data Input'!A187),\"\",SUM('Data Input'!P187,'Data Input'!T187,'Data Input'!AD187,'Data Input'!AX187,'Data Input'!AY187))","v":""},{"$f":"IF(I182=\"\",\"\",I182/COUNTIF('Data Input'!$C$8:$BU$8,\"SE\"))","v":""},{"$f":"IF(ISBLANK('Data Input'!A187),\"\",SUM('Data Input'!K187,'Data Input'!L187,'Data Input'!M187,'Data Input'!O187,'Data Input'!Q187,'Data Input'!U187,'Data Input'!X187,'Data Input'!Y187,'Data Input'!Z187,'Data Input'!AB187,'Data Input'!AE187,'Data Input'!AG187,'Data Input'!AL187,'Data Input'!AU187,'Data Input'!AW187))","v":""},{"$f":"IF(K182=\"\",\"\",K182/COUNTIF('Data Input'!$C$8:$BU$8,\"P\"))","v":""},{"$f":"IF(ISBLANK('Data Input'!A187),\"\",SUM('Data Input'!I187,'Data Input'!S187))","v":""},{"$f":"IF(M182=\"\",\"\",M182/COUNTIF('Data Input'!$C$8:$BU$8,\"FS\"))","v":""},{"$f":"IF(ISBLANK('Data Input'!A187),\"\",SUM('Data Input'!D187,'Data Input'!E187,'Data Input'!F187,'Data Input'!G187,'Data Input'!R187,'Data Input'!V187,'Data Input'!W187,'Data Input'!AC187,'Data Input'!AF187,'Data Input'!AH187,'Data Input'!AJ187,'Data Input'!AK187,'Data Input'!AM187,'Data Input'!AQ187,'Data Input'!AR187,'Data Input'!AZ187))","v":""},{"$f":"IF(O182=\"\",\"\",O182/COUNTIF('Data Input'!$C$8:$BU$8,\"GT\"))","v":""},{"$f":"IF(ISBLANK('Data Input'!A187),\"\",SUM('Data Input'!C187,'Data Input'!J187,'Data Input'!N187,'Data Input'!AS187,'Data Input'!AT187,'Data Input'!AV187))","v":""},{"$f":"IF(Q182=\"\",\"\",Q182/COUNTIF('Data Input'!$C$8:$BU$8,\"V\"))","v":""},{"$f":"IF(ISBLANK('Data Input'!A187),\"\",SUM('Data Input'!AI187,'Data Input'!AN187))","v":""},{"$f":"IF(S182=\"\",\"\",S182/COUNTIF('Data Input'!$C$8:$BU$8,\"F/I\"))","v":""},{"$f":"IF(ISBLANK('Data Input'!C187),\"\",SUM('Data Input'!BB187:BU187))","v":""},{"$f":"IF(U182=\"\",\"\",U182/COUNTIF('Data Input'!$C$8:$BU$8,\"Sp\"))","v":""}]
[{"$f":"IF('Data Input'!A188=0,\"\",'Data Input'!A188)","v":""},{"$f":"IF(ISBLANK('Data Input'!A188),\"\",COUNTIF('Data Input'!C188:BU188,\"\")-1)","v":""},{"$f":"IF(ISBLANK('Data Input'!A188),\"\",COUNTIF('Data Input'!C188:BU188,\"0\"))","v":""},{"$f":"IF(ISBLANK('Data Input'!A188),\"\",SUM(B183,C183))","v":""},{"$f":"IF(ISBLANK('Data Input'!A188),\"\",SUM('Data Input'!C188:BU188))","v":""},{"$f":"IF(E183=\"\",\"\",E183/(COUNTA('Data Input'!$C$8:$BU$8)-1))","v":""},{"$f":"IF(ISBLANK('Data Input'!A188),\"\",SUM('Data Input'!H188,'Data Input'!AA188,'Data Input'!AO188,'Data Input'!AP188))","v":""},{"$f":"IF(G183=\"\",\"\",G183/COUNTIF('Data Input'!$C$8:$BU$8,\"CS\"))","v":""},{"$f":"IF(ISBLANK('Data Input'!A188),\"\",SUM('Data Input'!P188,'Data Input'!T188,'Data Input'!AD188,'Data Input'!AX188,'Data Input'!AY188))","v":""},{"$f":"IF(I183=\"\",\"\",I183/COUNTIF('Data Input'!$C$8:$BU$8,\"SE\"))","v":""},{"$f":"IF(ISBLANK('Data Input'!A188),\"\",SUM('Data Input'!K188,'Data Input'!L188,'Data Input'!M188,'Data Input'!O188,'Data Input'!Q188,'Data Input'!U188,'Data Input'!X188,'Data Input'!Y188,'Data Input'!Z188,'Data Input'!AB188,'Data Input'!AE188,'Data Input'!AG188,'Data Input'!AL188,'Data Input'!AU188,'Data Input'!AW188))","v":""},{"$f":"IF(K183=\"\",\"\",K183/COUNTIF('Data Input'!$C$8:$BU$8,\"P\"))","v":""},{"$f":"IF(ISBLANK('Data Input'!A188),\"\",SUM('Data Input'!I188,'Data Input'!S188))","v":""},{"$f":"IF(M183=\"\",\"\",M183/COUNTIF('Data Input'!$C$8:$BU$8,\"FS\"))","v":""},{"$f":"IF(ISBLANK('Data Input'!A188),\"\",SUM('Data Input'!D188,'Data Input'!E188,'Data Input'!F188,'Data Input'!G188,'Data Input'!R188,'Data Input'!V188,'Data Input'!W188,'Data Input'!AC188,'Data Input'!AF188,'Data Input'!AH188,'Data Input'!AJ188,'Data Input'!AK188,'Data Input'!AM188,'Data Input'!AQ188,'Data Input'!AR188,'Data Input'!AZ188))","v":""},{"$f":"IF(O183=\"\",\"\",O183/COUNTIF('Data Input'!$C$8:$BU$8,\"GT\"))","v":""},{"$f":"IF(ISBLANK('Data Input'!A188),\"\",SUM('Data Input'!C188,'Data Input'!J188,'Data Input'!N188,'Data Input'!AS188,'Data Input'!AT188,'Data Input'!AV188))","v":""},{"$f":"IF(Q183=\"\",\"\",Q183/COUNTIF('Data Input'!$C$8:$BU$8,\"V\"))","v":""},{"$f":"IF(ISBLANK('Data Input'!A188),\"\",SUM('Data Input'!AI188,'Data Input'!AN188))","v":""},{"$f":"IF(S183=\"\",\"\",S183/COUNTIF('Data Input'!$C$8:$BU$8,\"F/I\"))","v":""},{"$f":"IF(ISBLANK('Data Input'!C188),\"\",SUM('Data Input'!BB188:BU188))","v":""},{"$f":"IF(U183=\"\",\"\",U183/COUNTIF('Data Input'!$C$8:$BU$8,\"Sp\"))","v":""}]
[{"$f":"IF('Data Input'!A189=0,\"\",'Data Input'!A189)","v":""},{"$f":"IF(ISBLANK('Data Input'!A189),\"\",COUNTIF('Data Input'!C189:BU189,\"\")-1)","v":""},{"$f":"IF(ISBLANK('Data Input'!A189),\"\",COUNTIF('Data Input'!C189:BU189,\"0\"))","v":""},{"$f":"IF(ISBLANK('Data Input'!A189),\"\",SUM(B184,C184))","v":""},{"$f":"IF(ISBLANK('Data Input'!A189),\"\",SUM('Data Input'!C189:BU189))","v":""},{"$f":"IF(E184=\"\",\"\",E184/(COUNTA('Data Input'!$C$8:$BU$8)-1))","v":""},{"$f":"IF(ISBLANK('Data Input'!A189),\"\",SUM('Data Input'!H189,'Data Input'!AA189,'Data Input'!AO189,'Data Input'!AP189))","v":""},{"$f":"IF(G184=\"\",\"\",G184/COUNTIF('Data Input'!$C$8:$BU$8,\"CS\"))","v":""},{"$f":"IF(ISBLANK('Data Input'!A189),\"\",SUM('Data Input'!P189,'Data Input'!T189,'Data Input'!AD189,'Data Input'!AX189,'Data Input'!AY189))","v":""},{"$f":"IF(I184=\"\",\"\",I184/COUNTIF('Data Input'!$C$8:$BU$8,\"SE\"))","v":""},{"$f":"IF(ISBLANK('Data Input'!A189),\"\",SUM('Data Input'!K189,'Data Input'!L189,'Data Input'!M189,'Data Input'!O189,'Data Input'!Q189,'Data Input'!U189,'Data Input'!X189,'Data Input'!Y189,'Data Input'!Z189,'Data Input'!AB189,'Data Input'!AE189,'Data Input'!AG189,'Data Input'!AL189,'Data Input'!AU189,'Data Input'!AW189))","v":""},{"$f":"IF(K184=\"\",\"\",K184/COUNTIF('Data Input'!$C$8:$BU$8,\"P\"))","v":""},{"$f":"IF(ISBLANK('Data Input'!A189),\"\",SUM('Data Input'!I189,'Data Input'!S189))","v":""},{"$f":"IF(M184=\"\",\"\",M184/COUNTIF('Data Input'!$C$8:$BU$8,\"FS\"))","v":""},{"$f":"IF(ISBLANK('Data Input'!A189),\"\",SUM('Data Input'!D189,'Data Input'!E189,'Data Input'!F189,'Data Input'!G189,'Data Input'!R189,'Data Input'!V189,'Data Input'!W189,'Data Input'!AC189,'Data Input'!AF189,'Data Input'!AH189,'Data Input'!AJ189,'Data Input'!AK189,'Data Input'!AM189,'Data Input'!AQ189,'Data Input'!AR189,'Data Input'!AZ189))","v":""},{"$f":"IF(O184=\"\",\"\",O184/COUNTIF('Data Input'!$C$8:$BU$8,\"GT\"))","v":""},{"$f":"IF(ISBLANK('Data Input'!A189),\"\",SUM('Data Input'!C189,'Data Input'!J189,'Data Input'!N189,'Data Input'!AS189,'Data Input'!AT189,'Data Input'!AV189))","v":""},{"$f":"IF(Q184=\"\",\"\",Q184/COUNTIF('Data Input'!$C$8:$BU$8,\"V\"))","v":""},{"$f":"IF(ISBLANK('Data Input'!A189),\"\",SUM('Data Input'!AI189,'Data Input'!AN189))","v":""},{"$f":"IF(S184=\"\",\"\",S184/COUNTIF('Data Input'!$C$8:$BU$8,\"F/I\"))","v":""},{"$f":"IF(ISBLANK('Data Input'!C189),\"\",SUM('Data Input'!BB189:BU189))","v":""},{"$f":"IF(U184=\"\",\"\",U184/COUNTIF('Data Input'!$C$8:$BU$8,\"Sp\"))","v":""}]
[{"$f":"IF('Data Input'!A190=0,\"\",'Data Input'!A190)","v":""},{"$f":"IF(ISBLANK('Data Input'!A190),\"\",COUNTIF('Data Input'!C190:BU190,\"\")-1)","v":""},{"$f":"IF(ISBLANK('Data Input'!A190),\"\",COUNTIF('Data Input'!C190:BU190,\"0\"))","v":""},{"$f":"IF(ISBLANK('Data Input'!A190),\"\",SUM(B185,C185))","v":""},{"$f":"IF(ISBLANK('Data Input'!A190),\"\",SUM('Data Input'!C190:BU190))","v":""},{"$f":"IF(E185=\"\",\"\",E185/(COUNTA('Data Input'!$C$8:$BU$8)-1))","v":""},{"$f":"IF(ISBLANK('Data Input'!A190),\"\",SUM('Data Input'!H190,'Data Input'!AA190,'Data Input'!AO190,'Data Input'!AP190))","v":""},{"$f":"IF(G185=\"\",\"\",G185/COUNTIF('Data Input'!$C$8:$BU$8,\"CS\"))","v":""},{"$f":"IF(ISBLANK('Data Input'!A190),\"\",SUM('Data Input'!P190,'Data Input'!T190,'Data Input'!AD190,'Data Input'!AX190,'Data Input'!AY190))","v":""},{"$f":"IF(I185=\"\",\"\",I185/COUNTIF('Data Input'!$C$8:$BU$8,\"SE\"))","v":""},{"$f":"IF(ISBLANK('Data Input'!A190),\"\",SUM('Data Input'!K190,'Data Input'!L190,'Data Input'!M190,'Data Input'!O190,'Data Input'!Q190,'Data Input'!U190,'Data Input'!X190,'Data Input'!Y190,'Data Input'!Z190,'Data Input'!AB190,'Data Input'!AE190,'Data Input'!AG190,'Data Input'!AL190,'Data Input'!AU190,'Data Input'!AW190))","v":""},{"$f":"IF(K185=\"\",\"\",K185/COUNTIF('Data Input'!$C$8:$BU$8,\"P\"))","v":""},{"$f":"IF(ISBLANK('Data Input'!A190),\"\",SUM('Data Input'!I190,'Data Input'!S190))","v":""},{"$f":"IF(M185=\"\",\"\",M185/COUNTIF('Data Input'!$C$8:$BU$8,\"FS\"))","v":""},{"$f":"IF(ISBLANK('Data Input'!A190),\"\",SUM('Data Input'!D190,'Data Input'!E190,'Data Input'!F190,'Data Input'!G190,'Data Input'!R190,'Data Input'!V190,'Data Input'!W190,'Data Input'!AC190,'Data Input'!AF190,'Data Input'!AH190,'Data Input'!AJ190,'Data Input'!AK190,'Data Input'!AM190,'Data Input'!AQ190,'Data Input'!AR190,'Data Input'!AZ190))","v":""},{"$f":"IF(O185=\"\",\"\",O185/COUNTIF('Data Input'!$C$8:$BU$8,\"GT\"))","v":""},{"$f":"IF(ISBLANK('Data Input'!A190),\"\",SUM('Data Input'!C190,'Data Input'!J190,'Data Input'!N190,'Data Input'!AS190,'Data Input'!AT190,'Data Input'!AV190))","v":""},{"$f":"IF(Q185=\"\",\"\",Q185/COUNTIF('Data Input'!$C$8:$BU$8,\"V\"))","v":""},{"$f":"IF(ISBLANK('Data Input'!A190),\"\",SUM('Data Input'!AI190,'Data Input'!AN190))","v":""},{"$f":"IF(S185=\"\",\"\",S185/COUNTIF('Data Input'!$C$8:$BU$8,\"F/I\"))","v":""},{"$f":"IF(ISBLANK('Data Input'!C190),\"\",SUM('Data Input'!BB190:BU190))","v":""},{"$f":"IF(U185=\"\",\"\",U185/COUNTIF('Data Input'!$C$8:$BU$8,\"Sp\"))","v":""}]
[{"$f":"IF('Data Input'!A191=0,\"\",'Data Input'!A191)","v":""},{"$f":"IF(ISBLANK('Data Input'!A191),\"\",COUNTIF('Data Input'!C191:BU191,\"\")-1)","v":""},{"$f":"IF(ISBLANK('Data Input'!A191),\"\",COUNTIF('Data Input'!C191:BU191,\"0\"))","v":""},{"$f":"IF(ISBLANK('Data Input'!A191),\"\",SUM(B186,C186))","v":""},{"$f":"IF(ISBLANK('Data Input'!A191),\"\",SUM('Data Input'!C191:BU191))","v":""},{"$f":"IF(E186=\"\",\"\",E186/(COUNTA('Data Input'!$C$8:$BU$8)-1))","v":""},{"$f":"IF(ISBLANK('Data Input'!A191),\"\",SUM('Data Input'!H191,'Data Input'!AA191,'Data Input'!AO191,'Data Input'!AP191))","v":""},{"$f":"IF(G186=\"\",\"\",G186/COUNTIF('Data Input'!$C$8:$BU$8,\"CS\"))","v":""},{"$f":"IF(ISBLANK('Data Input'!A191),\"\",SUM('Data Input'!P191,'Data Input'!T191,'Data Input'!AD191,'Data Input'!AX191,'Data Input'!AY191))","v":""},{"$f":"IF(I186=\"\",\"\",I186/COUNTIF('Data Input'!$C$8:$BU$8,\"SE\"))","v":""},{"$f":"IF(ISBLANK('Data Input'!A191),\"\",SUM('Data Input'!K191,'Data Input'!L191,'Data Input'!M191,'Data Input'!O191,'Data Input'!Q191,'Data Input'!U191,'Data Input'!X191,'Data Input'!Y191,'Data Input'!Z191,'Data Input'!AB191,'Data Input'!AE191,'Data Input'!AG191,'Data Input'!AL191,'Data Input'!AU191,'Data Input'!AW191))","v":""},{"$f":"IF(K186=\"\",\"\",K186/COUNTIF('Data Input'!$C$8:$BU$8,\"P\"))","v":""},{"$f":"IF(ISBLANK('Data Input'!A191),\"\",SUM('Data Input'!I191,'Data Input'!S191))","v":""},{"$f":"IF(M186=\"\",\"\",M186/COUNTIF('Data Input'!$C$8:$BU$8,\"FS\"))","v":""},{"$f":"IF(ISBLANK('Data Input'!A191),\"\",SUM('Data Input'!D191,'Data Input'!E191,'Data Input'!F191,'Data Input'!G191,'Data Input'!R191,'Data Input'!V191,'Data Input'!W191,'Data Input'!AC191,'Data Input'!AF191,'Data Input'!AH191,'Data Input'!AJ191,'Data Input'!AK191,'Data Input'!AM191,'Data Input'!AQ191,'Data Input'!AR191,'Data Input'!AZ191))","v":""},{"$f":"IF(O186=\"\",\"\",O186/COUNTIF('Data Input'!$C$8:$BU$8,\"GT\"))","v":""},{"$f":"IF(ISBLANK('Data Input'!A191),\"\",SUM('Data Input'!C191,'Data Input'!J191,'Data Input'!N191,'Data Input'!AS191,'Data Input'!AT191,'Data Input'!AV191))","v":""},{"$f":"IF(Q186=\"\",\"\",Q186/COUNTIF('Data Input'!$C$8:$BU$8,\"V\"))","v":""},{"$f":"IF(ISBLANK('Data Input'!A191),\"\",SUM('Data Input'!AI191,'Data Input'!AN191))","v":""},{"$f":"IF(S186=\"\",\"\",S186/COUNTIF('Data Input'!$C$8:$BU$8,\"F/I\"))","v":""},{"$f":"IF(ISBLANK('Data Input'!C191),\"\",SUM('Data Input'!BB191:BU191))","v":""},{"$f":"IF(U186=\"\",\"\",U186/COUNTIF('Data Input'!$C$8:$BU$8,\"Sp\"))","v":""}]
[{"$f":"IF('Data Input'!A192=0,\"\",'Data Input'!A192)","v":""},{"$f":"IF(ISBLANK('Data Input'!A192),\"\",COUNTIF('Data Input'!C192:BU192,\"\")-1)","v":""},{"$f":"IF(ISBLANK('Data Input'!A192),\"\",COUNTIF('Data Input'!C192:BU192,\"0\"))","v":""},{"$f":"IF(ISBLANK('Data Input'!A192),\"\",SUM(B187,C187))","v":""},{"$f":"IF(ISBLANK('Data Input'!A192),\"\",SUM('Data Input'!C192:BU192))","v":""},{"$f":"IF(E187=\"\",\"\",E187/(COUNTA('Data Input'!$C$8:$BU$8)-1))","v":""},{"$f":"IF(ISBLANK('Data Input'!A192),\"\",SUM('Data Input'!H192,'Data Input'!AA192,'Data Input'!AO192,'Data Input'!AP192))","v":""},{"$f":"IF(G187=\"\",\"\",G187/COUNTIF('Data Input'!$C$8:$BU$8,\"CS\"))","v":""},{"$f":"IF(ISBLANK('Data Input'!A192),\"\",SUM('Data Input'!P192,'Data Input'!T192,'Data Input'!AD192,'Data Input'!AX192,'Data Input'!AY192))","v":""},{"$f":"IF(I187=\"\",\"\",I187/COUNTIF('Data Input'!$C$8:$BU$8,\"SE\"))","v":""},{"$f":"IF(ISBLANK('Data Input'!A192),\"\",SUM('Data Input'!K192,'Data Input'!L192,'Data Input'!M192,'Data Input'!O192,'Data Input'!Q192,'Data Input'!U192,'Data Input'!X192,'Data Input'!Y192,'Data Input'!Z192,'Data Input'!AB192,'Data Input'!AE192,'Data Input'!AG192,'Data Input'!AL192,'Data Input'!AU192,'Data Input'!AW192))","v":""},{"$f":"IF(K187=\"\",\"\",K187/COUNTIF('Data Input'!$C$8:$BU$8,\"P\"))","v":""},{"$f":"IF(ISBLANK('Data Input'!A192),\"\",SUM('Data Input'!I192,'Data Input'!S192))","v":""},{"$f":"IF(M187=\"\",\"\",M187/COUNTIF('Data Input'!$C$8:$BU$8,\"FS\"))","v":""},{"$f":"IF(ISBLANK('Data Input'!A192),\"\",SUM('Data Input'!D192,'Data Input'!E192,'Data Input'!F192,'Data Input'!G192,'Data Input'!R192,'Data Input'!V192,'Data Input'!W192,'Data Input'!AC192,'Data Input'!AF192,'Data Input'!AH192,'Data Input'!AJ192,'Data Input'!AK192,'Data Input'!AM192,'Data Input'!AQ192,'Data Input'!AR192,'Data Input'!AZ192))","v":""},{"$f":"IF(O187=\"\",\"\",O187/COUNTIF('Data Input'!$C$8:$BU$8,\"GT\"))","v":""},{"$f":"IF(ISBLANK('Data Input'!A192),\"\",SUM('Data Input'!C192,'Data Input'!J192,'Data Input'!N192,'Data Input'!AS192,'Data Input'!AT192,'Data Input'!AV192))","v":""},{"$f":"IF(Q187=\"\",\"\",Q187/COUNTIF('Data Input'!$C$8:$BU$8,\"V\"))","v":""},{"$f":"IF(ISBLANK('Data Input'!A192),\"\",SUM('Data Input'!AI192,'Data Input'!AN192))","v":""},{"$f":"IF(S187=\"\",\"\",S187/COUNTIF('Data Input'!$C$8:$BU$8,\"F/I\"))","v":""},{"$f":"IF(ISBLANK('Data Input'!C192),\"\",SUM('Data Input'!BB192:BU192))","v":""},{"$f":"IF(U187=\"\",\"\",U187/COUNTIF('Data Input'!$C$8:$BU$8,\"Sp\"))","v":""}]
[{"$f":"IF('Data Input'!A193=0,\"\",'Data Input'!A193)","v":""},{"$f":"IF(ISBLANK('Data Input'!A193),\"\",COUNTIF('Data Input'!C193:BU193,\"\")-1)","v":""},{"$f":"IF(ISBLANK('Data Input'!A193),\"\",COUNTIF('Data Input'!C193:BU193,\"0\"))","v":""},{"$f":"IF(ISBLANK('Data Input'!A193),\"\",SUM(B188,C188))","v":""},{"$f":"IF(ISBLANK('Data Input'!A193),\"\",SUM('Data Input'!C193:BU193))","v":""},{"$f":"IF(E188=\"\",\"\",E188/(COUNTA('Data Input'!$C$8:$BU$8)-1))","v":""},{"$f":"IF(ISBLANK('Data Input'!A193),\"\",SUM('Data Input'!H193,'Data Input'!AA193,'Data Input'!AO193,'Data Input'!AP193))","v":""},{"$f":"IF(G188=\"\",\"\",G188/COUNTIF('Data Input'!$C$8:$BU$8,\"CS\"))","v":""},{"$f":"IF(ISBLANK('Data Input'!A193),\"\",SUM('Data Input'!P193,'Data Input'!T193,'Data Input'!AD193,'Data Input'!AX193,'Data Input'!AY193))","v":""},{"$f":"IF(I188=\"\",\"\",I188/COUNTIF('Data Input'!$C$8:$BU$8,\"SE\"))","v":""},{"$f":"IF(ISBLANK('Data Input'!A193),\"\",SUM('Data Input'!K193,'Data Input'!L193,'Data Input'!M193,'Data Input'!O193,'Data Input'!Q193,'Data Input'!U193,'Data Input'!X193,'Data Input'!Y193,'Data Input'!Z193,'Data Input'!AB193,'Data Input'!AE193,'Data Input'!AG193,'Data Input'!AL193,'Data Input'!AU193,'Data Input'!AW193))","v":""},{"$f":"IF(K188=\"\",\"\",K188/COUNTIF('Data Input'!$C$8:$BU$8,\"P\"))","v":""},{"$f":"IF(ISBLANK('Data Input'!A193),\"\",SUM('Data Input'!I193,'Data Input'!S193))","v":""},{"$f":"IF(M188=\"\",\"\",M188/COUNTIF('Data Input'!$C$8:$BU$8,\"FS\"))","v":""},{"$f":"IF(ISBLANK('Data Input'!A193),\"\",SUM('Data Input'!D193,'Data Input'!E193,'Data Input'!F193,'Data Input'!G193,'Data Input'!R193,'Data Input'!V193,'Data Input'!W193,'Data Input'!AC193,'Data Input'!AF193,'Data Input'!AH193,'Data Input'!AJ193,'Data Input'!AK193,'Data Input'!AM193,'Data Input'!AQ193,'Data Input'!AR193,'Data Input'!AZ193))","v":""},{"$f":"IF(O188=\"\",\"\",O188/COUNTIF('Data Input'!$C$8:$BU$8,\"GT\"))","v":""},{"$f":"IF(ISBLANK('Data Input'!A193),\"\",SUM('Data Input'!C193,'Data Input'!J193,'Data Input'!N193,'Data Input'!AS193,'Data Input'!AT193,'Data Input'!AV193))","v":""},{"$f":"IF(Q188=\"\",\"\",Q188/COUNTIF('Data Input'!$C$8:$BU$8,\"V\"))","v":""},{"$f":"IF(ISBLANK('Data Input'!A193),\"\",SUM('Data Input'!AI193,'Data Input'!AN193))","v":""},{"$f":"IF(S188=\"\",\"\",S188/COUNTIF('Data Input'!$C$8:$BU$8,\"F/I\"))","v":""},{"$f":"IF(ISBLANK('Data Input'!C193),\"\",SUM('Data Input'!BB193:BU193))","v":""},{"$f":"IF(U188=\"\",\"\",U188/COUNTIF('Data Input'!$C$8:$BU$8,\"Sp\"))","v":""}]
[{"$f":"IF('Data Input'!A194=0,\"\",'Data Input'!A194)","v":""},{"$f":"IF(ISBLANK('Data Input'!A194),\"\",COUNTIF('Data Input'!C194:BU194,\"\")-1)","v":""},{"$f":"IF(ISBLANK('Data Input'!A194),\"\",COUNTIF('Data Input'!C194:BU194,\"0\"))","v":""},{"$f":"IF(ISBLANK('Data Input'!A194),\"\",SUM(B189,C189))","v":""},{"$f":"IF(ISBLANK('Data Input'!A194),\"\",SUM('Data Input'!C194:BU194))","v":""},{"$f":"IF(E189=\"\",\"\",E189/(COUNTA('Data Input'!$C$8:$BU$8)-1))","v":""},{"$f":"IF(ISBLANK('Data Input'!A194),\"\",SUM('Data Input'!H194,'Data Input'!AA194,'Data Input'!AO194,'Data Input'!AP194))","v":""},{"$f":"IF(G189=\"\",\"\",G189/COUNTIF('Data Input'!$C$8:$BU$8,\"CS\"))","v":""},{"$f":"IF(ISBLANK('Data Input'!A194),\"\",SUM('Data Input'!P194,'Data Input'!T194,'Data Input'!AD194,'Data Input'!AX194,'Data Input'!AY194))","v":""},{"$f":"IF(I189=\"\",\"\",I189/COUNTIF('Data Input'!$C$8:$BU$8,\"SE\"))","v":""},{"$f":"IF(ISBLANK('Data Input'!A194),\"\",SUM('Data Input'!K194,'Data Input'!L194,'Data Input'!M194,'Data Input'!O194,'Data Input'!Q194,'Data Input'!U194,'Data Input'!X194,'Data Input'!Y194,'Data Input'!Z194,'Data Input'!AB194,'Data Input'!AE194,'Data Input'!AG194,'Data Input'!AL194,'Data Input'!AU194,'Data Input'!AW194))","v":""},{"$f":"IF(K189=\"\",\"\",K189/COUNTIF('Data Input'!$C$8:$BU$8,\"P\"))","v":""},{"$f":"IF(ISBLANK('Data Input'!A194),\"\",SUM('Data Input'!I194,'Data Input'!S194))","v":""},{"$f":"IF(M189=\"\",\"\",M189/COUNTIF('Data Input'!$C$8:$BU$8,\"FS\"))","v":""},{"$f":"IF(ISBLANK('Data Input'!A194),\"\",SUM('Data Input'!D194,'Data Input'!E194,'Data Input'!F194,'Data Input'!G194,'Data Input'!R194,'Data Input'!V194,'Data Input'!W194,'Data Input'!AC194,'Data Input'!AF194,'Data Input'!AH194,'Data Input'!AJ194,'Data Input'!AK194,'Data Input'!AM194,'Data Input'!AQ194,'Data Input'!AR194,'Data Input'!AZ194))","v":""},{"$f":"IF(O189=\"\",\"\",O189/COUNTIF('Data Input'!$C$8:$BU$8,\"GT\"))","v":""},{"$f":"IF(ISBLANK('Data Input'!A194),\"\",SUM('Data Input'!C194,'Data Input'!J194,'Data Input'!N194,'Data Input'!AS194,'Data Input'!AT194,'Data Input'!AV194))","v":""},{"$f":"IF(Q189=\"\",\"\",Q189/COUNTIF('Data Input'!$C$8:$BU$8,\"V\"))","v":""},{"$f":"IF(ISBLANK('Data Input'!A194),\"\",SUM('Data Input'!AI194,'Data Input'!AN194))","v":""},{"$f":"IF(S189=\"\",\"\",S189/COUNTIF('Data Input'!$C$8:$BU$8,\"F/I\"))","v":""},{"$f":"IF(ISBLANK('Data Input'!C194),\"\",SUM('Data Input'!BB194:BU194))","v":""},{"$f":"IF(U189=\"\",\"\",U189/COUNTIF('Data Input'!$C$8:$BU$8,\"Sp\"))","v":""}]
[{"$f":"IF('Data Input'!A195=0,\"\",'Data Input'!A195)","v":""},{"$f":"IF(ISBLANK('Data Input'!A195),\"\",COUNTIF('Data Input'!C195:BU195,\"\")-1)","v":""},{"$f":"IF(ISBLANK('Data Input'!A195),\"\",COUNTIF('Data Input'!C195:BU195,\"0\"))","v":""},{"$f":"IF(ISBLANK('Data Input'!A195),\"\",SUM(B190,C190))","v":""},{"$f":"IF(ISBLANK('Data Input'!A195),\"\",SUM('Data Input'!C195:BU195))","v":""},{"$f":"IF(E190=\"\",\"\",E190/(COUNTA('Data Input'!$C$8:$BU$8)-1))","v":""},{"$f":"IF(ISBLANK('Data Input'!A195),\"\",SUM('Data Input'!H195,'Data Input'!AA195,'Data Input'!AO195,'Data Input'!AP195))","v":""},{"$f":"IF(G190=\"\",\"\",G190/COUNTIF('Data Input'!$C$8:$BU$8,\"CS\"))","v":""},{"$f":"IF(ISBLANK('Data Input'!A195),\"\",SUM('Data Input'!P195,'Data Input'!T195,'Data Input'!AD195,'Data Input'!AX195,'Data Input'!AY195))","v":""},{"$f":"IF(I190=\"\",\"\",I190/COUNTIF('Data Input'!$C$8:$BU$8,\"SE\"))","v":""},{"$f":"IF(ISBLANK('Data Input'!A195),\"\",SUM('Data Input'!K195,'Data Input'!L195,'Data Input'!M195,'Data Input'!O195,'Data Input'!Q195,'Data Input'!U195,'Data Input'!X195,'Data Input'!Y195,'Data Input'!Z195,'Data Input'!AB195,'Data Input'!AE195,'Data Input'!AG195,'Data Input'!AL195,'Data Input'!AU195,'Data Input'!AW195))","v":""},{"$f":"IF(K190=\"\",\"\",K190/COUNTIF('Data Input'!$C$8:$BU$8,\"P\"))","v":""},{"$f":"IF(ISBLANK('Data Input'!A195),\"\",SUM('Data Input'!I195,'Data Input'!S195))","v":""},{"$f":"IF(M190=\"\",\"\",M190/COUNTIF('Data Input'!$C$8:$BU$8,\"FS\"))","v":""},{"$f":"IF(ISBLANK('Data Input'!A195),\"\",SUM('Data Input'!D195,'Data Input'!E195,'Data Input'!F195,'Data Input'!G195,'Data Input'!R195,'Data Input'!V195,'Data Input'!W195,'Data Input'!AC195,'Data Input'!AF195,'Data Input'!AH195,'Data Input'!AJ195,'Data Input'!AK195,'Data Input'!AM195,'Data Input'!AQ195,'Data Input'!AR195,'Data Input'!AZ195))","v":""},{"$f":"IF(O190=\"\",\"\",O190/COUNTIF('Data Input'!$C$8:$BU$8,\"GT\"))","v":""},{"$f":"IF(ISBLANK('Data Input'!A195),\"\",SUM('Data Input'!C195,'Data Input'!J195,'Data Input'!N195,'Data Input'!AS195,'Data Input'!AT195,'Data Input'!AV195))","v":""},{"$f":"IF(Q190=\"\",\"\",Q190/COUNTIF('Data Input'!$C$8:$BU$8,\"V\"))","v":""},{"$f":"IF(ISBLANK('Data Input'!A195),\"\",SUM('Data Input'!AI195,'Data Input'!AN195))","v":""},{"$f":"IF(S190=\"\",\"\",S190/COUNTIF('Data Input'!$C$8:$BU$8,\"F/I\"))","v":""},{"$f":"IF(ISBLANK('Data Input'!C195),\"\",SUM('Data Input'!BB195:BU195))","v":""},{"$f":"IF(U190=\"\",\"\",U190/COUNTIF('Data Input'!$C$8:$BU$8,\"Sp\"))","v":""}]
[{"$f":"IF('Data Input'!A196=0,\"\",'Data Input'!A196)","v":""},{"$f":"IF(ISBLANK('Data Input'!A196),\"\",COUNTIF('Data Input'!C196:BU196,\"\")-1)","v":""},{"$f":"IF(ISBLANK('Data Input'!A196),\"\",COUNTIF('Data Input'!C196:BU196,\"0\"))","v":""},{"$f":"IF(ISBLANK('Data Input'!A196),\"\",SUM(B191,C191))","v":""},{"$f":"IF(ISBLANK('Data Input'!A196),\"\",SUM('Data Input'!C196:BU196))","v":""},{"$f":"IF(E191=\"\",\"\",E191/(COUNTA('Data Input'!$C$8:$BU$8)-1))","v":""},{"$f":"IF(ISBLANK('Data Input'!A196),\"\",SUM('Data Input'!H196,'Data Input'!AA196,'Data Input'!AO196,'Data Input'!AP196))","v":""},{"$f":"IF(G191=\"\",\"\",G191/COUNTIF('Data Input'!$C$8:$BU$8,\"CS\"))","v":""},{"$f":"IF(ISBLANK('Data Input'!A196),\"\",SUM('Data Input'!P196,'Data Input'!T196,'Data Input'!AD196,'Data Input'!AX196,'Data Input'!AY196))","v":""},{"$f":"IF(I191=\"\",\"\",I191/COUNTIF('Data Input'!$C$8:$BU$8,\"SE\"))","v":""},{"$f":"IF(ISBLANK('Data Input'!A196),\"\",SUM('Data Input'!K196,'Data Input'!L196,'Data Input'!M196,'Data Input'!O196,'Data Input'!Q196,'Data Input'!U196,'Data Input'!X196,'Data Input'!Y196,'Data Input'!Z196,'Data Input'!AB196,'Data Input'!AE196,'Data Input'!AG196,'Data Input'!AL196,'Data Input'!AU196,'Data Input'!AW196))","v":""},{"$f":"IF(K191=\"\",\"\",K191/COUNTIF('Data Input'!$C$8:$BU$8,\"P\"))","v":""},{"$f":"IF(ISBLANK('Data Input'!A196),\"\",SUM('Data Input'!I196,'Data Input'!S196))","v":""},{"$f":"IF(M191=\"\",\"\",M191/COUNTIF('Data Input'!$C$8:$BU$8,\"FS\"))","v":""},{"$f":"IF(ISBLANK('Data Input'!A196),\"\",SUM('Data Input'!D196,'Data Input'!E196,'Data Input'!F196,'Data Input'!G196,'Data Input'!R196,'Data Input'!V196,'Data Input'!W196,'Data Input'!AC196,'Data Input'!AF196,'Data Input'!AH196,'Data Input'!AJ196,'Data Input'!AK196,'Data Input'!AM196,'Data Input'!AQ196,'Data Input'!AR196,'Data Input'!AZ196))","v":""},{"$f":"IF(O191=\"\",\"\",O191/COUNTIF('Data Input'!$C$8:$BU$8,\"GT\"))","v":""},{"$f":"IF(ISBLANK('Data Input'!A196),\"\",SUM('Data Input'!C196,'Data Input'!J196,'Data Input'!N196,'Data Input'!AS196,'Data Input'!AT196,'Data Input'!AV196))","v":""},{"$f":"IF(Q191=\"\",\"\",Q191/COUNTIF('Data Input'!$C$8:$BU$8,\"V\"))","v":""},{"$f":"IF(ISBLANK('Data Input'!A196),\"\",SUM('Data Input'!AI196,'Data Input'!AN196))","v":""},{"$f":"IF(S191=\"\",\"\",S191/COUNTIF('Data Input'!$C$8:$BU$8,\"F/I\"))","v":""},{"$f":"IF(ISBLANK('Data Input'!C196),\"\",SUM('Data Input'!BB196:BU196))","v":""},{"$f":"IF(U191=\"\",\"\",U191/COUNTIF('Data Input'!$C$8:$BU$8,\"Sp\"))","v":""}]
[{"$f":"IF('Data Input'!A197=0,\"\",'Data Input'!A197)","v":""},{"$f":"IF(ISBLANK('Data Input'!A197),\"\",COUNTIF('Data Input'!C197:BU197,\"\")-1)","v":""},{"$f":"IF(ISBLANK('Data Input'!A197),\"\",COUNTIF('Data Input'!C197:BU197,\"0\"))","v":""},{"$f":"IF(ISBLANK('Data Input'!A197),\"\",SUM(B192,C192))","v":""},{"$f":"IF(ISBLANK('Data Input'!A197),\"\",SUM('Data Input'!C197:BU197))","v":""},{"$f":"IF(E192=\"\",\"\",E192/(COUNTA('Data Input'!$C$8:$BU$8)-1))","v":""},{"$f":"IF(ISBLANK('Data Input'!A197),\"\",SUM('Data Input'!H197,'Data Input'!AA197,'Data Input'!AO197,'Data Input'!AP197))","v":""},{"$f":"IF(G192=\"\",\"\",G192/COUNTIF('Data Input'!$C$8:$BU$8,\"CS\"))","v":""},{"$f":"IF(ISBLANK('Data Input'!A197),\"\",SUM('Data Input'!P197,'Data Input'!T197,'Data Input'!AD197,'Data Input'!AX197,'Data Input'!AY197))","v":""},{"$f":"IF(I192=\"\",\"\",I192/COUNTIF('Data Input'!$C$8:$BU$8,\"SE\"))","v":""},{"$f":"IF(ISBLANK('Data Input'!A197),\"\",SUM('Data Input'!K197,'Data Input'!L197,'Data Input'!M197,'Data Input'!O197,'Data Input'!Q197,'Data Input'!U197,'Data Input'!X197,'Data Input'!Y197,'Data Input'!Z197,'Data Input'!AB197,'Data Input'!AE197,'Data Input'!AG197,'Data Input'!AL197,'Data Input'!AU197,'Data Input'!AW197))","v":""},{"$f":"IF(K192=\"\",\"\",K192/COUNTIF('Data Input'!$C$8:$BU$8,\"P\"))","v":""},{"$f":"IF(ISBLANK('Data Input'!A197),\"\",SUM('Data Input'!I197,'Data Input'!S197))","v":""},{"$f":"IF(M192=\"\",\"\",M192/COUNTIF('Data Input'!$C$8:$BU$8,\"FS\"))","v":""},{"$f":"IF(ISBLANK('Data Input'!A197),\"\",SUM('Data Input'!D197,'Data Input'!E197,'Data Input'!F197,'Data Input'!G197,'Data Input'!R197,'Data Input'!V197,'Data Input'!W197,'Data Input'!AC197,'Data Input'!AF197,'Data Input'!AH197,'Data Input'!AJ197,'Data Input'!AK197,'Data Input'!AM197,'Data Input'!AQ197,'Data Input'!AR197,'Data Input'!AZ197))","v":""},{"$f":"IF(O192=\"\",\"\",O192/COUNTIF('Data Input'!$C$8:$BU$8,\"GT\"))","v":""},{"$f":"IF(ISBLANK('Data Input'!A197),\"\",SUM('Data Input'!C197,'Data Input'!J197,'Data Input'!N197,'Data Input'!AS197,'Data Input'!AT197,'Data Input'!AV197))","v":""},{"$f":"IF(Q192=\"\",\"\",Q192/COUNTIF('Data Input'!$C$8:$BU$8,\"V\"))","v":""},{"$f":"IF(ISBLANK('Data Input'!A197),\"\",SUM('Data Input'!AI197,'Data Input'!AN197))","v":""},{"$f":"IF(S192=\"\",\"\",S192/COUNTIF('Data Input'!$C$8:$BU$8,\"F/I\"))","v":""},{"$f":"IF(ISBLANK('Data Input'!C197),\"\",SUM('Data Input'!BB197:BU197))","v":""},{"$f":"IF(U192=\"\",\"\",U192/COUNTIF('Data Input'!$C$8:$BU$8,\"Sp\"))","v":""}]
[{"$f":"IF('Data Input'!A198=0,\"\",'Data Input'!A198)","v":""},{"$f":"IF(ISBLANK('Data Input'!A198),\"\",COUNTIF('Data Input'!C198:BU198,\"\")-1)","v":""},{"$f":"IF(ISBLANK('Data Input'!A198),\"\",COUNTIF('Data Input'!C198:BU198,\"0\"))","v":""},{"$f":"IF(ISBLANK('Data Input'!A198),\"\",SUM(B193,C193))","v":""},{"$f":"IF(ISBLANK('Data Input'!A198),\"\",SUM('Data Input'!C198:BU198))","v":""},{"$f":"IF(E193=\"\",\"\",E193/(COUNTA('Data Input'!$C$8:$BU$8)-1))","v":""},{"$f":"IF(ISBLANK('Data Input'!A198),\"\",SUM('Data Input'!H198,'Data Input'!AA198,'Data Input'!AO198,'Data Input'!AP198))","v":""},{"$f":"IF(G193=\"\",\"\",G193/COUNTIF('Data Input'!$C$8:$BU$8,\"CS\"))","v":""},{"$f":"IF(ISBLANK('Data Input'!A198),\"\",SUM('Data Input'!P198,'Data Input'!T198,'Data Input'!AD198,'Data Input'!AX198,'Data Input'!AY198))","v":""},{"$f":"IF(I193=\"\",\"\",I193/COUNTIF('Data Input'!$C$8:$BU$8,\"SE\"))","v":""},{"$f":"IF(ISBLANK('Data Input'!A198),\"\",SUM('Data Input'!K198,'Data Input'!L198,'Data Input'!M198,'Data Input'!O198,'Data Input'!Q198,'Data Input'!U198,'Data Input'!X198,'Data Input'!Y198,'Data Input'!Z198,'Data Input'!AB198,'Data Input'!AE198,'Data Input'!AG198,'Data Input'!AL198,'Data Input'!AU198,'Data Input'!AW198))","v":""},{"$f":"IF(K193=\"\",\"\",K193/COUNTIF('Data Input'!$C$8:$BU$8,\"P\"))","v":""},{"$f":"IF(ISBLANK('Data Input'!A198),\"\",SUM('Data Input'!I198,'Data Input'!S198))","v":""},{"$f":"IF(M193=\"\",\"\",M193/COUNTIF('Data Input'!$C$8:$BU$8,\"FS\"))","v":""},{"$f":"IF(ISBLANK('Data Input'!A198),\"\",SUM('Data Input'!D198,'Data Input'!E198,'Data Input'!F198,'Data Input'!G198,'Data Input'!R198,'Data Input'!V198,'Data Input'!W198,'Data Input'!AC198,'Data Input'!AF198,'Data Input'!AH198,'Data Input'!AJ198,'Data Input'!AK198,'Data Input'!AM198,'Data Input'!AQ198,'Data Input'!AR198,'Data Input'!AZ198))","v":""},{"$f":"IF(O193=\"\",\"\",O193/COUNTIF('Data Input'!$C$8:$BU$8,\"GT\"))","v":""},{"$f":"IF(ISBLANK('Data Input'!A198),\"\",SUM('Data Input'!C198,'Data Input'!J198,'Data Input'!N198,'Data Input'!AS198,'Data Input'!AT198,'Data Input'!AV198))","v":""},{"$f":"IF(Q193=\"\",\"\",Q193/COUNTIF('Data Input'!$C$8:$BU$8,\"V\"))","v":""},{"$f":"IF(ISBLANK('Data Input'!A198),\"\",SUM('Data Input'!AI198,'Data Input'!AN198))","v":""},{"$f":"IF(S193=\"\",\"\",S193/COUNTIF('Data Input'!$C$8:$BU$8,\"F/I\"))","v":""},{"$f":"IF(ISBLANK('Data Input'!C198),\"\",SUM('Data Input'!BB198:BU198))","v":""},{"$f":"IF(U193=\"\",\"\",U193/COUNTIF('Data Input'!$C$8:$BU$8,\"Sp\"))","v":""}]
[{"$f":"IF('Data Input'!A199=0,\"\",'Data Input'!A199)","v":""},{"$f":"IF(ISBLANK('Data Input'!A199),\"\",COUNTIF('Data Input'!C199:BU199,\"\")-1)","v":""},{"$f":"IF(ISBLANK('Data Input'!A199),\"\",COUNTIF('Data Input'!C199:BU199,\"0\"))","v":""},{"$f":"IF(ISBLANK('Data Input'!A199),\"\",SUM(B194,C194))","v":""},{"$f":"IF(ISBLANK('Data Input'!A199),\"\",SUM('Data Input'!C199:BU199))","v":""},{"$f":"IF(E194=\"\",\"\",E194/(COUNTA('Data Input'!$C$8:$BU$8)-1))","v":""},{"$f":"IF(ISBLANK('Data Input'!A199),\"\",SUM('Data Input'!H199,'Data Input'!AA199,'Data Input'!AO199,'Data Input'!AP199))","v":""},{"$f":"IF(G194=\"\",\"\",G194/COUNTIF('Data Input'!$C$8:$BU$8,\"CS\"))","v":""},{"$f":"IF(ISBLANK('Data Input'!A199),\"\",SUM('Data Input'!P199,'Data Input'!T199,'Data Input'!AD199,'Data Input'!AX199,'Data Input'!AY199))","v":""},{"$f":"IF(I194=\"\",\"\",I194/COUNTIF('Data Input'!$C$8:$BU$8,\"SE\"))","v":""},{"$f":"IF(ISBLANK('Data Input'!A199),\"\",SUM('Data Input'!K199,'Data Input'!L199,'Data Input'!M199,'Data Input'!O199,'Data Input'!Q199,'Data Input'!U199,'Data Input'!X199,'Data Input'!Y199,'Data Input'!Z199,'Data Input'!AB199,'Data Input'!AE199,'Data Input'!AG199,'Data Input'!AL199,'Data Input'!AU199,'Data Input'!AW199))","v":""},{"$f":"IF(K194=\"\",\"\",K194/COUNTIF('Data Input'!$C$8:$BU$8,\"P\"))","v":""},{"$f":"IF(ISBLANK('Data Input'!A199),\"\",SUM('Data Input'!I199,'Data Input'!S199))","v":""},{"$f":"IF(M194=\"\",\"\",M194/COUNTIF('Data Input'!$C$8:$BU$8,\"FS\"))","v":""},{"$f":"IF(ISBLANK('Data Input'!A199),\"\",SUM('Data Input'!D199,'Data Input'!E199,'Data Input'!F199,'Data Input'!G199,'Data Input'!R199,'Data Input'!V199,'Data Input'!W199,'Data Input'!AC199,'Data Input'!AF199,'Data Input'!AH199,'Data Input'!AJ199,'Data Input'!AK199,'Data Input'!AM199,'Data Input'!AQ199,'Data Input'!AR199,'Data Input'!AZ199))","v":""},{"$f":"IF(O194=\"\",\"\",O194/COUNTIF('Data Input'!$C$8:$BU$8,\"GT\"))","v":""},{"$f":"IF(ISBLANK('Data Input'!A199),\"\",SUM('Data Input'!C199,'Data Input'!J199,'Data Input'!N199,'Data Input'!AS199,'Data Input'!AT199,'Data Input'!AV199))","v":""},{"$f":"IF(Q194=\"\",\"\",Q194/COUNTIF('Data Input'!$C$8:$BU$8,\"V\"))","v":""},{"$f":"IF(ISBLANK('Data Input'!A199),\"\",SUM('Data Input'!AI199,'Data Input'!AN199))","v":""},{"$f":"IF(S194=\"\",\"\",S194/COUNTIF('Data Input'!$C$8:$BU$8,\"F/I\"))","v":""},{"$f":"IF(ISBLANK('Data Input'!C199),\"\",SUM('Data Input'!BB199:BU199))","v":""},{"$f":"IF(U194=\"\",\"\",U194/COUNTIF('Data Input'!$C$8:$BU$8,\"Sp\"))","v":""}]
[{"$f":"IF('Data Input'!A200=0,\"\",'Data Input'!A200)","v":""},{"$f":"IF(ISBLANK('Data Input'!A200),\"\",COUNTIF('Data Input'!C200:BU200,\"\")-1)","v":""},{"$f":"IF(ISBLANK('Data Input'!A200),\"\",COUNTIF('Data Input'!C200:BU200,\"0\"))","v":""},{"$f":"IF(ISBLANK('Data Input'!A200),\"\",SUM(B195,C195))","v":""},{"$f":"IF(ISBLANK('Data Input'!A200),\"\",SUM('Data Input'!C200:BU200))","v":""},{"$f":"IF(E195=\"\",\"\",E195/(COUNTA('Data Input'!$C$8:$BU$8)-1))","v":""},{"$f":"IF(ISBLANK('Data Input'!A200),\"\",SUM('Data Input'!H200,'Data Input'!AA200,'Data Input'!AO200,'Data Input'!AP200))","v":""},{"$f":"IF(G195=\"\",\"\",G195/COUNTIF('Data Input'!$C$8:$BU$8,\"CS\"))","v":""},{"$f":"IF(ISBLANK('Data Input'!A200),\"\",SUM('Data Input'!P200,'Data Input'!T200,'Data Input'!AD200,'Data Input'!AX200,'Data Input'!AY200))","v":""},{"$f":"IF(I195=\"\",\"\",I195/COUNTIF('Data Input'!$C$8:$BU$8,\"SE\"))","v":""},{"$f":"IF(ISBLANK('Data Input'!A200),\"\",SUM('Data Input'!K200,'Data Input'!L200,'Data Input'!M200,'Data Input'!O200,'Data Input'!Q200,'Data Input'!U200,'Data Input'!X200,'Data Input'!Y200,'Data Input'!Z200,'Data Input'!AB200,'Data Input'!AE200,'Data Input'!AG200,'Data Input'!AL200,'Data Input'!AU200,'Data Input'!AW200))","v":""},{"$f":"IF(K195=\"\",\"\",K195/COUNTIF('Data Input'!$C$8:$BU$8,\"P\"))","v":""},{"$f":"IF(ISBLANK('Data Input'!A200),\"\",SUM('Data Input'!I200,'Data Input'!S200))","v":""},{"$f":"IF(M195=\"\",\"\",M195/COUNTIF('Data Input'!$C$8:$BU$8,\"FS\"))","v":""},{"$f":"IF(ISBLANK('Data Input'!A200),\"\",SUM('Data Input'!D200,'Data Input'!E200,'Data Input'!F200,'Data Input'!G200,'Data Input'!R200,'Data Input'!V200,'Data Input'!W200,'Data Input'!AC200,'Data Input'!AF200,'Data Input'!AH200,'Data Input'!AJ200,'Data Input'!AK200,'Data Input'!AM200,'Data Input'!AQ200,'Data Input'!AR200,'Data Input'!AZ200))","v":""},{"$f":"IF(O195=\"\",\"\",O195/COUNTIF('Data Input'!$C$8:$BU$8,\"GT\"))","v":""},{"$f":"IF(ISBLANK('Data Input'!A200),\"\",SUM('Data Input'!C200,'Data Input'!J200,'Data Input'!N200,'Data Input'!AS200,'Data Input'!AT200,'Data Input'!AV200))","v":""},{"$f":"IF(Q195=\"\",\"\",Q195/COUNTIF('Data Input'!$C$8:$BU$8,\"V\"))","v":""},{"$f":"IF(ISBLANK('Data Input'!A200),\"\",SUM('Data Input'!AI200,'Data Input'!AN200))","v":""},{"$f":"IF(S195=\"\",\"\",S195/COUNTIF('Data Input'!$C$8:$BU$8,\"F/I\"))","v":""},{"$f":"IF(ISBLANK('Data Input'!C200),\"\",SUM('Data Input'!BB200:BU200))","v":""},{"$f":"IF(U195=\"\",\"\",U195/COUNTIF('Data Input'!$C$8:$BU$8,\"Sp\"))","v":""}]
[{"$f":"IF('Data Input'!A201=0,\"\",'Data Input'!A201)","v":""},{"$f":"IF(ISBLANK('Data Input'!A201),\"\",COUNTIF('Data Input'!C201:BU201,\"\")-1)","v":""},{"$f":"IF(ISBLANK('Data Input'!A201),\"\",COUNTIF('Data Input'!C201:BU201,\"0\"))","v":""},{"$f":"IF(ISBLANK('Data Input'!A201),\"\",SUM(B196,C196))","v":""},{"$f":"IF(ISBLANK('Data Input'!A201),\"\",SUM('Data Input'!C201:BU201))","v":""},{"$f":"IF(E196=\"\",\"\",E196/(COUNTA('Data Input'!$C$8:$BU$8)-1))","v":""},{"$f":"IF(ISBLANK('Data Input'!A201),\"\",SUM('Data Input'!H201,'Data Input'!AA201,'Data Input'!AO201,'Data Input'!AP201))","v":""},{"$f":"IF(G196=\"\",\"\",G196/COUNTIF('Data Input'!$C$8:$BU$8,\"CS\"))","v":""},{"$f":"IF(ISBLANK('Data Input'!A201),\"\",SUM('Data Input'!P201,'Data Input'!T201,'Data Input'!AD201,'Data Input'!AX201,'Data Input'!AY201))","v":""},{"$f":"IF(I196=\"\",\"\",I196/COUNTIF('Data Input'!$C$8:$BU$8,\"SE\"))","v":""},{"$f":"IF(ISBLANK('Data Input'!A201),\"\",SUM('Data Input'!K201,'Data Input'!L201,'Data Input'!M201,'Data Input'!O201,'Data Input'!Q201,'Data Input'!U201,'Data Input'!X201,'Data Input'!Y201,'Data Input'!Z201,'Data Input'!AB201,'Data Input'!AE201,'Data Input'!AG201,'Data Input'!AL201,'Data Input'!AU201,'Data Input'!AW201))","v":""},{"$f":"IF(K196=\"\",\"\",K196/COUNTIF('Data Input'!$C$8:$BU$8,\"P\"))","v":""},{"$f":"IF(ISBLANK('Data Input'!A201),\"\",SUM('Data Input'!I201,'Data Input'!S201))","v":""},{"$f":"IF(M196=\"\",\"\",M196/COUNTIF('Data Input'!$C$8:$BU$8,\"FS\"))","v":""},{"$f":"IF(ISBLANK('Data Input'!A201),\"\",SUM('Data Input'!D201,'Data Input'!E201,'Data Input'!F201,'Data Input'!G201,'Data Input'!R201,'Data Input'!V201,'Data Input'!W201,'Data Input'!AC201,'Data Input'!AF201,'Data Input'!AH201,'Data Input'!AJ201,'Data Input'!AK201,'Data Input'!AM201,'Data Input'!AQ201,'Data Input'!AR201,'Data Input'!AZ201))","v":""},{"$f":"IF(O196=\"\",\"\",O196/COUNTIF('Data Input'!$C$8:$BU$8,\"GT\"))","v":""},{"$f":"IF(ISBLANK('Data Input'!A201),\"\",SUM('Data Input'!C201,'Data Input'!J201,'Data Input'!N201,'Data Input'!AS201,'Data Input'!AT201,'Data Input'!AV201))","v":""},{"$f":"IF(Q196=\"\",\"\",Q196/COUNTIF('Data Input'!$C$8:$BU$8,\"V\"))","v":""},{"$f":"IF(ISBLANK('Data Input'!A201),\"\",SUM('Data Input'!AI201,'Data Input'!AN201))","v":""},{"$f":"IF(S196=\"\",\"\",S196/COUNTIF('Data Input'!$C$8:$BU$8,\"F/I\"))","v":""},{"$f":"IF(ISBLANK('Data Input'!C201),\"\",SUM('Data Input'!BB201:BU201))","v":""},{"$f":"IF(U196=\"\",\"\",U196/COUNTIF('Data Input'!$C$8:$BU$8,\"Sp\"))","v":""}]
[{"$f":"IF('Data Input'!A202=0,\"\",'Data Input'!A202)","v":""},{"$f":"IF(ISBLANK('Data Input'!A202),\"\",COUNTIF('Data Input'!C202:BU202,\"\")-1)","v":""},{"$f":"IF(ISBLANK('Data Input'!A202),\"\",COUNTIF('Data Input'!C202:BU202,\"0\"))","v":""},{"$f":"IF(ISBLANK('Data Input'!A202),\"\",SUM(B197,C197))","v":""},{"$f":"IF(ISBLANK('Data Input'!A202),\"\",SUM('Data Input'!C202:BU202))","v":""},{"$f":"IF(E197=\"\",\"\",E197/(COUNTA('Data Input'!$C$8:$BU$8)-1))","v":""},{"$f":"IF(ISBLANK('Data Input'!A202),\"\",SUM('Data Input'!H202,'Data Input'!AA202,'Data Input'!AO202,'Data Input'!AP202))","v":""},{"$f":"IF(G197=\"\",\"\",G197/COUNTIF('Data Input'!$C$8:$BU$8,\"CS\"))","v":""},{"$f":"IF(ISBLANK('Data Input'!A202),\"\",SUM('Data Input'!P202,'Data Input'!T202,'Data Input'!AD202,'Data Input'!AX202,'Data Input'!AY202))","v":""},{"$f":"IF(I197=\"\",\"\",I197/COUNTIF('Data Input'!$C$8:$BU$8,\"SE\"))","v":""},{"$f":"IF(ISBLANK('Data Input'!A202),\"\",SUM('Data Input'!K202,'Data Input'!L202,'Data Input'!M202,'Data Input'!O202,'Data Input'!Q202,'Data Input'!U202,'Data Input'!X202,'Data Input'!Y202,'Data Input'!Z202,'Data Input'!AB202,'Data Input'!AE202,'Data Input'!AG202,'Data Input'!AL202,'Data Input'!AU202,'Data Input'!AW202))","v":""},{"$f":"IF(K197=\"\",\"\",K197/COUNTIF('Data Input'!$C$8:$BU$8,\"P\"))","v":""},{"$f":"IF(ISBLANK('Data Input'!A202),\"\",SUM('Data Input'!I202,'Data Input'!S202))","v":""},{"$f":"IF(M197=\"\",\"\",M197/COUNTIF('Data Input'!$C$8:$BU$8,\"FS\"))","v":""},{"$f":"IF(ISBLANK('Data Input'!A202),\"\",SUM('Data Input'!D202,'Data Input'!E202,'Data Input'!F202,'Data Input'!G202,'Data Input'!R202,'Data Input'!V202,'Data Input'!W202,'Data Input'!AC202,'Data Input'!AF202,'Data Input'!AH202,'Data Input'!AJ202,'Data Input'!AK202,'Data Input'!AM202,'Data Input'!AQ202,'Data Input'!AR202,'Data Input'!AZ202))","v":""},{"$f":"IF(O197=\"\",\"\",O197/COUNTIF('Data Input'!$C$8:$BU$8,\"GT\"))","v":""},{"$f":"IF(ISBLANK('Data Input'!A202),\"\",SUM('Data Input'!C202,'Data Input'!J202,'Data Input'!N202,'Data Input'!AS202,'Data Input'!AT202,'Data Input'!AV202))","v":""},{"$f":"IF(Q197=\"\",\"\",Q197/COUNTIF('Data Input'!$C$8:$BU$8,\"V\"))","v":""},{"$f":"IF(ISBLANK('Data Input'!A202),\"\",SUM('Data Input'!AI202,'Data Input'!AN202))","v":""},{"$f":"IF(S197=\"\",\"\",S197/COUNTIF('Data Input'!$C$8:$BU$8,\"F/I\"))","v":""},{"$f":"IF(ISBLANK('Data Input'!C202),\"\",SUM('Data Input'!BB202:BU202))","v":""},{"$f":"IF(U197=\"\",\"\",U197/COUNTIF('Data Input'!$C$8:$BU$8,\"Sp\"))","v":""}]
[{"$f":"IF('Data Input'!A203=0,\"\",'Data Input'!A203)","v":""},{"$f":"IF(ISBLANK('Data Input'!A203),\"\",COUNTIF('Data Input'!C203:BU203,\"\")-1)","v":""},{"$f":"IF(ISBLANK('Data Input'!A203),\"\",COUNTIF('Data Input'!C203:BU203,\"0\"))","v":""},{"$f":"IF(ISBLANK('Data Input'!A203),\"\",SUM(B198,C198))","v":""},{"$f":"IF(ISBLANK('Data Input'!A203),\"\",SUM('Data Input'!C203:BU203))","v":""},{"$f":"IF(E198=\"\",\"\",E198/(COUNTA('Data Input'!$C$8:$BU$8)-1))","v":""},{"$f":"IF(ISBLANK('Data Input'!A203),\"\",SUM('Data Input'!H203,'Data Input'!AA203,'Data Input'!AO203,'Data Input'!AP203))","v":""},{"$f":"IF(G198=\"\",\"\",G198/COUNTIF('Data Input'!$C$8:$BU$8,\"CS\"))","v":""},{"$f":"IF(ISBLANK('Data Input'!A203),\"\",SUM('Data Input'!P203,'Data Input'!T203,'Data Input'!AD203,'Data Input'!AX203,'Data Input'!AY203))","v":""},{"$f":"IF(I198=\"\",\"\",I198/COUNTIF('Data Input'!$C$8:$BU$8,\"SE\"))","v":""},{"$f":"IF(ISBLANK('Data Input'!A203),\"\",SUM('Data Input'!K203,'Data Input'!L203,'Data Input'!M203,'Data Input'!O203,'Data Input'!Q203,'Data Input'!U203,'Data Input'!X203,'Data Input'!Y203,'Data Input'!Z203,'Data Input'!AB203,'Data Input'!AE203,'Data Input'!AG203,'Data Input'!AL203,'Data Input'!AU203,'Data Input'!AW203))","v":""},{"$f":"IF(K198=\"\",\"\",K198/COUNTIF('Data Input'!$C$8:$BU$8,\"P\"))","v":""},{"$f":"IF(ISBLANK('Data Input'!A203),\"\",SUM('Data Input'!I203,'Data Input'!S203))","v":""},{"$f":"IF(M198=\"\",\"\",M198/COUNTIF('Data Input'!$C$8:$BU$8,\"FS\"))","v":""},{"$f":"IF(ISBLANK('Data Input'!A203),\"\",SUM('Data Input'!D203,'Data Input'!E203,'Data Input'!F203,'Data Input'!G203,'Data Input'!R203,'Data Input'!V203,'Data Input'!W203,'Data Input'!AC203,'Data Input'!AF203,'Data Input'!AH203,'Data Input'!AJ203,'Data Input'!AK203,'Data Input'!AM203,'Data Input'!AQ203,'Data Input'!AR203,'Data Input'!AZ203))","v":""},{"$f":"IF(O198=\"\",\"\",O198/COUNTIF('Data Input'!$C$8:$BU$8,\"GT\"))","v":""},{"$f":"IF(ISBLANK('Data Input'!A203),\"\",SUM('Data Input'!C203,'Data Input'!J203,'Data Input'!N203,'Data Input'!AS203,'Data Input'!AT203,'Data Input'!AV203))","v":""},{"$f":"IF(Q198=\"\",\"\",Q198/COUNTIF('Data Input'!$C$8:$BU$8,\"V\"))","v":""},{"$f":"IF(ISBLANK('Data Input'!A203),\"\",SUM('Data Input'!AI203,'Data Input'!AN203))","v":""},{"$f":"IF(S198=\"\",\"\",S198/COUNTIF('Data Input'!$C$8:$BU$8,\"F/I\"))","v":""},{"$f":"IF(ISBLANK('Data Input'!C203),\"\",SUM('Data Input'!BB203:BU203))","v":""},{"$f":"IF(U198=\"\",\"\",U198/COUNTIF('Data Input'!$C$8:$BU$8,\"Sp\"))","v":""}]
[{"$f":"IF('Data Input'!A204=0,\"\",'Data Input'!A204)","v":""},{"$f":"IF(ISBLANK('Data Input'!A204),\"\",COUNTIF('Data Input'!C204:BU204,\"\")-1)","v":""},{"$f":"IF(ISBLANK('Data Input'!A204),\"\",COUNTIF('Data Input'!C204:BU204,\"0\"))","v":""},{"$f":"IF(ISBLANK('Data Input'!A204),\"\",SUM(B199,C199))","v":""},{"$f":"IF(ISBLANK('Data Input'!A204),\"\",SUM('Data Input'!C204:BU204))","v":""},{"$f":"IF(E199=\"\",\"\",E199/(COUNTA('Data Input'!$C$8:$BU$8)-1))","v":""},{"$f":"IF(ISBLANK('Data Input'!A204),\"\",SUM('Data Input'!H204,'Data Input'!AA204,'Data Input'!AO204,'Data Input'!AP204))","v":""},{"$f":"IF(G199=\"\",\"\",G199/COUNTIF('Data Input'!$C$8:$BU$8,\"CS\"))","v":""},{"$f":"IF(ISBLANK('Data Input'!A204),\"\",SUM('Data Input'!P204,'Data Input'!T204,'Data Input'!AD204,'Data Input'!AX204,'Data Input'!AY204))","v":""},{"$f":"IF(I199=\"\",\"\",I199/COUNTIF('Data Input'!$C$8:$BU$8,\"SE\"))","v":""},{"$f":"IF(ISBLANK('Data Input'!A204),\"\",SUM('Data Input'!K204,'Data Input'!L204,'Data Input'!M204,'Data Input'!O204,'Data Input'!Q204,'Data Input'!U204,'Data Input'!X204,'Data Input'!Y204,'Data Input'!Z204,'Data Input'!AB204,'Data Input'!AE204,'Data Input'!AG204,'Data Input'!AL204,'Data Input'!AU204,'Data Input'!AW204))","v":""},{"$f":"IF(K199=\"\",\"\",K199/COUNTIF('Data Input'!$C$8:$BU$8,\"P\"))","v":""},{"$f":"IF(ISBLANK('Data Input'!A204),\"\",SUM('Data Input'!I204,'Data Input'!S204))","v":""},{"$f":"IF(M199=\"\",\"\",M199/COUNTIF('Data Input'!$C$8:$BU$8,\"FS\"))","v":""},{"$f":"IF(ISBLANK('Data Input'!A204),\"\",SUM('Data Input'!D204,'Data Input'!E204,'Data Input'!F204,'Data Input'!G204,'Data Input'!R204,'Data Input'!V204,'Data Input'!W204,'Data Input'!AC204,'Data Input'!AF204,'Data Input'!AH204,'Data Input'!AJ204,'Data Input'!AK204,'Data Input'!AM204,'Data Input'!AQ204,'Data Input'!AR204,'Data Input'!AZ204))","v":""},{"$f":"IF(O199=\"\",\"\",O199/COUNTIF('Data Input'!$C$8:$BU$8,\"GT\"))","v":""},{"$f":"IF(ISBLANK('Data Input'!A204),\"\",SUM('Data Input'!C204,'Data Input'!J204,'Data Input'!N204,'Data Input'!AS204,'Data Input'!AT204,'Data Input'!AV204))","v":""},{"$f":"IF(Q199=\"\",\"\",Q199/COUNTIF('Data Input'!$C$8:$BU$8,\"V\"))","v":""},{"$f":"IF(ISBLANK('Data Input'!A204),\"\",SUM('Data Input'!AI204,'Data Input'!AN204))","v":""},{"$f":"IF(S199=\"\",\"\",S199/COUNTIF('Data Input'!$C$8:$BU$8,\"F/I\"))","v":""},{"$f":"IF(ISBLANK('Data Input'!C204),\"\",SUM('Data Input'!BB204:BU204))","v":""},{"$f":"IF(U199=\"\",\"\",U199/COUNTIF('Data Input'!$C$8:$BU$8,\"Sp\"))","v":""}]
[{"$f":"IF('Data Input'!A205=0,\"\",'Data Input'!A205)","v":""},{"$f":"IF(ISBLANK('Data Input'!A205),\"\",COUNTIF('Data Input'!C205:BU205,\"\")-1)","v":""},{"$f":"IF(ISBLANK('Data Input'!A205),\"\",COUNTIF('Data Input'!C205:BU205,\"0\"))","v":""},{"$f":"IF(ISBLANK('Data Input'!A205),\"\",SUM(B200,C200))","v":""},{"$f":"IF(ISBLANK('Data Input'!A205),\"\",SUM('Data Input'!C205:BU205))","v":""},{"$f":"IF(E200=\"\",\"\",E200/(COUNTA('Data Input'!$C$8:$BU$8)-1))","v":""},{"$f":"IF(ISBLANK('Data Input'!A205),\"\",SUM('Data Input'!H205,'Data Input'!AA205,'Data Input'!AO205,'Data Input'!AP205))","v":""},{"$f":"IF(G200=\"\",\"\",G200/COUNTIF('Data Input'!$C$8:$BU$8,\"CS\"))","v":""},{"$f":"IF(ISBLANK('Data Input'!A205),\"\",SUM('Data Input'!P205,'Data Input'!T205,'Data Input'!AD205,'Data Input'!AX205,'Data Input'!AY205))","v":""},{"$f":"IF(I200=\"\",\"\",I200/COUNTIF('Data Input'!$C$8:$BU$8,\"SE\"))","v":""},{"$f":"IF(ISBLANK('Data Input'!A205),\"\",SUM('Data Input'!K205,'Data Input'!L205,'Data Input'!M205,'Data Input'!O205,'Data Input'!Q205,'Data Input'!U205,'Data Input'!X205,'Data Input'!Y205,'Data Input'!Z205,'Data Input'!AB205,'Data Input'!AE205,'Data Input'!AG205,'Data Input'!AL205,'Data Input'!AU205,'Data Input'!AW205))","v":""},{"$f":"IF(K200=\"\",\"\",K200/COUNTIF('Data Input'!$C$8:$BU$8,\"P\"))","v":""},{"$f":"IF(ISBLANK('Data Input'!A205),\"\",SUM('Data Input'!I205,'Data Input'!S205))","v":""},{"$f":"IF(M200=\"\",\"\",M200/COUNTIF('Data Input'!$C$8:$BU$8,\"FS\"))","v":""},{"$f":"IF(ISBLANK('Data Input'!A205),\"\",SUM('Data Input'!D205,'Data Input'!E205,'Data Input'!F205,'Data Input'!G205,'Data Input'!R205,'Data Input'!V205,'Data Input'!W205,'Data Input'!AC205,'Data Input'!AF205,'Data Input'!AH205,'Data Input'!AJ205,'Data Input'!AK205,'Data Input'!AM205,'Data Input'!AQ205,'Data Input'!AR205,'Data Input'!AZ205))","v":""},{"$f":"IF(O200=\"\",\"\",O200/COUNTIF('Data Input'!$C$8:$BU$8,\"GT\"))","v":""},{"$f":"IF(ISBLANK('Data Input'!A205),\"\",SUM('Data Input'!C205,'Data Input'!J205,'Data Input'!N205,'Data Input'!AS205,'Data Input'!AT205,'Data Input'!AV205))","v":""},{"$f":"IF(Q200=\"\",\"\",Q200/COUNTIF('Data Input'!$C$8:$BU$8,\"V\"))","v":""},{"$f":"IF(ISBLANK('Data Input'!A205),\"\",SUM('Data Input'!AI205,'Data Input'!AN205))","v":""},{"$f":"IF(S200=\"\",\"\",S200/COUNTIF('Data Input'!$C$8:$BU$8,\"F/I\"))","v":""},{"$f":"IF(ISBLANK('Data Input'!C205),\"\",SUM('Data Input'!BB205:BU205))","v":""},{"$f":"IF(U200=\"\",\"\",U200/COUNTIF('Data Input'!$C$8:$BU$8,\"Sp\"))","v":""}]
[{"$f":"IF('Data Input'!A206=0,\"\",'Data Input'!A206)","v":""},{"$f":"IF(ISBLANK('Data Input'!A206),\"\",COUNTIF('Data Input'!C206:BU206,\"\")-1)","v":""},{"$f":"IF(ISBLANK('Data Input'!A206),\"\",COUNTIF('Data Input'!C206:BU206,\"0\"))","v":""},{"$f":"IF(ISBLANK('Data Input'!A206),\"\",SUM(B201,C201))","v":""},{"$f":"IF(ISBLANK('Data Input'!A206),\"\",SUM('Data Input'!C206:BU206))","v":""},{"$f":"IF(E201=\"\",\"\",E201/(COUNTA('Data Input'!$C$8:$BU$8)-1))","v":""},{"$f":"IF(ISBLANK('Data Input'!A206),\"\",SUM('Data Input'!H206,'Data Input'!AA206,'Data Input'!AO206,'Data Input'!AP206))","v":""},{"$f":"IF(G201=\"\",\"\",G201/COUNTIF('Data Input'!$C$8:$BU$8,\"CS\"))","v":""},{"$f":"IF(ISBLANK('Data Input'!A206),\"\",SUM('Data Input'!P206,'Data Input'!T206,'Data Input'!AD206,'Data Input'!AX206,'Data Input'!AY206))","v":""},{"$f":"IF(I201=\"\",\"\",I201/COUNTIF('Data Input'!$C$8:$BU$8,\"SE\"))","v":""},{"$f":"IF(ISBLANK('Data Input'!A206),\"\",SUM('Data Input'!K206,'Data Input'!L206,'Data Input'!M206,'Data Input'!O206,'Data Input'!Q206,'Data Input'!U206,'Data Input'!X206,'Data Input'!Y206,'Data Input'!Z206,'Data Input'!AB206,'Data Input'!AE206,'Data Input'!AG206,'Data Input'!AL206,'Data Input'!AU206,'Data Input'!AW206))","v":""},{"$f":"IF(K201=\"\",\"\",K201/COUNTIF('Data Input'!$C$8:$BU$8,\"P\"))","v":""},{"$f":"IF(ISBLANK('Data Input'!A206),\"\",SUM('Data Input'!I206,'Data Input'!S206))","v":""},{"$f":"IF(M201=\"\",\"\",M201/COUNTIF('Data Input'!$C$8:$BU$8,\"FS\"))","v":""},{"$f":"IF(ISBLANK('Data Input'!A206),\"\",SUM('Data Input'!D206,'Data Input'!E206,'Data Input'!F206,'Data Input'!G206,'Data Input'!R206,'Data Input'!V206,'Data Input'!W206,'Data Input'!AC206,'Data Input'!AF206,'Data Input'!AH206,'Data Input'!AJ206,'Data Input'!AK206,'Data Input'!AM206,'Data Input'!AQ206,'Data Input'!AR206,'Data Input'!AZ206))","v":""},{"$f":"IF(O201=\"\",\"\",O201/COUNTIF('Data Input'!$C$8:$BU$8,\"GT\"))","v":""},{"$f":"IF(ISBLANK('Data Input'!A206),\"\",SUM('Data Input'!C206,'Data Input'!J206,'Data Input'!N206,'Data Input'!AS206,'Data Input'!AT206,'Data Input'!AV206))","v":""},{"$f":"IF(Q201=\"\",\"\",Q201/COUNTIF('Data Input'!$C$8:$BU$8,\"V\"))","v":""},{"$f":"IF(ISBLANK('Data Input'!A206),\"\",SUM('Data Input'!AI206,'Data Input'!AN206))","v":""},{"$f":"IF(S201=\"\",\"\",S201/COUNTIF('Data Input'!$C$8:$BU$8,\"F/I\"))","v":""},{"$f":"IF(ISBLANK('Data Input'!C206),\"\",SUM('Data Input'!BB206:BU206))","v":""},{"$f":"IF(U201=\"\",\"\",U201/COUNTIF('Data Input'!$C$8:$BU$8,\"Sp\"))","v":""}]
[{"$f":"IF('Data Input'!A207=0,\"\",'Data Input'!A207)","v":""},{"$f":"IF(ISBLANK('Data Input'!A207),\"\",COUNTIF('Data Input'!C207:BU207,\"\")-1)","v":""},{"$f":"IF(ISBLANK('Data Input'!A207),\"\",COUNTIF('Data Input'!C207:BU207,\"0\"))","v":""},{"$f":"IF(ISBLANK('Data Input'!A207),\"\",SUM(B202,C202))","v":""},{"$f":"IF(ISBLANK('Data Input'!A207),\"\",SUM('Data Input'!C207:BU207))","v":""},{"$f":"IF(E202=\"\",\"\",E202/(COUNTA('Data Input'!$C$8:$BU$8)-1))","v":""},{"$f":"IF(ISBLANK('Data Input'!A207),\"\",SUM('Data Input'!H207,'Data Input'!AA207,'Data Input'!AO207,'Data Input'!AP207))","v":""},{"$f":"IF(G202=\"\",\"\",G202/COUNTIF('Data Input'!$C$8:$BU$8,\"CS\"))","v":""},{"$f":"IF(ISBLANK('Data Input'!A207),\"\",SUM('Data Input'!P207,'Data Input'!T207,'Data Input'!AD207,'Data Input'!AX207,'Data Input'!AY207))","v":""},{"$f":"IF(I202=\"\",\"\",I202/COUNTIF('Data Input'!$C$8:$BU$8,\"SE\"))","v":""},{"$f":"IF(ISBLANK('Data Input'!A207),\"\",SUM('Data Input'!K207,'Data Input'!L207,'Data Input'!M207,'Data Input'!O207,'Data Input'!Q207,'Data Input'!U207,'Data Input'!X207,'Data Input'!Y207,'Data Input'!Z207,'Data Input'!AB207,'Data Input'!AE207,'Data Input'!AG207,'Data Input'!AL207,'Data Input'!AU207,'Data Input'!AW207))","v":""},{"$f":"IF(K202=\"\",\"\",K202/COUNTIF('Data Input'!$C$8:$BU$8,\"P\"))","v":""},{"$f":"IF(ISBLANK('Data Input'!A207),\"\",SUM('Data Input'!I207,'Data Input'!S207))","v":""},{"$f":"IF(M202=\"\",\"\",M202/COUNTIF('Data Input'!$C$8:$BU$8,\"FS\"))","v":""},{"$f":"IF(ISBLANK('Data Input'!A207),\"\",SUM('Data Input'!D207,'Data Input'!E207,'Data Input'!F207,'Data Input'!G207,'Data Input'!R207,'Data Input'!V207,'Data Input'!W207,'Data Input'!AC207,'Data Input'!AF207,'Data Input'!AH207,'Data Input'!AJ207,'Data Input'!AK207,'Data Input'!AM207,'Data Input'!AQ207,'Data Input'!AR207,'Data Input'!AZ207))","v":""},{"$f":"IF(O202=\"\",\"\",O202/COUNTIF('Data Input'!$C$8:$BU$8,\"GT\"))","v":""},{"$f":"IF(ISBLANK('Data Input'!A207),\"\",SUM('Data Input'!C207,'Data Input'!J207,'Data Input'!N207,'Data Input'!AS207,'Data Input'!AT207,'Data Input'!AV207))","v":""},{"$f":"IF(Q202=\"\",\"\",Q202/COUNTIF('Data Input'!$C$8:$BU$8,\"V\"))","v":""},{"$f":"IF(ISBLANK('Data Input'!A207),\"\",SUM('Data Input'!AI207,'Data Input'!AN207))","v":""},{"$f":"IF(S202=\"\",\"\",S202/COUNTIF('Data Input'!$C$8:$BU$8,\"F/I\"))","v":""},{"$f":"IF(ISBLANK('Data Input'!C207),\"\",SUM('Data Input'!BB207:BU207))","v":""},{"$f":"IF(U202=\"\",\"\",U202/COUNTIF('Data Input'!$C$8:$BU$8,\"Sp\"))","v":""}]
[{"$f":"IF('Data Input'!A208=0,\"\",'Data Input'!A208)","v":""},{"$f":"IF(ISBLANK('Data Input'!A208),\"\",COUNTIF('Data Input'!C208:BU208,\"\")-1)","v":""},{"$f":"IF(ISBLANK('Data Input'!A208),\"\",COUNTIF('Data Input'!C208:BU208,\"0\"))","v":""},{"$f":"IF(ISBLANK('Data Input'!A208),\"\",SUM(B203,C203))","v":""},{"$f":"IF(ISBLANK('Data Input'!A208),\"\",SUM('Data Input'!C208:BU208))","v":""},{"$f":"IF(E203=\"\",\"\",E203/(COUNTA('Data Input'!$C$8:$BU$8)-1))","v":""},{"$f":"IF(ISBLANK('Data Input'!A208),\"\",SUM('Data Input'!H208,'Data Input'!AA208,'Data Input'!AO208,'Data Input'!AP208))","v":""},{"$f":"IF(G203=\"\",\"\",G203/COUNTIF('Data Input'!$C$8:$BU$8,\"CS\"))","v":""},{"$f":"IF(ISBLANK('Data Input'!A208),\"\",SUM('Data Input'!P208,'Data Input'!T208,'Data Input'!AD208,'Data Input'!AX208,'Data Input'!AY208))","v":""},{"$f":"IF(I203=\"\",\"\",I203/COUNTIF('Data Input'!$C$8:$BU$8,\"SE\"))","v":""},{"$f":"IF(ISBLANK('Data Input'!A208),\"\",SUM('Data Input'!K208,'Data Input'!L208,'Data Input'!M208,'Data Input'!O208,'Data Input'!Q208,'Data Input'!U208,'Data Input'!X208,'Data Input'!Y208,'Data Input'!Z208,'Data Input'!AB208,'Data Input'!AE208,'Data Input'!AG208,'Data Input'!AL208,'Data Input'!AU208,'Data Input'!AW208))","v":""},{"$f":"IF(K203=\"\",\"\",K203/COUNTIF('Data Input'!$C$8:$BU$8,\"P\"))","v":""},{"$f":"IF(ISBLANK('Data Input'!A208),\"\",SUM('Data Input'!I208,'Data Input'!S208))","v":""},{"$f":"IF(M203=\"\",\"\",M203/COUNTIF('Data Input'!$C$8:$BU$8,\"FS\"))","v":""},{"$f":"IF(ISBLANK('Data Input'!A208),\"\",SUM('Data Input'!D208,'Data Input'!E208,'Data Input'!F208,'Data Input'!G208,'Data Input'!R208,'Data Input'!V208,'Data Input'!W208,'Data Input'!AC208,'Data Input'!AF208,'Data Input'!AH208,'Data Input'!AJ208,'Data Input'!AK208,'Data Input'!AM208,'Data Input'!AQ208,'Data Input'!AR208,'Data Input'!AZ208))","v":""},{"$f":"IF(O203=\"\",\"\",O203/COUNTIF('Data Input'!$C$8:$BU$8,\"GT\"))","v":""},{"$f":"IF(ISBLANK('Data Input'!A208),\"\",SUM('Data Input'!C208,'Data Input'!J208,'Data Input'!N208,'Data Input'!AS208,'Data Input'!AT208,'Data Input'!AV208))","v":""},{"$f":"IF(Q203=\"\",\"\",Q203/COUNTIF('Data Input'!$C$8:$BU$8,\"V\"))","v":""},{"$f":"IF(ISBLANK('Data Input'!A208),\"\",SUM('Data Input'!AI208,'Data Input'!AN208))","v":""},{"$f":"IF(S203=\"\",\"\",S203/COUNTIF('Data Input'!$C$8:$BU$8,\"F/I\"))","v":""},{"$f":"IF(ISBLANK('Data Input'!C208),\"\",SUM('Data Input'!BB208:BU208))","v":""},{"$f":"IF(U203=\"\",\"\",U203/COUNTIF('Data Input'!$C$8:$BU$8,\"Sp\"))","v":""}]
[{"$f":"IF('Data Input'!A209=0,\"\",'Data Input'!A209)","v":""},{"$f":"IF(ISBLANK('Data Input'!A209),\"\",COUNTIF('Data Input'!C209:BU209,\"\")-1)","v":""},{"$f":"IF(ISBLANK('Data Input'!A209),\"\",COUNTIF('Data Input'!C209:BU209,\"0\"))","v":""},{"$f":"IF(ISBLANK('Data Input'!A209),\"\",SUM(B204,C204))","v":""},{"$f":"IF(ISBLANK('Data Input'!A209),\"\",SUM('Data Input'!C209:BU209))","v":""},{"$f":"IF(E204=\"\",\"\",E204/(COUNTA('Data Input'!$C$8:$BU$8)-1))","v":""},{"$f":"IF(ISBLANK('Data Input'!A209),\"\",SUM('Data Input'!H209,'Data Input'!AA209,'Data Input'!AO209,'Data Input'!AP209))","v":""},{"$f":"IF(G204=\"\",\"\",G204/COUNTIF('Data Input'!$C$8:$BU$8,\"CS\"))","v":""},{"$f":"IF(ISBLANK('Data Input'!A209),\"\",SUM('Data Input'!P209,'Data Input'!T209,'Data Input'!AD209,'Data Input'!AX209,'Data Input'!AY209))","v":""},{"$f":"IF(I204=\"\",\"\",I204/COUNTIF('Data Input'!$C$8:$BU$8,\"SE\"))","v":""},{"$f":"IF(ISBLANK('Data Input'!A209),\"\",SUM('Data Input'!K209,'Data Input'!L209,'Data Input'!M209,'Data Input'!O209,'Data Input'!Q209,'Data Input'!U209,'Data Input'!X209,'Data Input'!Y209,'Data Input'!Z209,'Data Input'!AB209,'Data Input'!AE209,'Data Input'!AG209,'Data Input'!AL209,'Data Input'!AU209,'Data Input'!AW209))","v":""},{"$f":"IF(K204=\"\",\"\",K204/COUNTIF('Data Input'!$C$8:$BU$8,\"P\"))","v":""},{"$f":"IF(ISBLANK('Data Input'!A209),\"\",SUM('Data Input'!I209,'Data Input'!S209))","v":""},{"$f":"IF(M204=\"\",\"\",M204/COUNTIF('Data Input'!$C$8:$BU$8,\"FS\"))","v":""},{"$f":"IF(ISBLANK('Data Input'!A209),\"\",SUM('Data Input'!D209,'Data Input'!E209,'Data Input'!F209,'Data Input'!G209,'Data Input'!R209,'Data Input'!V209,'Data Input'!W209,'Data Input'!AC209,'Data Input'!AF209,'Data Input'!AH209,'Data Input'!AJ209,'Data Input'!AK209,'Data Input'!AM209,'Data Input'!AQ209,'Data Input'!AR209,'Data Input'!AZ209))","v":""},{"$f":"IF(O204=\"\",\"\",O204/COUNTIF('Data Input'!$C$8:$BU$8,\"GT\"))","v":""},{"$f":"IF(ISBLANK('Data Input'!A209),\"\",SUM('Data Input'!C209,'Data Input'!J209,'Data Input'!N209,'Data Input'!AS209,'Data Input'!AT209,'Data Input'!AV209))","v":""},{"$f":"IF(Q204=\"\",\"\",Q204/COUNTIF('Data Input'!$C$8:$BU$8,\"V\"))","v":""},{"$f":"IF(ISBLANK('Data Input'!A209),\"\",SUM('Data Input'!AI209,'Data Input'!AN209))","v":""},{"$f":"IF(S204=\"\",\"\",S204/COUNTIF('Data Input'!$C$8:$BU$8,\"F/I\"))","v":""},{"$f":"IF(ISBLANK('Data Input'!C209),\"\",SUM('Data Input'!BB209:BU209))","v":""},{"$f":"IF(U204=\"\",\"\",U204/COUNTIF('Data Input'!$C$8:$BU$8,\"Sp\"))","v":""}]
[{"$f":"IF('Data Input'!A210=0,\"\",'Data Input'!A210)","v":""},{"$f":"IF(ISBLANK('Data Input'!A210),\"\",COUNTIF('Data Input'!C210:BU210,\"\")-1)","v":""},{"$f":"IF(ISBLANK('Data Input'!A210),\"\",COUNTIF('Data Input'!C210:BU210,\"0\"))","v":""},{"$f":"IF(ISBLANK('Data Input'!A210),\"\",SUM(B205,C205))","v":""},{"$f":"IF(ISBLANK('Data Input'!A210),\"\",SUM('Data Input'!C210:BU210))","v":""},{"$f":"IF(E205=\"\",\"\",E205/(COUNTA('Data Input'!$C$8:$BU$8)-1))","v":""},{"$f":"IF(ISBLANK('Data Input'!A210),\"\",SUM('Data Input'!H210,'Data Input'!AA210,'Data Input'!AO210,'Data Input'!AP210))","v":""},{"$f":"IF(G205=\"\",\"\",G205/COUNTIF('Data Input'!$C$8:$BU$8,\"CS\"))","v":""},{"$f":"IF(ISBLANK('Data Input'!A210),\"\",SUM('Data Input'!P210,'Data Input'!T210,'Data Input'!AD210,'Data Input'!AX210,'Data Input'!AY210))","v":""},{"$f":"IF(I205=\"\",\"\",I205/COUNTIF('Data Input'!$C$8:$BU$8,\"SE\"))","v":""},{"$f":"IF(ISBLANK('Data Input'!A210),\"\",SUM('Data Input'!K210,'Data Input'!L210,'Data Input'!M210,'Data Input'!O210,'Data Input'!Q210,'Data Input'!U210,'Data Input'!X210,'Data Input'!Y210,'Data Input'!Z210,'Data Input'!AB210,'Data Input'!AE210,'Data Input'!AG210,'Data Input'!AL210,'Data Input'!AU210,'Data Input'!AW210))","v":""},{"$f":"IF(K205=\"\",\"\",K205/COUNTIF('Data Input'!$C$8:$BU$8,\"P\"))","v":""},{"$f":"IF(ISBLANK('Data Input'!A210),\"\",SUM('Data Input'!I210,'Data Input'!S210))","v":""},{"$f":"IF(M205=\"\",\"\",M205/COUNTIF('Data Input'!$C$8:$BU$8,\"FS\"))","v":""},{"$f":"IF(ISBLANK('Data Input'!A210),\"\",SUM('Data Input'!D210,'Data Input'!E210,'Data Input'!F210,'Data Input'!G210,'Data Input'!R210,'Data Input'!V210,'Data Input'!W210,'Data Input'!AC210,'Data Input'!AF210,'Data Input'!AH210,'Data Input'!AJ210,'Data Input'!AK210,'Data Input'!AM210,'Data Input'!AQ210,'Data Input'!AR210,'Data Input'!AZ210))","v":""},{"$f":"IF(O205=\"\",\"\",O205/COUNTIF('Data Input'!$C$8:$BU$8,\"GT\"))","v":""},{"$f":"IF(ISBLANK('Data Input'!A210),\"\",SUM('Data Input'!C210,'Data Input'!J210,'Data Input'!N210,'Data Input'!AS210,'Data Input'!AT210,'Data Input'!AV210))","v":""},{"$f":"IF(Q205=\"\",\"\",Q205/COUNTIF('Data Input'!$C$8:$BU$8,\"V\"))","v":""},{"$f":"IF(ISBLANK('Data Input'!A210),\"\",SUM('Data Input'!AI210,'Data Input'!AN210))","v":""},{"$f":"IF(S205=\"\",\"\",S205/COUNTIF('Data Input'!$C$8:$BU$8,\"F/I\"))","v":""},{"$f":"IF(ISBLANK('Data Input'!C210),\"\",SUM('Data Input'!BB210:BU210))","v":""},{"$f":"IF(U205=\"\",\"\",U205/COUNTIF('Data Input'!$C$8:$BU$8,\"Sp\"))","v":""}]
[{"$f":"IF('Data Input'!A211=0,\"\",'Data Input'!A211)","v":""},{"$f":"IF(ISBLANK('Data Input'!A211),\"\",COUNTIF('Data Input'!C211:BU211,\"\")-1)","v":""},{"$f":"IF(ISBLANK('Data Input'!A211),\"\",COUNTIF('Data Input'!C211:BU211,\"0\"))","v":""},{"$f":"IF(ISBLANK('Data Input'!A211),\"\",SUM(B206,C206))","v":""},{"$f":"IF(ISBLANK('Data Input'!A211),\"\",SUM('Data Input'!C211:BU211))","v":""},{"$f":"IF(E206=\"\",\"\",E206/(COUNTA('Data Input'!$C$8:$BU$8)-1))","v":""},{"$f":"IF(ISBLANK('Data Input'!A211),\"\",SUM('Data Input'!H211,'Data Input'!AA211,'Data Input'!AO211,'Data Input'!AP211))","v":""},{"$f":"IF(G206=\"\",\"\",G206/COUNTIF('Data Input'!$C$8:$BU$8,\"CS\"))","v":""},{"$f":"IF(ISBLANK('Data Input'!A211),\"\",SUM('Data Input'!P211,'Data Input'!T211,'Data Input'!AD211,'Data Input'!AX211,'Data Input'!AY211))","v":""},{"$f":"IF(I206=\"\",\"\",I206/COUNTIF('Data Input'!$C$8:$BU$8,\"SE\"))","v":""},{"$f":"IF(ISBLANK('Data Input'!A211),\"\",SUM('Data Input'!K211,'Data Input'!L211,'Data Input'!M211,'Data Input'!O211,'Data Input'!Q211,'Data Input'!U211,'Data Input'!X211,'Data Input'!Y211,'Data Input'!Z211,'Data Input'!AB211,'Data Input'!AE211,'Data Input'!AG211,'Data Input'!AL211,'Data Input'!AU211,'Data Input'!AW211))","v":""},{"$f":"IF(K206=\"\",\"\",K206/COUNTIF('Data Input'!$C$8:$BU$8,\"P\"))","v":""},{"$f":"IF(ISBLANK('Data Input'!A211),\"\",SUM('Data Input'!I211,'Data Input'!S211))","v":""},{"$f":"IF(M206=\"\",\"\",M206/COUNTIF('Data Input'!$C$8:$BU$8,\"FS\"))","v":""},{"$f":"IF(ISBLANK('Data Input'!A211),\"\",SUM('Data Input'!D211,'Data Input'!E211,'Data Input'!F211,'Data Input'!G211,'Data Input'!R211,'Data Input'!V211,'Data Input'!W211,'Data Input'!AC211,'Data Input'!AF211,'Data Input'!AH211,'Data Input'!AJ211,'Data Input'!AK211,'Data Input'!AM211,'Data Input'!AQ211,'Data Input'!AR211,'Data Input'!AZ211))","v":""},{"$f":"IF(O206=\"\",\"\",O206/COUNTIF('Data Input'!$C$8:$BU$8,\"GT\"))","v":""},{"$f":"IF(ISBLANK('Data Input'!A211),\"\",SUM('Data Input'!C211,'Data Input'!J211,'Data Input'!N211,'Data Input'!AS211,'Data Input'!AT211,'Data Input'!AV211))","v":""},{"$f":"IF(Q206=\"\",\"\",Q206/COUNTIF('Data Input'!$C$8:$BU$8,\"V\"))","v":""},{"$f":"IF(ISBLANK('Data Input'!A211),\"\",SUM('Data Input'!AI211,'Data Input'!AN211))","v":""},{"$f":"IF(S206=\"\",\"\",S206/COUNTIF('Data Input'!$C$8:$BU$8,\"F/I\"))","v":""},{"$f":"IF(ISBLANK('Data Input'!C211),\"\",SUM('Data Input'!BB211:BU211))","v":""},{"$f":"IF(U206=\"\",\"\",U206/COUNTIF('Data Input'!$C$8:$BU$8,\"Sp\"))","v":""}]
[{"$f":"IF('Data Input'!A212=0,\"\",'Data Input'!A212)","v":""},{"$f":"IF(ISBLANK('Data Input'!A212),\"\",COUNTIF('Data Input'!C212:BU212,\"\")-1)","v":""},{"$f":"IF(ISBLANK('Data Input'!A212),\"\",COUNTIF('Data Input'!C212:BU212,\"0\"))","v":""},{"$f":"IF(ISBLANK('Data Input'!A212),\"\",SUM(B207,C207))","v":""},{"$f":"IF(ISBLANK('Data Input'!A212),\"\",SUM('Data Input'!C212:BU212))","v":""},{"$f":"IF(E207=\"\",\"\",E207/(COUNTA('Data Input'!$C$8:$BU$8)-1))","v":""},{"$f":"IF(ISBLANK('Data Input'!A212),\"\",SUM('Data Input'!H212,'Data Input'!AA212,'Data Input'!AO212,'Data Input'!AP212))","v":""},{"$f":"IF(G207=\"\",\"\",G207/COUNTIF('Data Input'!$C$8:$BU$8,\"CS\"))","v":""},{"$f":"IF(ISBLANK('Data Input'!A212),\"\",SUM('Data Input'!P212,'Data Input'!T212,'Data Input'!AD212,'Data Input'!AX212,'Data Input'!AY212))","v":""},{"$f":"IF(I207=\"\",\"\",I207/COUNTIF('Data Input'!$C$8:$BU$8,\"SE\"))","v":""},{"$f":"IF(ISBLANK('Data Input'!A212),\"\",SUM('Data Input'!K212,'Data Input'!L212,'Data Input'!M212,'Data Input'!O212,'Data Input'!Q212,'Data Input'!U212,'Data Input'!X212,'Data Input'!Y212,'Data Input'!Z212,'Data Input'!AB212,'Data Input'!AE212,'Data Input'!AG212,'Data Input'!AL212,'Data Input'!AU212,'Data Input'!AW212))","v":""},{"$f":"IF(K207=\"\",\"\",K207/COUNTIF('Data Input'!$C$8:$BU$8,\"P\"))","v":""},{"$f":"IF(ISBLANK('Data Input'!A212),\"\",SUM('Data Input'!I212,'Data Input'!S212))","v":""},{"$f":"IF(M207=\"\",\"\",M207/COUNTIF('Data Input'!$C$8:$BU$8,\"FS\"))","v":""},{"$f":"IF(ISBLANK('Data Input'!A212),\"\",SUM('Data Input'!D212,'Data Input'!E212,'Data Input'!F212,'Data Input'!G212,'Data Input'!R212,'Data Input'!V212,'Data Input'!W212,'Data Input'!AC212,'Data Input'!AF212,'Data Input'!AH212,'Data Input'!AJ212,'Data Input'!AK212,'Data Input'!AM212,'Data Input'!AQ212,'Data Input'!AR212,'Data Input'!AZ212))","v":""},{"$f":"IF(O207=\"\",\"\",O207/COUNTIF('Data Input'!$C$8:$BU$8,\"GT\"))","v":""},{"$f":"IF(ISBLANK('Data Input'!A212),\"\",SUM('Data Input'!C212,'Data Input'!J212,'Data Input'!N212,'Data Input'!AS212,'Data Input'!AT212,'Data Input'!AV212))","v":""},{"$f":"IF(Q207=\"\",\"\",Q207/COUNTIF('Data Input'!$C$8:$BU$8,\"V\"))","v":""},{"$f":"IF(ISBLANK('Data Input'!A212),\"\",SUM('Data Input'!AI212,'Data Input'!AN212))","v":""},{"$f":"IF(S207=\"\",\"\",S207/COUNTIF('Data Input'!$C$8:$BU$8,\"F/I\"))","v":""},{"$f":"IF(ISBLANK('Data Input'!C212),\"\",SUM('Data Input'!BB212:BU212))","v":""},{"$f":"IF(U207=\"\",\"\",U207/COUNTIF('Data Input'!$C$8:$BU$8,\"Sp\"))","v":""}]
[{"$f":"IF('Data Input'!A213=0,\"\",'Data Input'!A213)","v":""},{"$f":"IF(ISBLANK('Data Input'!A213),\"\",COUNTIF('Data Input'!C213:BU213,\"\")-1)","v":""},{"$f":"IF(ISBLANK('Data Input'!A213),\"\",COUNTIF('Data Input'!C213:BU213,\"0\"))","v":""},{"$f":"IF(ISBLANK('Data Input'!A213),\"\",SUM(B208,C208))","v":""},{"$f":"IF(ISBLANK('Data Input'!A213),\"\",SUM('Data Input'!C213:BU213))","v":""},{"$f":"IF(E208=\"\",\"\",E208/(COUNTA('Data Input'!$C$8:$BU$8)-1))","v":""},{"$f":"IF(ISBLANK('Data Input'!A213),\"\",SUM('Data Input'!H213,'Data Input'!AA213,'Data Input'!AO213,'Data Input'!AP213))","v":""},{"$f":"IF(G208=\"\",\"\",G208/COUNTIF('Data Input'!$C$8:$BU$8,\"CS\"))","v":""},{"$f":"IF(ISBLANK('Data Input'!A213),\"\",SUM('Data Input'!P213,'Data Input'!T213,'Data Input'!AD213,'Data Input'!AX213,'Data Input'!AY213))","v":""},{"$f":"IF(I208=\"\",\"\",I208/COUNTIF('Data Input'!$C$8:$BU$8,\"SE\"))","v":""},{"$f":"IF(ISBLANK('Data Input'!A213),\"\",SUM('Data Input'!K213,'Data Input'!L213,'Data Input'!M213,'Data Input'!O213,'Data Input'!Q213,'Data Input'!U213,'Data Input'!X213,'Data Input'!Y213,'Data Input'!Z213,'Data Input'!AB213,'Data Input'!AE213,'Data Input'!AG213,'Data Input'!AL213,'Data Input'!AU213,'Data Input'!AW213))","v":""},{"$f":"IF(K208=\"\",\"\",K208/COUNTIF('Data Input'!$C$8:$BU$8,\"P\"))","v":""},{"$f":"IF(ISBLANK('Data Input'!A213),\"\",SUM('Data Input'!I213,'Data Input'!S213))","v":""},{"$f":"IF(M208=\"\",\"\",M208/COUNTIF('Data Input'!$C$8:$BU$8,\"FS\"))","v":""},{"$f":"IF(ISBLANK('Data Input'!A213),\"\",SUM('Data Input'!D213,'Data Input'!E213,'Data Input'!F213,'Data Input'!G213,'Data Input'!R213,'Data Input'!V213,'Data Input'!W213,'Data Input'!AC213,'Data Input'!AF213,'Data Input'!AH213,'Data Input'!AJ213,'Data Input'!AK213,'Data Input'!AM213,'Data Input'!AQ213,'Data Input'!AR213,'Data Input'!AZ213))","v":""},{"$f":"IF(O208=\"\",\"\",O208/COUNTIF('Data Input'!$C$8:$BU$8,\"GT\"))","v":""},{"$f":"IF(ISBLANK('Data Input'!A213),\"\",SUM('Data Input'!C213,'Data Input'!J213,'Data Input'!N213,'Data Input'!AS213,'Data Input'!AT213,'Data Input'!AV213))","v":""},{"$f":"IF(Q208=\"\",\"\",Q208/COUNTIF('Data Input'!$C$8:$BU$8,\"V\"))","v":""},{"$f":"IF(ISBLANK('Data Input'!A213),\"\",SUM('Data Input'!AI213,'Data Input'!AN213))","v":""},{"$f":"IF(S208=\"\",\"\",S208/COUNTIF('Data Input'!$C$8:$BU$8,\"F/I\"))","v":""},{"$f":"IF(ISBLANK('Data Input'!C213),\"\",SUM('Data Input'!BB213:BU213))","v":""},{"$f":"IF(U208=\"\",\"\",U208/COUNTIF('Data Input'!$C$8:$BU$8,\"Sp\"))","v":""}]
[{"$f":"IF('Data Input'!A214=0,\"\",'Data Input'!A214)","v":""},{"$f":"IF(ISBLANK('Data Input'!A214),\"\",COUNTIF('Data Input'!C214:BU214,\"\")-1)","v":""},{"$f":"IF(ISBLANK('Data Input'!A214),\"\",COUNTIF('Data Input'!C214:BU214,\"0\"))","v":""},{"$f":"IF(ISBLANK('Data Input'!A214),\"\",SUM(B209,C209))","v":""},{"$f":"IF(ISBLANK('Data Input'!A214),\"\",SUM('Data Input'!C214:BU214))","v":""},{"$f":"IF(E209=\"\",\"\",E209/(COUNTA('Data Input'!$C$8:$BU$8)-1))","v":""},{"$f":"IF(ISBLANK('Data Input'!A214),\"\",SUM('Data Input'!H214,'Data Input'!AA214,'Data Input'!AO214,'Data Input'!AP214))","v":""},{"$f":"IF(G209=\"\",\"\",G209/COUNTIF('Data Input'!$C$8:$BU$8,\"CS\"))","v":""},{"$f":"IF(ISBLANK('Data Input'!A214),\"\",SUM('Data Input'!P214,'Data Input'!T214,'Data Input'!AD214,'Data Input'!AX214,'Data Input'!AY214))","v":""},{"$f":"IF(I209=\"\",\"\",I209/COUNTIF('Data Input'!$C$8:$BU$8,\"SE\"))","v":""},{"$f":"IF(ISBLANK('Data Input'!A214),\"\",SUM('Data Input'!K214,'Data Input'!L214,'Data Input'!M214,'Data Input'!O214,'Data Input'!Q214,'Data Input'!U214,'Data Input'!X214,'Data Input'!Y214,'Data Input'!Z214,'Data Input'!AB214,'Data Input'!AE214,'Data Input'!AG214,'Data Input'!AL214,'Data Input'!AU214,'Data Input'!AW214))","v":""},{"$f":"IF(K209=\"\",\"\",K209/COUNTIF('Data Input'!$C$8:$BU$8,\"P\"))","v":""},{"$f":"IF(ISBLANK('Data Input'!A214),\"\",SUM('Data Input'!I214,'Data Input'!S214))","v":""},{"$f":"IF(M209=\"\",\"\",M209/COUNTIF('Data Input'!$C$8:$BU$8,\"FS\"))","v":""},{"$f":"IF(ISBLANK('Data Input'!A214),\"\",SUM('Data Input'!D214,'Data Input'!E214,'Data Input'!F214,'Data Input'!G214,'Data Input'!R214,'Data Input'!V214,'Data Input'!W214,'Data Input'!AC214,'Data Input'!AF214,'Data Input'!AH214,'Data Input'!AJ214,'Data Input'!AK214,'Data Input'!AM214,'Data Input'!AQ214,'Data Input'!AR214,'Data Input'!AZ214))","v":""},{"$f":"IF(O209=\"\",\"\",O209/COUNTIF('Data Input'!$C$8:$BU$8,\"GT\"))","v":""},{"$f":"IF(ISBLANK('Data Input'!A214),\"\",SUM('Data Input'!C214,'Data Input'!J214,'Data Input'!N214,'Data Input'!AS214,'Data Input'!AT214,'Data Input'!AV214))","v":""},{"$f":"IF(Q209=\"\",\"\",Q209/COUNTIF('Data Input'!$C$8:$BU$8,\"V\"))","v":""},{"$f":"IF(ISBLANK('Data Input'!A214),\"\",SUM('Data Input'!AI214,'Data Input'!AN214))","v":""},{"$f":"IF(S209=\"\",\"\",S209/COUNTIF('Data Input'!$C$8:$BU$8,\"F/I\"))","v":""},{"$f":"IF(ISBLANK('Data Input'!C214),\"\",SUM('Data Input'!BB214:BU214))","v":""},{"$f":"IF(U209=\"\",\"\",U209/COUNTIF('Data Input'!$C$8:$BU$8,\"Sp\"))","v":""}]
[{"$f":"IF('Data Input'!A215=0,\"\",'Data Input'!A215)","v":""},{"$f":"IF(ISBLANK('Data Input'!A215),\"\",COUNTIF('Data Input'!C215:BU215,\"\")-1)","v":""},{"$f":"IF(ISBLANK('Data Input'!A215),\"\",COUNTIF('Data Input'!C215:BU215,\"0\"))","v":""},{"$f":"IF(ISBLANK('Data Input'!A215),\"\",SUM(B210,C210))","v":""},{"$f":"IF(ISBLANK('Data Input'!A215),\"\",SUM('Data Input'!C215:BU215))","v":""},{"$f":"IF(E210=\"\",\"\",E210/(COUNTA('Data Input'!$C$8:$BU$8)-1))","v":""},{"$f":"IF(ISBLANK('Data Input'!A215),\"\",SUM('Data Input'!H215,'Data Input'!AA215,'Data Input'!AO215,'Data Input'!AP215))","v":""},{"$f":"IF(G210=\"\",\"\",G210/COUNTIF('Data Input'!$C$8:$BU$8,\"CS\"))","v":""},{"$f":"IF(ISBLANK('Data Input'!A215),\"\",SUM('Data Input'!P215,'Data Input'!T215,'Data Input'!AD215,'Data Input'!AX215,'Data Input'!AY215))","v":""},{"$f":"IF(I210=\"\",\"\",I210/COUNTIF('Data Input'!$C$8:$BU$8,\"SE\"))","v":""},{"$f":"IF(ISBLANK('Data Input'!A215),\"\",SUM('Data Input'!K215,'Data Input'!L215,'Data Input'!M215,'Data Input'!O215,'Data Input'!Q215,'Data Input'!U215,'Data Input'!X215,'Data Input'!Y215,'Data Input'!Z215,'Data Input'!AB215,'Data Input'!AE215,'Data Input'!AG215,'Data Input'!AL215,'Data Input'!AU215,'Data Input'!AW215))","v":""},{"$f":"IF(K210=\"\",\"\",K210/COUNTIF('Data Input'!$C$8:$BU$8,\"P\"))","v":""},{"$f":"IF(ISBLANK('Data Input'!A215),\"\",SUM('Data Input'!I215,'Data Input'!S215))","v":""},{"$f":"IF(M210=\"\",\"\",M210/COUNTIF('Data Input'!$C$8:$BU$8,\"FS\"))","v":""},{"$f":"IF(ISBLANK('Data Input'!A215),\"\",SUM('Data Input'!D215,'Data Input'!E215,'Data Input'!F215,'Data Input'!G215,'Data Input'!R215,'Data Input'!V215,'Data Input'!W215,'Data Input'!AC215,'Data Input'!AF215,'Data Input'!AH215,'Data Input'!AJ215,'Data Input'!AK215,'Data Input'!AM215,'Data Input'!AQ215,'Data Input'!AR215,'Data Input'!AZ215))","v":""},{"$f":"IF(O210=\"\",\"\",O210/COUNTIF('Data Input'!$C$8:$BU$8,\"GT\"))","v":""},{"$f":"IF(ISBLANK('Data Input'!A215),\"\",SUM('Data Input'!C215,'Data Input'!J215,'Data Input'!N215,'Data Input'!AS215,'Data Input'!AT215,'Data Input'!AV215))","v":""},{"$f":"IF(Q210=\"\",\"\",Q210/COUNTIF('Data Input'!$C$8:$BU$8,\"V\"))","v":""},{"$f":"IF(ISBLANK('Data Input'!A215),\"\",SUM('Data Input'!AI215,'Data Input'!AN215))","v":""},{"$f":"IF(S210=\"\",\"\",S210/COUNTIF('Data Input'!$C$8:$BU$8,\"F/I\"))","v":""},{"$f":"IF(ISBLANK('Data Input'!C215),\"\",SUM('Data Input'!BB215:BU215))","v":""},{"$f":"IF(U210=\"\",\"\",U210/COUNTIF('Data Input'!$C$8:$BU$8,\"Sp\"))","v":""}]
[{"$f":"IF('Data Input'!A216=0,\"\",'Data Input'!A216)","v":""},{"$f":"IF(ISBLANK('Data Input'!A216),\"\",COUNTIF('Data Input'!C216:BU216,\"\")-1)","v":""},{"$f":"IF(ISBLANK('Data Input'!A216),\"\",COUNTIF('Data Input'!C216:BU216,\"0\"))","v":""},{"$f":"IF(ISBLANK('Data Input'!A216),\"\",SUM(B211,C211))","v":""},{"$f":"IF(ISBLANK('Data Input'!A216),\"\",SUM('Data Input'!C216:BU216))","v":""},{"$f":"IF(E211=\"\",\"\",E211/(COUNTA('Data Input'!$C$8:$BU$8)-1))","v":""},{"$f":"IF(ISBLANK('Data Input'!A216),\"\",SUM('Data Input'!H216,'Data Input'!AA216,'Data Input'!AO216,'Data Input'!AP216))","v":""},{"$f":"IF(G211=\"\",\"\",G211/COUNTIF('Data Input'!$C$8:$BU$8,\"CS\"))","v":""},{"$f":"IF(ISBLANK('Data Input'!A216),\"\",SUM('Data Input'!P216,'Data Input'!T216,'Data Input'!AD216,'Data Input'!AX216,'Data Input'!AY216))","v":""},{"$f":"IF(I211=\"\",\"\",I211/COUNTIF('Data Input'!$C$8:$BU$8,\"SE\"))","v":""},{"$f":"IF(ISBLANK('Data Input'!A216),\"\",SUM('Data Input'!K216,'Data Input'!L216,'Data Input'!M216,'Data Input'!O216,'Data Input'!Q216,'Data Input'!U216,'Data Input'!X216,'Data Input'!Y216,'Data Input'!Z216,'Data Input'!AB216,'Data Input'!AE216,'Data Input'!AG216,'Data Input'!AL216,'Data Input'!AU216,'Data Input'!AW216))","v":""},{"$f":"IF(K211=\"\",\"\",K211/COUNTIF('Data Input'!$C$8:$BU$8,\"P\"))","v":""},{"$f":"IF(ISBLANK('Data Input'!A216),\"\",SUM('Data Input'!I216,'Data Input'!S216))","v":""},{"$f":"IF(M211=\"\",\"\",M211/COUNTIF('Data Input'!$C$8:$BU$8,\"FS\"))","v":""},{"$f":"IF(ISBLANK('Data Input'!A216),\"\",SUM('Data Input'!D216,'Data Input'!E216,'Data Input'!F216,'Data Input'!G216,'Data Input'!R216,'Data Input'!V216,'Data Input'!W216,'Data Input'!AC216,'Data Input'!AF216,'Data Input'!AH216,'Data Input'!AJ216,'Data Input'!AK216,'Data Input'!AM216,'Data Input'!AQ216,'Data Input'!AR216,'Data Input'!AZ216))","v":""},{"$f":"IF(O211=\"\",\"\",O211/COUNTIF('Data Input'!$C$8:$BU$8,\"GT\"))","v":""},{"$f":"IF(ISBLANK('Data Input'!A216),\"\",SUM('Data Input'!C216,'Data Input'!J216,'Data Input'!N216,'Data Input'!AS216,'Data Input'!AT216,'Data Input'!AV216))","v":""},{"$f":"IF(Q211=\"\",\"\",Q211/COUNTIF('Data Input'!$C$8:$BU$8,\"V\"))","v":""},{"$f":"IF(ISBLANK('Data Input'!A216),\"\",SUM('Data Input'!AI216,'Data Input'!AN216))","v":""},{"$f":"IF(S211=\"\",\"\",S211/COUNTIF('Data Input'!$C$8:$BU$8,\"F/I\"))","v":""},{"$f":"IF(ISBLANK('Data Input'!C216),\"\",SUM('Data Input'!BB216:BU216))","v":""},{"$f":"IF(U211=\"\",\"\",U211/COUNTIF('Data Input'!$C$8:$BU$8,\"Sp\"))","v":""}]
[{"$f":"IF('Data Input'!A217=0,\"\",'Data Input'!A217)","v":""},{"$f":"IF(ISBLANK('Data Input'!A217),\"\",COUNTIF('Data Input'!C217:BU217,\"\")-1)","v":""},{"$f":"IF(ISBLANK('Data Input'!A217),\"\",COUNTIF('Data Input'!C217:BU217,\"0\"))","v":""},{"$f":"IF(ISBLANK('Data Input'!A217),\"\",SUM(B212,C212))","v":""},{"$f":"IF(ISBLANK('Data Input'!A217),\"\",SUM('Data Input'!C217:BU217))","v":""},{"$f":"IF(E212=\"\",\"\",E212/(COUNTA('Data Input'!$C$8:$BU$8)-1))","v":""},{"$f":"IF(ISBLANK('Data Input'!A217),\"\",SUM('Data Input'!H217,'Data Input'!AA217,'Data Input'!AO217,'Data Input'!AP217))","v":""},{"$f":"IF(G212=\"\",\"\",G212/COUNTIF('Data Input'!$C$8:$BU$8,\"CS\"))","v":""},{"$f":"IF(ISBLANK('Data Input'!A217),\"\",SUM('Data Input'!P217,'Data Input'!T217,'Data Input'!AD217,'Data Input'!AX217,'Data Input'!AY217))","v":""},{"$f":"IF(I212=\"\",\"\",I212/COUNTIF('Data Input'!$C$8:$BU$8,\"SE\"))","v":""},{"$f":"IF(ISBLANK('Data Input'!A217),\"\",SUM('Data Input'!K217,'Data Input'!L217,'Data Input'!M217,'Data Input'!O217,'Data Input'!Q217,'Data Input'!U217,'Data Input'!X217,'Data Input'!Y217,'Data Input'!Z217,'Data Input'!AB217,'Data Input'!AE217,'Data Input'!AG217,'Data Input'!AL217,'Data Input'!AU217,'Data Input'!AW217))","v":""},{"$f":"IF(K212=\"\",\"\",K212/COUNTIF('Data Input'!$C$8:$BU$8,\"P\"))","v":""},{"$f":"IF(ISBLANK('Data Input'!A217),\"\",SUM('Data Input'!I217,'Data Input'!S217))","v":""},{"$f":"IF(M212=\"\",\"\",M212/COUNTIF('Data Input'!$C$8:$BU$8,\"FS\"))","v":""},{"$f":"IF(ISBLANK('Data Input'!A217),\"\",SUM('Data Input'!D217,'Data Input'!E217,'Data Input'!F217,'Data Input'!G217,'Data Input'!R217,'Data Input'!V217,'Data Input'!W217,'Data Input'!AC217,'Data Input'!AF217,'Data Input'!AH217,'Data Input'!AJ217,'Data Input'!AK217,'Data Input'!AM217,'Data Input'!AQ217,'Data Input'!AR217,'Data Input'!AZ217))","v":""},{"$f":"IF(O212=\"\",\"\",O212/COUNTIF('Data Input'!$C$8:$BU$8,\"GT\"))","v":""},{"$f":"IF(ISBLANK('Data Input'!A217),\"\",SUM('Data Input'!C217,'Data Input'!J217,'Data Input'!N217,'Data Input'!AS217,'Data Input'!AT217,'Data Input'!AV217))","v":""},{"$f":"IF(Q212=\"\",\"\",Q212/COUNTIF('Data Input'!$C$8:$BU$8,\"V\"))","v":""},{"$f":"IF(ISBLANK('Data Input'!A217),\"\",SUM('Data Input'!AI217,'Data Input'!AN217))","v":""},{"$f":"IF(S212=\"\",\"\",S212/COUNTIF('Data Input'!$C$8:$BU$8,\"F/I\"))","v":""},{"$f":"IF(ISBLANK('Data Input'!C217),\"\",SUM('Data Input'!BB217:BU217))","v":""},{"$f":"IF(U212=\"\",\"\",U212/COUNTIF('Data Input'!$C$8:$BU$8,\"Sp\"))","v":""}]
[{"$f":"IF('Data Input'!A218=0,\"\",'Data Input'!A218)","v":""},{"$f":"IF(ISBLANK('Data Input'!A218),\"\",COUNTIF('Data Input'!C218:BU218,\"\")-1)","v":""},{"$f":"IF(ISBLANK('Data Input'!A218),\"\",COUNTIF('Data Input'!C218:BU218,\"0\"))","v":""},{"$f":"IF(ISBLANK('Data Input'!A218),\"\",SUM(B213,C213))","v":""},{"$f":"IF(ISBLANK('Data Input'!A218),\"\",SUM('Data Input'!C218:BU218))","v":""},{"$f":"IF(E213=\"\",\"\",E213/(COUNTA('Data Input'!$C$8:$BU$8)-1))","v":""},{"$f":"IF(ISBLANK('Data Input'!A218),\"\",SUM('Data Input'!H218,'Data Input'!AA218,'Data Input'!AO218,'Data Input'!AP218))","v":""},{"$f":"IF(G213=\"\",\"\",G213/COUNTIF('Data Input'!$C$8:$BU$8,\"CS\"))","v":""},{"$f":"IF(ISBLANK('Data Input'!A218),\"\",SUM('Data Input'!P218,'Data Input'!T218,'Data Input'!AD218,'Data Input'!AX218,'Data Input'!AY218))","v":""},{"$f":"IF(I213=\"\",\"\",I213/COUNTIF('Data Input'!$C$8:$BU$8,\"SE\"))","v":""},{"$f":"IF(ISBLANK('Data Input'!A218),\"\",SUM('Data Input'!K218,'Data Input'!L218,'Data Input'!M218,'Data Input'!O218,'Data Input'!Q218,'Data Input'!U218,'Data Input'!X218,'Data Input'!Y218,'Data Input'!Z218,'Data Input'!AB218,'Data Input'!AE218,'Data Input'!AG218,'Data Input'!AL218,'Data Input'!AU218,'Data Input'!AW218))","v":""},{"$f":"IF(K213=\"\",\"\",K213/COUNTIF('Data Input'!$C$8:$BU$8,\"P\"))","v":""},{"$f":"IF(ISBLANK('Data Input'!A218),\"\",SUM('Data Input'!I218,'Data Input'!S218))","v":""},{"$f":"IF(M213=\"\",\"\",M213/COUNTIF('Data Input'!$C$8:$BU$8,\"FS\"))","v":""},{"$f":"IF(ISBLANK('Data Input'!A218),\"\",SUM('Data Input'!D218,'Data Input'!E218,'Data Input'!F218,'Data Input'!G218,'Data Input'!R218,'Data Input'!V218,'Data Input'!W218,'Data Input'!AC218,'Data Input'!AF218,'Data Input'!AH218,'Data Input'!AJ218,'Data Input'!AK218,'Data Input'!AM218,'Data Input'!AQ218,'Data Input'!AR218,'Data Input'!AZ218))","v":""},{"$f":"IF(O213=\"\",\"\",O213/COUNTIF('Data Input'!$C$8:$BU$8,\"GT\"))","v":""},{"$f":"IF(ISBLANK('Data Input'!A218),\"\",SUM('Data Input'!C218,'Data Input'!J218,'Data Input'!N218,'Data Input'!AS218,'Data Input'!AT218,'Data Input'!AV218))","v":""},{"$f":"IF(Q213=\"\",\"\",Q213/COUNTIF('Data Input'!$C$8:$BU$8,\"V\"))","v":""},{"$f":"IF(ISBLANK('Data Input'!A218),\"\",SUM('Data Input'!AI218,'Data Input'!AN218))","v":""},{"$f":"IF(S213=\"\",\"\",S213/COUNTIF('Data Input'!$C$8:$BU$8,\"F/I\"))","v":""},{"$f":"IF(ISBLANK('Data Input'!C218),\"\",SUM('Data Input'!BB218:BU218))","v":""},{"$f":"IF(U213=\"\",\"\",U213/COUNTIF('Data Input'!$C$8:$BU$8,\"Sp\"))","v":""}]
[{"$f":"IF('Data Input'!A219=0,\"\",'Data Input'!A219)","v":""},{"$f":"IF(ISBLANK('Data Input'!A219),\"\",COUNTIF('Data Input'!C219:BU219,\"\")-1)","v":""},{"$f":"IF(ISBLANK('Data Input'!A219),\"\",COUNTIF('Data Input'!C219:BU219,\"0\"))","v":""},{"$f":"IF(ISBLANK('Data Input'!A219),\"\",SUM(B214,C214))","v":""},{"$f":"IF(ISBLANK('Data Input'!A219),\"\",SUM('Data Input'!C219:BU219))","v":""},{"$f":"IF(E214=\"\",\"\",E214/(COUNTA('Data Input'!$C$8:$BU$8)-1))","v":""},{"$f":"IF(ISBLANK('Data Input'!A219),\"\",SUM('Data Input'!H219,'Data Input'!AA219,'Data Input'!AO219,'Data Input'!AP219))","v":""},{"$f":"IF(G214=\"\",\"\",G214/COUNTIF('Data Input'!$C$8:$BU$8,\"CS\"))","v":""},{"$f":"IF(ISBLANK('Data Input'!A219),\"\",SUM('Data Input'!P219,'Data Input'!T219,'Data Input'!AD219,'Data Input'!AX219,'Data Input'!AY219))","v":""},{"$f":"IF(I214=\"\",\"\",I214/COUNTIF('Data Input'!$C$8:$BU$8,\"SE\"))","v":""},{"$f":"IF(ISBLANK('Data Input'!A219),\"\",SUM('Data Input'!K219,'Data Input'!L219,'Data Input'!M219,'Data Input'!O219,'Data Input'!Q219,'Data Input'!U219,'Data Input'!X219,'Data Input'!Y219,'Data Input'!Z219,'Data Input'!AB219,'Data Input'!AE219,'Data Input'!AG219,'Data Input'!AL219,'Data Input'!AU219,'Data Input'!AW219))","v":""},{"$f":"IF(K214=\"\",\"\",K214/COUNTIF('Data Input'!$C$8:$BU$8,\"P\"))","v":""},{"$f":"IF(ISBLANK('Data Input'!A219),\"\",SUM('Data Input'!I219,'Data Input'!S219))","v":""},{"$f":"IF(M214=\"\",\"\",M214/COUNTIF('Data Input'!$C$8:$BU$8,\"FS\"))","v":""},{"$f":"IF(ISBLANK('Data Input'!A219),\"\",SUM('Data Input'!D219,'Data Input'!E219,'Data Input'!F219,'Data Input'!G219,'Data Input'!R219,'Data Input'!V219,'Data Input'!W219,'Data Input'!AC219,'Data Input'!AF219,'Data Input'!AH219,'Data Input'!AJ219,'Data Input'!AK219,'Data Input'!AM219,'Data Input'!AQ219,'Data Input'!AR219,'Data Input'!AZ219))","v":""},{"$f":"IF(O214=\"\",\"\",O214/COUNTIF('Data Input'!$C$8:$BU$8,\"GT\"))","v":""},{"$f":"IF(ISBLANK('Data Input'!A219),\"\",SUM('Data Input'!C219,'Data Input'!J219,'Data Input'!N219,'Data Input'!AS219,'Data Input'!AT219,'Data Input'!AV219))","v":""},{"$f":"IF(Q214=\"\",\"\",Q214/COUNTIF('Data Input'!$C$8:$BU$8,\"V\"))","v":""},{"$f":"IF(ISBLANK('Data Input'!A219),\"\",SUM('Data Input'!AI219,'Data Input'!AN219))","v":""},{"$f":"IF(S214=\"\",\"\",S214/COUNTIF('Data Input'!$C$8:$BU$8,\"F/I\"))","v":""},{"$f":"IF(ISBLANK('Data Input'!C219),\"\",SUM('Data Input'!BB219:BU219))","v":""},{"$f":"IF(U214=\"\",\"\",U214/COUNTIF('Data Input'!$C$8:$BU$8,\"Sp\"))","v":""}]
[{"$f":"IF('Data Input'!A220=0,\"\",'Data Input'!A220)","v":""},{"$f":"IF(ISBLANK('Data Input'!A220),\"\",COUNTIF('Data Input'!C220:BU220,\"\")-1)","v":""},{"$f":"IF(ISBLANK('Data Input'!A220),\"\",COUNTIF('Data Input'!C220:BU220,\"0\"))","v":""},{"$f":"IF(ISBLANK('Data Input'!A220),\"\",SUM(B215,C215))","v":""},{"$f":"IF(ISBLANK('Data Input'!A220),\"\",SUM('Data Input'!C220:BU220))","v":""},{"$f":"IF(E215=\"\",\"\",E215/(COUNTA('Data Input'!$C$8:$BU$8)-1))","v":""},{"$f":"IF(ISBLANK('Data Input'!A220),\"\",SUM('Data Input'!H220,'Data Input'!AA220,'Data Input'!AO220,'Data Input'!AP220))","v":""},{"$f":"IF(G215=\"\",\"\",G215/COUNTIF('Data Input'!$C$8:$BU$8,\"CS\"))","v":""},{"$f":"IF(ISBLANK('Data Input'!A220),\"\",SUM('Data Input'!P220,'Data Input'!T220,'Data Input'!AD220,'Data Input'!AX220,'Data Input'!AY220))","v":""},{"$f":"IF(I215=\"\",\"\",I215/COUNTIF('Data Input'!$C$8:$BU$8,\"SE\"))","v":""},{"$f":"IF(ISBLANK('Data Input'!A220),\"\",SUM('Data Input'!K220,'Data Input'!L220,'Data Input'!M220,'Data Input'!O220,'Data Input'!Q220,'Data Input'!U220,'Data Input'!X220,'Data Input'!Y220,'Data Input'!Z220,'Data Input'!AB220,'Data Input'!AE220,'Data Input'!AG220,'Data Input'!AL220,'Data Input'!AU220,'Data Input'!AW220))","v":""},{"$f":"IF(K215=\"\",\"\",K215/COUNTIF('Data Input'!$C$8:$BU$8,\"P\"))","v":""},{"$f":"IF(ISBLANK('Data Input'!A220),\"\",SUM('Data Input'!I220,'Data Input'!S220))","v":""},{"$f":"IF(M215=\"\",\"\",M215/COUNTIF('Data Input'!$C$8:$BU$8,\"FS\"))","v":""},{"$f":"IF(ISBLANK('Data Input'!A220),\"\",SUM('Data Input'!D220,'Data Input'!E220,'Data Input'!F220,'Data Input'!G220,'Data Input'!R220,'Data Input'!V220,'Data Input'!W220,'Data Input'!AC220,'Data Input'!AF220,'Data Input'!AH220,'Data Input'!AJ220,'Data Input'!AK220,'Data Input'!AM220,'Data Input'!AQ220,'Data Input'!AR220,'Data Input'!AZ220))","v":""},{"$f":"IF(O215=\"\",\"\",O215/COUNTIF('Data Input'!$C$8:$BU$8,\"GT\"))","v":""},{"$f":"IF(ISBLANK('Data Input'!A220),\"\",SUM('Data Input'!C220,'Data Input'!J220,'Data Input'!N220,'Data Input'!AS220,'Data Input'!AT220,'Data Input'!AV220))","v":""},{"$f":"IF(Q215=\"\",\"\",Q215/COUNTIF('Data Input'!$C$8:$BU$8,\"V\"))","v":""},{"$f":"IF(ISBLANK('Data Input'!A220),\"\",SUM('Data Input'!AI220,'Data Input'!AN220))","v":""},{"$f":"IF(S215=\"\",\"\",S215/COUNTIF('Data Input'!$C$8:$BU$8,\"F/I\"))","v":""},{"$f":"IF(ISBLANK('Data Input'!C220),\"\",SUM('Data Input'!BB220:BU220))","v":""},{"$f":"IF(U215=\"\",\"\",U215/COUNTIF('Data Input'!$C$8:$BU$8,\"Sp\"))","v":""}]
[{"$f":"IF('Data Input'!A221=0,\"\",'Data Input'!A221)","v":""},{"$f":"IF(ISBLANK('Data Input'!A221),\"\",COUNTIF('Data Input'!C221:BU221,\"\")-1)","v":""},{"$f":"IF(ISBLANK('Data Input'!A221),\"\",COUNTIF('Data Input'!C221:BU221,\"0\"))","v":""},{"$f":"IF(ISBLANK('Data Input'!A221),\"\",SUM(B216,C216))","v":""},{"$f":"IF(ISBLANK('Data Input'!A221),\"\",SUM('Data Input'!C221:BU221))","v":""},{"$f":"IF(E216=\"\",\"\",E216/(COUNTA('Data Input'!$C$8:$BU$8)-1))","v":""},{"$f":"IF(ISBLANK('Data Input'!A221),\"\",SUM('Data Input'!H221,'Data Input'!AA221,'Data Input'!AO221,'Data Input'!AP221))","v":""},{"$f":"IF(G216=\"\",\"\",G216/COUNTIF('Data Input'!$C$8:$BU$8,\"CS\"))","v":""},{"$f":"IF(ISBLANK('Data Input'!A221),\"\",SUM('Data Input'!P221,'Data Input'!T221,'Data Input'!AD221,'Data Input'!AX221,'Data Input'!AY221))","v":""},{"$f":"IF(I216=\"\",\"\",I216/COUNTIF('Data Input'!$C$8:$BU$8,\"SE\"))","v":""},{"$f":"IF(ISBLANK('Data Input'!A221),\"\",SUM('Data Input'!K221,'Data Input'!L221,'Data Input'!M221,'Data Input'!O221,'Data Input'!Q221,'Data Input'!U221,'Data Input'!X221,'Data Input'!Y221,'Data Input'!Z221,'Data Input'!AB221,'Data Input'!AE221,'Data Input'!AG221,'Data Input'!AL221,'Data Input'!AU221,'Data Input'!AW221))","v":""},{"$f":"IF(K216=\"\",\"\",K216/COUNTIF('Data Input'!$C$8:$BU$8,\"P\"))","v":""},{"$f":"IF(ISBLANK('Data Input'!A221),\"\",SUM('Data Input'!I221,'Data Input'!S221))","v":""},{"$f":"IF(M216=\"\",\"\",M216/COUNTIF('Data Input'!$C$8:$BU$8,\"FS\"))","v":""},{"$f":"IF(ISBLANK('Data Input'!A221),\"\",SUM('Data Input'!D221,'Data Input'!E221,'Data Input'!F221,'Data Input'!G221,'Data Input'!R221,'Data Input'!V221,'Data Input'!W221,'Data Input'!AC221,'Data Input'!AF221,'Data Input'!AH221,'Data Input'!AJ221,'Data Input'!AK221,'Data Input'!AM221,'Data Input'!AQ221,'Data Input'!AR221,'Data Input'!AZ221))","v":""},{"$f":"IF(O216=\"\",\"\",O216/COUNTIF('Data Input'!$C$8:$BU$8,\"GT\"))","v":""},{"$f":"IF(ISBLANK('Data Input'!A221),\"\",SUM('Data Input'!C221,'Data Input'!J221,'Data Input'!N221,'Data Input'!AS221,'Data Input'!AT221,'Data Input'!AV221))","v":""},{"$f":"IF(Q216=\"\",\"\",Q216/COUNTIF('Data Input'!$C$8:$BU$8,\"V\"))","v":""},{"$f":"IF(ISBLANK('Data Input'!A221),\"\",SUM('Data Input'!AI221,'Data Input'!AN221))","v":""},{"$f":"IF(S216=\"\",\"\",S216/COUNTIF('Data Input'!$C$8:$BU$8,\"F/I\"))","v":""},{"$f":"IF(ISBLANK('Data Input'!C221),\"\",SUM('Data Input'!BB221:BU221))","v":""},{"$f":"IF(U216=\"\",\"\",U216/COUNTIF('Data Input'!$C$8:$BU$8,\"Sp\"))","v":""}]
[{"$f":"IF('Data Input'!A222=0,\"\",'Data Input'!A222)","v":""},{"$f":"IF(ISBLANK('Data Input'!A222),\"\",COUNTIF('Data Input'!C222:BU222,\"\")-1)","v":""},{"$f":"IF(ISBLANK('Data Input'!A222),\"\",COUNTIF('Data Input'!C222:BU222,\"0\"))","v":""},{"$f":"IF(ISBLANK('Data Input'!A222),\"\",SUM(B217,C217))","v":""},{"$f":"IF(ISBLANK('Data Input'!A222),\"\",SUM('Data Input'!C222:BU222))","v":""},{"$f":"IF(E217=\"\",\"\",E217/(COUNTA('Data Input'!$C$8:$BU$8)-1))","v":""},{"$f":"IF(ISBLANK('Data Input'!A222),\"\",SUM('Data Input'!H222,'Data Input'!AA222,'Data Input'!AO222,'Data Input'!AP222))","v":""},{"$f":"IF(G217=\"\",\"\",G217/COUNTIF('Data Input'!$C$8:$BU$8,\"CS\"))","v":""},{"$f":"IF(ISBLANK('Data Input'!A222),\"\",SUM('Data Input'!P222,'Data Input'!T222,'Data Input'!AD222,'Data Input'!AX222,'Data Input'!AY222))","v":""},{"$f":"IF(I217=\"\",\"\",I217/COUNTIF('Data Input'!$C$8:$BU$8,\"SE\"))","v":""},{"$f":"IF(ISBLANK('Data Input'!A222),\"\",SUM('Data Input'!K222,'Data Input'!L222,'Data Input'!M222,'Data Input'!O222,'Data Input'!Q222,'Data Input'!U222,'Data Input'!X222,'Data Input'!Y222,'Data Input'!Z222,'Data Input'!AB222,'Data Input'!AE222,'Data Input'!AG222,'Data Input'!AL222,'Data Input'!AU222,'Data Input'!AW222))","v":""},{"$f":"IF(K217=\"\",\"\",K217/COUNTIF('Data Input'!$C$8:$BU$8,\"P\"))","v":""},{"$f":"IF(ISBLANK('Data Input'!A222),\"\",SUM('Data Input'!I222,'Data Input'!S222))","v":""},{"$f":"IF(M217=\"\",\"\",M217/COUNTIF('Data Input'!$C$8:$BU$8,\"FS\"))","v":""},{"$f":"IF(ISBLANK('Data Input'!A222),\"\",SUM('Data Input'!D222,'Data Input'!E222,'Data Input'!F222,'Data Input'!G222,'Data Input'!R222,'Data Input'!V222,'Data Input'!W222,'Data Input'!AC222,'Data Input'!AF222,'Data Input'!AH222,'Data Input'!AJ222,'Data Input'!AK222,'Data Input'!AM222,'Data Input'!AQ222,'Data Input'!AR222,'Data Input'!AZ222))","v":""},{"$f":"IF(O217=\"\",\"\",O217/COUNTIF('Data Input'!$C$8:$BU$8,\"GT\"))","v":""},{"$f":"IF(ISBLANK('Data Input'!A222),\"\",SUM('Data Input'!C222,'Data Input'!J222,'Data Input'!N222,'Data Input'!AS222,'Data Input'!AT222,'Data Input'!AV222))","v":""},{"$f":"IF(Q217=\"\",\"\",Q217/COUNTIF('Data Input'!$C$8:$BU$8,\"V\"))","v":""},{"$f":"IF(ISBLANK('Data Input'!A222),\"\",SUM('Data Input'!AI222,'Data Input'!AN222))","v":""},{"$f":"IF(S217=\"\",\"\",S217/COUNTIF('Data Input'!$C$8:$BU$8,\"F/I\"))","v":""},{"$f":"IF(ISBLANK('Data Input'!C222),\"\",SUM('Data Input'!BB222:BU222))","v":""},{"$f":"IF(U217=\"\",\"\",U217/COUNTIF('Data Input'!$C$8:$BU$8,\"Sp\"))","v":""}]
[{"$f":"IF('Data Input'!A223=0,\"\",'Data Input'!A223)","v":""},{"$f":"IF(ISBLANK('Data Input'!A223),\"\",COUNTIF('Data Input'!C223:BU223,\"\")-1)","v":""},{"$f":"IF(ISBLANK('Data Input'!A223),\"\",COUNTIF('Data Input'!C223:BU223,\"0\"))","v":""},{"$f":"IF(ISBLANK('Data Input'!A223),\"\",SUM(B218,C218))","v":""},{"$f":"IF(ISBLANK('Data Input'!A223),\"\",SUM('Data Input'!C223:BU223))","v":""},{"$f":"IF(E218=\"\",\"\",E218/(COUNTA('Data Input'!$C$8:$BU$8)-1))","v":""},{"$f":"IF(ISBLANK('Data Input'!A223),\"\",SUM('Data Input'!H223,'Data Input'!AA223,'Data Input'!AO223,'Data Input'!AP223))","v":""},{"$f":"IF(G218=\"\",\"\",G218/COUNTIF('Data Input'!$C$8:$BU$8,\"CS\"))","v":""},{"$f":"IF(ISBLANK('Data Input'!A223),\"\",SUM('Data Input'!P223,'Data Input'!T223,'Data Input'!AD223,'Data Input'!AX223,'Data Input'!AY223))","v":""},{"$f":"IF(I218=\"\",\"\",I218/COUNTIF('Data Input'!$C$8:$BU$8,\"SE\"))","v":""},{"$f":"IF(ISBLANK('Data Input'!A223),\"\",SUM('Data Input'!K223,'Data Input'!L223,'Data Input'!M223,'Data Input'!O223,'Data Input'!Q223,'Data Input'!U223,'Data Input'!X223,'Data Input'!Y223,'Data Input'!Z223,'Data Input'!AB223,'Data Input'!AE223,'Data Input'!AG223,'Data Input'!AL223,'Data Input'!AU223,'Data Input'!AW223))","v":""},{"$f":"IF(K218=\"\",\"\",K218/COUNTIF('Data Input'!$C$8:$BU$8,\"P\"))","v":""},{"$f":"IF(ISBLANK('Data Input'!A223),\"\",SUM('Data Input'!I223,'Data Input'!S223))","v":""},{"$f":"IF(M218=\"\",\"\",M218/COUNTIF('Data Input'!$C$8:$BU$8,\"FS\"))","v":""},{"$f":"IF(ISBLANK('Data Input'!A223),\"\",SUM('Data Input'!D223,'Data Input'!E223,'Data Input'!F223,'Data Input'!G223,'Data Input'!R223,'Data Input'!V223,'Data Input'!W223,'Data Input'!AC223,'Data Input'!AF223,'Data Input'!AH223,'Data Input'!AJ223,'Data Input'!AK223,'Data Input'!AM223,'Data Input'!AQ223,'Data Input'!AR223,'Data Input'!AZ223))","v":""},{"$f":"IF(O218=\"\",\"\",O218/COUNTIF('Data Input'!$C$8:$BU$8,\"GT\"))","v":""},{"$f":"IF(ISBLANK('Data Input'!A223),\"\",SUM('Data Input'!C223,'Data Input'!J223,'Data Input'!N223,'Data Input'!AS223,'Data Input'!AT223,'Data Input'!AV223))","v":""},{"$f":"IF(Q218=\"\",\"\",Q218/COUNTIF('Data Input'!$C$8:$BU$8,\"V\"))","v":""},{"$f":"IF(ISBLANK('Data Input'!A223),\"\",SUM('Data Input'!AI223,'Data Input'!AN223))","v":""},{"$f":"IF(S218=\"\",\"\",S218/COUNTIF('Data Input'!$C$8:$BU$8,\"F/I\"))","v":""},{"$f":"IF(ISBLANK('Data Input'!C223),\"\",SUM('Data Input'!BB223:BU223))","v":""},{"$f":"IF(U218=\"\",\"\",U218/COUNTIF('Data Input'!$C$8:$BU$8,\"Sp\"))","v":""}]
[{"$f":"IF('Data Input'!A224=0,\"\",'Data Input'!A224)","v":""},{"$f":"IF(ISBLANK('Data Input'!A224),\"\",COUNTIF('Data Input'!C224:BU224,\"\")-1)","v":""},{"$f":"IF(ISBLANK('Data Input'!A224),\"\",COUNTIF('Data Input'!C224:BU224,\"0\"))","v":""},{"$f":"IF(ISBLANK('Data Input'!A224),\"\",SUM(B219,C219))","v":""},{"$f":"IF(ISBLANK('Data Input'!A224),\"\",SUM('Data Input'!C224:BU224))","v":""},{"$f":"IF(E219=\"\",\"\",E219/(COUNTA('Data Input'!$C$8:$BU$8)-1))","v":""},{"$f":"IF(ISBLANK('Data Input'!A224),\"\",SUM('Data Input'!H224,'Data Input'!AA224,'Data Input'!AO224,'Data Input'!AP224))","v":""},{"$f":"IF(G219=\"\",\"\",G219/COUNTIF('Data Input'!$C$8:$BU$8,\"CS\"))","v":""},{"$f":"IF(ISBLANK('Data Input'!A224),\"\",SUM('Data Input'!P224,'Data Input'!T224,'Data Input'!AD224,'Data Input'!AX224,'Data Input'!AY224))","v":""},{"$f":"IF(I219=\"\",\"\",I219/COUNTIF('Data Input'!$C$8:$BU$8,\"SE\"))","v":""},{"$f":"IF(ISBLANK('Data Input'!A224),\"\",SUM('Data Input'!K224,'Data Input'!L224,'Data Input'!M224,'Data Input'!O224,'Data Input'!Q224,'Data Input'!U224,'Data Input'!X224,'Data Input'!Y224,'Data Input'!Z224,'Data Input'!AB224,'Data Input'!AE224,'Data Input'!AG224,'Data Input'!AL224,'Data Input'!AU224,'Data Input'!AW224))","v":""},{"$f":"IF(K219=\"\",\"\",K219/COUNTIF('Data Input'!$C$8:$BU$8,\"P\"))","v":""},{"$f":"IF(ISBLANK('Data Input'!A224),\"\",SUM('Data Input'!I224,'Data Input'!S224))","v":""},{"$f":"IF(M219=\"\",\"\",M219/COUNTIF('Data Input'!$C$8:$BU$8,\"FS\"))","v":""},{"$f":"IF(ISBLANK('Data Input'!A224),\"\",SUM('Data Input'!D224,'Data Input'!E224,'Data Input'!F224,'Data Input'!G224,'Data Input'!R224,'Data Input'!V224,'Data Input'!W224,'Data Input'!AC224,'Data Input'!AF224,'Data Input'!AH224,'Data Input'!AJ224,'Data Input'!AK224,'Data Input'!AM224,'Data Input'!AQ224,'Data Input'!AR224,'Data Input'!AZ224))","v":""},{"$f":"IF(O219=\"\",\"\",O219/COUNTIF('Data Input'!$C$8:$BU$8,\"GT\"))","v":""},{"$f":"IF(ISBLANK('Data Input'!A224),\"\",SUM('Data Input'!C224,'Data Input'!J224,'Data Input'!N224,'Data Input'!AS224,'Data Input'!AT224,'Data Input'!AV224))","v":""},{"$f":"IF(Q219=\"\",\"\",Q219/COUNTIF('Data Input'!$C$8:$BU$8,\"V\"))","v":""},{"$f":"IF(ISBLANK('Data Input'!A224),\"\",SUM('Data Input'!AI224,'Data Input'!AN224))","v":""},{"$f":"IF(S219=\"\",\"\",S219/COUNTIF('Data Input'!$C$8:$BU$8,\"F/I\"))","v":""},{"$f":"IF(ISBLANK('Data Input'!C224),\"\",SUM('Data Input'!BB224:BU224))","v":""},{"$f":"IF(U219=\"\",\"\",U219/COUNTIF('Data Input'!$C$8:$BU$8,\"Sp\"))","v":""}]
[{"$f":"IF('Data Input'!A225=0,\"\",'Data Input'!A225)","v":""},{"$f":"IF(ISBLANK('Data Input'!A225),\"\",COUNTIF('Data Input'!C225:BU225,\"\")-1)","v":""},{"$f":"IF(ISBLANK('Data Input'!A225),\"\",COUNTIF('Data Input'!C225:BU225,\"0\"))","v":""},{"$f":"IF(ISBLANK('Data Input'!A225),\"\",SUM(B220,C220))","v":""},{"$f":"IF(ISBLANK('Data Input'!A225),\"\",SUM('Data Input'!C225:BU225))","v":""},{"$f":"IF(E220=\"\",\"\",E220/(COUNTA('Data Input'!$C$8:$BU$8)-1))","v":""},{"$f":"IF(ISBLANK('Data Input'!A225),\"\",SUM('Data Input'!H225,'Data Input'!AA225,'Data Input'!AO225,'Data Input'!AP225))","v":""},{"$f":"IF(G220=\"\",\"\",G220/COUNTIF('Data Input'!$C$8:$BU$8,\"CS\"))","v":""},{"$f":"IF(ISBLANK('Data Input'!A225),\"\",SUM('Data Input'!P225,'Data Input'!T225,'Data Input'!AD225,'Data Input'!AX225,'Data Input'!AY225))","v":""},{"$f":"IF(I220=\"\",\"\",I220/COUNTIF('Data Input'!$C$8:$BU$8,\"SE\"))","v":""},{"$f":"IF(ISBLANK('Data Input'!A225),\"\",SUM('Data Input'!K225,'Data Input'!L225,'Data Input'!M225,'Data Input'!O225,'Data Input'!Q225,'Data Input'!U225,'Data Input'!X225,'Data Input'!Y225,'Data Input'!Z225,'Data Input'!AB225,'Data Input'!AE225,'Data Input'!AG225,'Data Input'!AL225,'Data Input'!AU225,'Data Input'!AW225))","v":""},{"$f":"IF(K220=\"\",\"\",K220/COUNTIF('Data Input'!$C$8:$BU$8,\"P\"))","v":""},{"$f":"IF(ISBLANK('Data Input'!A225),\"\",SUM('Data Input'!I225,'Data Input'!S225))","v":""},{"$f":"IF(M220=\"\",\"\",M220/COUNTIF('Data Input'!$C$8:$BU$8,\"FS\"))","v":""},{"$f":"IF(ISBLANK('Data Input'!A225),\"\",SUM('Data Input'!D225,'Data Input'!E225,'Data Input'!F225,'Data Input'!G225,'Data Input'!R225,'Data Input'!V225,'Data Input'!W225,'Data Input'!AC225,'Data Input'!AF225,'Data Input'!AH225,'Data Input'!AJ225,'Data Input'!AK225,'Data Input'!AM225,'Data Input'!AQ225,'Data Input'!AR225,'Data Input'!AZ225))","v":""},{"$f":"IF(O220=\"\",\"\",O220/COUNTIF('Data Input'!$C$8:$BU$8,\"GT\"))","v":""},{"$f":"IF(ISBLANK('Data Input'!A225),\"\",SUM('Data Input'!C225,'Data Input'!J225,'Data Input'!N225,'Data Input'!AS225,'Data Input'!AT225,'Data Input'!AV225))","v":""},{"$f":"IF(Q220=\"\",\"\",Q220/COUNTIF('Data Input'!$C$8:$BU$8,\"V\"))","v":""},{"$f":"IF(ISBLANK('Data Input'!A225),\"\",SUM('Data Input'!AI225,'Data Input'!AN225))","v":""},{"$f":"IF(S220=\"\",\"\",S220/COUNTIF('Data Input'!$C$8:$BU$8,\"F/I\"))","v":""},{"$f":"IF(ISBLANK('Data Input'!C225),\"\",SUM('Data Input'!BB225:BU225))","v":""},{"$f":"IF(U220=\"\",\"\",U220/COUNTIF('Data Input'!$C$8:$BU$8,\"Sp\"))","v":""}]
[{"$f":"IF('Data Input'!A226=0,\"\",'Data Input'!A226)","v":""},{"$f":"IF(ISBLANK('Data Input'!A226),\"\",COUNTIF('Data Input'!C226:BU226,\"\")-1)","v":""},{"$f":"IF(ISBLANK('Data Input'!A226),\"\",COUNTIF('Data Input'!C226:BU226,\"0\"))","v":""},{"$f":"IF(ISBLANK('Data Input'!A226),\"\",SUM(B221,C221))","v":""},{"$f":"IF(ISBLANK('Data Input'!A226),\"\",SUM('Data Input'!C226:BU226))","v":""},{"$f":"IF(E221=\"\",\"\",E221/(COUNTA('Data Input'!$C$8:$BU$8)-1))","v":""},{"$f":"IF(ISBLANK('Data Input'!A226),\"\",SUM('Data Input'!H226,'Data Input'!AA226,'Data Input'!AO226,'Data Input'!AP226))","v":""},{"$f":"IF(G221=\"\",\"\",G221/COUNTIF('Data Input'!$C$8:$BU$8,\"CS\"))","v":""},{"$f":"IF(ISBLANK('Data Input'!A226),\"\",SUM('Data Input'!P226,'Data Input'!T226,'Data Input'!AD226,'Data Input'!AX226,'Data Input'!AY226))","v":""},{"$f":"IF(I221=\"\",\"\",I221/COUNTIF('Data Input'!$C$8:$BU$8,\"SE\"))","v":""},{"$f":"IF(ISBLANK('Data Input'!A226),\"\",SUM('Data Input'!K226,'Data Input'!L226,'Data Input'!M226,'Data Input'!O226,'Data Input'!Q226,'Data Input'!U226,'Data Input'!X226,'Data Input'!Y226,'Data Input'!Z226,'Data Input'!AB226,'Data Input'!AE226,'Data Input'!AG226,'Data Input'!AL226,'Data Input'!AU226,'Data Input'!AW226))","v":""},{"$f":"IF(K221=\"\",\"\",K221/COUNTIF('Data Input'!$C$8:$BU$8,\"P\"))","v":""},{"$f":"IF(ISBLANK('Data Input'!A226),\"\",SUM('Data Input'!I226,'Data Input'!S226))","v":""},{"$f":"IF(M221=\"\",\"\",M221/COUNTIF('Data Input'!$C$8:$BU$8,\"FS\"))","v":""},{"$f":"IF(ISBLANK('Data Input'!A226),\"\",SUM('Data Input'!D226,'Data Input'!E226,'Data Input'!F226,'Data Input'!G226,'Data Input'!R226,'Data Input'!V226,'Data Input'!W226,'Data Input'!AC226,'Data Input'!AF226,'Data Input'!AH226,'Data Input'!AJ226,'Data Input'!AK226,'Data Input'!AM226,'Data Input'!AQ226,'Data Input'!AR226,'Data Input'!AZ226))","v":""},{"$f":"IF(O221=\"\",\"\",O221/COUNTIF('Data Input'!$C$8:$BU$8,\"GT\"))","v":""},{"$f":"IF(ISBLANK('Data Input'!A226),\"\",SUM('Data Input'!C226,'Data Input'!J226,'Data Input'!N226,'Data Input'!AS226,'Data Input'!AT226,'Data Input'!AV226))","v":""},{"$f":"IF(Q221=\"\",\"\",Q221/COUNTIF('Data Input'!$C$8:$BU$8,\"V\"))","v":""},{"$f":"IF(ISBLANK('Data Input'!A226),\"\",SUM('Data Input'!AI226,'Data Input'!AN226))","v":""},{"$f":"IF(S221=\"\",\"\",S221/COUNTIF('Data Input'!$C$8:$BU$8,\"F/I\"))","v":""},{"$f":"IF(ISBLANK('Data Input'!C226),\"\",SUM('Data Input'!BB226:BU226))","v":""},{"$f":"IF(U221=\"\",\"\",U221/COUNTIF('Data Input'!$C$8:$BU$8,\"Sp\"))","v":""}]
[{"$f":"IF('Data Input'!A227=0,\"\",'Data Input'!A227)","v":""},{"$f":"IF(ISBLANK('Data Input'!A227),\"\",COUNTIF('Data Input'!C227:BU227,\"\")-1)","v":""},{"$f":"IF(ISBLANK('Data Input'!A227),\"\",COUNTIF('Data Input'!C227:BU227,\"0\"))","v":""},{"$f":"IF(ISBLANK('Data Input'!A227),\"\",SUM(B222,C222))","v":""},{"$f":"IF(ISBLANK('Data Input'!A227),\"\",SUM('Data Input'!C227:BU227))","v":""},{"$f":"IF(E222=\"\",\"\",E222/(COUNTA('Data Input'!$C$8:$BU$8)-1))","v":""},{"$f":"IF(ISBLANK('Data Input'!A227),\"\",SUM('Data Input'!H227,'Data Input'!AA227,'Data Input'!AO227,'Data Input'!AP227))","v":""},{"$f":"IF(G222=\"\",\"\",G222/COUNTIF('Data Input'!$C$8:$BU$8,\"CS\"))","v":""},{"$f":"IF(ISBLANK('Data Input'!A227),\"\",SUM('Data Input'!P227,'Data Input'!T227,'Data Input'!AD227,'Data Input'!AX227,'Data Input'!AY227))","v":""},{"$f":"IF(I222=\"\",\"\",I222/COUNTIF('Data Input'!$C$8:$BU$8,\"SE\"))","v":""},{"$f":"IF(ISBLANK('Data Input'!A227),\"\",SUM('Data Input'!K227,'Data Input'!L227,'Data Input'!M227,'Data Input'!O227,'Data Input'!Q227,'Data Input'!U227,'Data Input'!X227,'Data Input'!Y227,'Data Input'!Z227,'Data Input'!AB227,'Data Input'!AE227,'Data Input'!AG227,'Data Input'!AL227,'Data Input'!AU227,'Data Input'!AW227))","v":""},{"$f":"IF(K222=\"\",\"\",K222/COUNTIF('Data Input'!$C$8:$BU$8,\"P\"))","v":""},{"$f":"IF(ISBLANK('Data Input'!A227),\"\",SUM('Data Input'!I227,'Data Input'!S227))","v":""},{"$f":"IF(M222=\"\",\"\",M222/COUNTIF('Data Input'!$C$8:$BU$8,\"FS\"))","v":""},{"$f":"IF(ISBLANK('Data Input'!A227),\"\",SUM('Data Input'!D227,'Data Input'!E227,'Data Input'!F227,'Data Input'!G227,'Data Input'!R227,'Data Input'!V227,'Data Input'!W227,'Data Input'!AC227,'Data Input'!AF227,'Data Input'!AH227,'Data Input'!AJ227,'Data Input'!AK227,'Data Input'!AM227,'Data Input'!AQ227,'Data Input'!AR227,'Data Input'!AZ227))","v":""},{"$f":"IF(O222=\"\",\"\",O222/COUNTIF('Data Input'!$C$8:$BU$8,\"GT\"))","v":""},{"$f":"IF(ISBLANK('Data Input'!A227),\"\",SUM('Data Input'!C227,'Data Input'!J227,'Data Input'!N227,'Data Input'!AS227,'Data Input'!AT227,'Data Input'!AV227))","v":""},{"$f":"IF(Q222=\"\",\"\",Q222/COUNTIF('Data Input'!$C$8:$BU$8,\"V\"))","v":""},{"$f":"IF(ISBLANK('Data Input'!A227),\"\",SUM('Data Input'!AI227,'Data Input'!AN227))","v":""},{"$f":"IF(S222=\"\",\"\",S222/COUNTIF('Data Input'!$C$8:$BU$8,\"F/I\"))","v":""},{"$f":"IF(ISBLANK('Data Input'!C227),\"\",SUM('Data Input'!BB227:BU227))","v":""},{"$f":"IF(U222=\"\",\"\",U222/COUNTIF('Data Input'!$C$8:$BU$8,\"Sp\"))","v":""}]
[{"$f":"IF('Data Input'!A228=0,\"\",'Data Input'!A228)","v":""},{"$f":"IF(ISBLANK('Data Input'!A228),\"\",COUNTIF('Data Input'!C228:BU228,\"\")-1)","v":""},{"$f":"IF(ISBLANK('Data Input'!A228),\"\",COUNTIF('Data Input'!C228:BU228,\"0\"))","v":""},{"$f":"IF(ISBLANK('Data Input'!A228),\"\",SUM(B223,C223))","v":""},{"$f":"IF(ISBLANK('Data Input'!A228),\"\",SUM('Data Input'!C228:BU228))","v":""},{"$f":"IF(E223=\"\",\"\",E223/(COUNTA('Data Input'!$C$8:$BU$8)-1))","v":""},{"$f":"IF(ISBLANK('Data Input'!A228),\"\",SUM('Data Input'!H228,'Data Input'!AA228,'Data Input'!AO228,'Data Input'!AP228))","v":""},{"$f":"IF(G223=\"\",\"\",G223/COUNTIF('Data Input'!$C$8:$BU$8,\"CS\"))","v":""},{"$f":"IF(ISBLANK('Data Input'!A228),\"\",SUM('Data Input'!P228,'Data Input'!T228,'Data Input'!AD228,'Data Input'!AX228,'Data Input'!AY228))","v":""},{"$f":"IF(I223=\"\",\"\",I223/COUNTIF('Data Input'!$C$8:$BU$8,\"SE\"))","v":""},{"$f":"IF(ISBLANK('Data Input'!A228),\"\",SUM('Data Input'!K228,'Data Input'!L228,'Data Input'!M228,'Data Input'!O228,'Data Input'!Q228,'Data Input'!U228,'Data Input'!X228,'Data Input'!Y228,'Data Input'!Z228,'Data Input'!AB228,'Data Input'!AE228,'Data Input'!AG228,'Data Input'!AL228,'Data Input'!AU228,'Data Input'!AW228))","v":""},{"$f":"IF(K223=\"\",\"\",K223/COUNTIF('Data Input'!$C$8:$BU$8,\"P\"))","v":""},{"$f":"IF(ISBLANK('Data Input'!A228),\"\",SUM('Data Input'!I228,'Data Input'!S228))","v":""},{"$f":"IF(M223=\"\",\"\",M223/COUNTIF('Data Input'!$C$8:$BU$8,\"FS\"))","v":""},{"$f":"IF(ISBLANK('Data Input'!A228),\"\",SUM('Data Input'!D228,'Data Input'!E228,'Data Input'!F228,'Data Input'!G228,'Data Input'!R228,'Data Input'!V228,'Data Input'!W228,'Data Input'!AC228,'Data Input'!AF228,'Data Input'!AH228,'Data Input'!AJ228,'Data Input'!AK228,'Data Input'!AM228,'Data Input'!AQ228,'Data Input'!AR228,'Data Input'!AZ228))","v":""},{"$f":"IF(O223=\"\",\"\",O223/COUNTIF('Data Input'!$C$8:$BU$8,\"GT\"))","v":""},{"$f":"IF(ISBLANK('Data Input'!A228),\"\",SUM('Data Input'!C228,'Data Input'!J228,'Data Input'!N228,'Data Input'!AS228,'Data Input'!AT228,'Data Input'!AV228))","v":""},{"$f":"IF(Q223=\"\",\"\",Q223/COUNTIF('Data Input'!$C$8:$BU$8,\"V\"))","v":""},{"$f":"IF(ISBLANK('Data Input'!A228),\"\",SUM('Data Input'!AI228,'Data Input'!AN228))","v":""},{"$f":"IF(S223=\"\",\"\",S223/COUNTIF('Data Input'!$C$8:$BU$8,\"F/I\"))","v":""},{"$f":"IF(ISBLANK('Data Input'!C228),\"\",SUM('Data Input'!BB228:BU228))","v":""},{"$f":"IF(U223=\"\",\"\",U223/COUNTIF('Data Input'!$C$8:$BU$8,\"Sp\"))","v":""}]
[{"$f":"IF('Data Input'!A229=0,\"\",'Data Input'!A229)","v":""},{"$f":"IF(ISBLANK('Data Input'!A229),\"\",COUNTIF('Data Input'!C229:BU229,\"\")-1)","v":""},{"$f":"IF(ISBLANK('Data Input'!A229),\"\",COUNTIF('Data Input'!C229:BU229,\"0\"))","v":""},{"$f":"IF(ISBLANK('Data Input'!A229),\"\",SUM(B224,C224))","v":""},{"$f":"IF(ISBLANK('Data Input'!A229),\"\",SUM('Data Input'!C229:BU229))","v":""},{"$f":"IF(E224=\"\",\"\",E224/(COUNTA('Data Input'!$C$8:$BU$8)-1))","v":""},{"$f":"IF(ISBLANK('Data Input'!A229),\"\",SUM('Data Input'!H229,'Data Input'!AA229,'Data Input'!AO229,'Data Input'!AP229))","v":""},{"$f":"IF(G224=\"\",\"\",G224/COUNTIF('Data Input'!$C$8:$BU$8,\"CS\"))","v":""},{"$f":"IF(ISBLANK('Data Input'!A229),\"\",SUM('Data Input'!P229,'Data Input'!T229,'Data Input'!AD229,'Data Input'!AX229,'Data Input'!AY229))","v":""},{"$f":"IF(I224=\"\",\"\",I224/COUNTIF('Data Input'!$C$8:$BU$8,\"SE\"))","v":""},{"$f":"IF(ISBLANK('Data Input'!A229),\"\",SUM('Data Input'!K229,'Data Input'!L229,'Data Input'!M229,'Data Input'!O229,'Data Input'!Q229,'Data Input'!U229,'Data Input'!X229,'Data Input'!Y229,'Data Input'!Z229,'Data Input'!AB229,'Data Input'!AE229,'Data Input'!AG229,'Data Input'!AL229,'Data Input'!AU229,'Data Input'!AW229))","v":""},{"$f":"IF(K224=\"\",\"\",K224/COUNTIF('Data Input'!$C$8:$BU$8,\"P\"))","v":""},{"$f":"IF(ISBLANK('Data Input'!A229),\"\",SUM('Data Input'!I229,'Data Input'!S229))","v":""},{"$f":"IF(M224=\"\",\"\",M224/COUNTIF('Data Input'!$C$8:$BU$8,\"FS\"))","v":""},{"$f":"IF(ISBLANK('Data Input'!A229),\"\",SUM('Data Input'!D229,'Data Input'!E229,'Data Input'!F229,'Data Input'!G229,'Data Input'!R229,'Data Input'!V229,'Data Input'!W229,'Data Input'!AC229,'Data Input'!AF229,'Data Input'!AH229,'Data Input'!AJ229,'Data Input'!AK229,'Data Input'!AM229,'Data Input'!AQ229,'Data Input'!AR229,'Data Input'!AZ229))","v":""},{"$f":"IF(O224=\"\",\"\",O224/COUNTIF('Data Input'!$C$8:$BU$8,\"GT\"))","v":""},{"$f":"IF(ISBLANK('Data Input'!A229),\"\",SUM('Data Input'!C229,'Data Input'!J229,'Data Input'!N229,'Data Input'!AS229,'Data Input'!AT229,'Data Input'!AV229))","v":""},{"$f":"IF(Q224=\"\",\"\",Q224/COUNTIF('Data Input'!$C$8:$BU$8,\"V\"))","v":""},{"$f":"IF(ISBLANK('Data Input'!A229),\"\",SUM('Data Input'!AI229,'Data Input'!AN229))","v":""},{"$f":"IF(S224=\"\",\"\",S224/COUNTIF('Data Input'!$C$8:$BU$8,\"F/I\"))","v":""},{"$f":"IF(ISBLANK('Data Input'!C229),\"\",SUM('Data Input'!BB229:BU229))","v":""},{"$f":"IF(U224=\"\",\"\",U224/COUNTIF('Data Input'!$C$8:$BU$8,\"Sp\"))","v":""}]
[{"$f":"IF('Data Input'!A230=0,\"\",'Data Input'!A230)","v":""},{"$f":"IF(ISBLANK('Data Input'!A230),\"\",COUNTIF('Data Input'!C230:BU230,\"\")-1)","v":""},{"$f":"IF(ISBLANK('Data Input'!A230),\"\",COUNTIF('Data Input'!C230:BU230,\"0\"))","v":""},{"$f":"IF(ISBLANK('Data Input'!A230),\"\",SUM(B225,C225))","v":""},{"$f":"IF(ISBLANK('Data Input'!A230),\"\",SUM('Data Input'!C230:BU230))","v":""},{"$f":"IF(E225=\"\",\"\",E225/(COUNTA('Data Input'!$C$8:$BU$8)-1))","v":""},{"$f":"IF(ISBLANK('Data Input'!A230),\"\",SUM('Data Input'!H230,'Data Input'!AA230,'Data Input'!AO230,'Data Input'!AP230))","v":""},{"$f":"IF(G225=\"\",\"\",G225/COUNTIF('Data Input'!$C$8:$BU$8,\"CS\"))","v":""},{"$f":"IF(ISBLANK('Data Input'!A230),\"\",SUM('Data Input'!P230,'Data Input'!T230,'Data Input'!AD230,'Data Input'!AX230,'Data Input'!AY230))","v":""},{"$f":"IF(I225=\"\",\"\",I225/COUNTIF('Data Input'!$C$8:$BU$8,\"SE\"))","v":""},{"$f":"IF(ISBLANK('Data Input'!A230),\"\",SUM('Data Input'!K230,'Data Input'!L230,'Data Input'!M230,'Data Input'!O230,'Data Input'!Q230,'Data Input'!U230,'Data Input'!X230,'Data Input'!Y230,'Data Input'!Z230,'Data Input'!AB230,'Data Input'!AE230,'Data Input'!AG230,'Data Input'!AL230,'Data Input'!AU230,'Data Input'!AW230))","v":""},{"$f":"IF(K225=\"\",\"\",K225/COUNTIF('Data Input'!$C$8:$BU$8,\"P\"))","v":""},{"$f":"IF(ISBLANK('Data Input'!A230),\"\",SUM('Data Input'!I230,'Data Input'!S230))","v":""},{"$f":"IF(M225=\"\",\"\",M225/COUNTIF('Data Input'!$C$8:$BU$8,\"FS\"))","v":""},{"$f":"IF(ISBLANK('Data Input'!A230),\"\",SUM('Data Input'!D230,'Data Input'!E230,'Data Input'!F230,'Data Input'!G230,'Data Input'!R230,'Data Input'!V230,'Data Input'!W230,'Data Input'!AC230,'Data Input'!AF230,'Data Input'!AH230,'Data Input'!AJ230,'Data Input'!AK230,'Data Input'!AM230,'Data Input'!AQ230,'Data Input'!AR230,'Data Input'!AZ230))","v":""},{"$f":"IF(O225=\"\",\"\",O225/COUNTIF('Data Input'!$C$8:$BU$8,\"GT\"))","v":""},{"$f":"IF(ISBLANK('Data Input'!A230),\"\",SUM('Data Input'!C230,'Data Input'!J230,'Data Input'!N230,'Data Input'!AS230,'Data Input'!AT230,'Data Input'!AV230))","v":""},{"$f":"IF(Q225=\"\",\"\",Q225/COUNTIF('Data Input'!$C$8:$BU$8,\"V\"))","v":""},{"$f":"IF(ISBLANK('Data Input'!A230),\"\",SUM('Data Input'!AI230,'Data Input'!AN230))","v":""},{"$f":"IF(S225=\"\",\"\",S225/COUNTIF('Data Input'!$C$8:$BU$8,\"F/I\"))","v":""},{"$f":"IF(ISBLANK('Data Input'!C230),\"\",SUM('Data Input'!BB230:BU230))","v":""},{"$f":"IF(U225=\"\",\"\",U225/COUNTIF('Data Input'!$C$8:$BU$8,\"Sp\"))","v":""}]
[{"$f":"IF('Data Input'!A231=0,\"\",'Data Input'!A231)","v":""},{"$f":"IF(ISBLANK('Data Input'!A231),\"\",COUNTIF('Data Input'!C231:BU231,\"\")-1)","v":""},{"$f":"IF(ISBLANK('Data Input'!A231),\"\",COUNTIF('Data Input'!C231:BU231,\"0\"))","v":""},{"$f":"IF(ISBLANK('Data Input'!A231),\"\",SUM(B226,C226))","v":""},{"$f":"IF(ISBLANK('Data Input'!A231),\"\",SUM('Data Input'!C231:BU231))","v":""},{"$f":"IF(E226=\"\",\"\",E226/(COUNTA('Data Input'!$C$8:$BU$8)-1))","v":""},{"$f":"IF(ISBLANK('Data Input'!A231),\"\",SUM('Data Input'!H231,'Data Input'!AA231,'Data Input'!AO231,'Data Input'!AP231))","v":""},{"$f":"IF(G226=\"\",\"\",G226/COUNTIF('Data Input'!$C$8:$BU$8,\"CS\"))","v":""},{"$f":"IF(ISBLANK('Data Input'!A231),\"\",SUM('Data Input'!P231,'Data Input'!T231,'Data Input'!AD231,'Data Input'!AX231,'Data Input'!AY231))","v":""},{"$f":"IF(I226=\"\",\"\",I226/COUNTIF('Data Input'!$C$8:$BU$8,\"SE\"))","v":""},{"$f":"IF(ISBLANK('Data Input'!A231),\"\",SUM('Data Input'!K231,'Data Input'!L231,'Data Input'!M231,'Data Input'!O231,'Data Input'!Q231,'Data Input'!U231,'Data Input'!X231,'Data Input'!Y231,'Data Input'!Z231,'Data Input'!AB231,'Data Input'!AE231,'Data Input'!AG231,'Data Input'!AL231,'Data Input'!AU231,'Data Input'!AW231))","v":""},{"$f":"IF(K226=\"\",\"\",K226/COUNTIF('Data Input'!$C$8:$BU$8,\"P\"))","v":""},{"$f":"IF(ISBLANK('Data Input'!A231),\"\",SUM('Data Input'!I231,'Data Input'!S231))","v":""},{"$f":"IF(M226=\"\",\"\",M226/COUNTIF('Data Input'!$C$8:$BU$8,\"FS\"))","v":""},{"$f":"IF(ISBLANK('Data Input'!A231),\"\",SUM('Data Input'!D231,'Data Input'!E231,'Data Input'!F231,'Data Input'!G231,'Data Input'!R231,'Data Input'!V231,'Data Input'!W231,'Data Input'!AC231,'Data Input'!AF231,'Data Input'!AH231,'Data Input'!AJ231,'Data Input'!AK231,'Data Input'!AM231,'Data Input'!AQ231,'Data Input'!AR231,'Data Input'!AZ231))","v":""},{"$f":"IF(O226=\"\",\"\",O226/COUNTIF('Data Input'!$C$8:$BU$8,\"GT\"))","v":""},{"$f":"IF(ISBLANK('Data Input'!A231),\"\",SUM('Data Input'!C231,'Data Input'!J231,'Data Input'!N231,'Data Input'!AS231,'Data Input'!AT231,'Data Input'!AV231))","v":""},{"$f":"IF(Q226=\"\",\"\",Q226/COUNTIF('Data Input'!$C$8:$BU$8,\"V\"))","v":""},{"$f":"IF(ISBLANK('Data Input'!A231),\"\",SUM('Data Input'!AI231,'Data Input'!AN231))","v":""},{"$f":"IF(S226=\"\",\"\",S226/COUNTIF('Data Input'!$C$8:$BU$8,\"F/I\"))","v":""},{"$f":"IF(ISBLANK('Data Input'!C231),\"\",SUM('Data Input'!BB231:BU231))","v":""},{"$f":"IF(U226=\"\",\"\",U226/COUNTIF('Data Input'!$C$8:$BU$8,\"Sp\"))","v":""}]
[{"$f":"IF('Data Input'!A232=0,\"\",'Data Input'!A232)","v":""},{"$f":"IF(ISBLANK('Data Input'!A232),\"\",COUNTIF('Data Input'!C232:BU232,\"\")-1)","v":""},{"$f":"IF(ISBLANK('Data Input'!A232),\"\",COUNTIF('Data Input'!C232:BU232,\"0\"))","v":""},{"$f":"IF(ISBLANK('Data Input'!A232),\"\",SUM(B227,C227))","v":""},{"$f":"IF(ISBLANK('Data Input'!A232),\"\",SUM('Data Input'!C232:BU232))","v":""},{"$f":"IF(E227=\"\",\"\",E227/(COUNTA('Data Input'!$C$8:$BU$8)-1))","v":""},{"$f":"IF(ISBLANK('Data Input'!A232),\"\",SUM('Data Input'!H232,'Data Input'!AA232,'Data Input'!AO232,'Data Input'!AP232))","v":""},{"$f":"IF(G227=\"\",\"\",G227/COUNTIF('Data Input'!$C$8:$BU$8,\"CS\"))","v":""},{"$f":"IF(ISBLANK('Data Input'!A232),\"\",SUM('Data Input'!P232,'Data Input'!T232,'Data Input'!AD232,'Data Input'!AX232,'Data Input'!AY232))","v":""},{"$f":"IF(I227=\"\",\"\",I227/COUNTIF('Data Input'!$C$8:$BU$8,\"SE\"))","v":""},{"$f":"IF(ISBLANK('Data Input'!A232),\"\",SUM('Data Input'!K232,'Data Input'!L232,'Data Input'!M232,'Data Input'!O232,'Data Input'!Q232,'Data Input'!U232,'Data Input'!X232,'Data Input'!Y232,'Data Input'!Z232,'Data Input'!AB232,'Data Input'!AE232,'Data Input'!AG232,'Data Input'!AL232,'Data Input'!AU232,'Data Input'!AW232))","v":""},{"$f":"IF(K227=\"\",\"\",K227/COUNTIF('Data Input'!$C$8:$BU$8,\"P\"))","v":""},{"$f":"IF(ISBLANK('Data Input'!A232),\"\",SUM('Data Input'!I232,'Data Input'!S232))","v":""},{"$f":"IF(M227=\"\",\"\",M227/COUNTIF('Data Input'!$C$8:$BU$8,\"FS\"))","v":""},{"$f":"IF(ISBLANK('Data Input'!A232),\"\",SUM('Data Input'!D232,'Data Input'!E232,'Data Input'!F232,'Data Input'!G232,'Data Input'!R232,'Data Input'!V232,'Data Input'!W232,'Data Input'!AC232,'Data Input'!AF232,'Data Input'!AH232,'Data Input'!AJ232,'Data Input'!AK232,'Data Input'!AM232,'Data Input'!AQ232,'Data Input'!AR232,'Data Input'!AZ232))","v":""},{"$f":"IF(O227=\"\",\"\",O227/COUNTIF('Data Input'!$C$8:$BU$8,\"GT\"))","v":""},{"$f":"IF(ISBLANK('Data Input'!A232),\"\",SUM('Data Input'!C232,'Data Input'!J232,'Data Input'!N232,'Data Input'!AS232,'Data Input'!AT232,'Data Input'!AV232))","v":""},{"$f":"IF(Q227=\"\",\"\",Q227/COUNTIF('Data Input'!$C$8:$BU$8,\"V\"))","v":""},{"$f":"IF(ISBLANK('Data Input'!A232),\"\",SUM('Data Input'!AI232,'Data Input'!AN232))","v":""},{"$f":"IF(S227=\"\",\"\",S227/COUNTIF('Data Input'!$C$8:$BU$8,\"F/I\"))","v":""},{"$f":"IF(ISBLANK('Data Input'!C232),\"\",SUM('Data Input'!BB232:BU232))","v":""},{"$f":"IF(U227=\"\",\"\",U227/COUNTIF('Data Input'!$C$8:$BU$8,\"Sp\"))","v":""}]
[{"$f":"IF('Data Input'!A233=0,\"\",'Data Input'!A233)","v":""},{"$f":"IF(ISBLANK('Data Input'!A233),\"\",COUNTIF('Data Input'!C233:BU233,\"\")-1)","v":""},{"$f":"IF(ISBLANK('Data Input'!A233),\"\",COUNTIF('Data Input'!C233:BU233,\"0\"))","v":""},{"$f":"IF(ISBLANK('Data Input'!A233),\"\",SUM(B228,C228))","v":""},{"$f":"IF(ISBLANK('Data Input'!A233),\"\",SUM('Data Input'!C233:BU233))","v":""},{"$f":"IF(E228=\"\",\"\",E228/(COUNTA('Data Input'!$C$8:$BU$8)-1))","v":""},{"$f":"IF(ISBLANK('Data Input'!A233),\"\",SUM('Data Input'!H233,'Data Input'!AA233,'Data Input'!AO233,'Data Input'!AP233))","v":""},{"$f":"IF(G228=\"\",\"\",G228/COUNTIF('Data Input'!$C$8:$BU$8,\"CS\"))","v":""},{"$f":"IF(ISBLANK('Data Input'!A233),\"\",SUM('Data Input'!P233,'Data Input'!T233,'Data Input'!AD233,'Data Input'!AX233,'Data Input'!AY233))","v":""},{"$f":"IF(I228=\"\",\"\",I228/COUNTIF('Data Input'!$C$8:$BU$8,\"SE\"))","v":""},{"$f":"IF(ISBLANK('Data Input'!A233),\"\",SUM('Data Input'!K233,'Data Input'!L233,'Data Input'!M233,'Data Input'!O233,'Data Input'!Q233,'Data Input'!U233,'Data Input'!X233,'Data Input'!Y233,'Data Input'!Z233,'Data Input'!AB233,'Data Input'!AE233,'Data Input'!AG233,'Data Input'!AL233,'Data Input'!AU233,'Data Input'!AW233))","v":""},{"$f":"IF(K228=\"\",\"\",K228/COUNTIF('Data Input'!$C$8:$BU$8,\"P\"))","v":""},{"$f":"IF(ISBLANK('Data Input'!A233),\"\",SUM('Data Input'!I233,'Data Input'!S233))","v":""},{"$f":"IF(M228=\"\",\"\",M228/COUNTIF('Data Input'!$C$8:$BU$8,\"FS\"))","v":""},{"$f":"IF(ISBLANK('Data Input'!A233),\"\",SUM('Data Input'!D233,'Data Input'!E233,'Data Input'!F233,'Data Input'!G233,'Data Input'!R233,'Data Input'!V233,'Data Input'!W233,'Data Input'!AC233,'Data Input'!AF233,'Data Input'!AH233,'Data Input'!AJ233,'Data Input'!AK233,'Data Input'!AM233,'Data Input'!AQ233,'Data Input'!AR233,'Data Input'!AZ233))","v":""},{"$f":"IF(O228=\"\",\"\",O228/COUNTIF('Data Input'!$C$8:$BU$8,\"GT\"))","v":""},{"$f":"IF(ISBLANK('Data Input'!A233),\"\",SUM('Data Input'!C233,'Data Input'!J233,'Data Input'!N233,'Data Input'!AS233,'Data Input'!AT233,'Data Input'!AV233))","v":""},{"$f":"IF(Q228=\"\",\"\",Q228/COUNTIF('Data Input'!$C$8:$BU$8,\"V\"))","v":""},{"$f":"IF(ISBLANK('Data Input'!A233),\"\",SUM('Data Input'!AI233,'Data Input'!AN233))","v":""},{"$f":"IF(S228=\"\",\"\",S228/COUNTIF('Data Input'!$C$8:$BU$8,\"F/I\"))","v":""},{"$f":"IF(ISBLANK('Data Input'!C233),\"\",SUM('Data Input'!BB233:BU233))","v":""},{"$f":"IF(U228=\"\",\"\",U228/COUNTIF('Data Input'!$C$8:$BU$8,\"Sp\"))","v":""}]
[{"$f":"IF('Data Input'!A234=0,\"\",'Data Input'!A234)","v":""},{"$f":"IF(ISBLANK('Data Input'!A234),\"\",COUNTIF('Data Input'!C234:BU234,\"\")-1)","v":""},{"$f":"IF(ISBLANK('Data Input'!A234),\"\",COUNTIF('Data Input'!C234:BU234,\"0\"))","v":""},{"$f":"IF(ISBLANK('Data Input'!A234),\"\",SUM(B229,C229))","v":""},{"$f":"IF(ISBLANK('Data Input'!A234),\"\",SUM('Data Input'!C234:BU234))","v":""},{"$f":"IF(E229=\"\",\"\",E229/(COUNTA('Data Input'!$C$8:$BU$8)-1))","v":""},{"$f":"IF(ISBLANK('Data Input'!A234),\"\",SUM('Data Input'!H234,'Data Input'!AA234,'Data Input'!AO234,'Data Input'!AP234))","v":""},{"$f":"IF(G229=\"\",\"\",G229/COUNTIF('Data Input'!$C$8:$BU$8,\"CS\"))","v":""},{"$f":"IF(ISBLANK('Data Input'!A234),\"\",SUM('Data Input'!P234,'Data Input'!T234,'Data Input'!AD234,'Data Input'!AX234,'Data Input'!AY234))","v":""},{"$f":"IF(I229=\"\",\"\",I229/COUNTIF('Data Input'!$C$8:$BU$8,\"SE\"))","v":""},{"$f":"IF(ISBLANK('Data Input'!A234),\"\",SUM('Data Input'!K234,'Data Input'!L234,'Data Input'!M234,'Data Input'!O234,'Data Input'!Q234,'Data Input'!U234,'Data Input'!X234,'Data Input'!Y234,'Data Input'!Z234,'Data Input'!AB234,'Data Input'!AE234,'Data Input'!AG234,'Data Input'!AL234,'Data Input'!AU234,'Data Input'!AW234))","v":""},{"$f":"IF(K229=\"\",\"\",K229/COUNTIF('Data Input'!$C$8:$BU$8,\"P\"))","v":""},{"$f":"IF(ISBLANK('Data Input'!A234),\"\",SUM('Data Input'!I234,'Data Input'!S234))","v":""},{"$f":"IF(M229=\"\",\"\",M229/COUNTIF('Data Input'!$C$8:$BU$8,\"FS\"))","v":""},{"$f":"IF(ISBLANK('Data Input'!A234),\"\",SUM('Data Input'!D234,'Data Input'!E234,'Data Input'!F234,'Data Input'!G234,'Data Input'!R234,'Data Input'!V234,'Data Input'!W234,'Data Input'!AC234,'Data Input'!AF234,'Data Input'!AH234,'Data Input'!AJ234,'Data Input'!AK234,'Data Input'!AM234,'Data Input'!AQ234,'Data Input'!AR234,'Data Input'!AZ234))","v":""},{"$f":"IF(O229=\"\",\"\",O229/COUNTIF('Data Input'!$C$8:$BU$8,\"GT\"))","v":""},{"$f":"IF(ISBLANK('Data Input'!A234),\"\",SUM('Data Input'!C234,'Data Input'!J234,'Data Input'!N234,'Data Input'!AS234,'Data Input'!AT234,'Data Input'!AV234))","v":""},{"$f":"IF(Q229=\"\",\"\",Q229/COUNTIF('Data Input'!$C$8:$BU$8,\"V\"))","v":""},{"$f":"IF(ISBLANK('Data Input'!A234),\"\",SUM('Data Input'!AI234,'Data Input'!AN234))","v":""},{"$f":"IF(S229=\"\",\"\",S229/COUNTIF('Data Input'!$C$8:$BU$8,\"F/I\"))","v":""},{"$f":"IF(ISBLANK('Data Input'!C234),\"\",SUM('Data Input'!BB234:BU234))","v":""},{"$f":"IF(U229=\"\",\"\",U229/COUNTIF('Data Input'!$C$8:$BU$8,\"Sp\"))","v":""}]
[{"$f":"IF('Data Input'!A235=0,\"\",'Data Input'!A235)","v":""},{"$f":"IF(ISBLANK('Data Input'!A235),\"\",COUNTIF('Data Input'!C235:BU235,\"\")-1)","v":""},{"$f":"IF(ISBLANK('Data Input'!A235),\"\",COUNTIF('Data Input'!C235:BU235,\"0\"))","v":""},{"$f":"IF(ISBLANK('Data Input'!A235),\"\",SUM(B230,C230))","v":""},{"$f":"IF(ISBLANK('Data Input'!A235),\"\",SUM('Data Input'!C235:BU235))","v":""},{"$f":"IF(E230=\"\",\"\",E230/(COUNTA('Data Input'!$C$8:$BU$8)-1))","v":""},{"$f":"IF(ISBLANK('Data Input'!A235),\"\",SUM('Data Input'!H235,'Data Input'!AA235,'Data Input'!AO235,'Data Input'!AP235))","v":""},{"$f":"IF(G230=\"\",\"\",G230/COUNTIF('Data Input'!$C$8:$BU$8,\"CS\"))","v":""},{"$f":"IF(ISBLANK('Data Input'!A235),\"\",SUM('Data Input'!P235,'Data Input'!T235,'Data Input'!AD235,'Data Input'!AX235,'Data Input'!AY235))","v":""},{"$f":"IF(I230=\"\",\"\",I230/COUNTIF('Data Input'!$C$8:$BU$8,\"SE\"))","v":""},{"$f":"IF(ISBLANK('Data Input'!A235),\"\",SUM('Data Input'!K235,'Data Input'!L235,'Data Input'!M235,'Data Input'!O235,'Data Input'!Q235,'Data Input'!U235,'Data Input'!X235,'Data Input'!Y235,'Data Input'!Z235,'Data Input'!AB235,'Data Input'!AE235,'Data Input'!AG235,'Data Input'!AL235,'Data Input'!AU235,'Data Input'!AW235))","v":""},{"$f":"IF(K230=\"\",\"\",K230/COUNTIF('Data Input'!$C$8:$BU$8,\"P\"))","v":""},{"$f":"IF(ISBLANK('Data Input'!A235),\"\",SUM('Data Input'!I235,'Data Input'!S235))","v":""},{"$f":"IF(M230=\"\",\"\",M230/COUNTIF('Data Input'!$C$8:$BU$8,\"FS\"))","v":""},{"$f":"IF(ISBLANK('Data Input'!A235),\"\",SUM('Data Input'!D235,'Data Input'!E235,'Data Input'!F235,'Data Input'!G235,'Data Input'!R235,'Data Input'!V235,'Data Input'!W235,'Data Input'!AC235,'Data Input'!AF235,'Data Input'!AH235,'Data Input'!AJ235,'Data Input'!AK235,'Data Input'!AM235,'Data Input'!AQ235,'Data Input'!AR235,'Data Input'!AZ235))","v":""},{"$f":"IF(O230=\"\",\"\",O230/COUNTIF('Data Input'!$C$8:$BU$8,\"GT\"))","v":""},{"$f":"IF(ISBLANK('Data Input'!A235),\"\",SUM('Data Input'!C235,'Data Input'!J235,'Data Input'!N235,'Data Input'!AS235,'Data Input'!AT235,'Data Input'!AV235))","v":""},{"$f":"IF(Q230=\"\",\"\",Q230/COUNTIF('Data Input'!$C$8:$BU$8,\"V\"))","v":""},{"$f":"IF(ISBLANK('Data Input'!A235),\"\",SUM('Data Input'!AI235,'Data Input'!AN235))","v":""},{"$f":"IF(S230=\"\",\"\",S230/COUNTIF('Data Input'!$C$8:$BU$8,\"F/I\"))","v":""},{"$f":"IF(ISBLANK('Data Input'!C235),\"\",SUM('Data Input'!BB235:BU235))","v":""},{"$f":"IF(U230=\"\",\"\",U230/COUNTIF('Data Input'!$C$8:$BU$8,\"Sp\"))","v":""}]
[{"$f":"IF('Data Input'!A236=0,\"\",'Data Input'!A236)","v":""},{"$f":"IF(ISBLANK('Data Input'!A236),\"\",COUNTIF('Data Input'!C236:BU236,\"\")-1)","v":""},{"$f":"IF(ISBLANK('Data Input'!A236),\"\",COUNTIF('Data Input'!C236:BU236,\"0\"))","v":""},{"$f":"IF(ISBLANK('Data Input'!A236),\"\",SUM(B231,C231))","v":""},{"$f":"IF(ISBLANK('Data Input'!A236),\"\",SUM('Data Input'!C236:BU236))","v":""},{"$f":"IF(E231=\"\",\"\",E231/(COUNTA('Data Input'!$C$8:$BU$8)-1))","v":""},{"$f":"IF(ISBLANK('Data Input'!A236),\"\",SUM('Data Input'!H236,'Data Input'!AA236,'Data Input'!AO236,'Data Input'!AP236))","v":""},{"$f":"IF(G231=\"\",\"\",G231/COUNTIF('Data Input'!$C$8:$BU$8,\"CS\"))","v":""},{"$f":"IF(ISBLANK('Data Input'!A236),\"\",SUM('Data Input'!P236,'Data Input'!T236,'Data Input'!AD236,'Data Input'!AX236,'Data Input'!AY236))","v":""},{"$f":"IF(I231=\"\",\"\",I231/COUNTIF('Data Input'!$C$8:$BU$8,\"SE\"))","v":""},{"$f":"IF(ISBLANK('Data Input'!A236),\"\",SUM('Data Input'!K236,'Data Input'!L236,'Data Input'!M236,'Data Input'!O236,'Data Input'!Q236,'Data Input'!U236,'Data Input'!X236,'Data Input'!Y236,'Data Input'!Z236,'Data Input'!AB236,'Data Input'!AE236,'Data Input'!AG236,'Data Input'!AL236,'Data Input'!AU236,'Data Input'!AW236))","v":""},{"$f":"IF(K231=\"\",\"\",K231/COUNTIF('Data Input'!$C$8:$BU$8,\"P\"))","v":""},{"$f":"IF(ISBLANK('Data Input'!A236),\"\",SUM('Data Input'!I236,'Data Input'!S236))","v":""},{"$f":"IF(M231=\"\",\"\",M231/COUNTIF('Data Input'!$C$8:$BU$8,\"FS\"))","v":""},{"$f":"IF(ISBLANK('Data Input'!A236),\"\",SUM('Data Input'!D236,'Data Input'!E236,'Data Input'!F236,'Data Input'!G236,'Data Input'!R236,'Data Input'!V236,'Data Input'!W236,'Data Input'!AC236,'Data Input'!AF236,'Data Input'!AH236,'Data Input'!AJ236,'Data Input'!AK236,'Data Input'!AM236,'Data Input'!AQ236,'Data Input'!AR236,'Data Input'!AZ236))","v":""},{"$f":"IF(O231=\"\",\"\",O231/COUNTIF('Data Input'!$C$8:$BU$8,\"GT\"))","v":""},{"$f":"IF(ISBLANK('Data Input'!A236),\"\",SUM('Data Input'!C236,'Data Input'!J236,'Data Input'!N236,'Data Input'!AS236,'Data Input'!AT236,'Data Input'!AV236))","v":""},{"$f":"IF(Q231=\"\",\"\",Q231/COUNTIF('Data Input'!$C$8:$BU$8,\"V\"))","v":""},{"$f":"IF(ISBLANK('Data Input'!A236),\"\",SUM('Data Input'!AI236,'Data Input'!AN236))","v":""},{"$f":"IF(S231=\"\",\"\",S231/COUNTIF('Data Input'!$C$8:$BU$8,\"F/I\"))","v":""},{"$f":"IF(ISBLANK('Data Input'!C236),\"\",SUM('Data Input'!BB236:BU236))","v":""},{"$f":"IF(U231=\"\",\"\",U231/COUNTIF('Data Input'!$C$8:$BU$8,\"Sp\"))","v":""}]
[{"$f":"IF('Data Input'!A237=0,\"\",'Data Input'!A237)","v":""},{"$f":"IF(ISBLANK('Data Input'!A237),\"\",COUNTIF('Data Input'!C237:BU237,\"\")-1)","v":""},{"$f":"IF(ISBLANK('Data Input'!A237),\"\",COUNTIF('Data Input'!C237:BU237,\"0\"))","v":""},{"$f":"IF(ISBLANK('Data Input'!A237),\"\",SUM(B232,C232))","v":""},{"$f":"IF(ISBLANK('Data Input'!A237),\"\",SUM('Data Input'!C237:BU237))","v":""},{"$f":"IF(E232=\"\",\"\",E232/(COUNTA('Data Input'!$C$8:$BU$8)-1))","v":""},{"$f":"IF(ISBLANK('Data Input'!A237),\"\",SUM('Data Input'!H237,'Data Input'!AA237,'Data Input'!AO237,'Data Input'!AP237))","v":""},{"$f":"IF(G232=\"\",\"\",G232/COUNTIF('Data Input'!$C$8:$BU$8,\"CS\"))","v":""},{"$f":"IF(ISBLANK('Data Input'!A237),\"\",SUM('Data Input'!P237,'Data Input'!T237,'Data Input'!AD237,'Data Input'!AX237,'Data Input'!AY237))","v":""},{"$f":"IF(I232=\"\",\"\",I232/COUNTIF('Data Input'!$C$8:$BU$8,\"SE\"))","v":""},{"$f":"IF(ISBLANK('Data Input'!A237),\"\",SUM('Data Input'!K237,'Data Input'!L237,'Data Input'!M237,'Data Input'!O237,'Data Input'!Q237,'Data Input'!U237,'Data Input'!X237,'Data Input'!Y237,'Data Input'!Z237,'Data Input'!AB237,'Data Input'!AE237,'Data Input'!AG237,'Data Input'!AL237,'Data Input'!AU237,'Data Input'!AW237))","v":""},{"$f":"IF(K232=\"\",\"\",K232/COUNTIF('Data Input'!$C$8:$BU$8,\"P\"))","v":""},{"$f":"IF(ISBLANK('Data Input'!A237),\"\",SUM('Data Input'!I237,'Data Input'!S237))","v":""},{"$f":"IF(M232=\"\",\"\",M232/COUNTIF('Data Input'!$C$8:$BU$8,\"FS\"))","v":""},{"$f":"IF(ISBLANK('Data Input'!A237),\"\",SUM('Data Input'!D237,'Data Input'!E237,'Data Input'!F237,'Data Input'!G237,'Data Input'!R237,'Data Input'!V237,'Data Input'!W237,'Data Input'!AC237,'Data Input'!AF237,'Data Input'!AH237,'Data Input'!AJ237,'Data Input'!AK237,'Data Input'!AM237,'Data Input'!AQ237,'Data Input'!AR237,'Data Input'!AZ237))","v":""},{"$f":"IF(O232=\"\",\"\",O232/COUNTIF('Data Input'!$C$8:$BU$8,\"GT\"))","v":""},{"$f":"IF(ISBLANK('Data Input'!A237),\"\",SUM('Data Input'!C237,'Data Input'!J237,'Data Input'!N237,'Data Input'!AS237,'Data Input'!AT237,'Data Input'!AV237))","v":""},{"$f":"IF(Q232=\"\",\"\",Q232/COUNTIF('Data Input'!$C$8:$BU$8,\"V\"))","v":""},{"$f":"IF(ISBLANK('Data Input'!A237),\"\",SUM('Data Input'!AI237,'Data Input'!AN237))","v":""},{"$f":"IF(S232=\"\",\"\",S232/COUNTIF('Data Input'!$C$8:$BU$8,\"F/I\"))","v":""},{"$f":"IF(ISBLANK('Data Input'!C237),\"\",SUM('Data Input'!BB237:BU237))","v":""},{"$f":"IF(U232=\"\",\"\",U232/COUNTIF('Data Input'!$C$8:$BU$8,\"Sp\"))","v":""}]
[{"$f":"IF('Data Input'!A238=0,\"\",'Data Input'!A238)","v":""},{"$f":"IF(ISBLANK('Data Input'!A238),\"\",COUNTIF('Data Input'!C238:BU238,\"\")-1)","v":""},{"$f":"IF(ISBLANK('Data Input'!A238),\"\",COUNTIF('Data Input'!C238:BU238,\"0\"))","v":""},{"$f":"IF(ISBLANK('Data Input'!A238),\"\",SUM(B233,C233))","v":""},{"$f":"IF(ISBLANK('Data Input'!A238),\"\",SUM('Data Input'!C238:BU238))","v":""},{"$f":"IF(E233=\"\",\"\",E233/(COUNTA('Data Input'!$C$8:$BU$8)-1))","v":""},{"$f":"IF(ISBLANK('Data Input'!A238),\"\",SUM('Data Input'!H238,'Data Input'!AA238,'Data Input'!AO238,'Data Input'!AP238))","v":""},{"$f":"IF(G233=\"\",\"\",G233/COUNTIF('Data Input'!$C$8:$BU$8,\"CS\"))","v":""},{"$f":"IF(ISBLANK('Data Input'!A238),\"\",SUM('Data Input'!P238,'Data Input'!T238,'Data Input'!AD238,'Data Input'!AX238,'Data Input'!AY238))","v":""},{"$f":"IF(I233=\"\",\"\",I233/COUNTIF('Data Input'!$C$8:$BU$8,\"SE\"))","v":""},{"$f":"IF(ISBLANK('Data Input'!A238),\"\",SUM('Data Input'!K238,'Data Input'!L238,'Data Input'!M238,'Data Input'!O238,'Data Input'!Q238,'Data Input'!U238,'Data Input'!X238,'Data Input'!Y238,'Data Input'!Z238,'Data Input'!AB238,'Data Input'!AE238,'Data Input'!AG238,'Data Input'!AL238,'Data Input'!AU238,'Data Input'!AW238))","v":""},{"$f":"IF(K233=\"\",\"\",K233/COUNTIF('Data Input'!$C$8:$BU$8,\"P\"))","v":""},{"$f":"IF(ISBLANK('Data Input'!A238),\"\",SUM('Data Input'!I238,'Data Input'!S238))","v":""},{"$f":"IF(M233=\"\",\"\",M233/COUNTIF('Data Input'!$C$8:$BU$8,\"FS\"))","v":""},{"$f":"IF(ISBLANK('Data Input'!A238),\"\",SUM('Data Input'!D238,'Data Input'!E238,'Data Input'!F238,'Data Input'!G238,'Data Input'!R238,'Data Input'!V238,'Data Input'!W238,'Data Input'!AC238,'Data Input'!AF238,'Data Input'!AH238,'Data Input'!AJ238,'Data Input'!AK238,'Data Input'!AM238,'Data Input'!AQ238,'Data Input'!AR238,'Data Input'!AZ238))","v":""},{"$f":"IF(O233=\"\",\"\",O233/COUNTIF('Data Input'!$C$8:$BU$8,\"GT\"))","v":""},{"$f":"IF(ISBLANK('Data Input'!A238),\"\",SUM('Data Input'!C238,'Data Input'!J238,'Data Input'!N238,'Data Input'!AS238,'Data Input'!AT238,'Data Input'!AV238))","v":""},{"$f":"IF(Q233=\"\",\"\",Q233/COUNTIF('Data Input'!$C$8:$BU$8,\"V\"))","v":""},{"$f":"IF(ISBLANK('Data Input'!A238),\"\",SUM('Data Input'!AI238,'Data Input'!AN238))","v":""},{"$f":"IF(S233=\"\",\"\",S233/COUNTIF('Data Input'!$C$8:$BU$8,\"F/I\"))","v":""},{"$f":"IF(ISBLANK('Data Input'!C238),\"\",SUM('Data Input'!BB238:BU238))","v":""},{"$f":"IF(U233=\"\",\"\",U233/COUNTIF('Data Input'!$C$8:$BU$8,\"Sp\"))","v":""}]
[{"$f":"IF('Data Input'!A239=0,\"\",'Data Input'!A239)","v":""},{"$f":"IF(ISBLANK('Data Input'!A239),\"\",COUNTIF('Data Input'!C239:BU239,\"\")-1)","v":""},{"$f":"IF(ISBLANK('Data Input'!A239),\"\",COUNTIF('Data Input'!C239:BU239,\"0\"))","v":""},{"$f":"IF(ISBLANK('Data Input'!A239),\"\",SUM(B234,C234))","v":""},{"$f":"IF(ISBLANK('Data Input'!A239),\"\",SUM('Data Input'!C239:BU239))","v":""},{"$f":"IF(E234=\"\",\"\",E234/(COUNTA('Data Input'!$C$8:$BU$8)-1))","v":""},{"$f":"IF(ISBLANK('Data Input'!A239),\"\",SUM('Data Input'!H239,'Data Input'!AA239,'Data Input'!AO239,'Data Input'!AP239))","v":""},{"$f":"IF(G234=\"\",\"\",G234/COUNTIF('Data Input'!$C$8:$BU$8,\"CS\"))","v":""},{"$f":"IF(ISBLANK('Data Input'!A239),\"\",SUM('Data Input'!P239,'Data Input'!T239,'Data Input'!AD239,'Data Input'!AX239,'Data Input'!AY239))","v":""},{"$f":"IF(I234=\"\",\"\",I234/COUNTIF('Data Input'!$C$8:$BU$8,\"SE\"))","v":""},{"$f":"IF(ISBLANK('Data Input'!A239),\"\",SUM('Data Input'!K239,'Data Input'!L239,'Data Input'!M239,'Data Input'!O239,'Data Input'!Q239,'Data Input'!U239,'Data Input'!X239,'Data Input'!Y239,'Data Input'!Z239,'Data Input'!AB239,'Data Input'!AE239,'Data Input'!AG239,'Data Input'!AL239,'Data Input'!AU239,'Data Input'!AW239))","v":""},{"$f":"IF(K234=\"\",\"\",K234/COUNTIF('Data Input'!$C$8:$BU$8,\"P\"))","v":""},{"$f":"IF(ISBLANK('Data Input'!A239),\"\",SUM('Data Input'!I239,'Data Input'!S239))","v":""},{"$f":"IF(M234=\"\",\"\",M234/COUNTIF('Data Input'!$C$8:$BU$8,\"FS\"))","v":""},{"$f":"IF(ISBLANK('Data Input'!A239),\"\",SUM('Data Input'!D239,'Data Input'!E239,'Data Input'!F239,'Data Input'!G239,'Data Input'!R239,'Data Input'!V239,'Data Input'!W239,'Data Input'!AC239,'Data Input'!AF239,'Data Input'!AH239,'Data Input'!AJ239,'Data Input'!AK239,'Data Input'!AM239,'Data Input'!AQ239,'Data Input'!AR239,'Data Input'!AZ239))","v":""},{"$f":"IF(O234=\"\",\"\",O234/COUNTIF('Data Input'!$C$8:$BU$8,\"GT\"))","v":""},{"$f":"IF(ISBLANK('Data Input'!A239),\"\",SUM('Data Input'!C239,'Data Input'!J239,'Data Input'!N239,'Data Input'!AS239,'Data Input'!AT239,'Data Input'!AV239))","v":""},{"$f":"IF(Q234=\"\",\"\",Q234/COUNTIF('Data Input'!$C$8:$BU$8,\"V\"))","v":""},{"$f":"IF(ISBLANK('Data Input'!A239),\"\",SUM('Data Input'!AI239,'Data Input'!AN239))","v":""},{"$f":"IF(S234=\"\",\"\",S234/COUNTIF('Data Input'!$C$8:$BU$8,\"F/I\"))","v":""},{"$f":"IF(ISBLANK('Data Input'!C239),\"\",SUM('Data Input'!BB239:BU239))","v":""},{"$f":"IF(U234=\"\",\"\",U234/COUNTIF('Data Input'!$C$8:$BU$8,\"Sp\"))","v":""}]
[{"$f":"IF('Data Input'!A240=0,\"\",'Data Input'!A240)","v":""},{"$f":"IF(ISBLANK('Data Input'!A240),\"\",COUNTIF('Data Input'!C240:BU240,\"\")-1)","v":""},{"$f":"IF(ISBLANK('Data Input'!A240),\"\",COUNTIF('Data Input'!C240:BU240,\"0\"))","v":""},{"$f":"IF(ISBLANK('Data Input'!A240),\"\",SUM(B235,C235))","v":""},{"$f":"IF(ISBLANK('Data Input'!A240),\"\",SUM('Data Input'!C240:BU240))","v":""},{"$f":"IF(E235=\"\",\"\",E235/(COUNTA('Data Input'!$C$8:$BU$8)-1))","v":""},{"$f":"IF(ISBLANK('Data Input'!A240),\"\",SUM('Data Input'!H240,'Data Input'!AA240,'Data Input'!AO240,'Data Input'!AP240))","v":""},{"$f":"IF(G235=\"\",\"\",G235/COUNTIF('Data Input'!$C$8:$BU$8,\"CS\"))","v":""},{"$f":"IF(ISBLANK('Data Input'!A240),\"\",SUM('Data Input'!P240,'Data Input'!T240,'Data Input'!AD240,'Data Input'!AX240,'Data Input'!AY240))","v":""},{"$f":"IF(I235=\"\",\"\",I235/COUNTIF('Data Input'!$C$8:$BU$8,\"SE\"))","v":""},{"$f":"IF(ISBLANK('Data Input'!A240),\"\",SUM('Data Input'!K240,'Data Input'!L240,'Data Input'!M240,'Data Input'!O240,'Data Input'!Q240,'Data Input'!U240,'Data Input'!X240,'Data Input'!Y240,'Data Input'!Z240,'Data Input'!AB240,'Data Input'!AE240,'Data Input'!AG240,'Data Input'!AL240,'Data Input'!AU240,'Data Input'!AW240))","v":""},{"$f":"IF(K235=\"\",\"\",K235/COUNTIF('Data Input'!$C$8:$BU$8,\"P\"))","v":""},{"$f":"IF(ISBLANK('Data Input'!A240),\"\",SUM('Data Input'!I240,'Data Input'!S240))","v":""},{"$f":"IF(M235=\"\",\"\",M235/COUNTIF('Data Input'!$C$8:$BU$8,\"FS\"))","v":""},{"$f":"IF(ISBLANK('Data Input'!A240),\"\",SUM('Data Input'!D240,'Data Input'!E240,'Data Input'!F240,'Data Input'!G240,'Data Input'!R240,'Data Input'!V240,'Data Input'!W240,'Data Input'!AC240,'Data Input'!AF240,'Data Input'!AH240,'Data Input'!AJ240,'Data Input'!AK240,'Data Input'!AM240,'Data Input'!AQ240,'Data Input'!AR240,'Data Input'!AZ240))","v":""},{"$f":"IF(O235=\"\",\"\",O235/COUNTIF('Data Input'!$C$8:$BU$8,\"GT\"))","v":""},{"$f":"IF(ISBLANK('Data Input'!A240),\"\",SUM('Data Input'!C240,'Data Input'!J240,'Data Input'!N240,'Data Input'!AS240,'Data Input'!AT240,'Data Input'!AV240))","v":""},{"$f":"IF(Q235=\"\",\"\",Q235/COUNTIF('Data Input'!$C$8:$BU$8,\"V\"))","v":""},{"$f":"IF(ISBLANK('Data Input'!A240),\"\",SUM('Data Input'!AI240,'Data Input'!AN240))","v":""},{"$f":"IF(S235=\"\",\"\",S235/COUNTIF('Data Input'!$C$8:$BU$8,\"F/I\"))","v":""},{"$f":"IF(ISBLANK('Data Input'!C240),\"\",SUM('Data Input'!BB240:BU240))","v":""},{"$f":"IF(U235=\"\",\"\",U235/COUNTIF('Data Input'!$C$8:$BU$8,\"Sp\"))","v":""}]
[{"$f":"IF('Data Input'!A241=0,\"\",'Data Input'!A241)","v":""},{"$f":"IF(ISBLANK('Data Input'!A241),\"\",COUNTIF('Data Input'!C241:BU241,\"\")-1)","v":""},{"$f":"IF(ISBLANK('Data Input'!A241),\"\",COUNTIF('Data Input'!C241:BU241,\"0\"))","v":""},{"$f":"IF(ISBLANK('Data Input'!A241),\"\",SUM(B236,C236))","v":""},{"$f":"IF(ISBLANK('Data Input'!A241),\"\",SUM('Data Input'!C241:BU241))","v":""},{"$f":"IF(E236=\"\",\"\",E236/(COUNTA('Data Input'!$C$8:$BU$8)-1))","v":""},{"$f":"IF(ISBLANK('Data Input'!A241),\"\",SUM('Data Input'!H241,'Data Input'!AA241,'Data Input'!AO241,'Data Input'!AP241))","v":""},{"$f":"IF(G236=\"\",\"\",G236/COUNTIF('Data Input'!$C$8:$BU$8,\"CS\"))","v":""},{"$f":"IF(ISBLANK('Data Input'!A241),\"\",SUM('Data Input'!P241,'Data Input'!T241,'Data Input'!AD241,'Data Input'!AX241,'Data Input'!AY241))","v":""},{"$f":"IF(I236=\"\",\"\",I236/COUNTIF('Data Input'!$C$8:$BU$8,\"SE\"))","v":""},{"$f":"IF(ISBLANK('Data Input'!A241),\"\",SUM('Data Input'!K241,'Data Input'!L241,'Data Input'!M241,'Data Input'!O241,'Data Input'!Q241,'Data Input'!U241,'Data Input'!X241,'Data Input'!Y241,'Data Input'!Z241,'Data Input'!AB241,'Data Input'!AE241,'Data Input'!AG241,'Data Input'!AL241,'Data Input'!AU241,'Data Input'!AW241))","v":""},{"$f":"IF(K236=\"\",\"\",K236/COUNTIF('Data Input'!$C$8:$BU$8,\"P\"))","v":""},{"$f":"IF(ISBLANK('Data Input'!A241),\"\",SUM('Data Input'!I241,'Data Input'!S241))","v":""},{"$f":"IF(M236=\"\",\"\",M236/COUNTIF('Data Input'!$C$8:$BU$8,\"FS\"))","v":""},{"$f":"IF(ISBLANK('Data Input'!A241),\"\",SUM('Data Input'!D241,'Data Input'!E241,'Data Input'!F241,'Data Input'!G241,'Data Input'!R241,'Data Input'!V241,'Data Input'!W241,'Data Input'!AC241,'Data Input'!AF241,'Data Input'!AH241,'Data Input'!AJ241,'Data Input'!AK241,'Data Input'!AM241,'Data Input'!AQ241,'Data Input'!AR241,'Data Input'!AZ241))","v":""},{"$f":"IF(O236=\"\",\"\",O236/COUNTIF('Data Input'!$C$8:$BU$8,\"GT\"))","v":""},{"$f":"IF(ISBLANK('Data Input'!A241),\"\",SUM('Data Input'!C241,'Data Input'!J241,'Data Input'!N241,'Data Input'!AS241,'Data Input'!AT241,'Data Input'!AV241))","v":""},{"$f":"IF(Q236=\"\",\"\",Q236/COUNTIF('Data Input'!$C$8:$BU$8,\"V\"))","v":""},{"$f":"IF(ISBLANK('Data Input'!A241),\"\",SUM('Data Input'!AI241,'Data Input'!AN241))","v":""},{"$f":"IF(S236=\"\",\"\",S236/COUNTIF('Data Input'!$C$8:$BU$8,\"F/I\"))","v":""},{"$f":"IF(ISBLANK('Data Input'!C241),\"\",SUM('Data Input'!BB241:BU241))","v":""},{"$f":"IF(U236=\"\",\"\",U236/COUNTIF('Data Input'!$C$8:$BU$8,\"Sp\"))","v":""}]
[{"$f":"IF('Data Input'!A242=0,\"\",'Data Input'!A242)","v":""},{"$f":"IF(ISBLANK('Data Input'!A242),\"\",COUNTIF('Data Input'!C242:BU242,\"\")-1)","v":""},{"$f":"IF(ISBLANK('Data Input'!A242),\"\",COUNTIF('Data Input'!C242:BU242,\"0\"))","v":""},{"$f":"IF(ISBLANK('Data Input'!A242),\"\",SUM(B237,C237))","v":""},{"$f":"IF(ISBLANK('Data Input'!A242),\"\",SUM('Data Input'!C242:BU242))","v":""},{"$f":"IF(E237=\"\",\"\",E237/(COUNTA('Data Input'!$C$8:$BU$8)-1))","v":""},{"$f":"IF(ISBLANK('Data Input'!A242),\"\",SUM('Data Input'!H242,'Data Input'!AA242,'Data Input'!AO242,'Data Input'!AP242))","v":""},{"$f":"IF(G237=\"\",\"\",G237/COUNTIF('Data Input'!$C$8:$BU$8,\"CS\"))","v":""},{"$f":"IF(ISBLANK('Data Input'!A242),\"\",SUM('Data Input'!P242,'Data Input'!T242,'Data Input'!AD242,'Data Input'!AX242,'Data Input'!AY242))","v":""},{"$f":"IF(I237=\"\",\"\",I237/COUNTIF('Data Input'!$C$8:$BU$8,\"SE\"))","v":""},{"$f":"IF(ISBLANK('Data Input'!A242),\"\",SUM('Data Input'!K242,'Data Input'!L242,'Data Input'!M242,'Data Input'!O242,'Data Input'!Q242,'Data Input'!U242,'Data Input'!X242,'Data Input'!Y242,'Data Input'!Z242,'Data Input'!AB242,'Data Input'!AE242,'Data Input'!AG242,'Data Input'!AL242,'Data Input'!AU242,'Data Input'!AW242))","v":""},{"$f":"IF(K237=\"\",\"\",K237/COUNTIF('Data Input'!$C$8:$BU$8,\"P\"))","v":""},{"$f":"IF(ISBLANK('Data Input'!A242),\"\",SUM('Data Input'!I242,'Data Input'!S242))","v":""},{"$f":"IF(M237=\"\",\"\",M237/COUNTIF('Data Input'!$C$8:$BU$8,\"FS\"))","v":""},{"$f":"IF(ISBLANK('Data Input'!A242),\"\",SUM('Data Input'!D242,'Data Input'!E242,'Data Input'!F242,'Data Input'!G242,'Data Input'!R242,'Data Input'!V242,'Data Input'!W242,'Data Input'!AC242,'Data Input'!AF242,'Data Input'!AH242,'Data Input'!AJ242,'Data Input'!AK242,'Data Input'!AM242,'Data Input'!AQ242,'Data Input'!AR242,'Data Input'!AZ242))","v":""},{"$f":"IF(O237=\"\",\"\",O237/COUNTIF('Data Input'!$C$8:$BU$8,\"GT\"))","v":""},{"$f":"IF(ISBLANK('Data Input'!A242),\"\",SUM('Data Input'!C242,'Data Input'!J242,'Data Input'!N242,'Data Input'!AS242,'Data Input'!AT242,'Data Input'!AV242))","v":""},{"$f":"IF(Q237=\"\",\"\",Q237/COUNTIF('Data Input'!$C$8:$BU$8,\"V\"))","v":""},{"$f":"IF(ISBLANK('Data Input'!A242),\"\",SUM('Data Input'!AI242,'Data Input'!AN242))","v":""},{"$f":"IF(S237=\"\",\"\",S237/COUNTIF('Data Input'!$C$8:$BU$8,\"F/I\"))","v":""},{"$f":"IF(ISBLANK('Data Input'!C242),\"\",SUM('Data Input'!BB242:BU242))","v":""},{"$f":"IF(U237=\"\",\"\",U237/COUNTIF('Data Input'!$C$8:$BU$8,\"Sp\"))","v":""}]
[{"$f":"IF('Data Input'!A243=0,\"\",'Data Input'!A243)","v":""},{"$f":"IF(ISBLANK('Data Input'!A243),\"\",COUNTIF('Data Input'!C243:BU243,\"\")-1)","v":""},{"$f":"IF(ISBLANK('Data Input'!A243),\"\",COUNTIF('Data Input'!C243:BU243,\"0\"))","v":""},{"$f":"IF(ISBLANK('Data Input'!A243),\"\",SUM(B238,C238))","v":""},{"$f":"IF(ISBLANK('Data Input'!A243),\"\",SUM('Data Input'!C243:BU243))","v":""},{"$f":"IF(E238=\"\",\"\",E238/(COUNTA('Data Input'!$C$8:$BU$8)-1))","v":""},{"$f":"IF(ISBLANK('Data Input'!A243),\"\",SUM('Data Input'!H243,'Data Input'!AA243,'Data Input'!AO243,'Data Input'!AP243))","v":""},{"$f":"IF(G238=\"\",\"\",G238/COUNTIF('Data Input'!$C$8:$BU$8,\"CS\"))","v":""},{"$f":"IF(ISBLANK('Data Input'!A243),\"\",SUM('Data Input'!P243,'Data Input'!T243,'Data Input'!AD243,'Data Input'!AX243,'Data Input'!AY243))","v":""},{"$f":"IF(I238=\"\",\"\",I238/COUNTIF('Data Input'!$C$8:$BU$8,\"SE\"))","v":""},{"$f":"IF(ISBLANK('Data Input'!A243),\"\",SUM('Data Input'!K243,'Data Input'!L243,'Data Input'!M243,'Data Input'!O243,'Data Input'!Q243,'Data Input'!U243,'Data Input'!X243,'Data Input'!Y243,'Data Input'!Z243,'Data Input'!AB243,'Data Input'!AE243,'Data Input'!AG243,'Data Input'!AL243,'Data Input'!AU243,'Data Input'!AW243))","v":""},{"$f":"IF(K238=\"\",\"\",K238/COUNTIF('Data Input'!$C$8:$BU$8,\"P\"))","v":""},{"$f":"IF(ISBLANK('Data Input'!A243),\"\",SUM('Data Input'!I243,'Data Input'!S243))","v":""},{"$f":"IF(M238=\"\",\"\",M238/COUNTIF('Data Input'!$C$8:$BU$8,\"FS\"))","v":""},{"$f":"IF(ISBLANK('Data Input'!A243),\"\",SUM('Data Input'!D243,'Data Input'!E243,'Data Input'!F243,'Data Input'!G243,'Data Input'!R243,'Data Input'!V243,'Data Input'!W243,'Data Input'!AC243,'Data Input'!AF243,'Data Input'!AH243,'Data Input'!AJ243,'Data Input'!AK243,'Data Input'!AM243,'Data Input'!AQ243,'Data Input'!AR243,'Data Input'!AZ243))","v":""},{"$f":"IF(O238=\"\",\"\",O238/COUNTIF('Data Input'!$C$8:$BU$8,\"GT\"))","v":""},{"$f":"IF(ISBLANK('Data Input'!A243),\"\",SUM('Data Input'!C243,'Data Input'!J243,'Data Input'!N243,'Data Input'!AS243,'Data Input'!AT243,'Data Input'!AV243))","v":""},{"$f":"IF(Q238=\"\",\"\",Q238/COUNTIF('Data Input'!$C$8:$BU$8,\"V\"))","v":""},{"$f":"IF(ISBLANK('Data Input'!A243),\"\",SUM('Data Input'!AI243,'Data Input'!AN243))","v":""},{"$f":"IF(S238=\"\",\"\",S238/COUNTIF('Data Input'!$C$8:$BU$8,\"F/I\"))","v":""},{"$f":"IF(ISBLANK('Data Input'!C243),\"\",SUM('Data Input'!BB243:BU243))","v":""},{"$f":"IF(U238=\"\",\"\",U238/COUNTIF('Data Input'!$C$8:$BU$8,\"Sp\"))","v":""}]
[{"$f":"IF('Data Input'!A244=0,\"\",'Data Input'!A244)","v":""},{"$f":"IF(ISBLANK('Data Input'!A244),\"\",COUNTIF('Data Input'!C244:BU244,\"\")-1)","v":""},{"$f":"IF(ISBLANK('Data Input'!A244),\"\",COUNTIF('Data Input'!C244:BU244,\"0\"))","v":""},{"$f":"IF(ISBLANK('Data Input'!A244),\"\",SUM(B239,C239))","v":""},{"$f":"IF(ISBLANK('Data Input'!A244),\"\",SUM('Data Input'!C244:BU244))","v":""},{"$f":"IF(E239=\"\",\"\",E239/(COUNTA('Data Input'!$C$8:$BU$8)-1))","v":""},{"$f":"IF(ISBLANK('Data Input'!A244),\"\",SUM('Data Input'!H244,'Data Input'!AA244,'Data Input'!AO244,'Data Input'!AP244))","v":""},{"$f":"IF(G239=\"\",\"\",G239/COUNTIF('Data Input'!$C$8:$BU$8,\"CS\"))","v":""},{"$f":"IF(ISBLANK('Data Input'!A244),\"\",SUM('Data Input'!P244,'Data Input'!T244,'Data Input'!AD244,'Data Input'!AX244,'Data Input'!AY244))","v":""},{"$f":"IF(I239=\"\",\"\",I239/COUNTIF('Data Input'!$C$8:$BU$8,\"SE\"))","v":""},{"$f":"IF(ISBLANK('Data Input'!A244),\"\",SUM('Data Input'!K244,'Data Input'!L244,'Data Input'!M244,'Data Input'!O244,'Data Input'!Q244,'Data Input'!U244,'Data Input'!X244,'Data Input'!Y244,'Data Input'!Z244,'Data Input'!AB244,'Data Input'!AE244,'Data Input'!AG244,'Data Input'!AL244,'Data Input'!AU244,'Data Input'!AW244))","v":""},{"$f":"IF(K239=\"\",\"\",K239/COUNTIF('Data Input'!$C$8:$BU$8,\"P\"))","v":""},{"$f":"IF(ISBLANK('Data Input'!A244),\"\",SUM('Data Input'!I244,'Data Input'!S244))","v":""},{"$f":"IF(M239=\"\",\"\",M239/COUNTIF('Data Input'!$C$8:$BU$8,\"FS\"))","v":""},{"$f":"IF(ISBLANK('Data Input'!A244),\"\",SUM('Data Input'!D244,'Data Input'!E244,'Data Input'!F244,'Data Input'!G244,'Data Input'!R244,'Data Input'!V244,'Data Input'!W244,'Data Input'!AC244,'Data Input'!AF244,'Data Input'!AH244,'Data Input'!AJ244,'Data Input'!AK244,'Data Input'!AM244,'Data Input'!AQ244,'Data Input'!AR244,'Data Input'!AZ244))","v":""},{"$f":"IF(O239=\"\",\"\",O239/COUNTIF('Data Input'!$C$8:$BU$8,\"GT\"))","v":""},{"$f":"IF(ISBLANK('Data Input'!A244),\"\",SUM('Data Input'!C244,'Data Input'!J244,'Data Input'!N244,'Data Input'!AS244,'Data Input'!AT244,'Data Input'!AV244))","v":""},{"$f":"IF(Q239=\"\",\"\",Q239/COUNTIF('Data Input'!$C$8:$BU$8,\"V\"))","v":""},{"$f":"IF(ISBLANK('Data Input'!A244),\"\",SUM('Data Input'!AI244,'Data Input'!AN244))","v":""},{"$f":"IF(S239=\"\",\"\",S239/COUNTIF('Data Input'!$C$8:$BU$8,\"F/I\"))","v":""},{"$f":"IF(ISBLANK('Data Input'!C244),\"\",SUM('Data Input'!BB244:BU244))","v":""},{"$f":"IF(U239=\"\",\"\",U239/COUNTIF('Data Input'!$C$8:$BU$8,\"Sp\"))","v":""}]
[{"$f":"IF('Data Input'!A245=0,\"\",'Data Input'!A245)","v":""},{"$f":"IF(ISBLANK('Data Input'!A245),\"\",COUNTIF('Data Input'!C245:BU245,\"\")-1)","v":""},{"$f":"IF(ISBLANK('Data Input'!A245),\"\",COUNTIF('Data Input'!C245:BU245,\"0\"))","v":""},{"$f":"IF(ISBLANK('Data Input'!A245),\"\",SUM(B240,C240))","v":""},{"$f":"IF(ISBLANK('Data Input'!A245),\"\",SUM('Data Input'!C245:BU245))","v":""},{"$f":"IF(E240=\"\",\"\",E240/(COUNTA('Data Input'!$C$8:$BU$8)-1))","v":""},{"$f":"IF(ISBLANK('Data Input'!A245),\"\",SUM('Data Input'!H245,'Data Input'!AA245,'Data Input'!AO245,'Data Input'!AP245))","v":""},{"$f":"IF(G240=\"\",\"\",G240/COUNTIF('Data Input'!$C$8:$BU$8,\"CS\"))","v":""},{"$f":"IF(ISBLANK('Data Input'!A245),\"\",SUM('Data Input'!P245,'Data Input'!T245,'Data Input'!AD245,'Data Input'!AX245,'Data Input'!AY245))","v":""},{"$f":"IF(I240=\"\",\"\",I240/COUNTIF('Data Input'!$C$8:$BU$8,\"SE\"))","v":""},{"$f":"IF(ISBLANK('Data Input'!A245),\"\",SUM('Data Input'!K245,'Data Input'!L245,'Data Input'!M245,'Data Input'!O245,'Data Input'!Q245,'Data Input'!U245,'Data Input'!X245,'Data Input'!Y245,'Data Input'!Z245,'Data Input'!AB245,'Data Input'!AE245,'Data Input'!AG245,'Data Input'!AL245,'Data Input'!AU245,'Data Input'!AW245))","v":""},{"$f":"IF(K240=\"\",\"\",K240/COUNTIF('Data Input'!$C$8:$BU$8,\"P\"))","v":""},{"$f":"IF(ISBLANK('Data Input'!A245),\"\",SUM('Data Input'!I245,'Data Input'!S245))","v":""},{"$f":"IF(M240=\"\",\"\",M240/COUNTIF('Data Input'!$C$8:$BU$8,\"FS\"))","v":""},{"$f":"IF(ISBLANK('Data Input'!A245),\"\",SUM('Data Input'!D245,'Data Input'!E245,'Data Input'!F245,'Data Input'!G245,'Data Input'!R245,'Data Input'!V245,'Data Input'!W245,'Data Input'!AC245,'Data Input'!AF245,'Data Input'!AH245,'Data Input'!AJ245,'Data Input'!AK245,'Data Input'!AM245,'Data Input'!AQ245,'Data Input'!AR245,'Data Input'!AZ245))","v":""},{"$f":"IF(O240=\"\",\"\",O240/COUNTIF('Data Input'!$C$8:$BU$8,\"GT\"))","v":""},{"$f":"IF(ISBLANK('Data Input'!A245),\"\",SUM('Data Input'!C245,'Data Input'!J245,'Data Input'!N245,'Data Input'!AS245,'Data Input'!AT245,'Data Input'!AV245))","v":""},{"$f":"IF(Q240=\"\",\"\",Q240/COUNTIF('Data Input'!$C$8:$BU$8,\"V\"))","v":""},{"$f":"IF(ISBLANK('Data Input'!A245),\"\",SUM('Data Input'!AI245,'Data Input'!AN245))","v":""},{"$f":"IF(S240=\"\",\"\",S240/COUNTIF('Data Input'!$C$8:$BU$8,\"F/I\"))","v":""},{"$f":"IF(ISBLANK('Data Input'!C245),\"\",SUM('Data Input'!BB245:BU245))","v":""},{"$f":"IF(U240=\"\",\"\",U240/COUNTIF('Data Input'!$C$8:$BU$8,\"Sp\"))","v":""}]
[{"$f":"IF('Data Input'!A246=0,\"\",'Data Input'!A246)","v":""},{"$f":"IF(ISBLANK('Data Input'!A246),\"\",COUNTIF('Data Input'!C246:BU246,\"\")-1)","v":""},{"$f":"IF(ISBLANK('Data Input'!A246),\"\",COUNTIF('Data Input'!C246:BU246,\"0\"))","v":""},{"$f":"IF(ISBLANK('Data Input'!A246),\"\",SUM(B241,C241))","v":""},{"$f":"IF(ISBLANK('Data Input'!A246),\"\",SUM('Data Input'!C246:BU246))","v":""},{"$f":"IF(E241=\"\",\"\",E241/(COUNTA('Data Input'!$C$8:$BU$8)-1))","v":""},{"$f":"IF(ISBLANK('Data Input'!A246),\"\",SUM('Data Input'!H246,'Data Input'!AA246,'Data Input'!AO246,'Data Input'!AP246))","v":""},{"$f":"IF(G241=\"\",\"\",G241/COUNTIF('Data Input'!$C$8:$BU$8,\"CS\"))","v":""},{"$f":"IF(ISBLANK('Data Input'!A246),\"\",SUM('Data Input'!P246,'Data Input'!T246,'Data Input'!AD246,'Data Input'!AX246,'Data Input'!AY246))","v":""},{"$f":"IF(I241=\"\",\"\",I241/COUNTIF('Data Input'!$C$8:$BU$8,\"SE\"))","v":""},{"$f":"IF(ISBLANK('Data Input'!A246),\"\",SUM('Data Input'!K246,'Data Input'!L246,'Data Input'!M246,'Data Input'!O246,'Data Input'!Q246,'Data Input'!U246,'Data Input'!X246,'Data Input'!Y246,'Data Input'!Z246,'Data Input'!AB246,'Data Input'!AE246,'Data Input'!AG246,'Data Input'!AL246,'Data Input'!AU246,'Data Input'!AW246))","v":""},{"$f":"IF(K241=\"\",\"\",K241/COUNTIF('Data Input'!$C$8:$BU$8,\"P\"))","v":""},{"$f":"IF(ISBLANK('Data Input'!A246),\"\",SUM('Data Input'!I246,'Data Input'!S246))","v":""},{"$f":"IF(M241=\"\",\"\",M241/COUNTIF('Data Input'!$C$8:$BU$8,\"FS\"))","v":""},{"$f":"IF(ISBLANK('Data Input'!A246),\"\",SUM('Data Input'!D246,'Data Input'!E246,'Data Input'!F246,'Data Input'!G246,'Data Input'!R246,'Data Input'!V246,'Data Input'!W246,'Data Input'!AC246,'Data Input'!AF246,'Data Input'!AH246,'Data Input'!AJ246,'Data Input'!AK246,'Data Input'!AM246,'Data Input'!AQ246,'Data Input'!AR246,'Data Input'!AZ246))","v":""},{"$f":"IF(O241=\"\",\"\",O241/COUNTIF('Data Input'!$C$8:$BU$8,\"GT\"))","v":""},{"$f":"IF(ISBLANK('Data Input'!A246),\"\",SUM('Data Input'!C246,'Data Input'!J246,'Data Input'!N246,'Data Input'!AS246,'Data Input'!AT246,'Data Input'!AV246))","v":""},{"$f":"IF(Q241=\"\",\"\",Q241/COUNTIF('Data Input'!$C$8:$BU$8,\"V\"))","v":""},{"$f":"IF(ISBLANK('Data Input'!A246),\"\",SUM('Data Input'!AI246,'Data Input'!AN246))","v":""},{"$f":"IF(S241=\"\",\"\",S241/COUNTIF('Data Input'!$C$8:$BU$8,\"F/I\"))","v":""},{"$f":"IF(ISBLANK('Data Input'!C246),\"\",SUM('Data Input'!BB246:BU246))","v":""},{"$f":"IF(U241=\"\",\"\",U241/COUNTIF('Data Input'!$C$8:$BU$8,\"Sp\"))","v":""}]
[{"$f":"IF('Data Input'!A247=0,\"\",'Data Input'!A247)","v":""},{"$f":"IF(ISBLANK('Data Input'!A247),\"\",COUNTIF('Data Input'!C247:BU247,\"\")-1)","v":""},{"$f":"IF(ISBLANK('Data Input'!A247),\"\",COUNTIF('Data Input'!C247:BU247,\"0\"))","v":""},{"$f":"IF(ISBLANK('Data Input'!A247),\"\",SUM(B242,C242))","v":""},{"$f":"IF(ISBLANK('Data Input'!A247),\"\",SUM('Data Input'!C247:BU247))","v":""},{"$f":"IF(E242=\"\",\"\",E242/(COUNTA('Data Input'!$C$8:$BU$8)-1))","v":""},{"$f":"IF(ISBLANK('Data Input'!A247),\"\",SUM('Data Input'!H247,'Data Input'!AA247,'Data Input'!AO247,'Data Input'!AP247))","v":""},{"$f":"IF(G242=\"\",\"\",G242/COUNTIF('Data Input'!$C$8:$BU$8,\"CS\"))","v":""},{"$f":"IF(ISBLANK('Data Input'!A247),\"\",SUM('Data Input'!P247,'Data Input'!T247,'Data Input'!AD247,'Data Input'!AX247,'Data Input'!AY247))","v":""},{"$f":"IF(I242=\"\",\"\",I242/COUNTIF('Data Input'!$C$8:$BU$8,\"SE\"))","v":""},{"$f":"IF(ISBLANK('Data Input'!A247),\"\",SUM('Data Input'!K247,'Data Input'!L247,'Data Input'!M247,'Data Input'!O247,'Data Input'!Q247,'Data Input'!U247,'Data Input'!X247,'Data Input'!Y247,'Data Input'!Z247,'Data Input'!AB247,'Data Input'!AE247,'Data Input'!AG247,'Data Input'!AL247,'Data Input'!AU247,'Data Input'!AW247))","v":""},{"$f":"IF(K242=\"\",\"\",K242/COUNTIF('Data Input'!$C$8:$BU$8,\"P\"))","v":""},{"$f":"IF(ISBLANK('Data Input'!A247),\"\",SUM('Data Input'!I247,'Data Input'!S247))","v":""},{"$f":"IF(M242=\"\",\"\",M242/COUNTIF('Data Input'!$C$8:$BU$8,\"FS\"))","v":""},{"$f":"IF(ISBLANK('Data Input'!A247),\"\",SUM('Data Input'!D247,'Data Input'!E247,'Data Input'!F247,'Data Input'!G247,'Data Input'!R247,'Data Input'!V247,'Data Input'!W247,'Data Input'!AC247,'Data Input'!AF247,'Data Input'!AH247,'Data Input'!AJ247,'Data Input'!AK247,'Data Input'!AM247,'Data Input'!AQ247,'Data Input'!AR247,'Data Input'!AZ247))","v":""},{"$f":"IF(O242=\"\",\"\",O242/COUNTIF('Data Input'!$C$8:$BU$8,\"GT\"))","v":""},{"$f":"IF(ISBLANK('Data Input'!A247),\"\",SUM('Data Input'!C247,'Data Input'!J247,'Data Input'!N247,'Data Input'!AS247,'Data Input'!AT247,'Data Input'!AV247))","v":""},{"$f":"IF(Q242=\"\",\"\",Q242/COUNTIF('Data Input'!$C$8:$BU$8,\"V\"))","v":""},{"$f":"IF(ISBLANK('Data Input'!A247),\"\",SUM('Data Input'!AI247,'Data Input'!AN247))","v":""},{"$f":"IF(S242=\"\",\"\",S242/COUNTIF('Data Input'!$C$8:$BU$8,\"F/I\"))","v":""},{"$f":"IF(ISBLANK('Data Input'!C247),\"\",SUM('Data Input'!BB247:BU247))","v":""},{"$f":"IF(U242=\"\",\"\",U242/COUNTIF('Data Input'!$C$8:$BU$8,\"Sp\"))","v":""}]
[{"$f":"IF('Data Input'!A248=0,\"\",'Data Input'!A248)","v":""},{"$f":"IF(ISBLANK('Data Input'!A248),\"\",COUNTIF('Data Input'!C248:BU248,\"\")-1)","v":""},{"$f":"IF(ISBLANK('Data Input'!A248),\"\",COUNTIF('Data Input'!C248:BU248,\"0\"))","v":""},{"$f":"IF(ISBLANK('Data Input'!A248),\"\",SUM(B243,C243))","v":""},{"$f":"IF(ISBLANK('Data Input'!A248),\"\",SUM('Data Input'!C248:BU248))","v":""},{"$f":"IF(E243=\"\",\"\",E243/(COUNTA('Data Input'!$C$8:$BU$8)-1))","v":""},{"$f":"IF(ISBLANK('Data Input'!A248),\"\",SUM('Data Input'!H248,'Data Input'!AA248,'Data Input'!AO248,'Data Input'!AP248))","v":""},{"$f":"IF(G243=\"\",\"\",G243/COUNTIF('Data Input'!$C$8:$BU$8,\"CS\"))","v":""},{"$f":"IF(ISBLANK('Data Input'!A248),\"\",SUM('Data Input'!P248,'Data Input'!T248,'Data Input'!AD248,'Data Input'!AX248,'Data Input'!AY248))","v":""},{"$f":"IF(I243=\"\",\"\",I243/COUNTIF('Data Input'!$C$8:$BU$8,\"SE\"))","v":""},{"$f":"IF(ISBLANK('Data Input'!A248),\"\",SUM('Data Input'!K248,'Data Input'!L248,'Data Input'!M248,'Data Input'!O248,'Data Input'!Q248,'Data Input'!U248,'Data Input'!X248,'Data Input'!Y248,'Data Input'!Z248,'Data Input'!AB248,'Data Input'!AE248,'Data Input'!AG248,'Data Input'!AL248,'Data Input'!AU248,'Data Input'!AW248))","v":""},{"$f":"IF(K243=\"\",\"\",K243/COUNTIF('Data Input'!$C$8:$BU$8,\"P\"))","v":""},{"$f":"IF(ISBLANK('Data Input'!A248),\"\",SUM('Data Input'!I248,'Data Input'!S248))","v":""},{"$f":"IF(M243=\"\",\"\",M243/COUNTIF('Data Input'!$C$8:$BU$8,\"FS\"))","v":""},{"$f":"IF(ISBLANK('Data Input'!A248),\"\",SUM('Data Input'!D248,'Data Input'!E248,'Data Input'!F248,'Data Input'!G248,'Data Input'!R248,'Data Input'!V248,'Data Input'!W248,'Data Input'!AC248,'Data Input'!AF248,'Data Input'!AH248,'Data Input'!AJ248,'Data Input'!AK248,'Data Input'!AM248,'Data Input'!AQ248,'Data Input'!AR248,'Data Input'!AZ248))","v":""},{"$f":"IF(O243=\"\",\"\",O243/COUNTIF('Data Input'!$C$8:$BU$8,\"GT\"))","v":""},{"$f":"IF(ISBLANK('Data Input'!A248),\"\",SUM('Data Input'!C248,'Data Input'!J248,'Data Input'!N248,'Data Input'!AS248,'Data Input'!AT248,'Data Input'!AV248))","v":""},{"$f":"IF(Q243=\"\",\"\",Q243/COUNTIF('Data Input'!$C$8:$BU$8,\"V\"))","v":""},{"$f":"IF(ISBLANK('Data Input'!A248),\"\",SUM('Data Input'!AI248,'Data Input'!AN248))","v":""},{"$f":"IF(S243=\"\",\"\",S243/COUNTIF('Data Input'!$C$8:$BU$8,\"F/I\"))","v":""},{"$f":"IF(ISBLANK('Data Input'!C248),\"\",SUM('Data Input'!BB248:BU248))","v":""},{"$f":"IF(U243=\"\",\"\",U243/COUNTIF('Data Input'!$C$8:$BU$8,\"Sp\"))","v":""}]
[{"$f":"IF('Data Input'!A249=0,\"\",'Data Input'!A249)","v":""},{"$f":"IF(ISBLANK('Data Input'!A249),\"\",COUNTIF('Data Input'!C249:BU249,\"\")-1)","v":""},{"$f":"IF(ISBLANK('Data Input'!A249),\"\",COUNTIF('Data Input'!C249:BU249,\"0\"))","v":""},{"$f":"IF(ISBLANK('Data Input'!A249),\"\",SUM(B244,C244))","v":""},{"$f":"IF(ISBLANK('Data Input'!A249),\"\",SUM('Data Input'!C249:BU249))","v":""},{"$f":"IF(E244=\"\",\"\",E244/(COUNTA('Data Input'!$C$8:$BU$8)-1))","v":""},{"$f":"IF(ISBLANK('Data Input'!A249),\"\",SUM('Data Input'!H249,'Data Input'!AA249,'Data Input'!AO249,'Data Input'!AP249))","v":""},{"$f":"IF(G244=\"\",\"\",G244/COUNTIF('Data Input'!$C$8:$BU$8,\"CS\"))","v":""},{"$f":"IF(ISBLANK('Data Input'!A249),\"\",SUM('Data Input'!P249,'Data Input'!T249,'Data Input'!AD249,'Data Input'!AX249,'Data Input'!AY249))","v":""},{"$f":"IF(I244=\"\",\"\",I244/COUNTIF('Data Input'!$C$8:$BU$8,\"SE\"))","v":""},{"$f":"IF(ISBLANK('Data Input'!A249),\"\",SUM('Data Input'!K249,'Data Input'!L249,'Data Input'!M249,'Data Input'!O249,'Data Input'!Q249,'Data Input'!U249,'Data Input'!X249,'Data Input'!Y249,'Data Input'!Z249,'Data Input'!AB249,'Data Input'!AE249,'Data Input'!AG249,'Data Input'!AL249,'Data Input'!AU249,'Data Input'!AW249))","v":""},{"$f":"IF(K244=\"\",\"\",K244/COUNTIF('Data Input'!$C$8:$BU$8,\"P\"))","v":""},{"$f":"IF(ISBLANK('Data Input'!A249),\"\",SUM('Data Input'!I249,'Data Input'!S249))","v":""},{"$f":"IF(M244=\"\",\"\",M244/COUNTIF('Data Input'!$C$8:$BU$8,\"FS\"))","v":""},{"$f":"IF(ISBLANK('Data Input'!A249),\"\",SUM('Data Input'!D249,'Data Input'!E249,'Data Input'!F249,'Data Input'!G249,'Data Input'!R249,'Data Input'!V249,'Data Input'!W249,'Data Input'!AC249,'Data Input'!AF249,'Data Input'!AH249,'Data Input'!AJ249,'Data Input'!AK249,'Data Input'!AM249,'Data Input'!AQ249,'Data Input'!AR249,'Data Input'!AZ249))","v":""},{"$f":"IF(O244=\"\",\"\",O244/COUNTIF('Data Input'!$C$8:$BU$8,\"GT\"))","v":""},{"$f":"IF(ISBLANK('Data Input'!A249),\"\",SUM('Data Input'!C249,'Data Input'!J249,'Data Input'!N249,'Data Input'!AS249,'Data Input'!AT249,'Data Input'!AV249))","v":""},{"$f":"IF(Q244=\"\",\"\",Q244/COUNTIF('Data Input'!$C$8:$BU$8,\"V\"))","v":""},{"$f":"IF(ISBLANK('Data Input'!A249),\"\",SUM('Data Input'!AI249,'Data Input'!AN249))","v":""},{"$f":"IF(S244=\"\",\"\",S244/COUNTIF('Data Input'!$C$8:$BU$8,\"F/I\"))","v":""},{"$f":"IF(ISBLANK('Data Input'!C249),\"\",SUM('Data Input'!BB249:BU249))","v":""},{"$f":"IF(U244=\"\",\"\",U244/COUNTIF('Data Input'!$C$8:$BU$8,\"Sp\"))","v":""}]
[{"$f":"IF('Data Input'!A250=0,\"\",'Data Input'!A250)","v":""},{"$f":"IF(ISBLANK('Data Input'!A250),\"\",COUNTIF('Data Input'!C250:BU250,\"\")-1)","v":""},{"$f":"IF(ISBLANK('Data Input'!A250),\"\",COUNTIF('Data Input'!C250:BU250,\"0\"))","v":""},{"$f":"IF(ISBLANK('Data Input'!A250),\"\",SUM(B245,C245))","v":""},{"$f":"IF(ISBLANK('Data Input'!A250),\"\",SUM('Data Input'!C250:BU250))","v":""},{"$f":"IF(E245=\"\",\"\",E245/(COUNTA('Data Input'!$C$8:$BU$8)-1))","v":""},{"$f":"IF(ISBLANK('Data Input'!A250),\"\",SUM('Data Input'!H250,'Data Input'!AA250,'Data Input'!AO250,'Data Input'!AP250))","v":""},{"$f":"IF(G245=\"\",\"\",G245/COUNTIF('Data Input'!$C$8:$BU$8,\"CS\"))","v":""},{"$f":"IF(ISBLANK('Data Input'!A250),\"\",SUM('Data Input'!P250,'Data Input'!T250,'Data Input'!AD250,'Data Input'!AX250,'Data Input'!AY250))","v":""},{"$f":"IF(I245=\"\",\"\",I245/COUNTIF('Data Input'!$C$8:$BU$8,\"SE\"))","v":""},{"$f":"IF(ISBLANK('Data Input'!A250),\"\",SUM('Data Input'!K250,'Data Input'!L250,'Data Input'!M250,'Data Input'!O250,'Data Input'!Q250,'Data Input'!U250,'Data Input'!X250,'Data Input'!Y250,'Data Input'!Z250,'Data Input'!AB250,'Data Input'!AE250,'Data Input'!AG250,'Data Input'!AL250,'Data Input'!AU250,'Data Input'!AW250))","v":""},{"$f":"IF(K245=\"\",\"\",K245/COUNTIF('Data Input'!$C$8:$BU$8,\"P\"))","v":""},{"$f":"IF(ISBLANK('Data Input'!A250),\"\",SUM('Data Input'!I250,'Data Input'!S250))","v":""},{"$f":"IF(M245=\"\",\"\",M245/COUNTIF('Data Input'!$C$8:$BU$8,\"FS\"))","v":""},{"$f":"IF(ISBLANK('Data Input'!A250),\"\",SUM('Data Input'!D250,'Data Input'!E250,'Data Input'!F250,'Data Input'!G250,'Data Input'!R250,'Data Input'!V250,'Data Input'!W250,'Data Input'!AC250,'Data Input'!AF250,'Data Input'!AH250,'Data Input'!AJ250,'Data Input'!AK250,'Data Input'!AM250,'Data Input'!AQ250,'Data Input'!AR250,'Data Input'!AZ250))","v":""},{"$f":"IF(O245=\"\",\"\",O245/COUNTIF('Data Input'!$C$8:$BU$8,\"GT\"))","v":""},{"$f":"IF(ISBLANK('Data Input'!A250),\"\",SUM('Data Input'!C250,'Data Input'!J250,'Data Input'!N250,'Data Input'!AS250,'Data Input'!AT250,'Data Input'!AV250))","v":""},{"$f":"IF(Q245=\"\",\"\",Q245/COUNTIF('Data Input'!$C$8:$BU$8,\"V\"))","v":""},{"$f":"IF(ISBLANK('Data Input'!A250),\"\",SUM('Data Input'!AI250,'Data Input'!AN250))","v":""},{"$f":"IF(S245=\"\",\"\",S245/COUNTIF('Data Input'!$C$8:$BU$8,\"F/I\"))","v":""},{"$f":"IF(ISBLANK('Data Input'!C250),\"\",SUM('Data Input'!BB250:BU250))","v":""},{"$f":"IF(U245=\"\",\"\",U245/COUNTIF('Data Input'!$C$8:$BU$8,\"Sp\"))","v":""}]
[{"$f":"IF('Data Input'!A251=0,\"\",'Data Input'!A251)","v":""},{"$f":"IF(ISBLANK('Data Input'!A251),\"\",COUNTIF('Data Input'!C251:BU251,\"\")-1)","v":""},{"$f":"IF(ISBLANK('Data Input'!A251),\"\",COUNTIF('Data Input'!C251:BU251,\"0\"))","v":""},{"$f":"IF(ISBLANK('Data Input'!A251),\"\",SUM(B246,C246))","v":""},{"$f":"IF(ISBLANK('Data Input'!A251),\"\",SUM('Data Input'!C251:BU251))","v":""},{"$f":"IF(E246=\"\",\"\",E246/(COUNTA('Data Input'!$C$8:$BU$8)-1))","v":""},{"$f":"IF(ISBLANK('Data Input'!A251),\"\",SUM('Data Input'!H251,'Data Input'!AA251,'Data Input'!AO251,'Data Input'!AP251))","v":""},{"$f":"IF(G246=\"\",\"\",G246/COUNTIF('Data Input'!$C$8:$BU$8,\"CS\"))","v":""},{"$f":"IF(ISBLANK('Data Input'!A251),\"\",SUM('Data Input'!P251,'Data Input'!T251,'Data Input'!AD251,'Data Input'!AX251,'Data Input'!AY251))","v":""},{"$f":"IF(I246=\"\",\"\",I246/COUNTIF('Data Input'!$C$8:$BU$8,\"SE\"))","v":""},{"$f":"IF(ISBLANK('Data Input'!A251),\"\",SUM('Data Input'!K251,'Data Input'!L251,'Data Input'!M251,'Data Input'!O251,'Data Input'!Q251,'Data Input'!U251,'Data Input'!X251,'Data Input'!Y251,'Data Input'!Z251,'Data Input'!AB251,'Data Input'!AE251,'Data Input'!AG251,'Data Input'!AL251,'Data Input'!AU251,'Data Input'!AW251))","v":""},{"$f":"IF(K246=\"\",\"\",K246/COUNTIF('Data Input'!$C$8:$BU$8,\"P\"))","v":""},{"$f":"IF(ISBLANK('Data Input'!A251),\"\",SUM('Data Input'!I251,'Data Input'!S251))","v":""},{"$f":"IF(M246=\"\",\"\",M246/COUNTIF('Data Input'!$C$8:$BU$8,\"FS\"))","v":""},{"$f":"IF(ISBLANK('Data Input'!A251),\"\",SUM('Data Input'!D251,'Data Input'!E251,'Data Input'!F251,'Data Input'!G251,'Data Input'!R251,'Data Input'!V251,'Data Input'!W251,'Data Input'!AC251,'Data Input'!AF251,'Data Input'!AH251,'Data Input'!AJ251,'Data Input'!AK251,'Data Input'!AM251,'Data Input'!AQ251,'Data Input'!AR251,'Data Input'!AZ251))","v":""},{"$f":"IF(O246=\"\",\"\",O246/COUNTIF('Data Input'!$C$8:$BU$8,\"GT\"))","v":""},{"$f":"IF(ISBLANK('Data Input'!A251),\"\",SUM('Data Input'!C251,'Data Input'!J251,'Data Input'!N251,'Data Input'!AS251,'Data Input'!AT251,'Data Input'!AV251))","v":""},{"$f":"IF(Q246=\"\",\"\",Q246/COUNTIF('Data Input'!$C$8:$BU$8,\"V\"))","v":""},{"$f":"IF(ISBLANK('Data Input'!A251),\"\",SUM('Data Input'!AI251,'Data Input'!AN251))","v":""},{"$f":"IF(S246=\"\",\"\",S246/COUNTIF('Data Input'!$C$8:$BU$8,\"F/I\"))","v":""},{"$f":"IF(ISBLANK('Data Input'!C251),\"\",SUM('Data Input'!BB251:BU251))","v":""},{"$f":"IF(U246=\"\",\"\",U246/COUNTIF('Data Input'!$C$8:$BU$8,\"Sp\"))","v":""}]
[{"$f":"IF('Data Input'!A252=0,\"\",'Data Input'!A252)","v":""},{"$f":"IF(ISBLANK('Data Input'!A252),\"\",COUNTIF('Data Input'!C252:BU252,\"\")-1)","v":""},{"$f":"IF(ISBLANK('Data Input'!A252),\"\",COUNTIF('Data Input'!C252:BU252,\"0\"))","v":""},{"$f":"IF(ISBLANK('Data Input'!A252),\"\",SUM(B247,C247))","v":""},{"$f":"IF(ISBLANK('Data Input'!A252),\"\",SUM('Data Input'!C252:BU252))","v":""},{"$f":"IF(E247=\"\",\"\",E247/(COUNTA('Data Input'!$C$8:$BU$8)-1))","v":""},{"$f":"IF(ISBLANK('Data Input'!A252),\"\",SUM('Data Input'!H252,'Data Input'!AA252,'Data Input'!AO252,'Data Input'!AP252))","v":""},{"$f":"IF(G247=\"\",\"\",G247/COUNTIF('Data Input'!$C$8:$BU$8,\"CS\"))","v":""},{"$f":"IF(ISBLANK('Data Input'!A252),\"\",SUM('Data Input'!P252,'Data Input'!T252,'Data Input'!AD252,'Data Input'!AX252,'Data Input'!AY252))","v":""},{"$f":"IF(I247=\"\",\"\",I247/COUNTIF('Data Input'!$C$8:$BU$8,\"SE\"))","v":""},{"$f":"IF(ISBLANK('Data Input'!A252),\"\",SUM('Data Input'!K252,'Data Input'!L252,'Data Input'!M252,'Data Input'!O252,'Data Input'!Q252,'Data Input'!U252,'Data Input'!X252,'Data Input'!Y252,'Data Input'!Z252,'Data Input'!AB252,'Data Input'!AE252,'Data Input'!AG252,'Data Input'!AL252,'Data Input'!AU252,'Data Input'!AW252))","v":""},{"$f":"IF(K247=\"\",\"\",K247/COUNTIF('Data Input'!$C$8:$BU$8,\"P\"))","v":""},{"$f":"IF(ISBLANK('Data Input'!A252),\"\",SUM('Data Input'!I252,'Data Input'!S252))","v":""},{"$f":"IF(M247=\"\",\"\",M247/COUNTIF('Data Input'!$C$8:$BU$8,\"FS\"))","v":""},{"$f":"IF(ISBLANK('Data Input'!A252),\"\",SUM('Data Input'!D252,'Data Input'!E252,'Data Input'!F252,'Data Input'!G252,'Data Input'!R252,'Data Input'!V252,'Data Input'!W252,'Data Input'!AC252,'Data Input'!AF252,'Data Input'!AH252,'Data Input'!AJ252,'Data Input'!AK252,'Data Input'!AM252,'Data Input'!AQ252,'Data Input'!AR252,'Data Input'!AZ252))","v":""},{"$f":"IF(O247=\"\",\"\",O247/COUNTIF('Data Input'!$C$8:$BU$8,\"GT\"))","v":""},{"$f":"IF(ISBLANK('Data Input'!A252),\"\",SUM('Data Input'!C252,'Data Input'!J252,'Data Input'!N252,'Data Input'!AS252,'Data Input'!AT252,'Data Input'!AV252))","v":""},{"$f":"IF(Q247=\"\",\"\",Q247/COUNTIF('Data Input'!$C$8:$BU$8,\"V\"))","v":""},{"$f":"IF(ISBLANK('Data Input'!A252),\"\",SUM('Data Input'!AI252,'Data Input'!AN252))","v":""},{"$f":"IF(S247=\"\",\"\",S247/COUNTIF('Data Input'!$C$8:$BU$8,\"F/I\"))","v":""},{"$f":"IF(ISBLANK('Data Input'!C252),\"\",SUM('Data Input'!BB252:BU252))","v":""},{"$f":"IF(U247=\"\",\"\",U247/COUNTIF('Data Input'!$C$8:$BU$8,\"Sp\"))","v":""}]
[{"$f":"IF('Data Input'!A253=0,\"\",'Data Input'!A253)","v":""},{"$f":"IF(ISBLANK('Data Input'!A253),\"\",COUNTIF('Data Input'!C253:BU253,\"\")-1)","v":""},{"$f":"IF(ISBLANK('Data Input'!A253),\"\",COUNTIF('Data Input'!C253:BU253,\"0\"))","v":""},{"$f":"IF(ISBLANK('Data Input'!A253),\"\",SUM(B248,C248))","v":""},{"$f":"IF(ISBLANK('Data Input'!A253),\"\",SUM('Data Input'!C253:BU253))","v":""},{"$f":"IF(E248=\"\",\"\",E248/(COUNTA('Data Input'!$C$8:$BU$8)-1))","v":""},{"$f":"IF(ISBLANK('Data Input'!A253),\"\",SUM('Data Input'!H253,'Data Input'!AA253,'Data Input'!AO253,'Data Input'!AP253))","v":""},{"$f":"IF(G248=\"\",\"\",G248/COUNTIF('Data Input'!$C$8:$BU$8,\"CS\"))","v":""},{"$f":"IF(ISBLANK('Data Input'!A253),\"\",SUM('Data Input'!P253,'Data Input'!T253,'Data Input'!AD253,'Data Input'!AX253,'Data Input'!AY253))","v":""},{"$f":"IF(I248=\"\",\"\",I248/COUNTIF('Data Input'!$C$8:$BU$8,\"SE\"))","v":""},{"$f":"IF(ISBLANK('Data Input'!A253),\"\",SUM('Data Input'!K253,'Data Input'!L253,'Data Input'!M253,'Data Input'!O253,'Data Input'!Q253,'Data Input'!U253,'Data Input'!X253,'Data Input'!Y253,'Data Input'!Z253,'Data Input'!AB253,'Data Input'!AE253,'Data Input'!AG253,'Data Input'!AL253,'Data Input'!AU253,'Data Input'!AW253))","v":""},{"$f":"IF(K248=\"\",\"\",K248/COUNTIF('Data Input'!$C$8:$BU$8,\"P\"))","v":""},{"$f":"IF(ISBLANK('Data Input'!A253),\"\",SUM('Data Input'!I253,'Data Input'!S253))","v":""},{"$f":"IF(M248=\"\",\"\",M248/COUNTIF('Data Input'!$C$8:$BU$8,\"FS\"))","v":""},{"$f":"IF(ISBLANK('Data Input'!A253),\"\",SUM('Data Input'!D253,'Data Input'!E253,'Data Input'!F253,'Data Input'!G253,'Data Input'!R253,'Data Input'!V253,'Data Input'!W253,'Data Input'!AC253,'Data Input'!AF253,'Data Input'!AH253,'Data Input'!AJ253,'Data Input'!AK253,'Data Input'!AM253,'Data Input'!AQ253,'Data Input'!AR253,'Data Input'!AZ253))","v":""},{"$f":"IF(O248=\"\",\"\",O248/COUNTIF('Data Input'!$C$8:$BU$8,\"GT\"))","v":""},{"$f":"IF(ISBLANK('Data Input'!A253),\"\",SUM('Data Input'!C253,'Data Input'!J253,'Data Input'!N253,'Data Input'!AS253,'Data Input'!AT253,'Data Input'!AV253))","v":""},{"$f":"IF(Q248=\"\",\"\",Q248/COUNTIF('Data Input'!$C$8:$BU$8,\"V\"))","v":""},{"$f":"IF(ISBLANK('Data Input'!A253),\"\",SUM('Data Input'!AI253,'Data Input'!AN253))","v":""},{"$f":"IF(S248=\"\",\"\",S248/COUNTIF('Data Input'!$C$8:$BU$8,\"F/I\"))","v":""},{"$f":"IF(ISBLANK('Data Input'!C253),\"\",SUM('Data Input'!BB253:BU253))","v":""},{"$f":"IF(U248=\"\",\"\",U248/COUNTIF('Data Input'!$C$8:$BU$8,\"Sp\"))","v":""}]
[{"$f":"IF('Data Input'!A254=0,\"\",'Data Input'!A254)","v":""},{"$f":"IF(ISBLANK('Data Input'!A254),\"\",COUNTIF('Data Input'!C254:BU254,\"\")-1)","v":""},{"$f":"IF(ISBLANK('Data Input'!A254),\"\",COUNTIF('Data Input'!C254:BU254,\"0\"))","v":""},{"$f":"IF(ISBLANK('Data Input'!A254),\"\",SUM(B249,C249))","v":""},{"$f":"IF(ISBLANK('Data Input'!A254),\"\",SUM('Data Input'!C254:BU254))","v":""},{"$f":"IF(E249=\"\",\"\",E249/(COUNTA('Data Input'!$C$8:$BU$8)-1))","v":""},{"$f":"IF(ISBLANK('Data Input'!A254),\"\",SUM('Data Input'!H254,'Data Input'!AA254,'Data Input'!AO254,'Data Input'!AP254))","v":""},{"$f":"IF(G249=\"\",\"\",G249/COUNTIF('Data Input'!$C$8:$BU$8,\"CS\"))","v":""},{"$f":"IF(ISBLANK('Data Input'!A254),\"\",SUM('Data Input'!P254,'Data Input'!T254,'Data Input'!AD254,'Data Input'!AX254,'Data Input'!AY254))","v":""},{"$f":"IF(I249=\"\",\"\",I249/COUNTIF('Data Input'!$C$8:$BU$8,\"SE\"))","v":""},{"$f":"IF(ISBLANK('Data Input'!A254),\"\",SUM('Data Input'!K254,'Data Input'!L254,'Data Input'!M254,'Data Input'!O254,'Data Input'!Q254,'Data Input'!U254,'Data Input'!X254,'Data Input'!Y254,'Data Input'!Z254,'Data Input'!AB254,'Data Input'!AE254,'Data Input'!AG254,'Data Input'!AL254,'Data Input'!AU254,'Data Input'!AW254))","v":""},{"$f":"IF(K249=\"\",\"\",K249/COUNTIF('Data Input'!$C$8:$BU$8,\"P\"))","v":""},{"$f":"IF(ISBLANK('Data Input'!A254),\"\",SUM('Data Input'!I254,'Data Input'!S254))","v":""},{"$f":"IF(M249=\"\",\"\",M249/COUNTIF('Data Input'!$C$8:$BU$8,\"FS\"))","v":""},{"$f":"IF(ISBLANK('Data Input'!A254),\"\",SUM('Data Input'!D254,'Data Input'!E254,'Data Input'!F254,'Data Input'!G254,'Data Input'!R254,'Data Input'!V254,'Data Input'!W254,'Data Input'!AC254,'Data Input'!AF254,'Data Input'!AH254,'Data Input'!AJ254,'Data Input'!AK254,'Data Input'!AM254,'Data Input'!AQ254,'Data Input'!AR254,'Data Input'!AZ254))","v":""},{"$f":"IF(O249=\"\",\"\",O249/COUNTIF('Data Input'!$C$8:$BU$8,\"GT\"))","v":""},{"$f":"IF(ISBLANK('Data Input'!A254),\"\",SUM('Data Input'!C254,'Data Input'!J254,'Data Input'!N254,'Data Input'!AS254,'Data Input'!AT254,'Data Input'!AV254))","v":""},{"$f":"IF(Q249=\"\",\"\",Q249/COUNTIF('Data Input'!$C$8:$BU$8,\"V\"))","v":""},{"$f":"IF(ISBLANK('Data Input'!A254),\"\",SUM('Data Input'!AI254,'Data Input'!AN254))","v":""},{"$f":"IF(S249=\"\",\"\",S249/COUNTIF('Data Input'!$C$8:$BU$8,\"F/I\"))","v":""},{"$f":"IF(ISBLANK('Data Input'!C254),\"\",SUM('Data Input'!BB254:BU254))","v":""},{"$f":"IF(U249=\"\",\"\",U249/COUNTIF('Data Input'!$C$8:$BU$8,\"Sp\"))","v":""}]
[{"$f":"IF('Data Input'!A255=0,\"\",'Data Input'!A255)","v":""},{"$f":"IF(ISBLANK('Data Input'!A255),\"\",COUNTIF('Data Input'!C255:BU255,\"\")-1)","v":""},{"$f":"IF(ISBLANK('Data Input'!A255),\"\",COUNTIF('Data Input'!C255:BU255,\"0\"))","v":""},{"$f":"IF(ISBLANK('Data Input'!A255),\"\",SUM(B250,C250))","v":""},{"$f":"IF(ISBLANK('Data Input'!A255),\"\",SUM('Data Input'!C255:BU255))","v":""},{"$f":"IF(E250=\"\",\"\",E250/(COUNTA('Data Input'!$C$8:$BU$8)-1))","v":""},{"$f":"IF(ISBLANK('Data Input'!A255),\"\",SUM('Data Input'!H255,'Data Input'!AA255,'Data Input'!AO255,'Data Input'!AP255))","v":""},{"$f":"IF(G250=\"\",\"\",G250/COUNTIF('Data Input'!$C$8:$BU$8,\"CS\"))","v":""},{"$f":"IF(ISBLANK('Data Input'!A255),\"\",SUM('Data Input'!P255,'Data Input'!T255,'Data Input'!AD255,'Data Input'!AX255,'Data Input'!AY255))","v":""},{"$f":"IF(I250=\"\",\"\",I250/COUNTIF('Data Input'!$C$8:$BU$8,\"SE\"))","v":""},{"$f":"IF(ISBLANK('Data Input'!A255),\"\",SUM('Data Input'!K255,'Data Input'!L255,'Data Input'!M255,'Data Input'!O255,'Data Input'!Q255,'Data Input'!U255,'Data Input'!X255,'Data Input'!Y255,'Data Input'!Z255,'Data Input'!AB255,'Data Input'!AE255,'Data Input'!AG255,'Data Input'!AL255,'Data Input'!AU255,'Data Input'!AW255))","v":""},{"$f":"IF(K250=\"\",\"\",K250/COUNTIF('Data Input'!$C$8:$BU$8,\"P\"))","v":""},{"$f":"IF(ISBLANK('Data Input'!A255),\"\",SUM('Data Input'!I255,'Data Input'!S255))","v":""},{"$f":"IF(M250=\"\",\"\",M250/COUNTIF('Data Input'!$C$8:$BU$8,\"FS\"))","v":""},{"$f":"IF(ISBLANK('Data Input'!A255),\"\",SUM('Data Input'!D255,'Data Input'!E255,'Data Input'!F255,'Data Input'!G255,'Data Input'!R255,'Data Input'!V255,'Data Input'!W255,'Data Input'!AC255,'Data Input'!AF255,'Data Input'!AH255,'Data Input'!AJ255,'Data Input'!AK255,'Data Input'!AM255,'Data Input'!AQ255,'Data Input'!AR255,'Data Input'!AZ255))","v":""},{"$f":"IF(O250=\"\",\"\",O250/COUNTIF('Data Input'!$C$8:$BU$8,\"GT\"))","v":""},{"$f":"IF(ISBLANK('Data Input'!A255),\"\",SUM('Data Input'!C255,'Data Input'!J255,'Data Input'!N255,'Data Input'!AS255,'Data Input'!AT255,'Data Input'!AV255))","v":""},{"$f":"IF(Q250=\"\",\"\",Q250/COUNTIF('Data Input'!$C$8:$BU$8,\"V\"))","v":""},{"$f":"IF(ISBLANK('Data Input'!A255),\"\",SUM('Data Input'!AI255,'Data Input'!AN255))","v":""},{"$f":"IF(S250=\"\",\"\",S250/COUNTIF('Data Input'!$C$8:$BU$8,\"F/I\"))","v":""},{"$f":"IF(ISBLANK('Data Input'!C255),\"\",SUM('Data Input'!BB255:BU255))","v":""},{"$f":"IF(U250=\"\",\"\",U250/COUNTIF('Data Input'!$C$8:$BU$8,\"Sp\"))","v":""}]
[{"$f":"IF('Data Input'!A256=0,\"\",'Data Input'!A256)","v":""},{"$f":"IF(ISBLANK('Data Input'!A256),\"\",COUNTIF('Data Input'!C256:BU256,\"\")-1)","v":""},{"$f":"IF(ISBLANK('Data Input'!A256),\"\",COUNTIF('Data Input'!C256:BU256,\"0\"))","v":""},{"$f":"IF(ISBLANK('Data Input'!A256),\"\",SUM(B251,C251))","v":""},{"$f":"IF(ISBLANK('Data Input'!A256),\"\",SUM('Data Input'!C256:BU256))","v":""},{"$f":"IF(E251=\"\",\"\",E251/(COUNTA('Data Input'!$C$8:$BU$8)-1))","v":""},{"$f":"IF(ISBLANK('Data Input'!A256),\"\",SUM('Data Input'!H256,'Data Input'!AA256,'Data Input'!AO256,'Data Input'!AP256))","v":""},{"$f":"IF(G251=\"\",\"\",G251/COUNTIF('Data Input'!$C$8:$BU$8,\"CS\"))","v":""},{"$f":"IF(ISBLANK('Data Input'!A256),\"\",SUM('Data Input'!P256,'Data Input'!T256,'Data Input'!AD256,'Data Input'!AX256,'Data Input'!AY256))","v":""},{"$f":"IF(I251=\"\",\"\",I251/COUNTIF('Data Input'!$C$8:$BU$8,\"SE\"))","v":""},{"$f":"IF(ISBLANK('Data Input'!A256),\"\",SUM('Data Input'!K256,'Data Input'!L256,'Data Input'!M256,'Data Input'!O256,'Data Input'!Q256,'Data Input'!U256,'Data Input'!X256,'Data Input'!Y256,'Data Input'!Z256,'Data Input'!AB256,'Data Input'!AE256,'Data Input'!AG256,'Data Input'!AL256,'Data Input'!AU256,'Data Input'!AW256))","v":""},{"$f":"IF(K251=\"\",\"\",K251/COUNTIF('Data Input'!$C$8:$BU$8,\"P\"))","v":""},{"$f":"IF(ISBLANK('Data Input'!A256),\"\",SUM('Data Input'!I256,'Data Input'!S256))","v":""},{"$f":"IF(M251=\"\",\"\",M251/COUNTIF('Data Input'!$C$8:$BU$8,\"FS\"))","v":""},{"$f":"IF(ISBLANK('Data Input'!A256),\"\",SUM('Data Input'!D256,'Data Input'!E256,'Data Input'!F256,'Data Input'!G256,'Data Input'!R256,'Data Input'!V256,'Data Input'!W256,'Data Input'!AC256,'Data Input'!AF256,'Data Input'!AH256,'Data Input'!AJ256,'Data Input'!AK256,'Data Input'!AM256,'Data Input'!AQ256,'Data Input'!AR256,'Data Input'!AZ256))","v":""},{"$f":"IF(O251=\"\",\"\",O251/COUNTIF('Data Input'!$C$8:$BU$8,\"GT\"))","v":""},{"$f":"IF(ISBLANK('Data Input'!A256),\"\",SUM('Data Input'!C256,'Data Input'!J256,'Data Input'!N256,'Data Input'!AS256,'Data Input'!AT256,'Data Input'!AV256))","v":""},{"$f":"IF(Q251=\"\",\"\",Q251/COUNTIF('Data Input'!$C$8:$BU$8,\"V\"))","v":""},{"$f":"IF(ISBLANK('Data Input'!A256),\"\",SUM('Data Input'!AI256,'Data Input'!AN256))","v":""},{"$f":"IF(S251=\"\",\"\",S251/COUNTIF('Data Input'!$C$8:$BU$8,\"F/I\"))","v":""},{"$f":"IF(ISBLANK('Data Input'!C256),\"\",SUM('Data Input'!BB256:BU256))","v":""},{"$f":"IF(U251=\"\",\"\",U251/COUNTIF('Data Input'!$C$8:$BU$8,\"Sp\"))","v":""}]
[{"$f":"IF('Data Input'!A257=0,\"\",'Data Input'!A257)","v":""},{"$f":"IF(ISBLANK('Data Input'!A257),\"\",COUNTIF('Data Input'!C257:BU257,\"\")-1)","v":""},{"$f":"IF(ISBLANK('Data Input'!A257),\"\",COUNTIF('Data Input'!C257:BU257,\"0\"))","v":""},{"$f":"IF(ISBLANK('Data Input'!A257),\"\",SUM(B252,C252))","v":""},{"$f":"IF(ISBLANK('Data Input'!A257),\"\",SUM('Data Input'!C257:BU257))","v":""},{"$f":"IF(E252=\"\",\"\",E252/(COUNTA('Data Input'!$C$8:$BU$8)-1))","v":""},{"$f":"IF(ISBLANK('Data Input'!A257),\"\",SUM('Data Input'!H257,'Data Input'!AA257,'Data Input'!AO257,'Data Input'!AP257))","v":""},{"$f":"IF(G252=\"\",\"\",G252/COUNTIF('Data Input'!$C$8:$BU$8,\"CS\"))","v":""},{"$f":"IF(ISBLANK('Data Input'!A257),\"\",SUM('Data Input'!P257,'Data Input'!T257,'Data Input'!AD257,'Data Input'!AX257,'Data Input'!AY257))","v":""},{"$f":"IF(I252=\"\",\"\",I252/COUNTIF('Data Input'!$C$8:$BU$8,\"SE\"))","v":""},{"$f":"IF(ISBLANK('Data Input'!A257),\"\",SUM('Data Input'!K257,'Data Input'!L257,'Data Input'!M257,'Data Input'!O257,'Data Input'!Q257,'Data Input'!U257,'Data Input'!X257,'Data Input'!Y257,'Data Input'!Z257,'Data Input'!AB257,'Data Input'!AE257,'Data Input'!AG257,'Data Input'!AL257,'Data Input'!AU257,'Data Input'!AW257))","v":""},{"$f":"IF(K252=\"\",\"\",K252/COUNTIF('Data Input'!$C$8:$BU$8,\"P\"))","v":""},{"$f":"IF(ISBLANK('Data Input'!A257),\"\",SUM('Data Input'!I257,'Data Input'!S257))","v":""},{"$f":"IF(M252=\"\",\"\",M252/COUNTIF('Data Input'!$C$8:$BU$8,\"FS\"))","v":""},{"$f":"IF(ISBLANK('Data Input'!A257),\"\",SUM('Data Input'!D257,'Data Input'!E257,'Data Input'!F257,'Data Input'!G257,'Data Input'!R257,'Data Input'!V257,'Data Input'!W257,'Data Input'!AC257,'Data Input'!AF257,'Data Input'!AH257,'Data Input'!AJ257,'Data Input'!AK257,'Data Input'!AM257,'Data Input'!AQ257,'Data Input'!AR257,'Data Input'!AZ257))","v":""},{"$f":"IF(O252=\"\",\"\",O252/COUNTIF('Data Input'!$C$8:$BU$8,\"GT\"))","v":""},{"$f":"IF(ISBLANK('Data Input'!A257),\"\",SUM('Data Input'!C257,'Data Input'!J257,'Data Input'!N257,'Data Input'!AS257,'Data Input'!AT257,'Data Input'!AV257))","v":""},{"$f":"IF(Q252=\"\",\"\",Q252/COUNTIF('Data Input'!$C$8:$BU$8,\"V\"))","v":""},{"$f":"IF(ISBLANK('Data Input'!A257),\"\",SUM('Data Input'!AI257,'Data Input'!AN257))","v":""},{"$f":"IF(S252=\"\",\"\",S252/COUNTIF('Data Input'!$C$8:$BU$8,\"F/I\"))","v":""},{"$f":"IF(ISBLANK('Data Input'!C257),\"\",SUM('Data Input'!BB257:BU257))","v":""},{"$f":"IF(U252=\"\",\"\",U252/COUNTIF('Data Input'!$C$8:$BU$8,\"Sp\"))","v":""}]
[{"$f":"IF('Data Input'!A258=0,\"\",'Data Input'!A258)","v":""},{"$f":"IF(ISBLANK('Data Input'!A258),\"\",COUNTIF('Data Input'!C258:BU258,\"\")-1)","v":""},{"$f":"IF(ISBLANK('Data Input'!A258),\"\",COUNTIF('Data Input'!C258:BU258,\"0\"))","v":""},{"$f":"IF(ISBLANK('Data Input'!A258),\"\",SUM(B253,C253))","v":""},{"$f":"IF(ISBLANK('Data Input'!A258),\"\",SUM('Data Input'!C258:BU258))","v":""},{"$f":"IF(E253=\"\",\"\",E253/(COUNTA('Data Input'!$C$8:$BU$8)-1))","v":""},{"$f":"IF(ISBLANK('Data Input'!A258),\"\",SUM('Data Input'!H258,'Data Input'!AA258,'Data Input'!AO258,'Data Input'!AP258))","v":""},{"$f":"IF(G253=\"\",\"\",G253/COUNTIF('Data Input'!$C$8:$BU$8,\"CS\"))","v":""},{"$f":"IF(ISBLANK('Data Input'!A258),\"\",SUM('Data Input'!P258,'Data Input'!T258,'Data Input'!AD258,'Data Input'!AX258,'Data Input'!AY258))","v":""},{"$f":"IF(I253=\"\",\"\",I253/COUNTIF('Data Input'!$C$8:$BU$8,\"SE\"))","v":""},{"$f":"IF(ISBLANK('Data Input'!A258),\"\",SUM('Data Input'!K258,'Data Input'!L258,'Data Input'!M258,'Data Input'!O258,'Data Input'!Q258,'Data Input'!U258,'Data Input'!X258,'Data Input'!Y258,'Data Input'!Z258,'Data Input'!AB258,'Data Input'!AE258,'Data Input'!AG258,'Data Input'!AL258,'Data Input'!AU258,'Data Input'!AW258))","v":""},{"$f":"IF(K253=\"\",\"\",K253/COUNTIF('Data Input'!$C$8:$BU$8,\"P\"))","v":""},{"$f":"IF(ISBLANK('Data Input'!A258),\"\",SUM('Data Input'!I258,'Data Input'!S258))","v":""},{"$f":"IF(M253=\"\",\"\",M253/COUNTIF('Data Input'!$C$8:$BU$8,\"FS\"))","v":""},{"$f":"IF(ISBLANK('Data Input'!A258),\"\",SUM('Data Input'!D258,'Data Input'!E258,'Data Input'!F258,'Data Input'!G258,'Data Input'!R258,'Data Input'!V258,'Data Input'!W258,'Data Input'!AC258,'Data Input'!AF258,'Data Input'!AH258,'Data Input'!AJ258,'Data Input'!AK258,'Data Input'!AM258,'Data Input'!AQ258,'Data Input'!AR258,'Data Input'!AZ258))","v":""},{"$f":"IF(O253=\"\",\"\",O253/COUNTIF('Data Input'!$C$8:$BU$8,\"GT\"))","v":""},{"$f":"IF(ISBLANK('Data Input'!A258),\"\",SUM('Data Input'!C258,'Data Input'!J258,'Data Input'!N258,'Data Input'!AS258,'Data Input'!AT258,'Data Input'!AV258))","v":""},{"$f":"IF(Q253=\"\",\"\",Q253/COUNTIF('Data Input'!$C$8:$BU$8,\"V\"))","v":""},{"$f":"IF(ISBLANK('Data Input'!A258),\"\",SUM('Data Input'!AI258,'Data Input'!AN258))","v":""},{"$f":"IF(S253=\"\",\"\",S253/COUNTIF('Data Input'!$C$8:$BU$8,\"F/I\"))","v":""},{"$f":"IF(ISBLANK('Data Input'!C258),\"\",SUM('Data Input'!BB258:BU258))","v":""},{"$f":"IF(U253=\"\",\"\",U253/COUNTIF('Data Input'!$C$8:$BU$8,\"Sp\"))","v":""}]
[{"$f":"IF('Data Input'!A259=0,\"\",'Data Input'!A259)","v":""},{"$f":"IF(ISBLANK('Data Input'!A259),\"\",COUNTIF('Data Input'!C259:BU259,\"\")-1)","v":""},{"$f":"IF(ISBLANK('Data Input'!A259),\"\",COUNTIF('Data Input'!C259:BU259,\"0\"))","v":""},{"$f":"IF(ISBLANK('Data Input'!A259),\"\",SUM(B254,C254))","v":""},{"$f":"IF(ISBLANK('Data Input'!A259),\"\",SUM('Data Input'!C259:BU259))","v":""},{"$f":"IF(E254=\"\",\"\",E254/(COUNTA('Data Input'!$C$8:$BU$8)-1))","v":""},{"$f":"IF(ISBLANK('Data Input'!A259),\"\",SUM('Data Input'!H259,'Data Input'!AA259,'Data Input'!AO259,'Data Input'!AP259))","v":""},{"$f":"IF(G254=\"\",\"\",G254/COUNTIF('Data Input'!$C$8:$BU$8,\"CS\"))","v":""},{"$f":"IF(ISBLANK('Data Input'!A259),\"\",SUM('Data Input'!P259,'Data Input'!T259,'Data Input'!AD259,'Data Input'!AX259,'Data Input'!AY259))","v":""},{"$f":"IF(I254=\"\",\"\",I254/COUNTIF('Data Input'!$C$8:$BU$8,\"SE\"))","v":""},{"$f":"IF(ISBLANK('Data Input'!A259),\"\",SUM('Data Input'!K259,'Data Input'!L259,'Data Input'!M259,'Data Input'!O259,'Data Input'!Q259,'Data Input'!U259,'Data Input'!X259,'Data Input'!Y259,'Data Input'!Z259,'Data Input'!AB259,'Data Input'!AE259,'Data Input'!AG259,'Data Input'!AL259,'Data Input'!AU259,'Data Input'!AW259))","v":""},{"$f":"IF(K254=\"\",\"\",K254/COUNTIF('Data Input'!$C$8:$BU$8,\"P\"))","v":""},{"$f":"IF(ISBLANK('Data Input'!A259),\"\",SUM('Data Input'!I259,'Data Input'!S259))","v":""},{"$f":"IF(M254=\"\",\"\",M254/COUNTIF('Data Input'!$C$8:$BU$8,\"FS\"))","v":""},{"$f":"IF(ISBLANK('Data Input'!A259),\"\",SUM('Data Input'!D259,'Data Input'!E259,'Data Input'!F259,'Data Input'!G259,'Data Input'!R259,'Data Input'!V259,'Data Input'!W259,'Data Input'!AC259,'Data Input'!AF259,'Data Input'!AH259,'Data Input'!AJ259,'Data Input'!AK259,'Data Input'!AM259,'Data Input'!AQ259,'Data Input'!AR259,'Data Input'!AZ259))","v":""},{"$f":"IF(O254=\"\",\"\",O254/COUNTIF('Data Input'!$C$8:$BU$8,\"GT\"))","v":""},{"$f":"IF(ISBLANK('Data Input'!A259),\"\",SUM('Data Input'!C259,'Data Input'!J259,'Data Input'!N259,'Data Input'!AS259,'Data Input'!AT259,'Data Input'!AV259))","v":""},{"$f":"IF(Q254=\"\",\"\",Q254/COUNTIF('Data Input'!$C$8:$BU$8,\"V\"))","v":""},{"$f":"IF(ISBLANK('Data Input'!A259),\"\",SUM('Data Input'!AI259,'Data Input'!AN259))","v":""},{"$f":"IF(S254=\"\",\"\",S254/COUNTIF('Data Input'!$C$8:$BU$8,\"F/I\"))","v":""},{"$f":"IF(ISBLANK('Data Input'!C259),\"\",SUM('Data Input'!BB259:BU259))","v":""},{"$f":"IF(U254=\"\",\"\",U254/COUNTIF('Data Input'!$C$8:$BU$8,\"Sp\"))","v":""}]
[{"$f":"IF('Data Input'!A260=0,\"\",'Data Input'!A260)","v":""},{"$f":"IF(ISBLANK('Data Input'!A260),\"\",COUNTIF('Data Input'!C260:BU260,\"\")-1)","v":""},{"$f":"IF(ISBLANK('Data Input'!A260),\"\",COUNTIF('Data Input'!C260:BU260,\"0\"))","v":""},{"$f":"IF(ISBLANK('Data Input'!A260),\"\",SUM(B255,C255))","v":""},{"$f":"IF(ISBLANK('Data Input'!A260),\"\",SUM('Data Input'!C260:BU260))","v":""},{"$f":"IF(E255=\"\",\"\",E255/(COUNTA('Data Input'!$C$8:$BU$8)-1))","v":""},{"$f":"IF(ISBLANK('Data Input'!A260),\"\",SUM('Data Input'!H260,'Data Input'!AA260,'Data Input'!AO260,'Data Input'!AP260))","v":""},{"$f":"IF(G255=\"\",\"\",G255/COUNTIF('Data Input'!$C$8:$BU$8,\"CS\"))","v":""},{"$f":"IF(ISBLANK('Data Input'!A260),\"\",SUM('Data Input'!P260,'Data Input'!T260,'Data Input'!AD260,'Data Input'!AX260,'Data Input'!AY260))","v":""},{"$f":"IF(I255=\"\",\"\",I255/COUNTIF('Data Input'!$C$8:$BU$8,\"SE\"))","v":""},{"$f":"IF(ISBLANK('Data Input'!A260),\"\",SUM('Data Input'!K260,'Data Input'!L260,'Data Input'!M260,'Data Input'!O260,'Data Input'!Q260,'Data Input'!U260,'Data Input'!X260,'Data Input'!Y260,'Data Input'!Z260,'Data Input'!AB260,'Data Input'!AE260,'Data Input'!AG260,'Data Input'!AL260,'Data Input'!AU260,'Data Input'!AW260))","v":""},{"$f":"IF(K255=\"\",\"\",K255/COUNTIF('Data Input'!$C$8:$BU$8,\"P\"))","v":""},{"$f":"IF(ISBLANK('Data Input'!A260),\"\",SUM('Data Input'!I260,'Data Input'!S260))","v":""},{"$f":"IF(M255=\"\",\"\",M255/COUNTIF('Data Input'!$C$8:$BU$8,\"FS\"))","v":""},{"$f":"IF(ISBLANK('Data Input'!A260),\"\",SUM('Data Input'!D260,'Data Input'!E260,'Data Input'!F260,'Data Input'!G260,'Data Input'!R260,'Data Input'!V260,'Data Input'!W260,'Data Input'!AC260,'Data Input'!AF260,'Data Input'!AH260,'Data Input'!AJ260,'Data Input'!AK260,'Data Input'!AM260,'Data Input'!AQ260,'Data Input'!AR260,'Data Input'!AZ260))","v":""},{"$f":"IF(O255=\"\",\"\",O255/COUNTIF('Data Input'!$C$8:$BU$8,\"GT\"))","v":""},{"$f":"IF(ISBLANK('Data Input'!A260),\"\",SUM('Data Input'!C260,'Data Input'!J260,'Data Input'!N260,'Data Input'!AS260,'Data Input'!AT260,'Data Input'!AV260))","v":""},{"$f":"IF(Q255=\"\",\"\",Q255/COUNTIF('Data Input'!$C$8:$BU$8,\"V\"))","v":""},{"$f":"IF(ISBLANK('Data Input'!A260),\"\",SUM('Data Input'!AI260,'Data Input'!AN260))","v":""},{"$f":"IF(S255=\"\",\"\",S255/COUNTIF('Data Input'!$C$8:$BU$8,\"F/I\"))","v":""},{"$f":"IF(ISBLANK('Data Input'!C260),\"\",SUM('Data Input'!BB260:BU260))","v":""},{"$f":"IF(U255=\"\",\"\",U255/COUNTIF('Data Input'!$C$8:$BU$8,\"Sp\"))","v":""}]
[{"$f":"IF('Data Input'!A261=0,\"\",'Data Input'!A261)","v":""},{"$f":"IF(ISBLANK('Data Input'!A261),\"\",COUNTIF('Data Input'!C261:BU261,\"\")-1)","v":""},{"$f":"IF(ISBLANK('Data Input'!A261),\"\",COUNTIF('Data Input'!C261:BU261,\"0\"))","v":""},{"$f":"IF(ISBLANK('Data Input'!A261),\"\",SUM(B256,C256))","v":""},{"$f":"IF(ISBLANK('Data Input'!A261),\"\",SUM('Data Input'!C261:BU261))","v":""},{"$f":"IF(E256=\"\",\"\",E256/(COUNTA('Data Input'!$C$8:$BU$8)-1))","v":""},{"$f":"IF(ISBLANK('Data Input'!A261),\"\",SUM('Data Input'!H261,'Data Input'!AA261,'Data Input'!AO261,'Data Input'!AP261))","v":""},{"$f":"IF(G256=\"\",\"\",G256/COUNTIF('Data Input'!$C$8:$BU$8,\"CS\"))","v":""},{"$f":"IF(ISBLANK('Data Input'!A261),\"\",SUM('Data Input'!P261,'Data Input'!T261,'Data Input'!AD261,'Data Input'!AX261,'Data Input'!AY261))","v":""},{"$f":"IF(I256=\"\",\"\",I256/COUNTIF('Data Input'!$C$8:$BU$8,\"SE\"))","v":""},{"$f":"IF(ISBLANK('Data Input'!A261),\"\",SUM('Data Input'!K261,'Data Input'!L261,'Data Input'!M261,'Data Input'!O261,'Data Input'!Q261,'Data Input'!U261,'Data Input'!X261,'Data Input'!Y261,'Data Input'!Z261,'Data Input'!AB261,'Data Input'!AE261,'Data Input'!AG261,'Data Input'!AL261,'Data Input'!AU261,'Data Input'!AW261))","v":""},{"$f":"IF(K256=\"\",\"\",K256/COUNTIF('Data Input'!$C$8:$BU$8,\"P\"))","v":""},{"$f":"IF(ISBLANK('Data Input'!A261),\"\",SUM('Data Input'!I261,'Data Input'!S261))","v":""},{"$f":"IF(M256=\"\",\"\",M256/COUNTIF('Data Input'!$C$8:$BU$8,\"FS\"))","v":""},{"$f":"IF(ISBLANK('Data Input'!A261),\"\",SUM('Data Input'!D261,'Data Input'!E261,'Data Input'!F261,'Data Input'!G261,'Data Input'!R261,'Data Input'!V261,'Data Input'!W261,'Data Input'!AC261,'Data Input'!AF261,'Data Input'!AH261,'Data Input'!AJ261,'Data Input'!AK261,'Data Input'!AM261,'Data Input'!AQ261,'Data Input'!AR261,'Data Input'!AZ261))","v":""},{"$f":"IF(O256=\"\",\"\",O256/COUNTIF('Data Input'!$C$8:$BU$8,\"GT\"))","v":""},{"$f":"IF(ISBLANK('Data Input'!A261),\"\",SUM('Data Input'!C261,'Data Input'!J261,'Data Input'!N261,'Data Input'!AS261,'Data Input'!AT261,'Data Input'!AV261))","v":""},{"$f":"IF(Q256=\"\",\"\",Q256/COUNTIF('Data Input'!$C$8:$BU$8,\"V\"))","v":""},{"$f":"IF(ISBLANK('Data Input'!A261),\"\",SUM('Data Input'!AI261,'Data Input'!AN261))","v":""},{"$f":"IF(S256=\"\",\"\",S256/COUNTIF('Data Input'!$C$8:$BU$8,\"F/I\"))","v":""},{"$f":"IF(ISBLANK('Data Input'!C261),\"\",SUM('Data Input'!BB261:BU261))","v":""},{"$f":"IF(U256=\"\",\"\",U256/COUNTIF('Data Input'!$C$8:$BU$8,\"Sp\"))","v":""}]
[{"$f":"IF('Data Input'!A262=0,\"\",'Data Input'!A262)","v":""},{"$f":"IF(ISBLANK('Data Input'!A262),\"\",COUNTIF('Data Input'!C262:BU262,\"\")-1)","v":""},{"$f":"IF(ISBLANK('Data Input'!A262),\"\",COUNTIF('Data Input'!C262:BU262,\"0\"))","v":""},{"$f":"IF(ISBLANK('Data Input'!A262),\"\",SUM(B257,C257))","v":""},{"$f":"IF(ISBLANK('Data Input'!A262),\"\",SUM('Data Input'!C262:BU262))","v":""},{"$f":"IF(E257=\"\",\"\",E257/(COUNTA('Data Input'!$C$8:$BU$8)-1))","v":""},{"$f":"IF(ISBLANK('Data Input'!A262),\"\",SUM('Data Input'!H262,'Data Input'!AA262,'Data Input'!AO262,'Data Input'!AP262))","v":""},{"$f":"IF(G257=\"\",\"\",G257/COUNTIF('Data Input'!$C$8:$BU$8,\"CS\"))","v":""},{"$f":"IF(ISBLANK('Data Input'!A262),\"\",SUM('Data Input'!P262,'Data Input'!T262,'Data Input'!AD262,'Data Input'!AX262,'Data Input'!AY262))","v":""},{"$f":"IF(I257=\"\",\"\",I257/COUNTIF('Data Input'!$C$8:$BU$8,\"SE\"))","v":""},{"$f":"IF(ISBLANK('Data Input'!A262),\"\",SUM('Data Input'!K262,'Data Input'!L262,'Data Input'!M262,'Data Input'!O262,'Data Input'!Q262,'Data Input'!U262,'Data Input'!X262,'Data Input'!Y262,'Data Input'!Z262,'Data Input'!AB262,'Data Input'!AE262,'Data Input'!AG262,'Data Input'!AL262,'Data Input'!AU262,'Data Input'!AW262))","v":""},{"$f":"IF(K257=\"\",\"\",K257/COUNTIF('Data Input'!$C$8:$BU$8,\"P\"))","v":""},{"$f":"IF(ISBLANK('Data Input'!A262),\"\",SUM('Data Input'!I262,'Data Input'!S262))","v":""},{"$f":"IF(M257=\"\",\"\",M257/COUNTIF('Data Input'!$C$8:$BU$8,\"FS\"))","v":""},{"$f":"IF(ISBLANK('Data Input'!A262),\"\",SUM('Data Input'!D262,'Data Input'!E262,'Data Input'!F262,'Data Input'!G262,'Data Input'!R262,'Data Input'!V262,'Data Input'!W262,'Data Input'!AC262,'Data Input'!AF262,'Data Input'!AH262,'Data Input'!AJ262,'Data Input'!AK262,'Data Input'!AM262,'Data Input'!AQ262,'Data Input'!AR262,'Data Input'!AZ262))","v":""},{"$f":"IF(O257=\"\",\"\",O257/COUNTIF('Data Input'!$C$8:$BU$8,\"GT\"))","v":""},{"$f":"IF(ISBLANK('Data Input'!A262),\"\",SUM('Data Input'!C262,'Data Input'!J262,'Data Input'!N262,'Data Input'!AS262,'Data Input'!AT262,'Data Input'!AV262))","v":""},{"$f":"IF(Q257=\"\",\"\",Q257/COUNTIF('Data Input'!$C$8:$BU$8,\"V\"))","v":""},{"$f":"IF(ISBLANK('Data Input'!A262),\"\",SUM('Data Input'!AI262,'Data Input'!AN262))","v":""},{"$f":"IF(S257=\"\",\"\",S257/COUNTIF('Data Input'!$C$8:$BU$8,\"F/I\"))","v":""},{"$f":"IF(ISBLANK('Data Input'!C262),\"\",SUM('Data Input'!BB262:BU262))","v":""},{"$f":"IF(U257=\"\",\"\",U257/COUNTIF('Data Input'!$C$8:$BU$8,\"Sp\"))","v":""}]
[{"$f":"IF('Data Input'!A263=0,\"\",'Data Input'!A263)","v":""},{"$f":"IF(ISBLANK('Data Input'!A263),\"\",COUNTIF('Data Input'!C263:BU263,\"\")-1)","v":""},{"$f":"IF(ISBLANK('Data Input'!A263),\"\",COUNTIF('Data Input'!C263:BU263,\"0\"))","v":""},{"$f":"IF(ISBLANK('Data Input'!A263),\"\",SUM(B258,C258))","v":""},{"$f":"IF(ISBLANK('Data Input'!A263),\"\",SUM('Data Input'!C263:BU263))","v":""},{"$f":"IF(E258=\"\",\"\",E258/(COUNTA('Data Input'!$C$8:$BU$8)-1))","v":""},{"$f":"IF(ISBLANK('Data Input'!A263),\"\",SUM('Data Input'!H263,'Data Input'!AA263,'Data Input'!AO263,'Data Input'!AP263))","v":""},{"$f":"IF(G258=\"\",\"\",G258/COUNTIF('Data Input'!$C$8:$BU$8,\"CS\"))","v":""},{"$f":"IF(ISBLANK('Data Input'!A263),\"\",SUM('Data Input'!P263,'Data Input'!T263,'Data Input'!AD263,'Data Input'!AX263,'Data Input'!AY263))","v":""},{"$f":"IF(I258=\"\",\"\",I258/COUNTIF('Data Input'!$C$8:$BU$8,\"SE\"))","v":""},{"$f":"IF(ISBLANK('Data Input'!A263),\"\",SUM('Data Input'!K263,'Data Input'!L263,'Data Input'!M263,'Data Input'!O263,'Data Input'!Q263,'Data Input'!U263,'Data Input'!X263,'Data Input'!Y263,'Data Input'!Z263,'Data Input'!AB263,'Data Input'!AE263,'Data Input'!AG263,'Data Input'!AL263,'Data Input'!AU263,'Data Input'!AW263))","v":""},{"$f":"IF(K258=\"\",\"\",K258/COUNTIF('Data Input'!$C$8:$BU$8,\"P\"))","v":""},{"$f":"IF(ISBLANK('Data Input'!A263),\"\",SUM('Data Input'!I263,'Data Input'!S263))","v":""},{"$f":"IF(M258=\"\",\"\",M258/COUNTIF('Data Input'!$C$8:$BU$8,\"FS\"))","v":""},{"$f":"IF(ISBLANK('Data Input'!A263),\"\",SUM('Data Input'!D263,'Data Input'!E263,'Data Input'!F263,'Data Input'!G263,'Data Input'!R263,'Data Input'!V263,'Data Input'!W263,'Data Input'!AC263,'Data Input'!AF263,'Data Input'!AH263,'Data Input'!AJ263,'Data Input'!AK263,'Data Input'!AM263,'Data Input'!AQ263,'Data Input'!AR263,'Data Input'!AZ263))","v":""},{"$f":"IF(O258=\"\",\"\",O258/COUNTIF('Data Input'!$C$8:$BU$8,\"GT\"))","v":""},{"$f":"IF(ISBLANK('Data Input'!A263),\"\",SUM('Data Input'!C263,'Data Input'!J263,'Data Input'!N263,'Data Input'!AS263,'Data Input'!AT263,'Data Input'!AV263))","v":""},{"$f":"IF(Q258=\"\",\"\",Q258/COUNTIF('Data Input'!$C$8:$BU$8,\"V\"))","v":""},{"$f":"IF(ISBLANK('Data Input'!A263),\"\",SUM('Data Input'!AI263,'Data Input'!AN263))","v":""},{"$f":"IF(S258=\"\",\"\",S258/COUNTIF('Data Input'!$C$8:$BU$8,\"F/I\"))","v":""},{"$f":"IF(ISBLANK('Data Input'!C263),\"\",SUM('Data Input'!BB263:BU263))","v":""},{"$f":"IF(U258=\"\",\"\",U258/COUNTIF('Data Input'!$C$8:$BU$8,\"Sp\"))","v":""}]
[{"$f":"IF('Data Input'!A264=0,\"\",'Data Input'!A264)","v":""},{"$f":"IF(ISBLANK('Data Input'!A264),\"\",COUNTIF('Data Input'!C264:BU264,\"\")-1)","v":""},{"$f":"IF(ISBLANK('Data Input'!A264),\"\",COUNTIF('Data Input'!C264:BU264,\"0\"))","v":""},{"$f":"IF(ISBLANK('Data Input'!A264),\"\",SUM(B259,C259))","v":""},{"$f":"IF(ISBLANK('Data Input'!A264),\"\",SUM('Data Input'!C264:BU264))","v":""},{"$f":"IF(E259=\"\",\"\",E259/(COUNTA('Data Input'!$C$8:$BU$8)-1))","v":""},{"$f":"IF(ISBLANK('Data Input'!A264),\"\",SUM('Data Input'!H264,'Data Input'!AA264,'Data Input'!AO264,'Data Input'!AP264))","v":""},{"$f":"IF(G259=\"\",\"\",G259/COUNTIF('Data Input'!$C$8:$BU$8,\"CS\"))","v":""},{"$f":"IF(ISBLANK('Data Input'!A264),\"\",SUM('Data Input'!P264,'Data Input'!T264,'Data Input'!AD264,'Data Input'!AX264,'Data Input'!AY264))","v":""},{"$f":"IF(I259=\"\",\"\",I259/COUNTIF('Data Input'!$C$8:$BU$8,\"SE\"))","v":""},{"$f":"IF(ISBLANK('Data Input'!A264),\"\",SUM('Data Input'!K264,'Data Input'!L264,'Data Input'!M264,'Data Input'!O264,'Data Input'!Q264,'Data Input'!U264,'Data Input'!X264,'Data Input'!Y264,'Data Input'!Z264,'Data Input'!AB264,'Data Input'!AE264,'Data Input'!AG264,'Data Input'!AL264,'Data Input'!AU264,'Data Input'!AW264))","v":""},{"$f":"IF(K259=\"\",\"\",K259/COUNTIF('Data Input'!$C$8:$BU$8,\"P\"))","v":""},{"$f":"IF(ISBLANK('Data Input'!A264),\"\",SUM('Data Input'!I264,'Data Input'!S264))","v":""},{"$f":"IF(M259=\"\",\"\",M259/COUNTIF('Data Input'!$C$8:$BU$8,\"FS\"))","v":""},{"$f":"IF(ISBLANK('Data Input'!A264),\"\",SUM('Data Input'!D264,'Data Input'!E264,'Data Input'!F264,'Data Input'!G264,'Data Input'!R264,'Data Input'!V264,'Data Input'!W264,'Data Input'!AC264,'Data Input'!AF264,'Data Input'!AH264,'Data Input'!AJ264,'Data Input'!AK264,'Data Input'!AM264,'Data Input'!AQ264,'Data Input'!AR264,'Data Input'!AZ264))","v":""},{"$f":"IF(O259=\"\",\"\",O259/COUNTIF('Data Input'!$C$8:$BU$8,\"GT\"))","v":""},{"$f":"IF(ISBLANK('Data Input'!A264),\"\",SUM('Data Input'!C264,'Data Input'!J264,'Data Input'!N264,'Data Input'!AS264,'Data Input'!AT264,'Data Input'!AV264))","v":""},{"$f":"IF(Q259=\"\",\"\",Q259/COUNTIF('Data Input'!$C$8:$BU$8,\"V\"))","v":""},{"$f":"IF(ISBLANK('Data Input'!A264),\"\",SUM('Data Input'!AI264,'Data Input'!AN264))","v":""},{"$f":"IF(S259=\"\",\"\",S259/COUNTIF('Data Input'!$C$8:$BU$8,\"F/I\"))","v":""},{"$f":"IF(ISBLANK('Data Input'!C264),\"\",SUM('Data Input'!BB264:BU264))","v":""},{"$f":"IF(U259=\"\",\"\",U259/COUNTIF('Data Input'!$C$8:$BU$8,\"Sp\"))","v":""}]
[{"$f":"IF('Data Input'!A265=0,\"\",'Data Input'!A265)","v":""},{"$f":"IF(ISBLANK('Data Input'!A265),\"\",COUNTIF('Data Input'!C265:BU265,\"\")-1)","v":""},{"$f":"IF(ISBLANK('Data Input'!A265),\"\",COUNTIF('Data Input'!C265:BU265,\"0\"))","v":""},{"$f":"IF(ISBLANK('Data Input'!A265),\"\",SUM(B260,C260))","v":""},{"$f":"IF(ISBLANK('Data Input'!A265),\"\",SUM('Data Input'!C265:BU265))","v":""},{"$f":"IF(E260=\"\",\"\",E260/(COUNTA('Data Input'!$C$8:$BU$8)-1))","v":""},{"$f":"IF(ISBLANK('Data Input'!A265),\"\",SUM('Data Input'!H265,'Data Input'!AA265,'Data Input'!AO265,'Data Input'!AP265))","v":""},{"$f":"IF(G260=\"\",\"\",G260/COUNTIF('Data Input'!$C$8:$BU$8,\"CS\"))","v":""},{"$f":"IF(ISBLANK('Data Input'!A265),\"\",SUM('Data Input'!P265,'Data Input'!T265,'Data Input'!AD265,'Data Input'!AX265,'Data Input'!AY265))","v":""},{"$f":"IF(I260=\"\",\"\",I260/COUNTIF('Data Input'!$C$8:$BU$8,\"SE\"))","v":""},{"$f":"IF(ISBLANK('Data Input'!A265),\"\",SUM('Data Input'!K265,'Data Input'!L265,'Data Input'!M265,'Data Input'!O265,'Data Input'!Q265,'Data Input'!U265,'Data Input'!X265,'Data Input'!Y265,'Data Input'!Z265,'Data Input'!AB265,'Data Input'!AE265,'Data Input'!AG265,'Data Input'!AL265,'Data Input'!AU265,'Data Input'!AW265))","v":""},{"$f":"IF(K260=\"\",\"\",K260/COUNTIF('Data Input'!$C$8:$BU$8,\"P\"))","v":""},{"$f":"IF(ISBLANK('Data Input'!A265),\"\",SUM('Data Input'!I265,'Data Input'!S265))","v":""},{"$f":"IF(M260=\"\",\"\",M260/COUNTIF('Data Input'!$C$8:$BU$8,\"FS\"))","v":""},{"$f":"IF(ISBLANK('Data Input'!A265),\"\",SUM('Data Input'!D265,'Data Input'!E265,'Data Input'!F265,'Data Input'!G265,'Data Input'!R265,'Data Input'!V265,'Data Input'!W265,'Data Input'!AC265,'Data Input'!AF265,'Data Input'!AH265,'Data Input'!AJ265,'Data Input'!AK265,'Data Input'!AM265,'Data Input'!AQ265,'Data Input'!AR265,'Data Input'!AZ265))","v":""},{"$f":"IF(O260=\"\",\"\",O260/COUNTIF('Data Input'!$C$8:$BU$8,\"GT\"))","v":""},{"$f":"IF(ISBLANK('Data Input'!A265),\"\",SUM('Data Input'!C265,'Data Input'!J265,'Data Input'!N265,'Data Input'!AS265,'Data Input'!AT265,'Data Input'!AV265))","v":""},{"$f":"IF(Q260=\"\",\"\",Q260/COUNTIF('Data Input'!$C$8:$BU$8,\"V\"))","v":""},{"$f":"IF(ISBLANK('Data Input'!A265),\"\",SUM('Data Input'!AI265,'Data Input'!AN265))","v":""},{"$f":"IF(S260=\"\",\"\",S260/COUNTIF('Data Input'!$C$8:$BU$8,\"F/I\"))","v":""},{"$f":"IF(ISBLANK('Data Input'!C265),\"\",SUM('Data Input'!BB265:BU265))","v":""},{"$f":"IF(U260=\"\",\"\",U260/COUNTIF('Data Input'!$C$8:$BU$8,\"Sp\"))","v":""}]
[{"$f":"IF('Data Input'!A266=0,\"\",'Data Input'!A266)","v":""},{"$f":"IF(ISBLANK('Data Input'!A266),\"\",COUNTIF('Data Input'!C266:BU266,\"\")-1)","v":""},{"$f":"IF(ISBLANK('Data Input'!A266),\"\",COUNTIF('Data Input'!C266:BU266,\"0\"))","v":""},{"$f":"IF(ISBLANK('Data Input'!A266),\"\",SUM(B261,C261))","v":""},{"$f":"IF(ISBLANK('Data Input'!A266),\"\",SUM('Data Input'!C266:BU266))","v":""},{"$f":"IF(E261=\"\",\"\",E261/(COUNTA('Data Input'!$C$8:$BU$8)-1))","v":""},{"$f":"IF(ISBLANK('Data Input'!A266),\"\",SUM('Data Input'!H266,'Data Input'!AA266,'Data Input'!AO266,'Data Input'!AP266))","v":""},{"$f":"IF(G261=\"\",\"\",G261/COUNTIF('Data Input'!$C$8:$BU$8,\"CS\"))","v":""},{"$f":"IF(ISBLANK('Data Input'!A266),\"\",SUM('Data Input'!P266,'Data Input'!T266,'Data Input'!AD266,'Data Input'!AX266,'Data Input'!AY266))","v":""},{"$f":"IF(I261=\"\",\"\",I261/COUNTIF('Data Input'!$C$8:$BU$8,\"SE\"))","v":""},{"$f":"IF(ISBLANK('Data Input'!A266),\"\",SUM('Data Input'!K266,'Data Input'!L266,'Data Input'!M266,'Data Input'!O266,'Data Input'!Q266,'Data Input'!U266,'Data Input'!X266,'Data Input'!Y266,'Data Input'!Z266,'Data Input'!AB266,'Data Input'!AE266,'Data Input'!AG266,'Data Input'!AL266,'Data Input'!AU266,'Data Input'!AW266))","v":""},{"$f":"IF(K261=\"\",\"\",K261/COUNTIF('Data Input'!$C$8:$BU$8,\"P\"))","v":""},{"$f":"IF(ISBLANK('Data Input'!A266),\"\",SUM('Data Input'!I266,'Data Input'!S266))","v":""},{"$f":"IF(M261=\"\",\"\",M261/COUNTIF('Data Input'!$C$8:$BU$8,\"FS\"))","v":""},{"$f":"IF(ISBLANK('Data Input'!A266),\"\",SUM('Data Input'!D266,'Data Input'!E266,'Data Input'!F266,'Data Input'!G266,'Data Input'!R266,'Data Input'!V266,'Data Input'!W266,'Data Input'!AC266,'Data Input'!AF266,'Data Input'!AH266,'Data Input'!AJ266,'Data Input'!AK266,'Data Input'!AM266,'Data Input'!AQ266,'Data Input'!AR266,'Data Input'!AZ266))","v":""},{"$f":"IF(O261=\"\",\"\",O261/COUNTIF('Data Input'!$C$8:$BU$8,\"GT\"))","v":""},{"$f":"IF(ISBLANK('Data Input'!A266),\"\",SUM('Data Input'!C266,'Data Input'!J266,'Data Input'!N266,'Data Input'!AS266,'Data Input'!AT266,'Data Input'!AV266))","v":""},{"$f":"IF(Q261=\"\",\"\",Q261/COUNTIF('Data Input'!$C$8:$BU$8,\"V\"))","v":""},{"$f":"IF(ISBLANK('Data Input'!A266),\"\",SUM('Data Input'!AI266,'Data Input'!AN266))","v":""},{"$f":"IF(S261=\"\",\"\",S261/COUNTIF('Data Input'!$C$8:$BU$8,\"F/I\"))","v":""},{"$f":"IF(ISBLANK('Data Input'!C266),\"\",SUM('Data Input'!BB266:BU266))","v":""},{"$f":"IF(U261=\"\",\"\",U261/COUNTIF('Data Input'!$C$8:$BU$8,\"Sp\"))","v":""}]
[{"$f":"IF('Data Input'!A267=0,\"\",'Data Input'!A267)","v":""},{"$f":"IF(ISBLANK('Data Input'!A267),\"\",COUNTIF('Data Input'!C267:BU267,\"\")-1)","v":""},{"$f":"IF(ISBLANK('Data Input'!A267),\"\",COUNTIF('Data Input'!C267:BU267,\"0\"))","v":""},{"$f":"IF(ISBLANK('Data Input'!A267),\"\",SUM(B262,C262))","v":""},{"$f":"IF(ISBLANK('Data Input'!A267),\"\",SUM('Data Input'!C267:BU267))","v":""},{"$f":"IF(E262=\"\",\"\",E262/(COUNTA('Data Input'!$C$8:$BU$8)-1))","v":""},{"$f":"IF(ISBLANK('Data Input'!A267),\"\",SUM('Data Input'!H267,'Data Input'!AA267,'Data Input'!AO267,'Data Input'!AP267))","v":""},{"$f":"IF(G262=\"\",\"\",G262/COUNTIF('Data Input'!$C$8:$BU$8,\"CS\"))","v":""},{"$f":"IF(ISBLANK('Data Input'!A267),\"\",SUM('Data Input'!P267,'Data Input'!T267,'Data Input'!AD267,'Data Input'!AX267,'Data Input'!AY267))","v":""},{"$f":"IF(I262=\"\",\"\",I262/COUNTIF('Data Input'!$C$8:$BU$8,\"SE\"))","v":""},{"$f":"IF(ISBLANK('Data Input'!A267),\"\",SUM('Data Input'!K267,'Data Input'!L267,'Data Input'!M267,'Data Input'!O267,'Data Input'!Q267,'Data Input'!U267,'Data Input'!X267,'Data Input'!Y267,'Data Input'!Z267,'Data Input'!AB267,'Data Input'!AE267,'Data Input'!AG267,'Data Input'!AL267,'Data Input'!AU267,'Data Input'!AW267))","v":""},{"$f":"IF(K262=\"\",\"\",K262/COUNTIF('Data Input'!$C$8:$BU$8,\"P\"))","v":""},{"$f":"IF(ISBLANK('Data Input'!A267),\"\",SUM('Data Input'!I267,'Data Input'!S267))","v":""},{"$f":"IF(M262=\"\",\"\",M262/COUNTIF('Data Input'!$C$8:$BU$8,\"FS\"))","v":""},{"$f":"IF(ISBLANK('Data Input'!A267),\"\",SUM('Data Input'!D267,'Data Input'!E267,'Data Input'!F267,'Data Input'!G267,'Data Input'!R267,'Data Input'!V267,'Data Input'!W267,'Data Input'!AC267,'Data Input'!AF267,'Data Input'!AH267,'Data Input'!AJ267,'Data Input'!AK267,'Data Input'!AM267,'Data Input'!AQ267,'Data Input'!AR267,'Data Input'!AZ267))","v":""},{"$f":"IF(O262=\"\",\"\",O262/COUNTIF('Data Input'!$C$8:$BU$8,\"GT\"))","v":""},{"$f":"IF(ISBLANK('Data Input'!A267),\"\",SUM('Data Input'!C267,'Data Input'!J267,'Data Input'!N267,'Data Input'!AS267,'Data Input'!AT267,'Data Input'!AV267))","v":""},{"$f":"IF(Q262=\"\",\"\",Q262/COUNTIF('Data Input'!$C$8:$BU$8,\"V\"))","v":""},{"$f":"IF(ISBLANK('Data Input'!A267),\"\",SUM('Data Input'!AI267,'Data Input'!AN267))","v":""},{"$f":"IF(S262=\"\",\"\",S262/COUNTIF('Data Input'!$C$8:$BU$8,\"F/I\"))","v":""},{"$f":"IF(ISBLANK('Data Input'!C267),\"\",SUM('Data Input'!BB267:BU267))","v":""},{"$f":"IF(U262=\"\",\"\",U262/COUNTIF('Data Input'!$C$8:$BU$8,\"Sp\"))","v":""}]
[{"$f":"IF('Data Input'!A268=0,\"\",'Data Input'!A268)","v":""},{"$f":"IF(ISBLANK('Data Input'!A268),\"\",COUNTIF('Data Input'!C268:BU268,\"\")-1)","v":""},{"$f":"IF(ISBLANK('Data Input'!A268),\"\",COUNTIF('Data Input'!C268:BU268,\"0\"))","v":""},{"$f":"IF(ISBLANK('Data Input'!A268),\"\",SUM(B263,C263))","v":""},{"$f":"IF(ISBLANK('Data Input'!A268),\"\",SUM('Data Input'!C268:BU268))","v":""},{"$f":"IF(E263=\"\",\"\",E263/(COUNTA('Data Input'!$C$8:$BU$8)-1))","v":""},{"$f":"IF(ISBLANK('Data Input'!A268),\"\",SUM('Data Input'!H268,'Data Input'!AA268,'Data Input'!AO268,'Data Input'!AP268))","v":""},{"$f":"IF(G263=\"\",\"\",G263/COUNTIF('Data Input'!$C$8:$BU$8,\"CS\"))","v":""},{"$f":"IF(ISBLANK('Data Input'!A268),\"\",SUM('Data Input'!P268,'Data Input'!T268,'Data Input'!AD268,'Data Input'!AX268,'Data Input'!AY268))","v":""},{"$f":"IF(I263=\"\",\"\",I263/COUNTIF('Data Input'!$C$8:$BU$8,\"SE\"))","v":""},{"$f":"IF(ISBLANK('Data Input'!A268),\"\",SUM('Data Input'!K268,'Data Input'!L268,'Data Input'!M268,'Data Input'!O268,'Data Input'!Q268,'Data Input'!U268,'Data Input'!X268,'Data Input'!Y268,'Data Input'!Z268,'Data Input'!AB268,'Data Input'!AE268,'Data Input'!AG268,'Data Input'!AL268,'Data Input'!AU268,'Data Input'!AW268))","v":""},{"$f":"IF(K263=\"\",\"\",K263/COUNTIF('Data Input'!$C$8:$BU$8,\"P\"))","v":""},{"$f":"IF(ISBLANK('Data Input'!A268),\"\",SUM('Data Input'!I268,'Data Input'!S268))","v":""},{"$f":"IF(M263=\"\",\"\",M263/COUNTIF('Data Input'!$C$8:$BU$8,\"FS\"))","v":""},{"$f":"IF(ISBLANK('Data Input'!A268),\"\",SUM('Data Input'!D268,'Data Input'!E268,'Data Input'!F268,'Data Input'!G268,'Data Input'!R268,'Data Input'!V268,'Data Input'!W268,'Data Input'!AC268,'Data Input'!AF268,'Data Input'!AH268,'Data Input'!AJ268,'Data Input'!AK268,'Data Input'!AM268,'Data Input'!AQ268,'Data Input'!AR268,'Data Input'!AZ268))","v":""},{"$f":"IF(O263=\"\",\"\",O263/COUNTIF('Data Input'!$C$8:$BU$8,\"GT\"))","v":""},{"$f":"IF(ISBLANK('Data Input'!A268),\"\",SUM('Data Input'!C268,'Data Input'!J268,'Data Input'!N268,'Data Input'!AS268,'Data Input'!AT268,'Data Input'!AV268))","v":""},{"$f":"IF(Q263=\"\",\"\",Q263/COUNTIF('Data Input'!$C$8:$BU$8,\"V\"))","v":""},{"$f":"IF(ISBLANK('Data Input'!A268),\"\",SUM('Data Input'!AI268,'Data Input'!AN268))","v":""},{"$f":"IF(S263=\"\",\"\",S263/COUNTIF('Data Input'!$C$8:$BU$8,\"F/I\"))","v":""},{"$f":"IF(ISBLANK('Data Input'!C268),\"\",SUM('Data Input'!BB268:BU268))","v":""},{"$f":"IF(U263=\"\",\"\",U263/COUNTIF('Data Input'!$C$8:$BU$8,\"Sp\"))","v":""}]
[{"$f":"IF('Data Input'!A269=0,\"\",'Data Input'!A269)","v":""},{"$f":"IF(ISBLANK('Data Input'!A269),\"\",COUNTIF('Data Input'!C269:BU269,\"\")-1)","v":""},{"$f":"IF(ISBLANK('Data Input'!A269),\"\",COUNTIF('Data Input'!C269:BU269,\"0\"))","v":""},{"$f":"IF(ISBLANK('Data Input'!A269),\"\",SUM(B264,C264))","v":""},{"$f":"IF(ISBLANK('Data Input'!A269),\"\",SUM('Data Input'!C269:BU269))","v":""},{"$f":"IF(E264=\"\",\"\",E264/(COUNTA('Data Input'!$C$8:$BU$8)-1))","v":""},{"$f":"IF(ISBLANK('Data Input'!A269),\"\",SUM('Data Input'!H269,'Data Input'!AA269,'Data Input'!AO269,'Data Input'!AP269))","v":""},{"$f":"IF(G264=\"\",\"\",G264/COUNTIF('Data Input'!$C$8:$BU$8,\"CS\"))","v":""},{"$f":"IF(ISBLANK('Data Input'!A269),\"\",SUM('Data Input'!P269,'Data Input'!T269,'Data Input'!AD269,'Data Input'!AX269,'Data Input'!AY269))","v":""},{"$f":"IF(I264=\"\",\"\",I264/COUNTIF('Data Input'!$C$8:$BU$8,\"SE\"))","v":""},{"$f":"IF(ISBLANK('Data Input'!A269),\"\",SUM('Data Input'!K269,'Data Input'!L269,'Data Input'!M269,'Data Input'!O269,'Data Input'!Q269,'Data Input'!U269,'Data Input'!X269,'Data Input'!Y269,'Data Input'!Z269,'Data Input'!AB269,'Data Input'!AE269,'Data Input'!AG269,'Data Input'!AL269,'Data Input'!AU269,'Data Input'!AW269))","v":""},{"$f":"IF(K264=\"\",\"\",K264/COUNTIF('Data Input'!$C$8:$BU$8,\"P\"))","v":""},{"$f":"IF(ISBLANK('Data Input'!A269),\"\",SUM('Data Input'!I269,'Data Input'!S269))","v":""},{"$f":"IF(M264=\"\",\"\",M264/COUNTIF('Data Input'!$C$8:$BU$8,\"FS\"))","v":""},{"$f":"IF(ISBLANK('Data Input'!A269),\"\",SUM('Data Input'!D269,'Data Input'!E269,'Data Input'!F269,'Data Input'!G269,'Data Input'!R269,'Data Input'!V269,'Data Input'!W269,'Data Input'!AC269,'Data Input'!AF269,'Data Input'!AH269,'Data Input'!AJ269,'Data Input'!AK269,'Data Input'!AM269,'Data Input'!AQ269,'Data Input'!AR269,'Data Input'!AZ269))","v":""},{"$f":"IF(O264=\"\",\"\",O264/COUNTIF('Data Input'!$C$8:$BU$8,\"GT\"))","v":""},{"$f":"IF(ISBLANK('Data Input'!A269),\"\",SUM('Data Input'!C269,'Data Input'!J269,'Data Input'!N269,'Data Input'!AS269,'Data Input'!AT269,'Data Input'!AV269))","v":""},{"$f":"IF(Q264=\"\",\"\",Q264/COUNTIF('Data Input'!$C$8:$BU$8,\"V\"))","v":""},{"$f":"IF(ISBLANK('Data Input'!A269),\"\",SUM('Data Input'!AI269,'Data Input'!AN269))","v":""},{"$f":"IF(S264=\"\",\"\",S264/COUNTIF('Data Input'!$C$8:$BU$8,\"F/I\"))","v":""},{"$f":"IF(ISBLANK('Data Input'!C269),\"\",SUM('Data Input'!BB269:BU269))","v":""},{"$f":"IF(U264=\"\",\"\",U264/COUNTIF('Data Input'!$C$8:$BU$8,\"Sp\"))","v":""}]
[{"$f":"IF('Data Input'!A270=0,\"\",'Data Input'!A270)","v":""},{"$f":"IF(ISBLANK('Data Input'!A270),\"\",COUNTIF('Data Input'!C270:BU270,\"\")-1)","v":""},{"$f":"IF(ISBLANK('Data Input'!A270),\"\",COUNTIF('Data Input'!C270:BU270,\"0\"))","v":""},{"$f":"IF(ISBLANK('Data Input'!A270),\"\",SUM(B265,C265))","v":""},{"$f":"IF(ISBLANK('Data Input'!A270),\"\",SUM('Data Input'!C270:BU270))","v":""},{"$f":"IF(E265=\"\",\"\",E265/(COUNTA('Data Input'!$C$8:$BU$8)-1))","v":""},{"$f":"IF(ISBLANK('Data Input'!A270),\"\",SUM('Data Input'!H270,'Data Input'!AA270,'Data Input'!AO270,'Data Input'!AP270))","v":""},{"$f":"IF(G265=\"\",\"\",G265/COUNTIF('Data Input'!$C$8:$BU$8,\"CS\"))","v":""},{"$f":"IF(ISBLANK('Data Input'!A270),\"\",SUM('Data Input'!P270,'Data Input'!T270,'Data Input'!AD270,'Data Input'!AX270,'Data Input'!AY270))","v":""},{"$f":"IF(I265=\"\",\"\",I265/COUNTIF('Data Input'!$C$8:$BU$8,\"SE\"))","v":""},{"$f":"IF(ISBLANK('Data Input'!A270),\"\",SUM('Data Input'!K270,'Data Input'!L270,'Data Input'!M270,'Data Input'!O270,'Data Input'!Q270,'Data Input'!U270,'Data Input'!X270,'Data Input'!Y270,'Data Input'!Z270,'Data Input'!AB270,'Data Input'!AE270,'Data Input'!AG270,'Data Input'!AL270,'Data Input'!AU270,'Data Input'!AW270))","v":""},{"$f":"IF(K265=\"\",\"\",K265/COUNTIF('Data Input'!$C$8:$BU$8,\"P\"))","v":""},{"$f":"IF(ISBLANK('Data Input'!A270),\"\",SUM('Data Input'!I270,'Data Input'!S270))","v":""},{"$f":"IF(M265=\"\",\"\",M265/COUNTIF('Data Input'!$C$8:$BU$8,\"FS\"))","v":""},{"$f":"IF(ISBLANK('Data Input'!A270),\"\",SUM('Data Input'!D270,'Data Input'!E270,'Data Input'!F270,'Data Input'!G270,'Data Input'!R270,'Data Input'!V270,'Data Input'!W270,'Data Input'!AC270,'Data Input'!AF270,'Data Input'!AH270,'Data Input'!AJ270,'Data Input'!AK270,'Data Input'!AM270,'Data Input'!AQ270,'Data Input'!AR270,'Data Input'!AZ270))","v":""},{"$f":"IF(O265=\"\",\"\",O265/COUNTIF('Data Input'!$C$8:$BU$8,\"GT\"))","v":""},{"$f":"IF(ISBLANK('Data Input'!A270),\"\",SUM('Data Input'!C270,'Data Input'!J270,'Data Input'!N270,'Data Input'!AS270,'Data Input'!AT270,'Data Input'!AV270))","v":""},{"$f":"IF(Q265=\"\",\"\",Q265/COUNTIF('Data Input'!$C$8:$BU$8,\"V\"))","v":""},{"$f":"IF(ISBLANK('Data Input'!A270),\"\",SUM('Data Input'!AI270,'Data Input'!AN270))","v":""},{"$f":"IF(S265=\"\",\"\",S265/COUNTIF('Data Input'!$C$8:$BU$8,\"F/I\"))","v":""},{"$f":"IF(ISBLANK('Data Input'!C270),\"\",SUM('Data Input'!BB270:BU270))","v":""},{"$f":"IF(U265=\"\",\"\",U265/COUNTIF('Data Input'!$C$8:$BU$8,\"Sp\"))","v":""}]
[{"$f":"IF('Data Input'!A271=0,\"\",'Data Input'!A271)","v":""},{"$f":"IF(ISBLANK('Data Input'!A271),\"\",COUNTIF('Data Input'!C271:BU271,\"\")-1)","v":""},{"$f":"IF(ISBLANK('Data Input'!A271),\"\",COUNTIF('Data Input'!C271:BU271,\"0\"))","v":""},{"$f":"IF(ISBLANK('Data Input'!A271),\"\",SUM(B266,C266))","v":""},{"$f":"IF(ISBLANK('Data Input'!A271),\"\",SUM('Data Input'!C271:BU271))","v":""},{"$f":"IF(E266=\"\",\"\",E266/(COUNTA('Data Input'!$C$8:$BU$8)-1))","v":""},{"$f":"IF(ISBLANK('Data Input'!A271),\"\",SUM('Data Input'!H271,'Data Input'!AA271,'Data Input'!AO271,'Data Input'!AP271))","v":""},{"$f":"IF(G266=\"\",\"\",G266/COUNTIF('Data Input'!$C$8:$BU$8,\"CS\"))","v":""},{"$f":"IF(ISBLANK('Data Input'!A271),\"\",SUM('Data Input'!P271,'Data Input'!T271,'Data Input'!AD271,'Data Input'!AX271,'Data Input'!AY271))","v":""},{"$f":"IF(I266=\"\",\"\",I266/COUNTIF('Data Input'!$C$8:$BU$8,\"SE\"))","v":""},{"$f":"IF(ISBLANK('Data Input'!A271),\"\",SUM('Data Input'!K271,'Data Input'!L271,'Data Input'!M271,'Data Input'!O271,'Data Input'!Q271,'Data Input'!U271,'Data Input'!X271,'Data Input'!Y271,'Data Input'!Z271,'Data Input'!AB271,'Data Input'!AE271,'Data Input'!AG271,'Data Input'!AL271,'Data Input'!AU271,'Data Input'!AW271))","v":""},{"$f":"IF(K266=\"\",\"\",K266/COUNTIF('Data Input'!$C$8:$BU$8,\"P\"))","v":""},{"$f":"IF(ISBLANK('Data Input'!A271),\"\",SUM('Data Input'!I271,'Data Input'!S271))","v":""},{"$f":"IF(M266=\"\",\"\",M266/COUNTIF('Data Input'!$C$8:$BU$8,\"FS\"))","v":""},{"$f":"IF(ISBLANK('Data Input'!A271),\"\",SUM('Data Input'!D271,'Data Input'!E271,'Data Input'!F271,'Data Input'!G271,'Data Input'!R271,'Data Input'!V271,'Data Input'!W271,'Data Input'!AC271,'Data Input'!AF271,'Data Input'!AH271,'Data Input'!AJ271,'Data Input'!AK271,'Data Input'!AM271,'Data Input'!AQ271,'Data Input'!AR271,'Data Input'!AZ271))","v":""},{"$f":"IF(O266=\"\",\"\",O266/COUNTIF('Data Input'!$C$8:$BU$8,\"GT\"))","v":""},{"$f":"IF(ISBLANK('Data Input'!A271),\"\",SUM('Data Input'!C271,'Data Input'!J271,'Data Input'!N271,'Data Input'!AS271,'Data Input'!AT271,'Data Input'!AV271))","v":""},{"$f":"IF(Q266=\"\",\"\",Q266/COUNTIF('Data Input'!$C$8:$BU$8,\"V\"))","v":""},{"$f":"IF(ISBLANK('Data Input'!A271),\"\",SUM('Data Input'!AI271,'Data Input'!AN271))","v":""},{"$f":"IF(S266=\"\",\"\",S266/COUNTIF('Data Input'!$C$8:$BU$8,\"F/I\"))","v":""},{"$f":"IF(ISBLANK('Data Input'!C271),\"\",SUM('Data Input'!BB271:BU271))","v":""},{"$f":"IF(U266=\"\",\"\",U266/COUNTIF('Data Input'!$C$8:$BU$8,\"Sp\"))","v":""}]
[{"$f":"IF('Data Input'!A272=0,\"\",'Data Input'!A272)","v":""},{"$f":"IF(ISBLANK('Data Input'!A272),\"\",COUNTIF('Data Input'!C272:BU272,\"\")-1)","v":""},{"$f":"IF(ISBLANK('Data Input'!A272),\"\",COUNTIF('Data Input'!C272:BU272,\"0\"))","v":""},{"$f":"IF(ISBLANK('Data Input'!A272),\"\",SUM(B267,C267))","v":""},{"$f":"IF(ISBLANK('Data Input'!A272),\"\",SUM('Data Input'!C272:BU272))","v":""},{"$f":"IF(E267=\"\",\"\",E267/(COUNTA('Data Input'!$C$8:$BU$8)-1))","v":""},{"$f":"IF(ISBLANK('Data Input'!A272),\"\",SUM('Data Input'!H272,'Data Input'!AA272,'Data Input'!AO272,'Data Input'!AP272))","v":""},{"$f":"IF(G267=\"\",\"\",G267/COUNTIF('Data Input'!$C$8:$BU$8,\"CS\"))","v":""},{"$f":"IF(ISBLANK('Data Input'!A272),\"\",SUM('Data Input'!P272,'Data Input'!T272,'Data Input'!AD272,'Data Input'!AX272,'Data Input'!AY272))","v":""},{"$f":"IF(I267=\"\",\"\",I267/COUNTIF('Data Input'!$C$8:$BU$8,\"SE\"))","v":""},{"$f":"IF(ISBLANK('Data Input'!A272),\"\",SUM('Data Input'!K272,'Data Input'!L272,'Data Input'!M272,'Data Input'!O272,'Data Input'!Q272,'Data Input'!U272,'Data Input'!X272,'Data Input'!Y272,'Data Input'!Z272,'Data Input'!AB272,'Data Input'!AE272,'Data Input'!AG272,'Data Input'!AL272,'Data Input'!AU272,'Data Input'!AW272))","v":""},{"$f":"IF(K267=\"\",\"\",K267/COUNTIF('Data Input'!$C$8:$BU$8,\"P\"))","v":""},{"$f":"IF(ISBLANK('Data Input'!A272),\"\",SUM('Data Input'!I272,'Data Input'!S272))","v":""},{"$f":"IF(M267=\"\",\"\",M267/COUNTIF('Data Input'!$C$8:$BU$8,\"FS\"))","v":""},{"$f":"IF(ISBLANK('Data Input'!A272),\"\",SUM('Data Input'!D272,'Data Input'!E272,'Data Input'!F272,'Data Input'!G272,'Data Input'!R272,'Data Input'!V272,'Data Input'!W272,'Data Input'!AC272,'Data Input'!AF272,'Data Input'!AH272,'Data Input'!AJ272,'Data Input'!AK272,'Data Input'!AM272,'Data Input'!AQ272,'Data Input'!AR272,'Data Input'!AZ272))","v":""},{"$f":"IF(O267=\"\",\"\",O267/COUNTIF('Data Input'!$C$8:$BU$8,\"GT\"))","v":""},{"$f":"IF(ISBLANK('Data Input'!A272),\"\",SUM('Data Input'!C272,'Data Input'!J272,'Data Input'!N272,'Data Input'!AS272,'Data Input'!AT272,'Data Input'!AV272))","v":""},{"$f":"IF(Q267=\"\",\"\",Q267/COUNTIF('Data Input'!$C$8:$BU$8,\"V\"))","v":""},{"$f":"IF(ISBLANK('Data Input'!A272),\"\",SUM('Data Input'!AI272,'Data Input'!AN272))","v":""},{"$f":"IF(S267=\"\",\"\",S267/COUNTIF('Data Input'!$C$8:$BU$8,\"F/I\"))","v":""},{"$f":"IF(ISBLANK('Data Input'!C272),\"\",SUM('Data Input'!BB272:BU272))","v":""},{"$f":"IF(U267=\"\",\"\",U267/COUNTIF('Data Input'!$C$8:$BU$8,\"Sp\"))","v":""}]
[{"$f":"IF('Data Input'!A273=0,\"\",'Data Input'!A273)","v":""},{"$f":"IF(ISBLANK('Data Input'!A273),\"\",COUNTIF('Data Input'!C273:BU273,\"\")-1)","v":""},{"$f":"IF(ISBLANK('Data Input'!A273),\"\",COUNTIF('Data Input'!C273:BU273,\"0\"))","v":""},{"$f":"IF(ISBLANK('Data Input'!A273),\"\",SUM(B268,C268))","v":""},{"$f":"IF(ISBLANK('Data Input'!A273),\"\",SUM('Data Input'!C273:BU273))","v":""},{"$f":"IF(E268=\"\",\"\",E268/(COUNTA('Data Input'!$C$8:$BU$8)-1))","v":""},{"$f":"IF(ISBLANK('Data Input'!A273),\"\",SUM('Data Input'!H273,'Data Input'!AA273,'Data Input'!AO273,'Data Input'!AP273))","v":""},{"$f":"IF(G268=\"\",\"\",G268/COUNTIF('Data Input'!$C$8:$BU$8,\"CS\"))","v":""},{"$f":"IF(ISBLANK('Data Input'!A273),\"\",SUM('Data Input'!P273,'Data Input'!T273,'Data Input'!AD273,'Data Input'!AX273,'Data Input'!AY273))","v":""},{"$f":"IF(I268=\"\",\"\",I268/COUNTIF('Data Input'!$C$8:$BU$8,\"SE\"))","v":""},{"$f":"IF(ISBLANK('Data Input'!A273),\"\",SUM('Data Input'!K273,'Data Input'!L273,'Data Input'!M273,'Data Input'!O273,'Data Input'!Q273,'Data Input'!U273,'Data Input'!X273,'Data Input'!Y273,'Data Input'!Z273,'Data Input'!AB273,'Data Input'!AE273,'Data Input'!AG273,'Data Input'!AL273,'Data Input'!AU273,'Data Input'!AW273))","v":""},{"$f":"IF(K268=\"\",\"\",K268/COUNTIF('Data Input'!$C$8:$BU$8,\"P\"))","v":""},{"$f":"IF(ISBLANK('Data Input'!A273),\"\",SUM('Data Input'!I273,'Data Input'!S273))","v":""},{"$f":"IF(M268=\"\",\"\",M268/COUNTIF('Data Input'!$C$8:$BU$8,\"FS\"))","v":""},{"$f":"IF(ISBLANK('Data Input'!A273),\"\",SUM('Data Input'!D273,'Data Input'!E273,'Data Input'!F273,'Data Input'!G273,'Data Input'!R273,'Data Input'!V273,'Data Input'!W273,'Data Input'!AC273,'Data Input'!AF273,'Data Input'!AH273,'Data Input'!AJ273,'Data Input'!AK273,'Data Input'!AM273,'Data Input'!AQ273,'Data Input'!AR273,'Data Input'!AZ273))","v":""},{"$f":"IF(O268=\"\",\"\",O268/COUNTIF('Data Input'!$C$8:$BU$8,\"GT\"))","v":""},{"$f":"IF(ISBLANK('Data Input'!A273),\"\",SUM('Data Input'!C273,'Data Input'!J273,'Data Input'!N273,'Data Input'!AS273,'Data Input'!AT273,'Data Input'!AV273))","v":""},{"$f":"IF(Q268=\"\",\"\",Q268/COUNTIF('Data Input'!$C$8:$BU$8,\"V\"))","v":""},{"$f":"IF(ISBLANK('Data Input'!A273),\"\",SUM('Data Input'!AI273,'Data Input'!AN273))","v":""},{"$f":"IF(S268=\"\",\"\",S268/COUNTIF('Data Input'!$C$8:$BU$8,\"F/I\"))","v":""},{"$f":"IF(ISBLANK('Data Input'!C273),\"\",SUM('Data Input'!BB273:BU273))","v":""},{"$f":"IF(U268=\"\",\"\",U268/COUNTIF('Data Input'!$C$8:$BU$8,\"Sp\"))","v":""}]
[{"$f":"IF('Data Input'!A274=0,\"\",'Data Input'!A274)","v":""},{"$f":"IF(ISBLANK('Data Input'!A274),\"\",COUNTIF('Data Input'!C274:BU274,\"\")-1)","v":""},{"$f":"IF(ISBLANK('Data Input'!A274),\"\",COUNTIF('Data Input'!C274:BU274,\"0\"))","v":""},{"$f":"IF(ISBLANK('Data Input'!A274),\"\",SUM(B269,C269))","v":""},{"$f":"IF(ISBLANK('Data Input'!A274),\"\",SUM('Data Input'!C274:BU274))","v":""},{"$f":"IF(E269=\"\",\"\",E269/(COUNTA('Data Input'!$C$8:$BU$8)-1))","v":""},{"$f":"IF(ISBLANK('Data Input'!A274),\"\",SUM('Data Input'!H274,'Data Input'!AA274,'Data Input'!AO274,'Data Input'!AP274))","v":""},{"$f":"IF(G269=\"\",\"\",G269/COUNTIF('Data Input'!$C$8:$BU$8,\"CS\"))","v":""},{"$f":"IF(ISBLANK('Data Input'!A274),\"\",SUM('Data Input'!P274,'Data Input'!T274,'Data Input'!AD274,'Data Input'!AX274,'Data Input'!AY274))","v":""},{"$f":"IF(I269=\"\",\"\",I269/COUNTIF('Data Input'!$C$8:$BU$8,\"SE\"))","v":""},{"$f":"IF(ISBLANK('Data Input'!A274),\"\",SUM('Data Input'!K274,'Data Input'!L274,'Data Input'!M274,'Data Input'!O274,'Data Input'!Q274,'Data Input'!U274,'Data Input'!X274,'Data Input'!Y274,'Data Input'!Z274,'Data Input'!AB274,'Data Input'!AE274,'Data Input'!AG274,'Data Input'!AL274,'Data Input'!AU274,'Data Input'!AW274))","v":""},{"$f":"IF(K269=\"\",\"\",K269/COUNTIF('Data Input'!$C$8:$BU$8,\"P\"))","v":""},{"$f":"IF(ISBLANK('Data Input'!A274),\"\",SUM('Data Input'!I274,'Data Input'!S274))","v":""},{"$f":"IF(M269=\"\",\"\",M269/COUNTIF('Data Input'!$C$8:$BU$8,\"FS\"))","v":""},{"$f":"IF(ISBLANK('Data Input'!A274),\"\",SUM('Data Input'!D274,'Data Input'!E274,'Data Input'!F274,'Data Input'!G274,'Data Input'!R274,'Data Input'!V274,'Data Input'!W274,'Data Input'!AC274,'Data Input'!AF274,'Data Input'!AH274,'Data Input'!AJ274,'Data Input'!AK274,'Data Input'!AM274,'Data Input'!AQ274,'Data Input'!AR274,'Data Input'!AZ274))","v":""},{"$f":"IF(O269=\"\",\"\",O269/COUNTIF('Data Input'!$C$8:$BU$8,\"GT\"))","v":""},{"$f":"IF(ISBLANK('Data Input'!A274),\"\",SUM('Data Input'!C274,'Data Input'!J274,'Data Input'!N274,'Data Input'!AS274,'Data Input'!AT274,'Data Input'!AV274))","v":""},{"$f":"IF(Q269=\"\",\"\",Q269/COUNTIF('Data Input'!$C$8:$BU$8,\"V\"))","v":""},{"$f":"IF(ISBLANK('Data Input'!A274),\"\",SUM('Data Input'!AI274,'Data Input'!AN274))","v":""},{"$f":"IF(S269=\"\",\"\",S269/COUNTIF('Data Input'!$C$8:$BU$8,\"F/I\"))","v":""},{"$f":"IF(ISBLANK('Data Input'!C274),\"\",SUM('Data Input'!BB274:BU274))","v":""},{"$f":"IF(U269=\"\",\"\",U269/COUNTIF('Data Input'!$C$8:$BU$8,\"Sp\"))","v":""}]
[{"$f":"IF('Data Input'!A275=0,\"\",'Data Input'!A275)","v":""},{"$f":"IF(ISBLANK('Data Input'!A275),\"\",COUNTIF('Data Input'!C275:BU275,\"\")-1)","v":""},{"$f":"IF(ISBLANK('Data Input'!A275),\"\",COUNTIF('Data Input'!C275:BU275,\"0\"))","v":""},{"$f":"IF(ISBLANK('Data Input'!A275),\"\",SUM(B270,C270))","v":""},{"$f":"IF(ISBLANK('Data Input'!A275),\"\",SUM('Data Input'!C275:BU275))","v":""},{"$f":"IF(E270=\"\",\"\",E270/(COUNTA('Data Input'!$C$8:$BU$8)-1))","v":""},{"$f":"IF(ISBLANK('Data Input'!A275),\"\",SUM('Data Input'!H275,'Data Input'!AA275,'Data Input'!AO275,'Data Input'!AP275))","v":""},{"$f":"IF(G270=\"\",\"\",G270/COUNTIF('Data Input'!$C$8:$BU$8,\"CS\"))","v":""},{"$f":"IF(ISBLANK('Data Input'!A275),\"\",SUM('Data Input'!P275,'Data Input'!T275,'Data Input'!AD275,'Data Input'!AX275,'Data Input'!AY275))","v":""},{"$f":"IF(I270=\"\",\"\",I270/COUNTIF('Data Input'!$C$8:$BU$8,\"SE\"))","v":""},{"$f":"IF(ISBLANK('Data Input'!A275),\"\",SUM('Data Input'!K275,'Data Input'!L275,'Data Input'!M275,'Data Input'!O275,'Data Input'!Q275,'Data Input'!U275,'Data Input'!X275,'Data Input'!Y275,'Data Input'!Z275,'Data Input'!AB275,'Data Input'!AE275,'Data Input'!AG275,'Data Input'!AL275,'Data Input'!AU275,'Data Input'!AW275))","v":""},{"$f":"IF(K270=\"\",\"\",K270/COUNTIF('Data Input'!$C$8:$BU$8,\"P\"))","v":""},{"$f":"IF(ISBLANK('Data Input'!A275),\"\",SUM('Data Input'!I275,'Data Input'!S275))","v":""},{"$f":"IF(M270=\"\",\"\",M270/COUNTIF('Data Input'!$C$8:$BU$8,\"FS\"))","v":""},{"$f":"IF(ISBLANK('Data Input'!A275),\"\",SUM('Data Input'!D275,'Data Input'!E275,'Data Input'!F275,'Data Input'!G275,'Data Input'!R275,'Data Input'!V275,'Data Input'!W275,'Data Input'!AC275,'Data Input'!AF275,'Data Input'!AH275,'Data Input'!AJ275,'Data Input'!AK275,'Data Input'!AM275,'Data Input'!AQ275,'Data Input'!AR275,'Data Input'!AZ275))","v":""},{"$f":"IF(O270=\"\",\"\",O270/COUNTIF('Data Input'!$C$8:$BU$8,\"GT\"))","v":""},{"$f":"IF(ISBLANK('Data Input'!A275),\"\",SUM('Data Input'!C275,'Data Input'!J275,'Data Input'!N275,'Data Input'!AS275,'Data Input'!AT275,'Data Input'!AV275))","v":""},{"$f":"IF(Q270=\"\",\"\",Q270/COUNTIF('Data Input'!$C$8:$BU$8,\"V\"))","v":""},{"$f":"IF(ISBLANK('Data Input'!A275),\"\",SUM('Data Input'!AI275,'Data Input'!AN275))","v":""},{"$f":"IF(S270=\"\",\"\",S270/COUNTIF('Data Input'!$C$8:$BU$8,\"F/I\"))","v":""},{"$f":"IF(ISBLANK('Data Input'!C275),\"\",SUM('Data Input'!BB275:BU275))","v":""},{"$f":"IF(U270=\"\",\"\",U270/COUNTIF('Data Input'!$C$8:$BU$8,\"Sp\"))","v":""}]
[{"$f":"IF('Data Input'!A276=0,\"\",'Data Input'!A276)","v":""},{"$f":"IF(ISBLANK('Data Input'!A276),\"\",COUNTIF('Data Input'!C276:BU276,\"\")-1)","v":""},{"$f":"IF(ISBLANK('Data Input'!A276),\"\",COUNTIF('Data Input'!C276:BU276,\"0\"))","v":""},{"$f":"IF(ISBLANK('Data Input'!A276),\"\",SUM(B271,C271))","v":""},{"$f":"IF(ISBLANK('Data Input'!A276),\"\",SUM('Data Input'!C276:BU276))","v":""},{"$f":"IF(E271=\"\",\"\",E271/(COUNTA('Data Input'!$C$8:$BU$8)-1))","v":""},{"$f":"IF(ISBLANK('Data Input'!A276),\"\",SUM('Data Input'!H276,'Data Input'!AA276,'Data Input'!AO276,'Data Input'!AP276))","v":""},{"$f":"IF(G271=\"\",\"\",G271/COUNTIF('Data Input'!$C$8:$BU$8,\"CS\"))","v":""},{"$f":"IF(ISBLANK('Data Input'!A276),\"\",SUM('Data Input'!P276,'Data Input'!T276,'Data Input'!AD276,'Data Input'!AX276,'Data Input'!AY276))","v":""},{"$f":"IF(I271=\"\",\"\",I271/COUNTIF('Data Input'!$C$8:$BU$8,\"SE\"))","v":""},{"$f":"IF(ISBLANK('Data Input'!A276),\"\",SUM('Data Input'!K276,'Data Input'!L276,'Data Input'!M276,'Data Input'!O276,'Data Input'!Q276,'Data Input'!U276,'Data Input'!X276,'Data Input'!Y276,'Data Input'!Z276,'Data Input'!AB276,'Data Input'!AE276,'Data Input'!AG276,'Data Input'!AL276,'Data Input'!AU276,'Data Input'!AW276))","v":""},{"$f":"IF(K271=\"\",\"\",K271/COUNTIF('Data Input'!$C$8:$BU$8,\"P\"))","v":""},{"$f":"IF(ISBLANK('Data Input'!A276),\"\",SUM('Data Input'!I276,'Data Input'!S276))","v":""},{"$f":"IF(M271=\"\",\"\",M271/COUNTIF('Data Input'!$C$8:$BU$8,\"FS\"))","v":""},{"$f":"IF(ISBLANK('Data Input'!A276),\"\",SUM('Data Input'!D276,'Data Input'!E276,'Data Input'!F276,'Data Input'!G276,'Data Input'!R276,'Data Input'!V276,'Data Input'!W276,'Data Input'!AC276,'Data Input'!AF276,'Data Input'!AH276,'Data Input'!AJ276,'Data Input'!AK276,'Data Input'!AM276,'Data Input'!AQ276,'Data Input'!AR276,'Data Input'!AZ276))","v":""},{"$f":"IF(O271=\"\",\"\",O271/COUNTIF('Data Input'!$C$8:$BU$8,\"GT\"))","v":""},{"$f":"IF(ISBLANK('Data Input'!A276),\"\",SUM('Data Input'!C276,'Data Input'!J276,'Data Input'!N276,'Data Input'!AS276,'Data Input'!AT276,'Data Input'!AV276))","v":""},{"$f":"IF(Q271=\"\",\"\",Q271/COUNTIF('Data Input'!$C$8:$BU$8,\"V\"))","v":""},{"$f":"IF(ISBLANK('Data Input'!A276),\"\",SUM('Data Input'!AI276,'Data Input'!AN276))","v":""},{"$f":"IF(S271=\"\",\"\",S271/COUNTIF('Data Input'!$C$8:$BU$8,\"F/I\"))","v":""},{"$f":"IF(ISBLANK('Data Input'!C276),\"\",SUM('Data Input'!BB276:BU276))","v":""},{"$f":"IF(U271=\"\",\"\",U271/COUNTIF('Data Input'!$C$8:$BU$8,\"Sp\"))","v":""}]
[{"$f":"IF('Data Input'!A277=0,\"\",'Data Input'!A277)","v":""},{"$f":"IF(ISBLANK('Data Input'!A277),\"\",COUNTIF('Data Input'!C277:BU277,\"\")-1)","v":""},{"$f":"IF(ISBLANK('Data Input'!A277),\"\",COUNTIF('Data Input'!C277:BU277,\"0\"))","v":""},{"$f":"IF(ISBLANK('Data Input'!A277),\"\",SUM(B272,C272))","v":""},{"$f":"IF(ISBLANK('Data Input'!A277),\"\",SUM('Data Input'!C277:BU277))","v":""},{"$f":"IF(E272=\"\",\"\",E272/(COUNTA('Data Input'!$C$8:$BU$8)-1))","v":""},{"$f":"IF(ISBLANK('Data Input'!A277),\"\",SUM('Data Input'!H277,'Data Input'!AA277,'Data Input'!AO277,'Data Input'!AP277))","v":""},{"$f":"IF(G272=\"\",\"\",G272/COUNTIF('Data Input'!$C$8:$BU$8,\"CS\"))","v":""},{"$f":"IF(ISBLANK('Data Input'!A277),\"\",SUM('Data Input'!P277,'Data Input'!T277,'Data Input'!AD277,'Data Input'!AX277,'Data Input'!AY277))","v":""},{"$f":"IF(I272=\"\",\"\",I272/COUNTIF('Data Input'!$C$8:$BU$8,\"SE\"))","v":""},{"$f":"IF(ISBLANK('Data Input'!A277),\"\",SUM('Data Input'!K277,'Data Input'!L277,'Data Input'!M277,'Data Input'!O277,'Data Input'!Q277,'Data Input'!U277,'Data Input'!X277,'Data Input'!Y277,'Data Input'!Z277,'Data Input'!AB277,'Data Input'!AE277,'Data Input'!AG277,'Data Input'!AL277,'Data Input'!AU277,'Data Input'!AW277))","v":""},{"$f":"IF(K272=\"\",\"\",K272/COUNTIF('Data Input'!$C$8:$BU$8,\"P\"))","v":""},{"$f":"IF(ISBLANK('Data Input'!A277),\"\",SUM('Data Input'!I277,'Data Input'!S277))","v":""},{"$f":"IF(M272=\"\",\"\",M272/COUNTIF('Data Input'!$C$8:$BU$8,\"FS\"))","v":""},{"$f":"IF(ISBLANK('Data Input'!A277),\"\",SUM('Data Input'!D277,'Data Input'!E277,'Data Input'!F277,'Data Input'!G277,'Data Input'!R277,'Data Input'!V277,'Data Input'!W277,'Data Input'!AC277,'Data Input'!AF277,'Data Input'!AH277,'Data Input'!AJ277,'Data Input'!AK277,'Data Input'!AM277,'Data Input'!AQ277,'Data Input'!AR277,'Data Input'!AZ277))","v":""},{"$f":"IF(O272=\"\",\"\",O272/COUNTIF('Data Input'!$C$8:$BU$8,\"GT\"))","v":""},{"$f":"IF(ISBLANK('Data Input'!A277),\"\",SUM('Data Input'!C277,'Data Input'!J277,'Data Input'!N277,'Data Input'!AS277,'Data Input'!AT277,'Data Input'!AV277))","v":""},{"$f":"IF(Q272=\"\",\"\",Q272/COUNTIF('Data Input'!$C$8:$BU$8,\"V\"))","v":""},{"$f":"IF(ISBLANK('Data Input'!A277),\"\",SUM('Data Input'!AI277,'Data Input'!AN277))","v":""},{"$f":"IF(S272=\"\",\"\",S272/COUNTIF('Data Input'!$C$8:$BU$8,\"F/I\"))","v":""},{"$f":"IF(ISBLANK('Data Input'!C277),\"\",SUM('Data Input'!BB277:BU277))","v":""},{"$f":"IF(U272=\"\",\"\",U272/COUNTIF('Data Input'!$C$8:$BU$8,\"Sp\"))","v":""}]
[{"$f":"IF('Data Input'!A278=0,\"\",'Data Input'!A278)","v":""},{"$f":"IF(ISBLANK('Data Input'!A278),\"\",COUNTIF('Data Input'!C278:BU278,\"\")-1)","v":""},{"$f":"IF(ISBLANK('Data Input'!A278),\"\",COUNTIF('Data Input'!C278:BU278,\"0\"))","v":""},{"$f":"IF(ISBLANK('Data Input'!A278),\"\",SUM(B273,C273))","v":""},{"$f":"IF(ISBLANK('Data Input'!A278),\"\",SUM('Data Input'!C278:BU278))","v":""},{"$f":"IF(E273=\"\",\"\",E273/(COUNTA('Data Input'!$C$8:$BU$8)-1))","v":""},{"$f":"IF(ISBLANK('Data Input'!A278),\"\",SUM('Data Input'!H278,'Data Input'!AA278,'Data Input'!AO278,'Data Input'!AP278))","v":""},{"$f":"IF(G273=\"\",\"\",G273/COUNTIF('Data Input'!$C$8:$BU$8,\"CS\"))","v":""},{"$f":"IF(ISBLANK('Data Input'!A278),\"\",SUM('Data Input'!P278,'Data Input'!T278,'Data Input'!AD278,'Data Input'!AX278,'Data Input'!AY278))","v":""},{"$f":"IF(I273=\"\",\"\",I273/COUNTIF('Data Input'!$C$8:$BU$8,\"SE\"))","v":""},{"$f":"IF(ISBLANK('Data Input'!A278),\"\",SUM('Data Input'!K278,'Data Input'!L278,'Data Input'!M278,'Data Input'!O278,'Data Input'!Q278,'Data Input'!U278,'Data Input'!X278,'Data Input'!Y278,'Data Input'!Z278,'Data Input'!AB278,'Data Input'!AE278,'Data Input'!AG278,'Data Input'!AL278,'Data Input'!AU278,'Data Input'!AW278))","v":""},{"$f":"IF(K273=\"\",\"\",K273/COUNTIF('Data Input'!$C$8:$BU$8,\"P\"))","v":""},{"$f":"IF(ISBLANK('Data Input'!A278),\"\",SUM('Data Input'!I278,'Data Input'!S278))","v":""},{"$f":"IF(M273=\"\",\"\",M273/COUNTIF('Data Input'!$C$8:$BU$8,\"FS\"))","v":""},{"$f":"IF(ISBLANK('Data Input'!A278),\"\",SUM('Data Input'!D278,'Data Input'!E278,'Data Input'!F278,'Data Input'!G278,'Data Input'!R278,'Data Input'!V278,'Data Input'!W278,'Data Input'!AC278,'Data Input'!AF278,'Data Input'!AH278,'Data Input'!AJ278,'Data Input'!AK278,'Data Input'!AM278,'Data Input'!AQ278,'Data Input'!AR278,'Data Input'!AZ278))","v":""},{"$f":"IF(O273=\"\",\"\",O273/COUNTIF('Data Input'!$C$8:$BU$8,\"GT\"))","v":""},{"$f":"IF(ISBLANK('Data Input'!A278),\"\",SUM('Data Input'!C278,'Data Input'!J278,'Data Input'!N278,'Data Input'!AS278,'Data Input'!AT278,'Data Input'!AV278))","v":""},{"$f":"IF(Q273=\"\",\"\",Q273/COUNTIF('Data Input'!$C$8:$BU$8,\"V\"))","v":""},{"$f":"IF(ISBLANK('Data Input'!A278),\"\",SUM('Data Input'!AI278,'Data Input'!AN278))","v":""},{"$f":"IF(S273=\"\",\"\",S273/COUNTIF('Data Input'!$C$8:$BU$8,\"F/I\"))","v":""},{"$f":"IF(ISBLANK('Data Input'!C278),\"\",SUM('Data Input'!BB278:BU278))","v":""},{"$f":"IF(U273=\"\",\"\",U273/COUNTIF('Data Input'!$C$8:$BU$8,\"Sp\"))","v":""}]

{"sheet":"Pupil Report","index":5,"n_rows":6,"n_cols":9,"rows_kept":6,"cut":false,"hidden":false,"merged":[[1,0,1,2]]}
["Pupil:",null,null,null,null,null,null,null,"Grammar, Punctuation and Vocabulary 2014 Level 3 to 5 Test"]
["",null,null,"Incorrect:",{"$f":"VLOOKUP($A$2,'Pupil Summary'!$A$5:$V$273,3,FALSE)","v":""},"Unanswered:",{"$f":"VLOOKUP($A$2,'Pupil Summary'!$A$5:$V$273,2,FALSE)","v":""},"Total:",{"$f":"VLOOKUP($A$2,'Pupil Summary'!$A$5:$V$273,5,FALSE) & \" / \" &SUM(B4:I4)","v":" / 70"}]
[null,{"$f":"'Pupil Summary'!G2","v":"Complex Sentences (CS)"},{"$f":"'Pupil Summary'!I2","v":"Standard English (SE)"},{"$f":"'Pupil Summary'!K2","v":"Punctuation (P)"},{"$f":"'Pupil Summary'!M2","v":"Features of Sentences (FS)"},{"$f":"'Pupil Summary'!O2","v":"Grammar Terms and Word Classes (GT)"},{"$f":"'Pupil Summary'!Q2","v":"Vocabulary (V)"},{"$f":"'Pupil Summary'!S2","v":"Formal / Informal (F/I)"},{"$f":"'Pupil Summary'!U2","v":"Spelling (Sp)"}]
["Total",{"$f":"COUNTIF('Data Input'!$C$8:$BU$8,\"CS\")","v":4},{"$f":"COUNTIF('Data Input'!$C$8:$BU$8,\"SE\")","v":5},{"$f":"COUNTIF('Data Input'!$C$8:$BU$8,\"P\")","v":15},{"$f":"COUNTIF('Data Input'!$C$8:$BU$8,\"FS\")","v":2},{"$f":"COUNTIF('Data Input'!$C$8:$BU$8,\"GT\")","v":16},{"$f":"COUNTIF('Data Input'!$C$8:$BU$8,\"V\")","v":6},{"$f":"COUNTIF('Data Input'!$C$8:$BU$8,\"F/I\")","v":2},{"$f":"COUNTIF('Data Input'!$C$8:$BU$8,\"Sp\")","v":20}]
["Correct",{"$f":"VLOOKUP($A$2,'Pupil Summary'!$A$5:$V$273,7,FALSE)","v":""},{"$f":"VLOOKUP($A$2,'Pupil Summary'!$A$5:$V$273,9,FALSE)","v":""},{"$f":"VLOOKUP($A$2,'Pupil Summary'!$A$5:$V$273,11,FALSE)","v":""},{"$f":"VLOOKUP($A$2,'Pupil Summary'!$A$5:$V$273,13,FALSE)","v":""},{"$f":"VLOOKUP($A$2,'Pupil Summary'!$A$5:$V$273,15,FALSE)","v":""},{"$f":"VLOOKUP($A$2,'Pupil Summary'!$A$5:$V$273,17,FALSE)","v":""},{"$f":"VLOOKUP($A$2,'Pupil Summary'!$A$5:$V$273,19,FALSE)","v":""},{"$f":"VLOOKUP($A$2,'Pupil Summary'!$A$5:$V$273,21,FALSE)","v":""}]
["Incorrect/Unanswered",{"$f":"B4-B5","v":{"$error":"#VALUE!"}},{"$error":"#VALUE!"},{"$error":"#VALUE!"},{"$error":"#VALUE!"},{"$error":"#VALUE!"},{"$error":"#VALUE!"},{"$error":"#VALUE!"},{"$error":"#VALUE!"}]

{"sheet":"Cohort Summary","index":6,"n_rows":12,"n_cols":9,"rows_kept":12,"cut":false,"hidden":false,"merged":[[11,0,13,6]]}
["Class Averages:",{"$f":"'Pupil Summary'!G2","v":"Complex Sentences (CS)"},{"$f":"'Pupil Summary'!I2","v":"Standard English (SE)"},{"$f":"'Pupil Summary'!K2","v":"Punctuation (P)"},{"$f":"'Pupil Summary'!M2","v":"Features of Sentences (FS)"},{"$f":"'Pupil Summary'!O2","v":"Grammar Terms and Word Classes (GT)"},{"$f":"'Pupil Summary'!Q2","v":"Vocabulary (V)"},{"$f":"'Pupil Summary'!S2","v":"Formal / Informal (F/I)"},{"$f":"'Pupil Summary'!U2","v":"Spelling (Sp)"}]
["Class correct:",{"$f":"IF(ISERROR(B4/B3),\"\",(B4/B3))","v":""},"","",{"$f":"IF(ISERROR(E4/E3),\"\",(E4/E3))","v":""},"","","",{"$f":"IF(ISERROR(I4/I3),\"\",(I4/I3))","v":""}]
["Maximum",{"$f":"COUNTIF('Data Input'!$C$8:$BU$8,\"CS\")","v":4},{"$f":"COUNTIF('Data Input'!$C$8:$BU$8,\"SE\")","v":5},{"$f":"COUNTIF('Data Input'!$C$8:$BU$8,\"P\")","v":15},{"$f":"COUNTIF('Data Input'!$C$8:$BU$8,\"FS\")","v":2},{"$f":"COUNTIF('Data Input'!$C$8:$BU$8,\"GT\")","v":16},{"$f":"COUNTIF('Data Input'!$C$8:$BU$8,\"V\")","v":6},{"$f":"COUNTIF('Data Input'!$C$8:$BU$8,\"F/I\")","v":2},{"$f":"COUNTIF('Data Input'!$C$8:$BU$8,\"Sp\")","v":20}]
["Correct",{"$f":"IF(ISERROR(AVERAGE(IF(('Data Input'!$C$8:$BU$8=\"CS\"),'Data Input'!$C$2:$BU$2))*B3/COUNTA('Data Input'!$A$10:$A$278)),\"\",AVERAGE(IF(('Data Input'!$C$8:$BU$8=\"CS\"),'Data Input'!$C$2:$BU$2))*B3/COUNTA('Data Input'!$A$10:$A$278))","v":""},{"$f":"IF(ISERROR(AVERAGE(IF(('Data Input'!$C$8:$BU$8=\"SE\"),'Data Input'!$C$2:$BU$2))*C3/COUNTA('Data Input'!$A$10:$A$278)),\"\",AVERAGE(IF(('Data Input'!$C$8:$BU$8=\"SE\"),'Data Input'!$C$2:$BU$2))*C3/COUNTA('Data Input'!$A$10:$A$278))","v":""},{"$f":"IF(ISERROR(AVERAGE(IF(('Data Input'!$C$8:$BU$8=\"P\"),'Data Input'!$C$2:$BU$2))*D3/COUNTA('Data Input'!$A$10:$A$278)),\"\",AVERAGE(IF(('Data Input'!$C$8:$BU$8=\"P\"),'Data Input'!$C$2:$BU$2))*D3/COUNTA('Data Input'!$A$10:$A$278))","v":""},{"$f":"IF(ISERROR(AVERAGE(IF(('Data Input'!$C$8:$BU$8=\"FS\"),'Data Input'!$C$2:$BU$2))*E3/COUNTA('Data Input'!$A$10:$A$278)),\"\",AVERAGE(IF(('Data Input'!$C$8:$BU$8=\"FS\"),'Data Input'!$C$2:$BU$2))*E3/COUNTA('Data Input'!$A$10:$A$278))","v":""},{"$f":"IF(ISERROR(AVERAGE(IF(('Data Input'!$C$8:$BU$8=\"GT\"),'Data Input'!$C$2:$BU$2))*F3/COUNTA('Data Input'!$A$10:$A$278)),\"\",AVERAGE(IF(('Data Input'!$C$8:$BU$8=\"GT\"),'Data Input'!$C$2:$BU$2))*F3/COUNTA('Data Input'!$A$10:$A$278))","v":""},{"$f":"IF(ISERROR(AVERAGE(IF(('Data Input'!$C$8:$BU$8=\"V\"),'Data Input'!$C$2:$BU$2))*G3/COUNTA('Data Input'!$A$10:$A$278)),\"\",AVERAGE(IF(('Data Input'!$C$8:$BU$8=\"V\"),'Data Input'!$C$2:$BU$2))*G3/COUNTA('Data Input'!$A$10:$A$278))","v":""},{"$f":"IF(ISERROR(AVERAGE(IF(('Data Input'!$C$8:$BU$8=\"F/I\"),'Data Input'!$C$2:$BU$2))*H3/COUNTA('Data Input'!$A$10:$A$278)),\"\",AVERAGE(IF(('Data Input'!$C$8:$BU$8=\"F/I\"),'Data Input'!$C$2:$BU$2))*H3/COUNTA('Data Input'!$A$10:$A$278))","v":""},{"$f":"IF(ISERROR(AVERAGE(IF(('Data Input'!$C$8:$BU$8=\"Sp\"),'Data Input'!$C$2:$BU$2))*I3/COUNTA('Data Input'!$A$10:$A$278)),\"\",AVERAGE(IF(('Data Input'!$C$8:$BU$8=\"Sp\"),'Data Input'!$C$2:$BU$2))*I3/COUNTA('Data Input'!$A$10:$A$278))","v":""}]
["Incorrect",{"$f":"IF(ISERROR(AVERAGE(IF(('Data Input'!$C$8:$BU$8=\"CS\"),'Data Input'!$C$3:$BU$3))*B3/COUNTA('Data Input'!$A$10:$A$278)),\"\",AVERAGE(IF(('Data Input'!$C$8:$BU$8=\"CS\"),'Data Input'!$C$3:$BU$3))*B3/COUNTA('Data Input'!$A$10:$A$278))","v":""},{"$f":"IF(ISERROR(AVERAGE(IF(('Data Input'!$C$8:$BU$8=\"SE\"),'Data Input'!$C$3:$BU$3))*C3/COUNTA('Data Input'!$A$10:$A$278)),\"\",AVERAGE(IF(('Data Input'!$C$8:$BU$8=\"SE\"),'Data Input'!$C$3:$BU$3))*C3/COUNTA('Data Input'!$A$10:$A$278))","v":""},{"$f":"IF(ISERROR(AVERAGE(IF(('Data Input'!$C$8:$BU$8=\"P\"),'Data Input'!$C$3:$BU$3))*D3/COUNTA('Data Input'!$A$10:$A$278)),\"\",AVERAGE(IF(('Data Input'!$C$8:$BU$8=\"P\"),'Data Input'!$C$3:$BU$3))*D3/COUNTA('Data Input'!$A$10:$A$278))","v":""},{"$f":"IF(ISERROR(AVERAGE(IF(('Data Input'!$C$8:$BU$8=\"FS\"),'Data Input'!$C$3:$BU$3))*E3/COUNTA('Data Input'!$A$10:$A$278)),\"\",AVERAGE(IF(('Data Input'!$C$8:$BU$8=\"FS\"),'Data Input'!$C$3:$BU$3))*E3/COUNTA('Data Input'!$A$10:$A$278))","v":""},{"$f":"IF(ISERROR(AVERAGE(IF(('Data Input'!$C$8:$BU$8=\"GT\"),'Data Input'!$C$3:$BU$3))*F3/COUNTA('Data Input'!$A$10:$A$278)),\"\",AVERAGE(IF(('Data Input'!$C$8:$BU$8=\"GT\"),'Data Input'!$C$3:$BU$3))*F3/COUNTA('Data Input'!$A$10:$A$278))","v":""},{"$f":"IF(ISERROR(AVERAGE(IF(('Data Input'!$C$8:$BU$8=\"V\"),'Data Input'!$C$3:$BU$3))*G3/COUNTA('Data Input'!$A$10:$A$278)),\"\",AVERAGE(IF(('Data Input'!$C$8:$BU$8=\"V\"),'Data Input'!$C$3:$BU$3))*G3/COUNTA('Data Input'!$A$10:$A$278))","v":""},{"$f":"IF(ISERROR(AVERAGE(IF(('Data Input'!$C$8:$BU$8=\"F/I\"),'Data Input'!$C$3:$BU$3))*H3/COUNTA('Data Input'!$A$10:$A$278)),\"\",AVERAGE(IF(('Data Input'!$C$8:$BU$8=\"F/I\"),'Data Input'!$C$3:$BU$3))*H3/COUNTA('Data Input'!$A$10:$A$278))","v":""},{"$f":"IF(ISERROR(AVERAGE(IF(('Data Input'!$C$8:$BU$8=\"Sp\"),'Data Input'!$C$3:$BU$3))*I3/COUNTA('Data Input'!$A$10:$A$278)),\"\",AVERAGE(IF(('Data Input'!$C$8:$BU$8=\"Sp\"),'Data Input'!$C$3:$BU$3))*I3/COUNTA('Data Input'!$A$10:$A$278))","v":""}]
["Unanswered",{"$f":"IF(ISERROR(AVERAGE(IF(('Data Input'!$C$8:$BU$8=\"CS\"),'Data Input'!$C$4:$BU$4))*B3/COUNTA('Data Input'!$A$10:$A$278)),\"\",AVERAGE(IF(('Data Input'!$C$8:$BU$8=\"CS\"),'Data Input'!$C$4:$BU$4))*B3/COUNTA('Data Input'!$A$10:$A$278))","v":""},{"$f":"IF(ISERROR(AVERAGE(IF(('Data Input'!$C$8:$BU$8=\"SE\"),'Data Input'!$C$4:$BU$4))*C3/COUNTA('Data Input'!$A$10:$A$278)),\"\",AVERAGE(IF(('Data Input'!$C$8:$BU$8=\"SE\"),'Data Input'!$C$4:$BU$4))*C3/COUNTA('Data Input'!$A$10:$A$278))","v":""},{"$f":"IF(ISERROR(AVERAGE(IF(('Data Input'!$C$8:$BU$8=\"P\"),'Data Input'!$C$4:$BU$4))*D3/COUNTA('Data Input'!$A$10:$A$278)),\"\",AVERAGE(IF(('Data Input'!$C$8:$BU$8=\"P\"),'Data Input'!$C$4:$BU$4))*D3/COUNTA('Data Input'!$A$10:$A$278))","v":""},{"$f":"IF(ISERROR(AVERAGE(IF(('Data Input'!$C$8:$BU$8=\"FS\"),'Data Input'!$C$4:$BU$4))*E3/COUNTA('Data Input'!$A$10:$A$278)),\"\",AVERAGE(IF(('Data Input'!$C$8:$BU$8=\"FS\"),'Data Input'!$C$4:$BU$4))*E3/COUNTA('Data Input'!$A$10:$A$278))","v":""},{"$f":"IF(ISERROR(AVERAGE(IF(('Data Input'!$C$8:$BU$8=\"GT\"),'Data Input'!$C$4:$BU$4))*F3/COUNTA('Data Input'!$A$10:$A$278)),\"\",AVERAGE(IF(('Data Input'!$C$8:$BU$8=\"GT\"),'Data Input'!$C$4:$BU$4))*F3/COUNTA('Data Input'!$A$10:$A$278))","v":""},{"$f":"IF(ISERROR(AVERAGE(IF(('Data Input'!$C$8:$BU$8=\"V\"),'Data Input'!$C$4:$BU$4))*G3/COUNTA('Data Input'!$A$10:$A$278)),\"\",AVERAGE(IF(('Data Input'!$C$8:$BU$8=\"V\"),'Data Input'!$C$4:$BU$4))*G3/COUNTA('Data Input'!$A$10:$A$278))","v":""},{"$f":"IF(ISERROR(AVERAGE(IF(('Data Input'!$C$8:$BU$8=\"F/I\"),'Data Input'!$C$4:$BU$4))*H3/COUNTA('Data Input'!$A$10:$A$278)),\"\",AVERAGE(IF(('Data Input'!$C$8:$BU$8=\"F/I\"),'Data Input'!$C$4:$BU$4))*H3/COUNTA('Data Input'!$A$10:$A$278))","v":""},{"$f":"IF(ISERROR(AVERAGE(IF(('Data Input'!$C$8:$BU$8=\"Sp\"),'Data Input'!$C$4:$BU$4))*I3/COUNTA('Data Input'!$A$10:$A$278)),\"\",AVERAGE(IF(('Data Input'!$C$8:$BU$8=\"Sp\"),'Data Input'!$C$4:$BU$4))*I3/COUNTA('Data Input'!$A$10:$A$278))","v":""}]
["Incorrect or unanswered",{"$f":"IF(ISERROR(SUM(B5,B6)),\"\",SUM(B5,B6))","v":0},0,0,{"$f":"IF(ISERROR(SUM(E5,E6)),\"\",SUM(E5,E6))","v":0},0,0,0,{"$f":"IF(ISERROR(SUM(I5,I6)),\"\",SUM(I5,I6))","v":0}]
[]
[{"$f":"\"Average Total Score \"&COUNTA('Data Input'!C8:BU8)-1","v":"Average Total Score 70"},"Total"]
[{"$f":"IF(ISERROR(AVERAGE('Pupil Summary'!E5:E273)),\"\",AVERAGE('Pupil Summary'!E5:E273))","v":""},{"$f":"IF(ISERROR(A10/COUNTA('Data Input'!C8:BU8)-1),\"\",A10/(COUNTA('Data Input'!C8:BU8)-1))","v":""}]
[]
["The chart below graph shows the average percent for the cohort answering the questions in the particular area correctly. It should be noted that here each area does not hold equal weighting."]

{"sheet":"Strand Summary","index":7,"n_rows":28,"n_cols":2,"rows_kept":28,"cut":false,"hidden":false,"merged":[[26,1,26,11],[27,1,27,11]]}
[]
[]
[]
[]
[]
[]
[]
[]
[]
[]
[]
[]
[]
[]
[]
[]
[]
[]
[]
[]
[]
[]
[]
[]
[]
[]
[null,"This height of the bar shows the weighting of each area and the average number correct and incorrect answers. "]
[null,"A large area of red would indicate an area of priority. "]

{"sheet":"P1 Questions by Strand","index":8,"n_rows":0,"n_cols":0,"rows_kept":0,"cut":false,"hidden":false,"merged":[[45,0,46,17]]}

{"sheet":"P2 Questions by Strand","index":9,"n_rows":0,"n_cols":0,"rows_kept":0,"cut":false,"hidden":false,"merged":[[45,0,46,17]]}

{"sheet":"P1 Questions by Correct","index":10,"n_rows":0,"n_cols":0,"rows_kept":0,"cut":false,"hidden":false,"merged":[[45,0,46,17]]}

{"sheet":"P2 Questions by Correct","index":11,"n_rows":0,"n_cols":0,"rows_kept":0,"cut":false,"hidden":false,"merged":[[45,0,46,17]]}

{"sheet":"P1 Questions by Sub Type","index":12,"n_rows":0,"n_cols":0,"rows_kept":0,"cut":false,"hidden":true,"merged":[[45,0,46,17]]}

{"sheet":"P2 Questions by Sub Type","index":13,"n_rows":0,"n_cols":0,"rows_kept":0,"cut":false,"hidden":true,"merged":[[45,0,46,17]]}